Statocles v0.090 Perl 5 v5.24.3 x86_64-linux

Status
Pass
From
NONAME
Dist
Statocles v0.090
Platform
Perl 5 v5.24.3 x86_64-linux
Date
2018-03-27 14:36:42
ID
4483db2e-31cc-11e8-b828-cafca6479c91
This distribution has been tested as part of the CPAN Testers
project, supporting the Perl programming language.  See
http://wiki.cpantesters.org/ for more information or email
questions to cpan-testers-discuss@perl.org


--
Dear PREACTION,

This is a computer-generated report for Statocles-0.090
on perl 5.24.3, created by App::cpanminus::reporter 0.17 (1.7022).

Thank you for uploading your work to CPAN.  Congratulations!
All tests were successful.

Sections of this report:

    * Tester comments
    * Program output
    * Prerequisites
    * Environment and other context

------------------------------
TESTER COMMENTS
------------------------------

Additional comments from tester:

none provided

------------------------------
PROGRAM OUTPUT
------------------------------

Output from '':

Building and testing Statocles-0.090
cp bin/statocles blib/script/statocles
"/home/user/perl5/perlbrew/perls/perl-5.24.3/bin/perl" -MExtUtils::MY -e 'MY->fixin(shift)' -- blib/script/statocles
cp share/theme/bootstrap/blog/index.html.ep blib/lib/auto/share/dist/Statocles/theme/bootstrap/blog/index.html.ep
cp share/theme/bootstrap/layout/blank.html.ep blib/lib/auto/share/dist/Statocles/theme/bootstrap/layout/blank.html.ep
cp share/theme/bootstrap/blog/index.atom.ep blib/lib/auto/share/dist/Statocles/theme/bootstrap/blog/index.atom.ep
cp share/theme/default/site/robots.txt.ep blib/lib/auto/share/dist/Statocles/theme/default/site/robots.txt.ep
cp share/theme/default/site/footer.html.ep blib/lib/auto/share/dist/Statocles/theme/default/site/footer.html.ep
cp share/theme/bootstrap/site/sidebar_before.html.ep blib/lib/auto/share/dist/Statocles/theme/bootstrap/site/sidebar_before.html.ep
cp share/theme/bootstrap/css/statocles-bootstrap.css blib/lib/auto/share/dist/Statocles/theme/bootstrap/css/statocles-bootstrap.css
cp share/theme/bootstrap/plugin/highlight/default.css blib/lib/auto/share/dist/Statocles/theme/bootstrap/plugin/highlight/default.css
cp share/theme/default/plugin/highlight/solarized-dark.css blib/lib/auto/share/dist/Statocles/theme/default/plugin/highlight/solarized-dark.css
cp share/theme/default/css/normalize.css blib/lib/auto/share/dist/Statocles/theme/default/css/normalize.css
cp share/theme/default/blog/post.html.ep blib/lib/auto/share/dist/Statocles/theme/default/blog/post.html.ep
cp share/theme/default/perldoc/pod.html.ep blib/lib/auto/share/dist/Statocles/theme/default/perldoc/pod.html.ep
cp share/theme/default/site/header_after.html.ep blib/lib/auto/share/dist/Statocles/theme/default/site/header_after.html.ep
cp share/zsh/_statocles blib/lib/auto/share/dist/Statocles/zsh/_statocles
cp share/theme/default/css/skeleton.css blib/lib/auto/share/dist/Statocles/theme/default/css/skeleton.css
cp share/theme/default/site/style.html blib/lib/auto/share/dist/Statocles/theme/default/site/style.html
cp share/theme/bootstrap/layout/full-width.html.ep blib/lib/auto/share/dist/Statocles/theme/bootstrap/layout/full-width.html.ep
cp share/theme/bootstrap/blog/post.html.ep blib/lib/auto/share/dist/Statocles/theme/bootstrap/blog/post.html.ep
cp share/theme/default/layout/full-width.html.ep blib/lib/auto/share/dist/Statocles/theme/default/layout/full-width.html.ep
cp share/theme/default/blog/index.html.ep blib/lib/auto/share/dist/Statocles/theme/default/blog/index.html.ep
cp share/theme/bootstrap/site/robots.txt.ep blib/lib/auto/share/dist/Statocles/theme/bootstrap/site/robots.txt.ep
cp share/theme/bootstrap/site/navbar_extra.html.ep blib/lib/auto/share/dist/Statocles/theme/bootstrap/site/navbar_extra.html.ep
cp lib/Statocles/Help/Develop.pod blib/lib/Statocles/Help/Develop.pod
cp lib/Statocles/Person.pm blib/lib/Statocles/Person.pm
cp lib/Statocles/App/Perldoc.pm blib/lib/Statocles/App/Perldoc.pm
cp lib/Statocles/Page/File.pm blib/lib/Statocles/Page/File.pm
cp lib/Statocles/Link/Tree.pm blib/lib/Statocles/Link/Tree.pm
cp lib/Statocles/Plugin/Diagram/Mermaid.pm blib/lib/Statocles/Plugin/Diagram/Mermaid.pm
cp lib/Statocles/Deploy/File.pm blib/lib/Statocles/Deploy/File.pm
cp lib/Statocles/Base.pm blib/lib/Statocles/Base.pm
cp lib/Statocles/App/Basic.pm blib/lib/Statocles/App/Basic.pm
cp lib/Statocles/Help/Error.pod blib/lib/Statocles/Help/Error.pod
cp lib/Statocles/Help.pod blib/lib/Statocles/Help.pod
cp lib/Statocles/App/Static.pm blib/lib/Statocles/App/Static.pm
cp lib/Statocles/Deploy/Git.pm blib/lib/Statocles/Deploy/Git.pm
cp lib/Statocles/Page/Document.pm blib/lib/Statocles/Page/Document.pm
cp lib/Statocles/Command.pm blib/lib/Statocles/Command.pm
cp lib/Statocles/Help/Upgrading.pod blib/lib/Statocles/Help/Upgrading.pod
cp lib/Statocles/Image.pm blib/lib/Statocles/Image.pm
cp lib/Statocles/Help/Deploy.pod blib/lib/Statocles/Help/Deploy.pod
cp lib/Statocles/Link.pm blib/lib/Statocles/Link.pm
cp lib/Statocles/Help/Theme.pod blib/lib/Statocles/Help/Theme.pod
cp lib/Statocles/Page.pm blib/lib/Statocles/Page.pm
cp lib/Statocles/Plugin/HTMLLint.pm blib/lib/Statocles/Plugin/HTMLLint.pm
cp lib/Statocles.pm blib/lib/Statocles.pm
cp lib/Statocles/Help/Config.pod blib/lib/Statocles/Help/Config.pod
cp lib/Statocles/Deploy.pm blib/lib/Statocles/Deploy.pm
cp lib/Statocles/Page/Plain.pm blib/lib/Statocles/Page/Plain.pm
cp lib/Statocles/App/Role/Store.pm blib/lib/Statocles/App/Role/Store.pm
cp lib/Statocles/Plugin.pm blib/lib/Statocles/Plugin.pm
cp lib/Statocles/App.pm blib/lib/Statocles/App.pm
cp lib/Statocles/Help/Setup.pod blib/lib/Statocles/Help/Setup.pod
cp lib/Statocles/Page/ListItem.pm blib/lib/Statocles/Page/ListItem.pm
cp lib/Statocles/Help/Content.pod blib/lib/Statocles/Help/Content.pod
cp lib/Statocles/Document.pm blib/lib/Statocles/Document.pm
cp lib/Statocles/Plugin/Highlight.pm blib/lib/Statocles/Plugin/Highlight.pm
cp lib/Statocles/App/Plain.pm blib/lib/Statocles/App/Plain.pm
cp lib/Statocles/Page/List.pm blib/lib/Statocles/Page/List.pm
cp lib/Statocles/Event.pm blib/lib/Statocles/Event.pm
cp lib/Statocles/Help/Policy.pod blib/lib/Statocles/Help/Policy.pod
cp lib/Statocles/App/Blog.pm blib/lib/Statocles/App/Blog.pm
cp lib/Statocles/File.pm blib/lib/Statocles/File.pm
cp lib/Statocles/Theme.pm blib/lib/Statocles/Theme.pm
cp lib/Statocles/Plugin/LinkCheck.pm blib/lib/Statocles/Plugin/LinkCheck.pm
cp lib/Statocles/Types.pm blib/lib/Statocles/Types.pm
cp lib/Statocles/Util.pm blib/lib/Statocles/Util.pm
cp lib/Statocles/Site.pm blib/lib/Statocles/Site.pm
cp lib/Statocles/Store.pm blib/lib/Statocles/Store.pm
cp lib/Statocles/Role/PageAttrs.pm blib/lib/Statocles/Role/PageAttrs.pm
cp lib/Statocles/Template.pm blib/lib/Statocles/Template.pm
cp lib/Statocles/Store/File.pm blib/lib/Statocles/Store/File.pm
cp lib/Statocles/Test.pm blib/lib/Statocles/Test.pm
cp share/theme/bootstrap/perldoc/source.html.ep blib/lib/auto/share/dist/Statocles/theme/bootstrap/perldoc/source.html.ep
cp share/theme/bootstrap/site/header_after.html.ep blib/lib/auto/share/dist/Statocles/theme/bootstrap/site/header_after.html.ep
cp share/create/script.yml blib/lib/auto/share/dist/Statocles/create/script.yml
cp share/theme/bootstrap/plugin/highlight/solarized-dark.css blib/lib/auto/share/dist/Statocles/theme/bootstrap/plugin/highlight/solarized-dark.css
cp share/theme/default/blog/index.atom.ep blib/lib/auto/share/dist/Statocles/theme/default/blog/index.atom.ep
cp share/theme/bootstrap/layout/default.html.ep blib/lib/auto/share/dist/Statocles/theme/bootstrap/layout/default.html.ep
cp share/theme/bootstrap/site/style.html blib/lib/auto/share/dist/Statocles/theme/bootstrap/site/style.html
cp share/theme/bootstrap/plugin/highlight/solarized-light.css blib/lib/auto/share/dist/Statocles/theme/bootstrap/plugin/highlight/solarized-light.css
cp share/theme/bootstrap/site/footer.html.ep blib/lib/auto/share/dist/Statocles/theme/bootstrap/site/footer.html.ep
cp share/theme/default/site/sitemap.xml.ep blib/lib/auto/share/dist/Statocles/theme/default/site/sitemap.xml.ep
cp share/theme/default/site/navbar_extra.html.ep blib/lib/auto/share/dist/Statocles/theme/default/site/navbar_extra.html.ep
cp share/create/blog/post.markdown blib/lib/auto/share/dist/Statocles/create/blog/post.markdown
cp share/theme/bootstrap/site/sitemap.xml.ep blib/lib/auto/share/dist/Statocles/theme/bootstrap/site/sitemap.xml.ep
cp share/theme/bootstrap/site/head_after.html.ep blib/lib/auto/share/dist/Statocles/theme/bootstrap/site/head_after.html.ep
cp share/theme/default/site/head_after.html.ep blib/lib/auto/share/dist/Statocles/theme/default/site/head_after.html.ep
cp share/theme/default/layout/blank.html.ep blib/lib/auto/share/dist/Statocles/theme/default/layout/blank.html.ep
cp share/theme/bootstrap/perldoc/pod.html.ep blib/lib/auto/share/dist/Statocles/theme/bootstrap/perldoc/pod.html.ep
cp share/create/page/index.markdown blib/lib/auto/share/dist/Statocles/create/page/index.markdown
cp share/theme/default/site/sidebar_before.html.ep blib/lib/auto/share/dist/Statocles/theme/default/site/sidebar_before.html.ep
cp share/create/site.yml blib/lib/auto/share/dist/Statocles/create/site.yml
cp share/theme/default/plugin/highlight/default.css blib/lib/auto/share/dist/Statocles/theme/default/plugin/highlight/default.css
cp share/theme/default/css/statocles-default.css blib/lib/auto/share/dist/Statocles/theme/default/css/statocles-default.css
cp share/theme/bootstrap/blog/index.rss.ep blib/lib/auto/share/dist/Statocles/theme/bootstrap/blog/index.rss.ep
cp share/theme/default/layout/default.html.ep blib/lib/auto/share/dist/Statocles/theme/default/layout/default.html.ep
cp share/theme/default/blog/index.rss.ep blib/lib/auto/share/dist/Statocles/theme/default/blog/index.rss.ep
cp share/theme/default/perldoc/source.html.ep blib/lib/auto/share/dist/Statocles/theme/default/perldoc/source.html.ep
cp share/theme/default/plugin/highlight/solarized-light.css blib/lib/auto/share/dist/Statocles/theme/default/plugin/highlight/solarized-light.css
Manifying 1 pod document
Manifying 35 pod documents
Manifying 15 pod documents
Skip blib/lib/auto/share/dist/Statocles/theme/bootstrap/layout/blank.html.ep (unchanged)
Skip blib/lib/auto/share/dist/Statocles/theme/bootstrap/site/robots.txt.ep (unchanged)
Skip blib/lib/auto/share/dist/Statocles/theme/default/css/normalize.css (unchanged)
Skip blib/lib/auto/share/dist/Statocles/theme/default/site/style.html (unchanged)
Skip blib/lib/auto/share/dist/Statocles/theme/bootstrap/blog/index.html.ep (unchanged)
Skip blib/lib/auto/share/dist/Statocles/zsh/_statocles (unchanged)
Skip blib/lib/auto/share/dist/Statocles/theme/bootstrap/blog/post.html.ep (unchanged)
Skip blib/lib/auto/share/dist/Statocles/theme/default/blog/index.html.ep (unchanged)
Skip blib/lib/auto/share/dist/Statocles/theme/bootstrap/site/navbar_extra.html.ep (unchanged)
Skip blib/lib/auto/share/dist/Statocles/theme/default/css/skeleton.css (unchanged)
Skip blib/lib/auto/share/dist/Statocles/theme/default/layout/full-width.html.ep (unchanged)
Skip blib/lib/auto/share/dist/Statocles/theme/default/site/robots.txt.ep (unchanged)
Skip blib/lib/auto/share/dist/Statocles/theme/bootstrap/css/statocles-bootstrap.css (unchanged)
Skip blib/lib/auto/share/dist/Statocles/theme/default/blog/post.html.ep (unchanged)
Skip blib/lib/auto/share/dist/Statocles/theme/bootstrap/plugin/highlight/default.css (unchanged)
Skip blib/lib/auto/share/dist/Statocles/theme/default/perldoc/pod.html.ep (unchanged)
Skip blib/lib/auto/share/dist/Statocles/theme/bootstrap/blog/index.atom.ep (unchanged)
Skip blib/lib/auto/share/dist/Statocles/theme/default/site/footer.html.ep (unchanged)
Skip blib/lib/auto/share/dist/Statocles/theme/bootstrap/site/sidebar_before.html.ep (unchanged)
Skip blib/lib/auto/share/dist/Statocles/theme/bootstrap/layout/full-width.html.ep (unchanged)
Skip blib/lib/auto/share/dist/Statocles/theme/default/plugin/highlight/solarized-dark.css (unchanged)
Skip blib/lib/auto/share/dist/Statocles/theme/default/site/header_after.html.ep (unchanged)
Skip blib/lib/auto/share/dist/Statocles/theme/bootstrap/site/head_after.html.ep (unchanged)
Skip blib/lib/auto/share/dist/Statocles/create/site.yml (unchanged)
Skip blib/lib/auto/share/dist/Statocles/theme/default/site/sidebar_before.html.ep (unchanged)
Skip blib/lib/auto/share/dist/Statocles/theme/bootstrap/perldoc/source.html.ep (unchanged)
Skip blib/lib/auto/share/dist/Statocles/theme/default/site/sitemap.xml.ep (unchanged)
Skip blib/lib/auto/share/dist/Statocles/theme/bootstrap/perldoc/pod.html.ep (unchanged)
Skip blib/lib/auto/share/dist/Statocles/theme/default/plugin/highlight/default.css (unchanged)
Skip blib/lib/auto/share/dist/Statocles/theme/bootstrap/plugin/highlight/solarized-dark.css (unchanged)
Skip blib/lib/auto/share/dist/Statocles/theme/default/site/head_after.html.ep (unchanged)
Skip blib/lib/auto/share/dist/Statocles/theme/bootstrap/plugin/highlight/solarized-light.css (unchanged)
Skip blib/lib/auto/share/dist/Statocles/theme/bootstrap/site/header_after.html.ep (unchanged)
Skip blib/lib/auto/share/dist/Statocles/theme/default/layout/blank.html.ep (unchanged)
Skip blib/lib/auto/share/dist/Statocles/theme/bootstrap/site/style.html (unchanged)
Skip blib/lib/auto/share/dist/Statocles/create/blog/post.markdown (unchanged)
Skip blib/lib/auto/share/dist/Statocles/theme/default/site/navbar_extra.html.ep (unchanged)
Skip blib/lib/auto/share/dist/Statocles/theme/bootstrap/site/sitemap.xml.ep (unchanged)
Skip blib/lib/auto/share/dist/Statocles/theme/default/blog/index.atom.ep (unchanged)
Skip blib/lib/auto/share/dist/Statocles/theme/bootstrap/layout/default.html.ep (unchanged)
Skip blib/lib/auto/share/dist/Statocles/create/script.yml (unchanged)
Skip blib/lib/auto/share/dist/Statocles/theme/default/css/statocles-default.css (unchanged)
Skip blib/lib/auto/share/dist/Statocles/theme/bootstrap/site/footer.html.ep (unchanged)
Skip blib/lib/auto/share/dist/Statocles/create/page/index.markdown (unchanged)
Skip blib/lib/auto/share/dist/Statocles/theme/default/blog/index.rss.ep (unchanged)
Skip blib/lib/auto/share/dist/Statocles/theme/default/plugin/highlight/solarized-light.css (unchanged)
Skip blib/lib/auto/share/dist/Statocles/theme/default/perldoc/source.html.ep (unchanged)
Skip blib/lib/auto/share/dist/Statocles/theme/bootstrap/blog/index.rss.ep (unchanged)
Skip blib/lib/auto/share/dist/Statocles/theme/default/layout/default.html.ep (unchanged)
PERL_DL_NONLAZY=1 "/home/user/perl5/perlbrew/perls/perl-5.24.3/bin/perl" "-MExtUtils::Command::MM" "-MTest::Harness" "-e" "undef *Test::Harness::Switches; test_harness(0, 'blib/lib', 'blib/arch')" t/*.t t/app/*.t t/app/basic/*.t t/app/blog/*.t t/app/perldoc/*.t t/app/role/*.t t/bin/*.t t/command/*.t t/deploy/*.t t/link/*.t t/page/*.t t/plugin/*.t t/site/*.t t/template/*.t t/theme/*.t
# 
# Versions for all modules listed in MYMETA.json (including optional ones):
# 
# === Configure Requires ===
# 
#     Module                  Want Have
#     ----------------------- ---- ----
#     ExtUtils::MakeMaker      any 7.30
#     File::ShareDir::Install 0.06 0.11
# 
# === Build Requires ===
# 
#     Module              Want Have
#     ------------------- ---- ----
#     ExtUtils::MakeMaker  any 7.30
# 
# === Test Requires ===
# 
#     Module                  Want     Have
#     ------------------- -------- --------
#     Capture::Tiny            any     0.46
#     Dir::Self                any     0.11
#     ExtUtils::MakeMaker      any     7.30
#     File::Spec               any  3.63_01
#     IO::Handle               any     1.36
#     IPC::Open3               any     1.20
#     Storable                 any  2.56_01
#     Test::Deep               any    1.127
#     Test::Differences       0.64     0.64
#     Test::Exception         0.42     0.43
#     Test::Lib                any    0.002
#     Test::More          1.001005 1.302113
# 
# === Test Recommends ===
# 
#     Module         Want     Have
#     ---------- -------- --------
#     CPAN::Meta 2.120900 2.150005
# 
# === Runtime Requires ===
# 
#     Module                 Want     Have
#     ------------------ -------- --------
#     Beam::Emitter         0.007    1.007
#     Beam::Wire            1.018    1.020
#     DateTime::Moonpig       any     1.03
#     Encode                  any     2.95
#     File::Share             any     0.25
#     Git::Repository         any    1.321
#     Import::Base          0.012    1.003
#     JSON::PP                any  2.97000
#     List::UtilsBy          0.09     0.11
#     Mojolicious            6.54     7.61
#     Moo                2.000001 2.003003
#     Path::Tiny            0.084    0.104
#     Pod::Simple            3.31     3.32
#     Pod::Usage::Return      any    0.003
#     Text::Markdown          any 1.000031
#     Text::Unidecode         any     1.30
#     Type::Tiny              any 1.002001
#     Types::Path::Tiny       any    0.005
#     YAML                    any     1.24
#     strict                  any     1.11
#     warnings                any     1.36
# 
# === Runtime Recommends ===
# 
#     Module                           Want    Have
#     ------------------------------- ----- -------
#     HTML::Lint::Pluggable            0.06 missing
#     PPI                               any missing
#     Pod::Elemental                    any missing
#     Pod::Weaver                     4.015 missing
#     Syntax::Highlight::Engine::Kate   any missing
# 
t/00-report-prereqs.t ......... ok
                    # Before test: STDIN is interactive
                    # After test: STDIN is interactive
                    # Before test: STDIN is interactive
                    # After test: STDIN is interactive
t/app/basic/command.t ......... ok
t/app/basic/constructor.t ..... ok
t/app/basic/pages.t ........... ok
                    # Before test: STDIN is interactive
                    # After test: STDIN is interactive
                    # Before test: STDIN is interactive
                    # After test: STDIN is interactive
                    # Before test: STDIN is interactive
                    # After test: STDIN is interactive
t/app/blog/command.t .......... ok
t/app/blog/constructor.t ...... ok
    # Current LC_TIME locale: en_US.UTF-8
t/app/blog/pages.t ............ ok
t/app/blog/post_date.t ........ ok
t/app/blog/recent_posts.t ..... ok
t/app/blog/slugs.t ............ ok
t/app/events.t ................ ok
t/app/perldoc/highlight.t ..... skipped: Syntax::Highlight::Engine::Kate needed
t/app/perldoc/constructor.t ... ok
t/app/perldoc/pages.t ......... ok
t/app/template.t .............. ok
t/app/role/store.t ............ ok
t/app/url.t ................... ok
t/command/apps.t .............. ok
t/bin/statocles.t ............. ok
t/command/bundle.t ............ ok
    # Git version: 2.001000
t/command/create.t ............ ok
        # Git version: 2.001000
t/command/daemon.t ............ ok
t/command/build_and_deploy.t .. ok
t/command/help_and_version.t .. ok
t/command/error.t ............. ok
t/deploy/file.t ............... ok
t/command/mojo_app.t .......... ok
# Git version: 2.001000
t/deprecated.t ................ ok
[Tue Mar 27 15:33:45 2018] [warn] No files changed
[Tue Mar 27 15:33:47 2018] [warn] No files changed
t/document.t .................. ok
t/image.t ..................... ok
t/link.t ...................... ok
t/link/tree.t ................. ok
t/00-compile.t ................ ok
t/page/basename.t ............. ok
t/page/content_sections.t ..... ok
t/page/file.t ................. ok
Invalid data attribute in document "/required.markdown". Data attributes that are not hashes are deprecated and will be removed in v2.0. Please use a hash instead. See Statocles::Help::Upgrading
Invalid data attribute in document "/links/alternate_single.markdown". Data attributes that are not hashes are deprecated and will be removed in v2.0. Please use a hash instead. See Statocles::Help::Upgrading
t/page/document.t ............. ok
t/page/links.t ................ ok
t/page/images.t ............... ok
t/page/list_item.t ............ ok
t/page/list.t ................. ok
[Tue Mar 27 15:34:17 2018] [warn] Git remote "origin" does not exist. Not pushing.
[Tue Mar 27 15:34:17 2018] [debug] Render page: /path/to/page.html
t/page/plain.t ................ ok
t/page/type.t ................. ok
t/person.t .................... ok
t/plugin/highlight.t .......... skipped: Syntax::Highlight::Engine::Kate needed
[Tue Mar 27 15:34:22 2018] [warn] Git remote "nondefault" does not exist. Not pushing.
t/plugin/html_lint.t .......... skipped: HTML::Lint::Pluggable v0.06 or higher needed
t/plugin/link_check.t ......... ok
t/plugin/mermaid.t ............ ok
t/deploy/git.t ................ ok
t/site/constructor.t .......... ok
t/site/data.t ................. ok
t/site/events.t ............... ok
t/site/nav.t .................. ok
t/site/build_and_deploy.t ..... ok
t/site/index.t ................ ok
t/site/plugin.t ............... ok
t/site/url.t .................. ok
t/site/template.t ............. ok
t/site/sitemap_and_robots.t ... ok
[Tue Mar 27 15:35:02 2018] [warn] Store path "/home/user/.cpanm/work/1522161078.29894/Statocles-0.090/t/share/DOES_NOT_EXIST" does not exist
t/site/warnings.t ............. ok
t/store.t ..................... ok
t/template/basic.t ............ ok
t/template/markdown.t ......... ok
t/template/content.t .......... ok
t/template/include.t .......... ok
t/theme/pages.t ............... ok
t/theme/helper.t .............. ok
t/theme/template.t ............ ok
sh: HOPEFULLY_DOES_NOT_EXIST: command not found
t/util.t ...................... ok
t/theme/check.t ............... ok
t/types.t ..................... ok
All tests successful.
Files=71, Tests=320, 232 wallclock secs ( 2.91 usr  0.84 sys + 351.86 cusr 71.88 csys = 427.49 CPU)
Result: PASS

------------------------------
PREREQUISITES
------------------------------

Prerequisite modules loaded:

    No requirements found

------------------------------
ENVIRONMENT AND OTHER CONTEXT
------------------------------

Environment variables:

    AUTHOR_TESTING = 1
    HARNESS_OPTIONS = j3
    LANG = en_US.UTF-8
    LC_COLLATE = POSIX
    LD_LIBRARY_PATH = /lib64:/opt/gimp2.8/lib:/opt/gcc482inst/lib64:/usr/lib:/usr/lib64
    PATH = /home/user/.perlbrew/libs/perl-5.24.3@gql/bin:/home/user/perl5/perlbrew/bin:/home/user/perl5/perlbrew/perls/perl-5.24.3/bin:/opt/bin:/opt/gcc482inst/bin:/opt/gimp2.8/bin:/usr/lib64/qt-3.3/bin:/usr/local/bin:/bin:/usr/bin:/usr/local/sbin:/usr/sbin:/sbin:/home/user/bin
    PERL5LIB = /home/user/.perlbrew/libs/perl-5.24.3@gql/lib/perl5
    PERLBREW_BASHRC_VERSION = 0.72
    PERLBREW_HOME = /home/user/.perlbrew
    PERLBREW_LIB = gql
    PERLBREW_MANPATH = /home/user/.perlbrew/libs/perl-5.24.3@gql/man:/home/user/perl5/perlbrew/perls/perl-5.24.3/man
    PERLBREW_PATH = /home/user/.perlbrew/libs/perl-5.24.3@gql/bin:/home/user/perl5/perlbrew/bin:/home/user/perl5/perlbrew/perls/perl-5.24.3/bin
    PERLBREW_PERL = perl-5.24.3
    PERLBREW_ROOT = /home/user/perl5/perlbrew
    PERLBREW_VERSION = 0.82
    PERL_LOCAL_LIB_ROOT = /home/user/.perlbrew/libs/perl-5.24.3@gql
    PERL_MB_OPT = --install_base /home/user/.perlbrew/libs/perl-5.24.3@gql
    PERL_MM_OPT = INSTALL_BASE=/home/user/.perlbrew/libs/perl-5.24.3@gql
    RELEASE_TESTING = 1
    SHELL = /bin/bash
    TERM = xterm

Perl special variables (and OS-specific diagnostics, for MSWin32):

    EGID = 500 500
    EUID = 500
    EXECUTABLE_NAME = /home/user/perl5/perlbrew/perls/perl-5.24.3/bin/perl
    GID = 500 500
    UID = 500

Perl module toolchain versions installed:

    Module              Have      
    ------------------- ----------
    CPAN                2.11_01   
    CPAN::Meta          2.150005  
    Cwd                 3.63_01   
    ExtUtils::CBuilder  0.280225  
    ExtUtils::Command   7.30      
    ExtUtils::Install   2.06      
    ExtUtils::MakeMaker 7.30      
    ExtUtils::Manifest  1.70      
    ExtUtils::ParseXS   3.31      
    File::Spec          3.63_01   
    JSON                2.97001   
    JSON::PP            2.97000   
    Module::Build       0.4224    
    Module::Signature   n/a       
    Parse::CPAN::Meta   1.4417_001
    Test::Harness       3.36_01   
    Test::More          1.302113  
    YAML                1.24      
    YAML::Syck          n/a       
    version             0.9916    


--

Summary of my perl5 (revision 5 version 24 subversion 3) configuration:
   
  Platform:
    osname=linux, osvers=2.6.32-504.3.3.el6.x86_64, archname=x86_64-linux
    uname='linux localhost.localdomain 2.6.32-504.3.3.el6.x86_64 #1 smp wed dec 17 01:55:02 utc 2014 x86_64 x86_64 x86_64 gnulinux '
    config_args='-de -Dprefix=/home/user/perl5/perlbrew/perls/perl-5.24.3 -Aeval:scriptdir=/home/user/perl5/perlbrew/perls/perl-5.24.3/bin'
    hint=recommended, useposix=true, d_sigaction=define
    useithreads=undef, usemultiplicity=undef
    use64bitint=define, use64bitall=define, uselongdouble=undef
    usemymalloc=n, bincompat5005=undef
  Compiler:
    cc='cc', ccflags ='-fwrapv -fno-strict-aliasing -pipe -fstack-protector -I/usr/local/include -D_LARGEFILE_SOURCE -D_FILE_OFFSET_BITS=64 -D_FORTIFY_SOURCE=2',
    optimize='-O2',
    cppflags='-fwrapv -fno-strict-aliasing -pipe -fstack-protector -I/usr/local/include'
    ccversion='', gccversion='4.8.2', gccosandvers=''
    intsize=4, longsize=8, ptrsize=8, doublesize=8, byteorder=12345678, doublekind=3
    d_longlong=define, longlongsize=8, d_longdbl=define, longdblsize=16, longdblkind=3
    ivtype='long', ivsize=8, nvtype='double', nvsize=8, Off_t='off_t', lseeksize=8
    alignbytes=8, prototype=define
  Linker and Libraries:
    ld='cc', ldflags =' -fstack-protector -L/usr/local/lib'
    libpth=/usr/local/lib /opt/gcc482inst/lib /opt/gcc482inst/lib/gcc/x86_64-unknown-linux-gnu/4.8.2/include-fixed /usr/lib /lib/../lib64 /usr/lib/../lib64 /lib /lib64 /usr/lib64 /usr/local/lib64
    libs=-lpthread -lnsl -lgdbm -ldb -ldl -lm -lcrypt -lutil -lc
    perllibs=-lpthread -lnsl -ldl -lm -lcrypt -lutil -lc
    libc=libc-2.12.so, so=so, useshrplib=false, libperl=libperl.a
    gnulibc_version='2.12'
  Dynamic Linking:
    dlsrc=dl_dlopen.xs, dlext=so, d_dlsymun=undef, ccdlflags='-Wl,-E'
    cccdlflags='-fPIC', lddlflags='-shared -O2 -L/usr/local/lib -fstack-protector'


Characteristics of this binary (from libperl): 
  Compile-time options: HAS_TIMES PERLIO_LAYERS PERL_COPY_ON_WRITE
                        PERL_DONT_CREATE_GVSV
                        PERL_HASH_FUNC_ONE_AT_A_TIME_HARD PERL_MALLOC_WRAP
                        PERL_PRESERVE_IVUV USE_64_BIT_ALL USE_64_BIT_INT
                        USE_LARGE_FILES USE_LOCALE USE_LOCALE_COLLATE
                        USE_LOCALE_CTYPE USE_LOCALE_NUMERIC USE_LOCALE_TIME
                        USE_PERLIO USE_PERL_ATOF
  Locally applied patches:
	Devel::PatchPerl 1.30
  Built under linux
  Compiled at Nov 27 2017 00:35:46
  %ENV:
    PERL5LIB="/home/user/.perlbrew/libs/perl-5.24.3@gql/lib/perl5"
    PERLBREW_BASHRC_VERSION="0.72"
    PERLBREW_HOME="/home/user/.perlbrew"
    PERLBREW_LIB="gql"
    PERLBREW_MANPATH="/home/user/.perlbrew/libs/perl-5.24.3@gql/man:/home/user/perl5/perlbrew/perls/perl-5.24.3/man"
    PERLBREW_PATH="/home/user/.perlbrew/libs/perl-5.24.3@gql/bin:/home/user/perl5/perlbrew/bin:/home/user/perl5/perlbrew/perls/perl-5.24.3/bin"
    PERLBREW_PERL="perl-5.24.3"
    PERLBREW_ROOT="/home/user/perl5/perlbrew"
    PERLBREW_VERSION="0.82"
    PERL_LOCAL_LIB_ROOT="/home/user/.perlbrew/libs/perl-5.24.3@gql"
    PERL_MB_OPT="--install_base /home/user/.perlbrew/libs/perl-5.24.3@gql"
    PERL_MM_OPT="INSTALL_BASE=/home/user/.perlbrew/libs/perl-5.24.3@gql"
  @INC:
    /home/user/.perlbrew/libs/perl-5.24.3@gql/lib/perl5/5.24.3/x86_64-linux
    /home/user/.perlbrew/libs/perl-5.24.3@gql/lib/perl5/5.24.3
    /home/user/.perlbrew/libs/perl-5.24.3@gql/lib/perl5/x86_64-linux
    /home/user/.perlbrew/libs/perl-5.24.3@gql/lib/perl5
    /home/user/perl5/perlbrew/perls/perl-5.24.3/lib/site_perl/5.24.3/x86_64-linux
    /home/user/perl5/perlbrew/perls/perl-5.24.3/lib/site_perl/5.24.3
    /home/user/perl5/perlbrew/perls/perl-5.24.3/lib/5.24.3/x86_64-linux
    /home/user/perl5/perlbrew/perls/perl-5.24.3/lib/5.24.3
    .