CHI v0.61 Perl 5 v5.40.0 darwin-2level
- Status
- Pass
- From
- Philip Sharman
- Dist
-
CHI v0.61
- Platform
- Perl 5 v5.40.0 darwin-2level
- Date
- 2025-06-12 16:49:53
- ID
- 43338c5c-47ad-11f0-988f-d9d3ca4f6c42
This distribution has been tested as part of the CPAN Testers
project, supporting the Perl programming language. See
http://wiki.cpantesters.org/ for more information or email
questions to cpan-testers-discuss@perl.org
--
Dear Alexander Becker,
This is a computer-generated report for CHI-0.61
on perl 5.40.0, created by CPAN-Reporter-1.2020.
Thank you for uploading your work to CPAN. Congratulations!
All tests were successful.
Sections of this report:
* Tester comments
* Program output
* Prerequisites
* Environment and other context
------------------------------
TESTER COMMENTS
------------------------------
Additional comments from tester:
none provided
------------------------------
PROGRAM OUTPUT
------------------------------
Output from '/usr/bin/make test':
PERL_DL_NONLAZY=1 "/Users/psharman/perl5/perlbrew/perls/perl-5.40.0/bin/perl" "-MExtUtils::Command::MM" "-MTest::Harness" "-e" "undef *Test::Harness::Switches; test_harness(0, 'blib/lib', 'blib/arch')" t/*.t
# Testing CHI 0.61, Perl 5.040000, /Users/psharman/perl5/perlbrew/perls/perl-5.40.0/bin/perl
t/00-load.t ............................. ok
t/author-03-pod.t ....................... skipped: these tests are for testing by the author
t/author-file-driver.t .................. skipped: these tests are for testing by the author
t/author-no-data-serializer.t ........... skipped: these tests are for testing by the author
t/author-RequiredModules.t .............. skipped: these tests are for testing by the author
t/Bugs.t ................................ ok
t/Config.t .............................. ok
t/Constants.t ........................... ok
t/Driver-Memory.t ....................... ok
t/Driver-RawMemory.t .................... ok
t/GetError.t ............................ ok
t/Initialize.t .......................... ok
t/release-dependent.t ................... skipped: these tests are for release candidate testing
t/Sanity.t .............................. ok
t/SetError.t ............................ ok
t/smoke-Driver-CacheCache.t ............. skipped: these tests are for "smoke bot" testing
t/smoke-Driver-FastMmap.t ............... skipped: these tests are for "smoke bot" testing
t/smoke-Driver-File-DepthZero.t ......... skipped: these tests are for "smoke bot" testing
t/smoke-Driver-File.t ................... skipped: these tests are for "smoke bot" testing
t/smoke-Driver-NonMoose.t ............... skipped: these tests are for "smoke bot" testing
t/smoke-Driver-Subcache-l1_cache.t ...... skipped: these tests are for "smoke bot" testing
t/smoke-Driver-Subcache-mirror_cache.t .. skipped: these tests are for "smoke bot" testing
t/smoke-Null.t .......................... skipped: these tests are for "smoke bot" testing
t/Subcache.t ............................ ok
t/Subclass.t ............................ ok
t/Util.t ................................ ok
All tests successful.
Files=26, Tests=1787, 3 wallclock secs ( 0.09 usr 0.03 sys + 1.86 cusr 0.42 csys = 2.40 CPU)
Result: PASS
------------------------------
PREREQUISITES
------------------------------
Prerequisite modules loaded:
requires:
Module Need Have
------------------------------- -------- --------
Carp::Assert 0.20 0.22
Class::Load 0 0.25
Data::UUID 0 1.227
Digest::JHash 0 0.10
Digest::MD5 0 2.59
File::Spec 0.80 3.90
Hash::MoreUtils 0 0.06
JSON::MaybeXS 1.003003 1.004008
List::MoreUtils 0.13 0.430
Log::Any 0.08 1.718
Moo 1.003 2.005005
MooX::Types::MooseLike 0.23 0.29
MooX::Types::MooseLike::Base 0 0.29
MooX::Types::MooseLike::Numeric 0 1.03
Storable 0 3.32
String::RewritePrefix 0 0.009
Task::Weaken 0 1.06
Time::Duration 1.06 1.21
Time::Duration::Parse 0.03 0.16
Time::HiRes 1.30 1.9777
Try::Tiny 0.05 0.32
build_requires:
Module Need Have
------------------------------- -------- --------
Cache::FileCache 0 0
Date::Parse 0 2.33
ExtUtils::MakeMaker 0 7.76
Module::Mask 0 0.06
Test::Builder 0 1.302214
Test::Class 0 0.52
Test::Deep 0 1.205
Test::Exception 0 0.43
Test::More 0 1.302214
Test::Warn 0 0.37
configure_requires:
Module Need Have
------------------------------- -------- --------
ExtUtils::MakeMaker 0 7.76
------------------------------
ENVIRONMENT AND OTHER CONTEXT
------------------------------
Environment variables:
LANG = en_CA.UTF-8
LC_ALL = en_US.UTF-8
PATH = /usr/local/opt/ruby/bin:/usr/local/sbin:/Users/psharman/bin:/Users/psharman/.yarn/bin:/Users/psharman/.config/yarn/global/node_modules/.bin:/Users/psharman/.volta/bin:/Users/psharman/dev/tools/Darwin/jdk/openjdk1.8.0.411_8.77.0.14_x64/bin:/Users/psharman/perl5/perlbrew/bin:/Users/psharman/perl5/perlbrew/perls/perl-5.40.0/bin:/usr/local/bin:/System/Cryptexes/App/usr/bin:/usr/bin:/bin:/usr/sbin:/sbin:/var/run/com.apple.security.cryptexd/codex.system/bootstrap/usr/local/bin:/var/run/com.apple.security.cryptexd/codex.system/bootstrap/usr/bin:/var/run/com.apple.security.cryptexd/codex.system/bootstrap/usr/appleinternal/bin:/opt/X11/bin:/Library/Apple/usr/bin
PERL5LIB = /Users/psharman/.cpan/build/Parallel-Iterator-1.002-0/blib/arch:/Users/psharman/.cpan/build/Parallel-Iterator-1.002-0/blib/lib
PERL5OPT =
PERL5_CPANPLUS_IS_RUNNING = 94725
PERL5_CPAN_IS_RUNNING = 94725
PERLBREW_HOME = /Users/psharman/.perlbrew
PERLBREW_MANPATH = /Users/psharman/perl5/perlbrew/perls/perl-5.40.0/man
PERLBREW_PATH = /Users/psharman/perl5/perlbrew/bin:/Users/psharman/perl5/perlbrew/perls/perl-5.40.0/bin
PERLBREW_PERL = perl-5.40.0
PERLBREW_ROOT = /Users/psharman/perl5/perlbrew
PERLBREW_SHELLRC_VERSION = 0.97
PERLBREW_VERSION = 0.97
PERL_USE_UNSAFE_INC = 1
SHELL = /bin/bash
TERM = xterm-256color
TMPDIR = /var/folders/wm/l8wrwck93hv13zkbfsbwvpzr0000gq/T/
Perl special variables (and OS-specific diagnostics, for MSWin32):
$^X = /Users/psharman/perl5/perlbrew/perls/perl-5.40.0/bin/perl
$UID/$EUID = 503 / 503
$GID = 20 20 12 61 79 80 81 98 703 702 701 704 33 100 204 250 395
$EGID = 20 20 12 61 79 80 81 98 703 702 701 704 33 100 204 250 395
Perl module toolchain versions installed:
Module Have
------------------- --------
CPAN 2.38
CPAN::Meta 2.150010
Cwd 3.90
ExtUtils::CBuilder 0.280240
ExtUtils::Command 7.76
ExtUtils::Install 2.22
ExtUtils::MakeMaker 7.76
ExtUtils::Manifest 1.75
ExtUtils::ParseXS 3.57
File::Spec 3.90
JSON 4.10
JSON::PP 4.16
Module::Build 0.4234
Module::Signature n/a
Parse::CPAN::Meta 2.150010
Test2 1.302214
Test::Harness 3.52
Test::More 1.302214
YAML 1.31
YAML::Syck n/a
version 0.9933
--
Summary of my perl5 (revision 5 version 40 subversion 0) configuration:
Platform:
osname=darwin
osvers=23.5.0
archname=darwin-2level
uname='darwin psharma-wsmwwph.internal.salesforce.com 23.5.0 darwin kernel version 23.5.0: wed may 1 20:09:52 pdt 2024; root:xnu-10063.121.3~5release_x86_64 x86_64 '
config_args='-de -Dprefix=/Users/psharman/perl5/perlbrew/perls/perl-5.40.0 -Aeval:scriptdir=/Users/psharman/perl5/perlbrew/perls/perl-5.40.0/bin'
hint=recommended
useposix=true
d_sigaction=define
useithreads=undef
usemultiplicity=undef
use64bitint=define
use64bitall=define
uselongdouble=undef
usemymalloc=n
default_inc_excludes_dot=define
Compiler:
cc='cc'
ccflags ='-fno-common -DPERL_DARWIN -mmacosx-version-min=14.5 -DNO_THREAD_SAFE_QUERYLOCALE -DNO_POSIX_2008_LOCALE -fno-strict-aliasing -pipe -fstack-protector-strong -I/usr/local/include'
optimize='-O3'
cppflags='-fno-common -DPERL_DARWIN -mmacosx-version-min=14.5 -DNO_THREAD_SAFE_QUERYLOCALE -DNO_POSIX_2008_LOCALE -fno-strict-aliasing -pipe -fstack-protector-strong -I/usr/local/include'
ccversion=''
gccversion='Apple LLVM 15.0.0 (clang-1500.3.9.4)'
gccosandvers=''
intsize=4
longsize=8
ptrsize=8
doublesize=8
byteorder=12345678
doublekind=3
d_longlong=define
longlongsize=8
d_longdbl=define
longdblsize=16
longdblkind=3
ivtype='long'
ivsize=8
nvtype='double'
nvsize=8
Off_t='off_t'
lseeksize=8
alignbytes=8
prototype=define
Linker and Libraries:
ld='cc'
ldflags =' -mmacosx-version-min=14.5 -fstack-protector-strong -L/usr/local/lib'
libpth=/usr/local/lib /Applications/Xcode.app/Contents/Developer/Toolchains/XcodeDefault.xctoolchain/usr/lib/clang/15.0.0/lib /Applications/Xcode.app/Contents/Developer/Platforms/MacOSX.platform/Developer/SDKs/MacOSX.sdk/usr/lib /Applications/Xcode.app/Contents/Developer/Toolchains/XcodeDefault.xctoolchain/usr/lib /usr/lib
libs=-lgdbm
perllibs=
libc=
so=dylib
useshrplib=false
libperl=libperl.a
gnulibc_version=''
Dynamic Linking:
dlsrc=dl_dlopen.xs
dlext=bundle
d_dlsymun=undef
ccdlflags=' '
cccdlflags=' '
lddlflags=' -mmacosx-version-min=14.5 -bundle -undefined dynamic_lookup -L/usr/local/lib -fstack-protector-strong'
Characteristics of this binary (from libperl):
Compile-time options:
HAS_LONG_DOUBLE
HAS_STRTOLD
HAS_TIMES
PERLIO_LAYERS
PERL_COPY_ON_WRITE
PERL_DONT_CREATE_GVSV
PERL_HASH_FUNC_SIPHASH13
PERL_HASH_USE_SBOX32
PERL_MALLOC_WRAP
PERL_OP_PARENT
PERL_PRESERVE_IVUV
PERL_USE_SAFE_PUTENV
USE_64_BIT_ALL
USE_64_BIT_INT
USE_LARGE_FILES
USE_LOCALE
USE_LOCALE_COLLATE
USE_LOCALE_CTYPE
USE_LOCALE_NUMERIC
USE_LOCALE_TIME
USE_PERLIO
USE_PERL_ATOF
Built under darwin
Compiled at Jun 10 2024 09:14:37
%ENV:
PERL5LIB="/Users/psharman/.cpan/build/Parallel-Iterator-1.002-0/blib/arch:/Users/psharman/.cpan/build/Parallel-Iterator-1.002-0/blib/lib"
PERL5OPT=""
PERL5_CPANPLUS_IS_RUNNING="94725"
PERL5_CPAN_IS_RUNNING="94725"
PERLBREW_HOME="/Users/psharman/.perlbrew"
PERLBREW_MANPATH="/Users/psharman/perl5/perlbrew/perls/perl-5.40.0/man"
PERLBREW_PATH="/Users/psharman/perl5/perlbrew/bin:/Users/psharman/perl5/perlbrew/perls/perl-5.40.0/bin"
PERLBREW_PERL="perl-5.40.0"
PERLBREW_ROOT="/Users/psharman/perl5/perlbrew"
PERLBREW_SHELLRC_VERSION="0.97"
PERLBREW_VERSION="0.97"
PERL_USE_UNSAFE_INC="1"
@INC:
/Users/psharman/.cpan/build/Parallel-Iterator-1.002-0/blib/arch
/Users/psharman/.cpan/build/Parallel-Iterator-1.002-0/blib/lib
/Users/psharman/perl5/perlbrew/perls/perl-5.40.0/lib/site_perl/5.40.0/darwin-2level
/Users/psharman/perl5/perlbrew/perls/perl-5.40.0/lib/site_perl/5.40.0
/Users/psharman/perl5/perlbrew/perls/perl-5.40.0/lib/5.40.0/darwin-2level
/Users/psharman/perl5/perlbrew/perls/perl-5.40.0/lib/5.40.0
.