Perl-Critic v1.152 Perl 5 v5.38.2 armv6l-linux
- Status
- Pass
- From
- gregor herrmann
- Dist
-
Perl-Critic v1.152
- Platform
- Perl 5 v5.38.2 armv6l-linux
- Date
- 2023-12-12 20:15:57
- ID
- 429aeaec-992b-11ee-9d6f-970144203690
This distribution has been tested as part of the CPAN Testers
project, supporting the Perl programming language. See
http://wiki.cpantesters.org/ for more information or email
questions to cpan-testers-discuss@perl.org
--
Dear Andy Lester,
This is a computer-generated report for Perl-Critic-1.152
on perl 5.38.2, created by CPAN-Reporter-1.2019.
Thank you for uploading your work to CPAN. Congratulations!
All tests were successful.
Sections of this report:
* Tester comments
* Program output
* Prerequisites
* Environment and other context
------------------------------
TESTER COMMENTS
------------------------------
Additional comments from tester:
this report is from an automated smoke testing program
and was not reviewed by a human for accuracy
------------------------------
PROGRAM OUTPUT
------------------------------
Output from './Build test':
# Testing Perl::Critic 1.152 with PPI 1.277 under Perl 5.038002, /srv/smoker/perl5/perlbrew/perls/perl-5.38.2/bin/perl
t/00_modules.t ................................ ok
t/00_versions.t ............................... ok
t/01_config.t ................................. ok
t/01_config_bad_perlcriticrc.t ................ ok
t/01_policy_config.t .......................... ok
t/02_policy.t ................................. ok
t/03_annotations.t ............................ ok
t/03_pragmas.t ................................ ok
t/04_options_processor.t ...................... ok
t/05_utils.t .................................. ok
t/05_utils_perl.t ............................. ok
t/05_utils_pod.t .............................. ok
t/05_utils_ppi.t .............................. ok
t/06_violation.t .............................. ok
t/07_command.t ................................ ok
t/07_perlcritic.t ............................. ok
t/08_document.t ............................... ok
t/09_theme.t .................................. ok
t/10_user_profile.t ........................... ok
t/11_policy_factory.t ......................... ok
t/12_policy_listing.t ......................... ok
t/12_theme_listing.t .......................... ok
t/13_bundled_policies.t ....................... ok
t/14_policy_parameter_behavior_boolean.t ...... ok
t/14_policy_parameter_behavior_enumeration.t .. ok
t/14_policy_parameter_behavior_integer.t ...... ok
t/14_policy_parameter_behavior_list_string.t .. ok
t/14_policy_parameter_behavior_string.t ....... ok
t/14_policy_parameters.t ...................... ok
t/15_statistics.t ............................. ok
t/16_roundtrip_defaults.t ..................... ok
t/20_policies.t ............................... skipped: Test::Perl::Critic required to test Perl::Critic itself
t/20_policy_pod_spelling.t .................... ok
t/20_policy_prohibit_evil_modules.t ........... ok
t/20_policy_prohibit_hard_tabs.t .............. ok
t/20_policy_prohibit_trailing_whitespace.t .... ok
t/20_policy_require_consistent_newlines.t ..... ok
t/20_policy_require_tidy_code.t ............... ok
Unhandled type: REGEXP at /srv/smoker/perl5/perlbrew/perls/perl-5.38.2/lib/site_perl/5.38.2/Devel/Cycle.pm line 107.
t/92_memory_leaks.t ........................... ok
t/gh-734.t .................................... ok
All tests successful.
Files=40, Tests=5399, 1915 wallclock secs (11.69 usr 1.68 sys + 1535.12 cusr 31.26 csys = 1579.75 CPU)
Result: PASS
------------------------------
PREREQUISITES
------------------------------
Prerequisite modules loaded:
requires:
Module Need Have
------------------------- -------- --------
B::Keywords 1.23 1.26
Carp 0 1.54
charnames 0 1.50
Config::Tiny 2 2.30
English 0 1.11
Exception::Class 1.23 1.45
Exporter 5.63 5.77
File::Basename 0 2.86
File::Find 0 1.43
File::Path 0 2.18
File::Spec 0 3.88
File::Spec::Unix 0 3.88
File::Temp 0 0.2311
File::Which 0 1.27
Getopt::Long 0 2.57
List::SomeUtils 0.55 0.59
List::Util 0 1.63
Module::Pluggable 3.1 5.2
overload 0 1.37
parent 0 0.241
perl 5.010001 5.038002
Perl::Tidy 0 20230912
Pod::PlainText 0 2.07
Pod::Select 0 1.66
Pod::Spell 1 1.26
Pod::Usage 0 2.03
PPI 1.277 1.277
PPI::Document 1.277 1.277
PPI::Document::File 1.277 1.277
PPI::Node 1.277 1.277
PPI::Token::Quote::Single 1.277 1.277
PPI::Token::Whitespace 1.277 1.277
PPIx::QuoteLike 0 0.023
PPIx::Regexp 0.027 0.088
PPIx::Regexp::Util 0.068 0.088
PPIx::Utils::Traversal 0.003 0.003
Readonly 2 2.05
Scalar::Util 0 1.63
strict 0 1.12
String::Format 1.18 1.18
Term::ANSIColor 2.02 5.01
Test::Builder 0.92 1.302198
Text::ParseWords 3 3.31
version 0.77 0.9929
warnings 0 1.65
build_requires:
Module Need Have
------------------------- -------- --------
lib 0 0.65
Test::More 0 1.302198
configure_requires:
Module Need Have
------------------------- -------- --------
B::Keywords 1.23 1.26
base 0 2.27
Carp 0 1.54
English 0 1.11
Exporter 5.63 5.77
lib 0 0.65
List::SomeUtils 0.55 0.59
Module::Build 0.4204 0.4234
------------------------------
ENVIRONMENT AND OTHER CONTEXT
------------------------------
Environment variables:
AUTOMATED_TESTING = 1
LC_CTYPE = de_AT.utf8
LD_LIBRARY_PATH = /usr/lib/libeatmydata
NONINTERACTIVE_TESTING = 1
PATH = /srv/smoker/bin:/usr/lib/ccache:/srv/smoker/perl5/perlbrew/bin:/srv/smoker/perl5/perlbrew/perls/perl-5.38.2/bin:/usr/local/bin:/usr/bin:/bin:/usr/local/games:/usr/games
PERL5LIB =
PERL5OPT =
PERL5_CPANPLUS_IS_RUNNING = 5138
PERL5_CPAN_IS_RUNNING = 5138
PERL5_CPAN_IS_RUNNING_IN_RECURSION = 966,5138
PERLBREW_HOME = /srv/smoker/.perlbrew
PERLBREW_MANPATH = /srv/smoker/perl5/perlbrew/perls/perl-5.38.2/man
PERLBREW_PATH = /srv/smoker/perl5/perlbrew/bin:/srv/smoker/perl5/perlbrew/perls/perl-5.38.2/bin
PERLBREW_PERL = perl-5.38.2
PERLBREW_ROOT = /srv/smoker/perl5/perlbrew
PERLBREW_SHELLRC_VERSION = 0.98
PERLBREW_VERSION = 0.98
PERL_CPANM_OPT = --prompt --configure-timeout 300 --build-timeout 18000 --test-timeout 18000 --from https://www.cpan.org
PERL_CR_SMOKER_CURRENT = Dist-Zilla-App-Command-Authordebs-0.004
PERL_EXTUTILS_AUTOINSTALL = --defaultdeps
PERL_MM_USE_DEFAULT = 1
PERL_TEST_TIME_OUT_FACTOR = 3
PERL_TEST_TIME_OUT_FACTOR = 3
PERL_USE_UNSAFE_INC = 1
SHELL = /bin/bash
TERM = screen-256color
Perl special variables (and OS-specific diagnostics, for MSWin32):
$^X = /srv/smoker/perl5/perlbrew/perls/perl-5.38.2/bin/perl
$UID/$EUID = 1111 / 1111
$GID = 65534 65534
$EGID = 65534 65534
Perl module toolchain versions installed:
Module Have
------------------- --------
CPAN 2.36
CPAN::Meta 2.150010
Cwd 3.89
ExtUtils::CBuilder 0.280238
ExtUtils::Command 7.70
ExtUtils::Install 2.22
ExtUtils::MakeMaker 7.70
ExtUtils::Manifest 1.73
ExtUtils::ParseXS 3.51
File::Spec 3.88
JSON 4.10
JSON::PP 4.16
Module::Build 0.4234
Module::Signature n/a
Parse::CPAN::Meta 2.150010
Test2 1.302198
Test::Harness 3.44
Test::More 1.302198
YAML 1.30
YAML::Syck n/a
version 0.9929
--
Summary of my perl5 (revision 5 version 38 subversion 2) configuration:
Platform:
osname=linux
osvers=5.10.103+
archname=armv6l-linux
uname='linux smoker 5.10.103+ #1529 tue mar 8 12:19:18 gmt 2022 armv6l gnulinux '
config_args='-de -Dprefix=/srv/smoker/perl5/perlbrew/perls/perl-5.38.2 -Aeval:scriptdir=/srv/smoker/perl5/perlbrew/perls/perl-5.38.2/bin'
hint=recommended
useposix=true
d_sigaction=define
useithreads=undef
usemultiplicity=undef
use64bitint=undef
use64bitall=undef
uselongdouble=undef
usemymalloc=n
default_inc_excludes_dot=define
Compiler:
cc='cc'
ccflags ='-fwrapv -fno-strict-aliasing -pipe -fstack-protector-strong -I/usr/local/include -D_LARGEFILE_SOURCE -D_FILE_OFFSET_BITS=64 -D_FORTIFY_SOURCE=2'
optimize='-O2'
cppflags='-fwrapv -fno-strict-aliasing -pipe -fstack-protector-strong -I/usr/local/include'
ccversion=''
gccversion='13.2.0'
gccosandvers=''
intsize=4
longsize=4
ptrsize=4
doublesize=8
byteorder=1234
doublekind=3
d_longlong=define
longlongsize=8
d_longdbl=define
longdblsize=8
longdblkind=0
ivtype='long'
ivsize=4
nvtype='double'
nvsize=8
Off_t='off_t'
lseeksize=8
alignbytes=8
prototype=define
Linker and Libraries:
ld='cc'
ldflags =' -fstack-protector-strong -L/usr/local/lib'
libpth=/usr/local/lib /usr/lib/arm-linux-gnueabihf /usr/lib
libs=-lpthread -ldb -ldl -lm -lcrypt -lutil -lc
perllibs=-lpthread -ldl -lm -lcrypt -lutil -lc
libc=/lib/arm-linux-gnueabihf/libc.so.6
so=so
useshrplib=false
libperl=libperl.a
gnulibc_version='2.37'
Dynamic Linking:
dlsrc=dl_dlopen.xs
dlext=so
d_dlsymun=undef
ccdlflags='-Wl,-E'
cccdlflags='-fPIC'
lddlflags='-shared -O2 -L/usr/local/lib -fstack-protector-strong'
Characteristics of this binary (from libperl):
Compile-time options:
HAS_LONG_DOUBLE
HAS_STRTOLD
HAS_TIMES
PERLIO_LAYERS
PERL_COPY_ON_WRITE
PERL_DONT_CREATE_GVSV
PERL_HASH_FUNC_ZAPHOD32
PERL_HASH_USE_SBOX32
PERL_MALLOC_WRAP
PERL_OP_PARENT
PERL_PRESERVE_IVUV
PERL_USE_SAFE_PUTENV
USE_LARGE_FILES
USE_LOCALE
USE_LOCALE_COLLATE
USE_LOCALE_CTYPE
USE_LOCALE_NUMERIC
USE_LOCALE_TIME
USE_PERLIO
USE_PERL_ATOF
Built under linux
Compiled at Nov 29 2023 19:32:16
%ENV:
PERL5LIB=""
PERL5OPT=""
PERL5_CPANPLUS_IS_RUNNING="5138"
PERL5_CPAN_IS_RUNNING="5138"
PERL5_CPAN_IS_RUNNING_IN_RECURSION="966,5138"
PERLBREW_HOME="/srv/smoker/.perlbrew"
PERLBREW_MANPATH="/srv/smoker/perl5/perlbrew/perls/perl-5.38.2/man"
PERLBREW_PATH="/srv/smoker/perl5/perlbrew/bin:/srv/smoker/perl5/perlbrew/perls/perl-5.38.2/bin"
PERLBREW_PERL="perl-5.38.2"
PERLBREW_ROOT="/srv/smoker/perl5/perlbrew"
PERLBREW_SHELLRC_VERSION="0.98"
PERLBREW_VERSION="0.98"
PERL_CPANM_OPT="--prompt --configure-timeout 300 --build-timeout 18000 --test-timeout 18000 --from https://www.cpan.org"
PERL_CR_SMOKER_CURRENT="Dist-Zilla-App-Command-Authordebs-0.004"
PERL_EXTUTILS_AUTOINSTALL="--defaultdeps"
PERL_MM_USE_DEFAULT="1"
PERL_TEST_TIME_OUT_FACTOR="3"
PERL_USE_UNSAFE_INC="1"
@INC:
/srv/smoker/perl5/perlbrew/perls/perl-5.38.2/lib/site_perl/5.38.2/armv6l-linux
/srv/smoker/perl5/perlbrew/perls/perl-5.38.2/lib/site_perl/5.38.2
/srv/smoker/perl5/perlbrew/perls/perl-5.38.2/lib/5.38.2/armv6l-linux
/srv/smoker/perl5/perlbrew/perls/perl-5.38.2/lib/5.38.2
.