Image-Magick v7.0.11-3 Perl 5 v5.37.2 x86_64-linux

Status
Pass
From
Nedzad Hrnjica (NHRNJICA)
Dist
Image-Magick v7.0.11-3
Platform
Perl 5 v5.37.2 x86_64-linux
Date
2022-08-18 13:39:57
ID
3fb0fa70-1efb-11ed-a382-a35c22f29030
This distribution has been tested as part of the CPAN Testers
project, supporting the Perl programming language.  See
http://wiki.cpantesters.org/ for more information or email
questions to cpan-testers-discuss@perl.org


--
Dear JCRISTY,

This is a computer-generated report for Image-Magick-7.0.11
on perl 5.37.2, created by App::cpanminus::reporter 0.17 (1.7046).

Thank you for uploading your work to CPAN.  Congratulations!
All tests were successful.

Sections of this report:

    * Tester comments
    * Program output
    * Prerequisites
    * Environment and other context

------------------------------
TESTER COMMENTS
------------------------------

Additional comments from tester:

none provided

------------------------------
PROGRAM OUTPUT
------------------------------

Output from '':

Running Makefile.PL
Checking if your kit is complete...
Looks good
Warning (mostly harmless): No library found for -lMagickCore-7.Q16HDRI
Generating a Unix-style Makefile
Writing Makefile for Image::Magick
Writing MYMETA.yml and MYMETA.json
-> OK
Checking dependencies from MYMETA.json ...
Checking if you have ExtUtils::MakeMaker 0 ... Yes (7.64)
Checking if you have parent 0 ... Yes (0.238)
Building and testing Image-Magick-v7.0.11
cp Magick.pm blib/lib/Image/Magick.pm
AutoSplitting blib/lib/Image/Magick.pm (blib/lib/auto/Image/Magick)
Running Mkbootstrap for Magick ()
chmod 644 "Magick.bs"
"/home/liveapp/.plenv/versions/5.37.2/bin/perl5.37.2" -MExtUtils::Command::MM -e 'cp_nonempty' -- Magick.bs blib/arch/auto/Image/Magick/Magick.bs 644
"/home/liveapp/.plenv/versions/5.37.2/bin/perl5.37.2" "/home/liveapp/.plenv/versions/5.37.2/lib/perl5/5.37.2/ExtUtils/xsubpp"  -typemap '/home/liveapp/.plenv/versions/5.37.2/lib/perl5/5.37.2/ExtUtils/typemap' -typemap '/home/liveapp/cpantesters.new/5.37.2/.cpanm_temp/work/1660829456.2679152/Image-Magick-7.0.11/typemap'  Magick.xs > Magick.xsc
mv Magick.xsc Magick.c
cc -c  -I/usr/local/include/ImageMagick-7 -DMAGICKCORE_HDRI_ENABLE=1 -DMAGICKCORE_QUANTUM_DEPTH=16 -I/usr/include/libxml2 -I"/usr/include/ImageMagick-7" -fwrapv -fno-strict-aliasing -pipe -fstack-protector-strong -I/usr/local/include -D_LARGEFILE_SOURCE -D_FILE_OFFSET_BITS=64 -I/usr/include/freetype2 -g -O2 -Wall -pthread -DMAGICKCORE_HDRI_ENABLE=1 -DMAGICKCORE_QUANTUM_DEPTH=16 -O2   -DVERSION=\"7.0.11\" -DXS_VERSION=\"7.0.11\" -fPIC "-I/home/liveapp/.plenv/versions/5.37.2/lib/perl5/5.37.2/x86_64-linux/CORE"  -D_LARGE_FILES=1 -DHAVE_CONFIG_H Magick.c
Magick.xs:56:10: fatal error: MagickCore/MagickCore.h: No such file or directory
   56 | #include <MagickCore/MagickCore.h>
      |          ^~~~~~~~~~~~~~~~~~~~~~~~~
compilation terminated.
make: *** [Makefile:351: Magick.o] Error 1
-> FAIL Testing Image::Magick failed. See /home/liveapp/cpantesters.new/5.37.2/.cpanm_temp/work/1660829456.2679152/build.log for details. Retry with --force to force install it.
Searching Email::Sender (0) on cpanmetadb ...
--> Working on Email::Sender
Fetching http://www.cpan.org/authors/id/R/RJ/RJBS/Email-Sender-2.500.tar.gz
-> OK
Unpacking Email-Sender-2.500.tar.gz
Manifying 24 pod documents
Installing /home/liveapp/.plenv/versions/5.37.2/lib/perl5/site_perl/5.37.2/Email/Sender.pm
Installing /home/liveapp/.plenv/versions/5.37.2/lib/perl5/site_perl/5.37.2/Email/Sender/Transport.pm
Installing /home/liveapp/.plenv/versions/5.37.2/lib/perl5/site_perl/5.37.2/Email/Sender/Simple.pm
Installing /home/liveapp/.plenv/versions/5.37.2/lib/perl5/site_perl/5.37.2/Email/Sender/Success.pm
Installing /home/liveapp/.plenv/versions/5.37.2/lib/perl5/site_perl/5.37.2/Email/Sender/Failure.pm
Installing /home/liveapp/.plenv/versions/5.37.2/lib/perl5/site_perl/5.37.2/Email/Sender/Util.pm
Installing /home/liveapp/.plenv/versions/5.37.2/lib/perl5/site_perl/5.37.2/Email/Sender/Manual.pm
Installing /home/liveapp/.plenv/versions/5.37.2/lib/perl5/site_perl/5.37.2/Email/Sender/Transport/Print.pm
Installing /home/liveapp/.plenv/versions/5.37.2/lib/perl5/site_perl/5.37.2/Email/Sender/Transport/Failable.pm
Installing /home/liveapp/.plenv/versions/5.37.2/lib/perl5/site_perl/5.37.2/Email/Sender/Transport/Mbox.pm
Installing /home/liveapp/.plenv/versions/5.37.2/lib/perl5/site_perl/5.37.2/Email/Sender/Transport/SMTP.pm
Installing /home/liveapp/.plenv/versions/5.37.2/lib/perl5/site_perl/5.37.2/Email/Sender/Transport/Test.pm
Installing /home/liveapp/.plenv/versions/5.37.2/lib/perl5/site_perl/5.37.2/Email/Sender/Transport/DevNull.pm
Installing /home/liveapp/.plenv/versions/5.37.2/lib/perl5/site_perl/5.37.2/Email/Sender/Transport/Sendmail.pm
Installing /home/liveapp/.plenv/versions/5.37.2/lib/perl5/site_perl/5.37.2/Email/Sender/Transport/Maildir.pm
Installing /home/liveapp/.plenv/versions/5.37.2/lib/perl5/site_perl/5.37.2/Email/Sender/Transport/Wrapper.pm
Installing /home/liveapp/.plenv/versions/5.37.2/lib/perl5/site_perl/5.37.2/Email/Sender/Transport/SMTP/Persistent.pm
Installing /home/liveapp/.plenv/versions/5.37.2/lib/perl5/site_perl/5.37.2/Email/Sender/Role/CommonSending.pm
Installing /home/liveapp/.plenv/versions/5.37.2/lib/perl5/site_perl/5.37.2/Email/Sender/Role/HasMessage.pm
Installing /home/liveapp/.plenv/versions/5.37.2/lib/perl5/site_perl/5.37.2/Email/Sender/Manual/QuickStart.pm
Installing /home/liveapp/.plenv/versions/5.37.2/lib/perl5/site_perl/5.37.2/Email/Sender/Failure/Multi.pm
Installing /home/liveapp/.plenv/versions/5.37.2/lib/perl5/site_perl/5.37.2/Email/Sender/Failure/Permanent.pm
Installing /home/liveapp/.plenv/versions/5.37.2/lib/perl5/site_perl/5.37.2/Email/Sender/Failure/Temporary.pm
Installing /home/liveapp/.plenv/versions/5.37.2/lib/perl5/site_perl/5.37.2/Email/Sender/Success/Partial.pm
Installing /home/liveapp/.plenv/versions/5.37.2/man/man3/Email::Sender::Role::CommonSending.3
Installing /home/liveapp/.plenv/versions/5.37.2/man/man3/Email::Sender::Transport.3
Installing /home/liveapp/.plenv/versions/5.37.2/man/man3/Email::Sender::Transport::Print.3
Installing /home/liveapp/.plenv/versions/5.37.2/man/man3/Email::Sender::Transport::Maildir.3
Installing /home/liveapp/.plenv/versions/5.37.2/man/man3/Email::Sender::Transport::SMTP::Persistent.3
Installing /home/liveapp/.plenv/versions/5.37.2/man/man3/Email::Sender::Manual::QuickStart.3
Installing /home/liveapp/.plenv/versions/5.37.2/man/man3/Email::Sender::Transport::Failable.3
Installing /home/liveapp/.plenv/versions/5.37.2/man/man3/Email::Sender::Role::HasMessage.3
Installing /home/liveapp/.plenv/versions/5.37.2/man/man3/Email::Sender::Success::Partial.3
Installing /home/liveapp/.plenv/versions/5.37.2/man/man3/Email::Sender::Transport::Wrapper.3
Installing /home/liveapp/.plenv/versions/5.37.2/man/man3/Email::Sender::Transport::Test.3
Installing /home/liveapp/.plenv/versions/5.37.2/man/man3/Email::Sender::Transport::SMTP.3
Installing /home/liveapp/.plenv/versions/5.37.2/man/man3/Email::Sender::Manual.3
Installing /home/liveapp/.plenv/versions/5.37.2/man/man3/Email::Sender.3
Installing /home/liveapp/.plenv/versions/5.37.2/man/man3/Email::Sender::Transport::Mbox.3
Installing /home/liveapp/.plenv/versions/5.37.2/man/man3/Email::Sender::Transport::DevNull.3
Installing /home/liveapp/.plenv/versions/5.37.2/man/man3/Email::Sender::Failure::Multi.3
Installing /home/liveapp/.plenv/versions/5.37.2/man/man3/Email::Sender::Util.3
Installing /home/liveapp/.plenv/versions/5.37.2/man/man3/Email::Sender::Failure::Permanent.3
Installing /home/liveapp/.plenv/versions/5.37.2/man/man3/Email::Sender::Simple.3
Installing /home/liveapp/.plenv/versions/5.37.2/man/man3/Email::Sender::Failure::Temporary.3
Installing /home/liveapp/.plenv/versions/5.37.2/man/man3/Email::Sender::Failure.3
Installing /home/liveapp/.plenv/versions/5.37.2/man/man3/Email::Sender::Success.3
Installing /home/liveapp/.plenv/versions/5.37.2/man/man3/Email::Sender::Transport::Sendmail.3
Appending installation info to /home/liveapp/.plenv/versions/5.37.2/lib/perl5/5.37.2/x86_64-linux/perllocal.pod
-> OK
Successfully tested Email-Sender-2.500
Searching Text::Unidecode (0) on cpanmetadb ...
--> Working on Text::Unidecode
Fetching http://www.cpan.org/authors/id/S/SB/SBURKE/Text-Unidecode-1.30.tar.gz
-> OK
Unpacking Text-Unidecode-1.30.tar.gz
Manifying 1 pod document
Installing /home/liveapp/.plenv/versions/5.37.2/lib/perl5/site_perl/5.37.2/Text/Unidecode.pm
Installing /home/liveapp/.plenv/versions/5.37.2/lib/perl5/site_perl/5.37.2/Text/Unidecode/x60.pm
Installing /home/liveapp/.plenv/versions/5.37.2/lib/perl5/site_perl/5.37.2/Text/Unidecode/xeb.pm
Installing /home/liveapp/.plenv/versions/5.37.2/lib/perl5/site_perl/5.37.2/Text/Unidecode/xda.pm
Installing /home/liveapp/.plenv/versions/5.37.2/lib/perl5/site_perl/5.37.2/Text/Unidecode/x82.pm
Installing /home/liveapp/.plenv/versions/5.37.2/lib/perl5/site_perl/5.37.2/Text/Unidecode/x05.pm
Installing /home/liveapp/.plenv/versions/5.37.2/lib/perl5/site_perl/5.37.2/Text/Unidecode/x14.pm
Installing /home/liveapp/.plenv/versions/5.37.2/lib/perl5/site_perl/5.37.2/Text/Unidecode/xc7.pm
Installing /home/liveapp/.plenv/versions/5.37.2/lib/perl5/site_perl/5.37.2/Text/Unidecode/xa0.pm
Installing /home/liveapp/.plenv/versions/5.37.2/lib/perl5/site_perl/5.37.2/Text/Unidecode/x1c.pm
Installing /home/liveapp/.plenv/versions/5.37.2/lib/perl5/site_perl/5.37.2/Text/Unidecode/xd6.pm
Installing /home/liveapp/.plenv/versions/5.37.2/lib/perl5/site_perl/5.37.2/Text/Unidecode/x27.pm
Installing /home/liveapp/.plenv/versions/5.37.2/lib/perl5/site_perl/5.37.2/Text/Unidecode/x57.pm
Installing /home/liveapp/.plenv/versions/5.37.2/lib/perl5/site_perl/5.37.2/Text/Unidecode/x0d.pm
Installing /home/liveapp/.plenv/versions/5.37.2/lib/perl5/site_perl/5.37.2/Text/Unidecode/xd3.pm
Installing /home/liveapp/.plenv/versions/5.37.2/lib/perl5/site_perl/5.37.2/Text/Unidecode/xd5.pm
Installing /home/liveapp/.plenv/versions/5.37.2/lib/perl5/site_perl/5.37.2/Text/Unidecode/x72.pm
Installing /home/liveapp/.plenv/versions/5.37.2/lib/perl5/site_perl/5.37.2/Text/Unidecode/x06.pm
Installing /home/liveapp/.plenv/versions/5.37.2/lib/perl5/site_perl/5.37.2/Text/Unidecode/x96.pm
Installing /home/liveapp/.plenv/versions/5.37.2/lib/perl5/site_perl/5.37.2/Text/Unidecode/xb6.pm
Installing /home/liveapp/.plenv/versions/5.37.2/lib/perl5/site_perl/5.37.2/Text/Unidecode/x6f.pm
Installing /home/liveapp/.plenv/versions/5.37.2/lib/perl5/site_perl/5.37.2/Text/Unidecode/x3b.pm
Installing /home/liveapp/.plenv/versions/5.37.2/lib/perl5/site_perl/5.37.2/Text/Unidecode/x35.pm
Installing /home/liveapp/.plenv/versions/5.37.2/lib/perl5/site_perl/5.37.2/Text/Unidecode/xe1.pm
Installing /home/liveapp/.plenv/versions/5.37.2/lib/perl5/site_perl/5.37.2/Text/Unidecode/xdd.pm
Installing /home/liveapp/.plenv/versions/5.37.2/lib/perl5/site_perl/5.37.2/Text/Unidecode/x0f.pm
Installing /home/liveapp/.plenv/versions/5.37.2/lib/perl5/site_perl/5.37.2/Text/Unidecode/xa6.pm
Installing /home/liveapp/.plenv/versions/5.37.2/lib/perl5/site_perl/5.37.2/Text/Unidecode/xd8.pm
Installing /home/liveapp/.plenv/versions/5.37.2/lib/perl5/site_perl/5.37.2/Text/Unidecode/x0c.pm
Installing /home/liveapp/.plenv/versions/5.37.2/lib/perl5/site_perl/5.37.2/Text/Unidecode/x0e.pm
Installing /home/liveapp/.plenv/versions/5.37.2/lib/perl5/site_perl/5.37.2/Text/Unidecode/x67.pm
Installing /home/liveapp/.plenv/versions/5.37.2/lib/perl5/site_perl/5.37.2/Text/Unidecode/x37.pm
Installing /home/liveapp/.plenv/versions/5.37.2/lib/perl5/site_perl/5.37.2/Text/Unidecode/xff.pm
Installing /home/liveapp/.plenv/versions/5.37.2/lib/perl5/site_perl/5.37.2/Text/Unidecode/x24.pm
Installing /home/liveapp/.plenv/versions/5.37.2/lib/perl5/site_perl/5.37.2/Text/Unidecode/x38.pm
Installing /home/liveapp/.plenv/versions/5.37.2/lib/perl5/site_perl/5.37.2/Text/Unidecode/x3d.pm
Installing /home/liveapp/.plenv/versions/5.37.2/lib/perl5/site_perl/5.37.2/Text/Unidecode/xc0.pm
Installing /home/liveapp/.plenv/versions/5.37.2/lib/perl5/site_perl/5.37.2/Text/Unidecode/xb0.pm
Installing /home/liveapp/.plenv/versions/5.37.2/lib/perl5/site_perl/5.37.2/Text/Unidecode/x77.pm
Installing /home/liveapp/.plenv/versions/5.37.2/lib/perl5/site_perl/5.37.2/Text/Unidecode/x75.pm
Installing /home/liveapp/.plenv/versions/5.37.2/lib/perl5/site_perl/5.37.2/Text/Unidecode/xee.pm
Installing /home/liveapp/.plenv/versions/5.37.2/lib/perl5/site_perl/5.37.2/Text/Unidecode/xbb.pm
Installing /home/liveapp/.plenv/versions/5.37.2/lib/perl5/site_perl/5.37.2/Text/Unidecode/xaa.pm
Installing /home/liveapp/.plenv/versions/5.37.2/lib/perl5/site_perl/5.37.2/Text/Unidecode/xa5.pm
Installing /home/liveapp/.plenv/versions/5.37.2/lib/perl5/site_perl/5.37.2/Text/Unidecode/xf0.pm
Installing /home/liveapp/.plenv/versions/5.37.2/lib/perl5/site_perl/5.37.2/Text/Unidecode/x8a.pm
Installing /home/liveapp/.plenv/versions/5.37.2/lib/perl5/site_perl/5.37.2/Text/Unidecode/xd1.pm
Installing /home/liveapp/.plenv/versions/5.37.2/lib/perl5/site_perl/5.37.2/Text/Unidecode/x00.pm
Installing /home/liveapp/.plenv/versions/5.37.2/lib/perl5/site_perl/5.37.2/Text/Unidecode/xb2.pm
Installing /home/liveapp/.plenv/versions/5.37.2/lib/perl5/site_perl/5.37.2/Text/Unidecode/x18.pm
Installing /home/liveapp/.plenv/versions/5.37.2/lib/perl5/site_perl/5.37.2/Text/Unidecode/xdc.pm
Installing /home/liveapp/.plenv/versions/5.37.2/lib/perl5/site_perl/5.37.2/Text/Unidecode/xf6.pm
Installing /home/liveapp/.plenv/versions/5.37.2/lib/perl5/site_perl/5.37.2/Text/Unidecode/x71.pm
Installing /home/liveapp/.plenv/versions/5.37.2/lib/perl5/site_perl/5.37.2/Text/Unidecode/x70.pm
Installing /home/liveapp/.plenv/versions/5.37.2/lib/perl5/site_perl/5.37.2/Text/Unidecode/x01.pm
Installing /home/liveapp/.plenv/versions/5.37.2/lib/perl5/site_perl/5.37.2/Text/Unidecode/xfb.pm
Installing /home/liveapp/.plenv/versions/5.37.2/lib/perl5/site_perl/5.37.2/Text/Unidecode/xcc.pm
Installing /home/liveapp/.plenv/versions/5.37.2/lib/perl5/site_perl/5.37.2/Text/Unidecode/x55.pm
Installing /home/liveapp/.plenv/versions/5.37.2/lib/perl5/site_perl/5.37.2/Text/Unidecode/x13.pm
Installing /home/liveapp/.plenv/versions/5.37.2/lib/perl5/site_perl/5.37.2/Text/Unidecode/x45.pm
Installing /home/liveapp/.plenv/versions/5.37.2/lib/perl5/site_perl/5.37.2/Text/Unidecode/x17.pm
Installing /home/liveapp/.plenv/versions/5.37.2/lib/perl5/site_perl/5.37.2/Text/Unidecode/x9e.pm
Installing /home/liveapp/.plenv/versions/5.37.2/lib/perl5/site_perl/5.37.2/Text/Unidecode/xd9.pm
Installing /home/liveapp/.plenv/versions/5.37.2/lib/perl5/site_perl/5.37.2/Text/Unidecode/x61.pm
Installing /home/liveapp/.plenv/versions/5.37.2/lib/perl5/site_perl/5.37.2/Text/Unidecode/x83.pm
Installing /home/liveapp/.plenv/versions/5.37.2/lib/perl5/site_perl/5.37.2/Text/Unidecode/xe9.pm
Installing /home/liveapp/.plenv/versions/5.37.2/lib/perl5/site_perl/5.37.2/Text/Unidecode/xe8.pm
Installing /home/liveapp/.plenv/versions/5.37.2/lib/perl5/site_perl/5.37.2/Text/Unidecode/x0b.pm
Installing /home/liveapp/.plenv/versions/5.37.2/lib/perl5/site_perl/5.37.2/Text/Unidecode/x3e.pm
Installing /home/liveapp/.plenv/versions/5.37.2/lib/perl5/site_perl/5.37.2/Text/Unidecode/xe4.pm
Installing /home/liveapp/.plenv/versions/5.37.2/lib/perl5/site_perl/5.37.2/Text/Unidecode/xb7.pm
Installing /home/liveapp/.plenv/versions/5.37.2/lib/perl5/site_perl/5.37.2/Text/Unidecode/x8e.pm
Installing /home/liveapp/.plenv/versions/5.37.2/lib/perl5/site_perl/5.37.2/Text/Unidecode/xb3.pm
Installing /home/liveapp/.plenv/versions/5.37.2/lib/perl5/site_perl/5.37.2/Text/Unidecode/x4d.pm
Installing /home/liveapp/.plenv/versions/5.37.2/lib/perl5/site_perl/5.37.2/Text/Unidecode/x5b.pm
Installing /home/liveapp/.plenv/versions/5.37.2/lib/perl5/site_perl/5.37.2/Text/Unidecode/x6a.pm
Installing /home/liveapp/.plenv/versions/5.37.2/lib/perl5/site_perl/5.37.2/Text/Unidecode/x1d.pm
Installing /home/liveapp/.plenv/versions/5.37.2/lib/perl5/site_perl/5.37.2/Text/Unidecode/x50.pm
Installing /home/liveapp/.plenv/versions/5.37.2/lib/perl5/site_perl/5.37.2/Text/Unidecode/x90.pm
Installing /home/liveapp/.plenv/versions/5.37.2/lib/perl5/site_perl/5.37.2/Text/Unidecode/x8b.pm
Installing /home/liveapp/.plenv/versions/5.37.2/lib/perl5/site_perl/5.37.2/Text/Unidecode/xa4.pm
Installing /home/liveapp/.plenv/versions/5.37.2/lib/perl5/site_perl/5.37.2/Text/Unidecode/x87.pm
Installing /home/liveapp/.plenv/versions/5.37.2/lib/perl5/site_perl/5.37.2/Text/Unidecode/x1a.pm
Installing /home/liveapp/.plenv/versions/5.37.2/lib/perl5/site_perl/5.37.2/Text/Unidecode/xc6.pm
Installing /home/liveapp/.plenv/versions/5.37.2/lib/perl5/site_perl/5.37.2/Text/Unidecode/x76.pm
Installing /home/liveapp/.plenv/versions/5.37.2/lib/perl5/site_perl/5.37.2/Text/Unidecode/xcb.pm
Installing /home/liveapp/.plenv/versions/5.37.2/lib/perl5/site_perl/5.37.2/Text/Unidecode/x03.pm
Installing /home/liveapp/.plenv/versions/5.37.2/lib/perl5/site_perl/5.37.2/Text/Unidecode/x2a.pm
Installing /home/liveapp/.plenv/versions/5.37.2/lib/perl5/site_perl/5.37.2/Text/Unidecode/x5a.pm
Installing /home/liveapp/.plenv/versions/5.37.2/lib/perl5/site_perl/5.37.2/Text/Unidecode/xea.pm
Installing /home/liveapp/.plenv/versions/5.37.2/lib/perl5/site_perl/5.37.2/Text/Unidecode/x95.pm
Installing /home/liveapp/.plenv/versions/5.37.2/lib/perl5/site_perl/5.37.2/Text/Unidecode/x4c.pm
Installing /home/liveapp/.plenv/versions/5.37.2/lib/perl5/site_perl/5.37.2/Text/Unidecode/xba.pm
Installing /home/liveapp/.plenv/versions/5.37.2/lib/perl5/site_perl/5.37.2/Text/Unidecode/x3c.pm
Installing /home/liveapp/.plenv/versions/5.37.2/lib/perl5/site_perl/5.37.2/Text/Unidecode/x81.pm
Installing /home/liveapp/.plenv/versions/5.37.2/lib/perl5/site_perl/5.37.2/Text/Unidecode/x73.pm
Installing /home/liveapp/.plenv/versions/5.37.2/lib/perl5/site_perl/5.37.2/Text/Unidecode/x31.pm
Installing /home/liveapp/.plenv/versions/5.37.2/lib/perl5/site_perl/5.37.2/Text/Unidecode/xe2.pm
Installing /home/liveapp/.plenv/versions/5.37.2/lib/perl5/site_perl/5.37.2/Text/Unidecode/xf8.pm
Installing /home/liveapp/.plenv/versions/5.37.2/lib/perl5/site_perl/5.37.2/Text/Unidecode/x93.pm
Installing /home/liveapp/.plenv/versions/5.37.2/lib/perl5/site_perl/5.37.2/Text/Unidecode/x26.pm
Installing /home/liveapp/.plenv/versions/5.37.2/lib/perl5/site_perl/5.37.2/Text/Unidecode/xf9.pm
Installing /home/liveapp/.plenv/versions/5.37.2/lib/perl5/site_perl/5.37.2/Text/Unidecode/xce.pm
Installing /home/liveapp/.plenv/versions/5.37.2/lib/perl5/site_perl/5.37.2/Text/Unidecode/x98.pm
Installing /home/liveapp/.plenv/versions/5.37.2/lib/perl5/site_perl/5.37.2/Text/Unidecode/xf1.pm
Installing /home/liveapp/.plenv/versions/5.37.2/lib/perl5/site_perl/5.37.2/Text/Unidecode/xae.pm
Installing /home/liveapp/.plenv/versions/5.37.2/lib/perl5/site_perl/5.37.2/Text/Unidecode/xbf.pm
Installing /home/liveapp/.plenv/versions/5.37.2/lib/perl5/site_perl/5.37.2/Text/Unidecode/x74.pm
Installing /home/liveapp/.plenv/versions/5.37.2/lib/perl5/site_perl/5.37.2/Text/Unidecode/x33.pm
Installing /home/liveapp/.plenv/versions/5.37.2/lib/perl5/site_perl/5.37.2/Text/Unidecode/xb1.pm
Installing /home/liveapp/.plenv/versions/5.37.2/lib/perl5/site_perl/5.37.2/Text/Unidecode/xac.pm
Installing /home/liveapp/.plenv/versions/5.37.2/lib/perl5/site_perl/5.37.2/Text/Unidecode/x9f.pm
Installing /home/liveapp/.plenv/versions/5.37.2/lib/perl5/site_perl/5.37.2/Text/Unidecode/x79.pm
Installing /home/liveapp/.plenv/versions/5.37.2/lib/perl5/site_perl/5.37.2/Text/Unidecode/xa2.pm
Installing /home/liveapp/.plenv/versions/5.37.2/lib/perl5/site_perl/5.37.2/Text/Unidecode/x78.pm
Installing /home/liveapp/.plenv/versions/5.37.2/lib/perl5/site_perl/5.37.2/Text/Unidecode/x48.pm
Installing /home/liveapp/.plenv/versions/5.37.2/lib/perl5/site_perl/5.37.2/Text/Unidecode/x41.pm
Installing /home/liveapp/.plenv/versions/5.37.2/lib/perl5/site_perl/5.37.2/Text/Unidecode/x8f.pm
Installing /home/liveapp/.plenv/versions/5.37.2/lib/perl5/site_perl/5.37.2/Text/Unidecode/xbd.pm
Installing /home/liveapp/.plenv/versions/5.37.2/lib/perl5/site_perl/5.37.2/Text/Unidecode/x5d.pm
Installing /home/liveapp/.plenv/versions/5.37.2/lib/perl5/site_perl/5.37.2/Text/Unidecode/xad.pm
Installing /home/liveapp/.plenv/versions/5.37.2/lib/perl5/site_perl/5.37.2/Text/Unidecode/x21.pm
Installing /home/liveapp/.plenv/versions/5.37.2/lib/perl5/site_perl/5.37.2/Text/Unidecode/x7f.pm
Installing /home/liveapp/.plenv/versions/5.37.2/lib/perl5/site_perl/5.37.2/Text/Unidecode/x92.pm
Installing /home/liveapp/.plenv/versions/5.37.2/lib/perl5/site_perl/5.37.2/Text/Unidecode/x49.pm
Installing /home/liveapp/.plenv/versions/5.37.2/lib/perl5/site_perl/5.37.2/Text/Unidecode/xb5.pm
Installing /home/liveapp/.plenv/versions/5.37.2/lib/perl5/site_perl/5.37.2/Text/Unidecode/x16.pm
Installing /home/liveapp/.plenv/versions/5.37.2/lib/perl5/site_perl/5.37.2/Text/Unidecode/xe0.pm
Installing /home/liveapp/.plenv/versions/5.37.2/lib/perl5/site_perl/5.37.2/Text/Unidecode/x4b.pm
Installing /home/liveapp/.plenv/versions/5.37.2/lib/perl5/site_perl/5.37.2/Text/Unidecode/x99.pm
Installing /home/liveapp/.plenv/versions/5.37.2/lib/perl5/site_perl/5.37.2/Text/Unidecode/x42.pm
Installing /home/liveapp/.plenv/versions/5.37.2/lib/perl5/site_perl/5.37.2/Text/Unidecode/x3f.pm
Installing /home/liveapp/.plenv/versions/5.37.2/lib/perl5/site_perl/5.37.2/Text/Unidecode/x07.pm
Installing /home/liveapp/.plenv/versions/5.37.2/lib/perl5/site_perl/5.37.2/Text/Unidecode/x08.pm
Installing /home/liveapp/.plenv/versions/5.37.2/lib/perl5/site_perl/5.37.2/Text/Unidecode/x39.pm
Installing /home/liveapp/.plenv/versions/5.37.2/lib/perl5/site_perl/5.37.2/Text/Unidecode/xf5.pm
Installing /home/liveapp/.plenv/versions/5.37.2/lib/perl5/site_perl/5.37.2/Text/Unidecode/x4f.pm
Installing /home/liveapp/.plenv/versions/5.37.2/lib/perl5/site_perl/5.37.2/Text/Unidecode/xef.pm
Installing /home/liveapp/.plenv/versions/5.37.2/lib/perl5/site_perl/5.37.2/Text/Unidecode/x69.pm
Installing /home/liveapp/.plenv/versions/5.37.2/lib/perl5/site_perl/5.37.2/Text/Unidecode/x10.pm
Installing /home/liveapp/.plenv/versions/5.37.2/lib/perl5/site_perl/5.37.2/Text/Unidecode/x22.pm
Installing /home/liveapp/.plenv/versions/5.37.2/lib/perl5/site_perl/5.37.2/Text/Unidecode/xf3.pm
Installing /home/liveapp/.plenv/versions/5.37.2/lib/perl5/site_perl/5.37.2/Text/Unidecode/xd2.pm
Installing /home/liveapp/.plenv/versions/5.37.2/lib/perl5/site_perl/5.37.2/Text/Unidecode/x9d.pm
Installing /home/liveapp/.plenv/versions/5.37.2/lib/perl5/site_perl/5.37.2/Text/Unidecode/xc1.pm
Installing /home/liveapp/.plenv/versions/5.37.2/lib/perl5/site_perl/5.37.2/Text/Unidecode/xdb.pm
Installing /home/liveapp/.plenv/versions/5.37.2/lib/perl5/site_perl/5.37.2/Text/Unidecode/x0a.pm
Installing /home/liveapp/.plenv/versions/5.37.2/lib/perl5/site_perl/5.37.2/Text/Unidecode/x23.pm
Installing /home/liveapp/.plenv/versions/5.37.2/lib/perl5/site_perl/5.37.2/Text/Unidecode/x97.pm
Installing /home/liveapp/.plenv/versions/5.37.2/lib/perl5/site_perl/5.37.2/Text/Unidecode/xe3.pm
Installing /home/liveapp/.plenv/versions/5.37.2/lib/perl5/site_perl/5.37.2/Text/Unidecode/xbc.pm
Installing /home/liveapp/.plenv/versions/5.37.2/lib/perl5/site_perl/5.37.2/Text/Unidecode/x64.pm
Installing /home/liveapp/.plenv/versions/5.37.2/lib/perl5/site_perl/5.37.2/Text/Unidecode/x94.pm
Installing /home/liveapp/.plenv/versions/5.37.2/lib/perl5/site_perl/5.37.2/Text/Unidecode/x7a.pm
Installing /home/liveapp/.plenv/versions/5.37.2/lib/perl5/site_perl/5.37.2/Text/Unidecode/x5f.pm
Installing /home/liveapp/.plenv/versions/5.37.2/lib/perl5/site_perl/5.37.2/Text/Unidecode/xa8.pm
Installing /home/liveapp/.plenv/versions/5.37.2/lib/perl5/site_perl/5.37.2/Text/Unidecode/x7b.pm
Installing /home/liveapp/.plenv/versions/5.37.2/lib/perl5/site_perl/5.37.2/Text/Unidecode/x8c.pm
Installing /home/liveapp/.plenv/versions/5.37.2/lib/perl5/site_perl/5.37.2/Text/Unidecode/xe6.pm
Installing /home/liveapp/.plenv/versions/5.37.2/lib/perl5/site_perl/5.37.2/Text/Unidecode/x9c.pm
Installing /home/liveapp/.plenv/versions/5.37.2/lib/perl5/site_perl/5.37.2/Text/Unidecode/x1b.pm
Installing /home/liveapp/.plenv/versions/5.37.2/lib/perl5/site_perl/5.37.2/Text/Unidecode/xa1.pm
Installing /home/liveapp/.plenv/versions/5.37.2/lib/perl5/site_perl/5.37.2/Text/Unidecode/xc8.pm
Installing /home/liveapp/.plenv/versions/5.37.2/lib/perl5/site_perl/5.37.2/Text/Unidecode/x62.pm
Installing /home/liveapp/.plenv/versions/5.37.2/lib/perl5/site_perl/5.37.2/Text/Unidecode/xa7.pm
Installing /home/liveapp/.plenv/versions/5.37.2/lib/perl5/site_perl/5.37.2/Text/Unidecode/x46.pm
Installing /home/liveapp/.plenv/versions/5.37.2/lib/perl5/site_perl/5.37.2/Text/Unidecode/x2b.pm
Installing /home/liveapp/.plenv/versions/5.37.2/lib/perl5/site_perl/5.37.2/Text/Unidecode/x25.pm
Installing /home/liveapp/.plenv/versions/5.37.2/lib/perl5/site_perl/5.37.2/Text/Unidecode/x51.pm
Installing /home/liveapp/.plenv/versions/5.37.2/lib/perl5/site_perl/5.37.2/Text/Unidecode/x91.pm
Installing /home/liveapp/.plenv/versions/5.37.2/lib/perl5/site_perl/5.37.2/Text/Unidecode/x54.pm
Installing /home/liveapp/.plenv/versions/5.37.2/lib/perl5/site_perl/5.37.2/Text/Unidecode/xf4.pm
Installing /home/liveapp/.plenv/versions/5.37.2/lib/perl5/site_perl/5.37.2/Text/Unidecode/xfa.pm
Installing /home/liveapp/.plenv/versions/5.37.2/lib/perl5/site_perl/5.37.2/Text/Unidecode/xc9.pm
Installing /home/liveapp/.plenv/versions/5.37.2/lib/perl5/site_perl/5.37.2/Text/Unidecode/x89.pm
Installing /home/liveapp/.plenv/versions/5.37.2/lib/perl5/site_perl/5.37.2/Text/Unidecode/xcf.pm
Installing /home/liveapp/.plenv/versions/5.37.2/lib/perl5/site_perl/5.37.2/Text/Unidecode/x09.pm
Installing /home/liveapp/.plenv/versions/5.37.2/lib/perl5/site_perl/5.37.2/Text/Unidecode/x15.pm
Installing /home/liveapp/.plenv/versions/5.37.2/lib/perl5/site_perl/5.37.2/Text/Unidecode/x20.pm
Installing /home/liveapp/.plenv/versions/5.37.2/lib/perl5/site_perl/5.37.2/Text/Unidecode/x28.pm
Installing /home/liveapp/.plenv/versions/5.37.2/lib/perl5/site_perl/5.37.2/Text/Unidecode/xed.pm
Installing /home/liveapp/.plenv/versions/5.37.2/lib/perl5/site_perl/5.37.2/Text/Unidecode/xca.pm
Installing /home/liveapp/.plenv/versions/5.37.2/lib/perl5/site_perl/5.37.2/Text/Unidecode/xc5.pm
Installing /home/liveapp/.plenv/versions/5.37.2/lib/perl5/site_perl/5.37.2/Text/Unidecode/x7e.pm
Installing /home/liveapp/.plenv/versions/5.37.2/lib/perl5/site_perl/5.37.2/Text/Unidecode/x86.pm
Installing /home/liveapp/.plenv/versions/5.37.2/lib/perl5/site_perl/5.37.2/Text/Unidecode/x8d.pm
Installing /home/liveapp/.plenv/versions/5.37.2/lib/perl5/site_perl/5.37.2/Text/Unidecode/xc3.pm
Installing /home/liveapp/.plenv/versions/5.37.2/lib/perl5/site_perl/5.37.2/Text/Unidecode/x5c.pm
Installing /home/liveapp/.plenv/versions/5.37.2/lib/perl5/site_perl/5.37.2/Text/Unidecode/xaf.pm
Installing /home/liveapp/.plenv/versions/5.37.2/lib/perl5/site_perl/5.37.2/Text/Unidecode/xab.pm
Installing /home/liveapp/.plenv/versions/5.37.2/lib/perl5/site_perl/5.37.2/Text/Unidecode/xa3.pm
Installing /home/liveapp/.plenv/versions/5.37.2/lib/perl5/site_perl/5.37.2/Text/Unidecode/x2f.pm
Installing /home/liveapp/.plenv/versions/5.37.2/lib/perl5/site_perl/5.37.2/Text/Unidecode/xf2.pm
Installing /home/liveapp/.plenv/versions/5.37.2/lib/perl5/site_perl/5.37.2/Text/Unidecode/x1f.pm
Installing /home/liveapp/.plenv/versions/5.37.2/lib/perl5/site_perl/5.37.2/Text/Unidecode/xb9.pm
Installing /home/liveapp/.plenv/versions/5.37.2/lib/perl5/site_perl/5.37.2/Text/Unidecode/x80.pm
Installing /home/liveapp/.plenv/versions/5.37.2/lib/perl5/site_perl/5.37.2/Text/Unidecode/xec.pm
Installing /home/liveapp/.plenv/versions/5.37.2/lib/perl5/site_perl/5.37.2/Text/Unidecode/xfc.pm
Installing /home/liveapp/.plenv/versions/5.37.2/lib/perl5/site_perl/5.37.2/Text/Unidecode/x2e.pm
Installing /home/liveapp/.plenv/versions/5.37.2/lib/perl5/site_perl/5.37.2/Text/Unidecode/xdf.pm
Installing /home/liveapp/.plenv/versions/5.37.2/lib/perl5/site_perl/5.37.2/Text/Unidecode/x36.pm
Installing /home/liveapp/.plenv/versions/5.37.2/lib/perl5/site_perl/5.37.2/Text/Unidecode/x84.pm
Installing /home/liveapp/.plenv/versions/5.37.2/lib/perl5/site_perl/5.37.2/Text/Unidecode/xd4.pm
Installing /home/liveapp/.plenv/versions/5.37.2/lib/perl5/site_perl/5.37.2/Text/Unidecode/xfd.pm
Installing /home/liveapp/.plenv/versions/5.37.2/lib/perl5/site_perl/5.37.2/Text/Unidecode/x11.pm
Installing /home/liveapp/.plenv/versions/5.37.2/lib/perl5/site_perl/5.37.2/Text/Unidecode/x6c.pm
Installing /home/liveapp/.plenv/versions/5.37.2/lib/perl5/site_perl/5.37.2/Text/Unidecode/x6e.pm
Installing /home/liveapp/.plenv/versions/5.37.2/lib/perl5/site_perl/5.37.2/Text/Unidecode/xe7.pm
Installing /home/liveapp/.plenv/versions/5.37.2/lib/perl5/site_perl/5.37.2/Text/Unidecode/x44.pm
Installing /home/liveapp/.plenv/versions/5.37.2/lib/perl5/site_perl/5.37.2/Text/Unidecode/xb4.pm
Installing /home/liveapp/.plenv/versions/5.37.2/lib/perl5/site_perl/5.37.2/Text/Unidecode/x34.pm
Installing /home/liveapp/.plenv/versions/5.37.2/lib/perl5/site_perl/5.37.2/Text/Unidecode/xe5.pm
Installing /home/liveapp/.plenv/versions/5.37.2/lib/perl5/site_perl/5.37.2/Text/Unidecode/x40.pm
Installing /home/liveapp/.plenv/versions/5.37.2/lib/perl5/site_perl/5.37.2/Text/Unidecode/x88.pm
Installing /home/liveapp/.plenv/versions/5.37.2/lib/perl5/site_perl/5.37.2/Text/Unidecode/x1e.pm
Installing /home/liveapp/.plenv/versions/5.37.2/lib/perl5/site_perl/5.37.2/Text/Unidecode/xcd.pm
Installing /home/liveapp/.plenv/versions/5.37.2/lib/perl5/site_perl/5.37.2/Text/Unidecode/x6b.pm
Installing /home/liveapp/.plenv/versions/5.37.2/lib/perl5/site_perl/5.37.2/Text/Unidecode/x2c.pm
Installing /home/liveapp/.plenv/versions/5.37.2/lib/perl5/site_perl/5.37.2/Text/Unidecode/x59.pm
Installing /home/liveapp/.plenv/versions/5.37.2/lib/perl5/site_perl/5.37.2/Text/Unidecode/x9b.pm
Installing /home/liveapp/.plenv/versions/5.37.2/lib/perl5/site_perl/5.37.2/Text/Unidecode/xc2.pm
Installing /home/liveapp/.plenv/versions/5.37.2/lib/perl5/site_perl/5.37.2/Text/Unidecode/x9a.pm
Installing /home/liveapp/.plenv/versions/5.37.2/lib/perl5/site_perl/5.37.2/Text/Unidecode/x32.pm
Installing /home/liveapp/.plenv/versions/5.37.2/lib/perl5/site_perl/5.37.2/Text/Unidecode/x12.pm
Installing /home/liveapp/.plenv/versions/5.37.2/lib/perl5/site_perl/5.37.2/Text/Unidecode/x3a.pm
Installing /home/liveapp/.plenv/versions/5.37.2/lib/perl5/site_perl/5.37.2/Text/Unidecode/x02.pm
Installing /home/liveapp/.plenv/versions/5.37.2/lib/perl5/site_perl/5.37.2/Text/Unidecode/x4e.pm
Installing /home/liveapp/.plenv/versions/5.37.2/lib/perl5/site_perl/5.37.2/Text/Unidecode/xd0.pm
Installing /home/liveapp/.plenv/versions/5.37.2/lib/perl5/site_perl/5.37.2/Text/Unidecode/xa9.pm
Installing /home/liveapp/.plenv/versions/5.37.2/lib/perl5/site_perl/5.37.2/Text/Unidecode/x29.pm
Installing /home/liveapp/.plenv/versions/5.37.2/lib/perl5/site_perl/5.37.2/Text/Unidecode/x6d.pm
Installing /home/liveapp/.plenv/versions/5.37.2/lib/perl5/site_perl/5.37.2/Text/Unidecode/x68.pm
Installing /home/liveapp/.plenv/versions/5.37.2/lib/perl5/site_perl/5.37.2/Text/Unidecode/x2d.pm
Installing /home/liveapp/.plenv/versions/5.37.2/lib/perl5/site_perl/5.37.2/Text/Unidecode/x43.pm
Installing /home/liveapp/.plenv/versions/5.37.2/lib/perl5/site_perl/5.37.2/Text/Unidecode/x66.pm
Installing /home/liveapp/.plenv/versions/5.37.2/lib/perl5/site_perl/5.37.2/Text/Unidecode/x7c.pm
Installing /home/liveapp/.plenv/versions/5.37.2/lib/perl5/site_perl/5.37.2/Text/Unidecode/x63.pm
Installing /home/liveapp/.plenv/versions/5.37.2/lib/perl5/site_perl/5.37.2/Text/Unidecode/x30.pm
Installing /home/liveapp/.plenv/versions/5.37.2/lib/perl5/site_perl/5.37.2/Text/Unidecode/x04.pm
Installing /home/liveapp/.plenv/versions/5.37.2/lib/perl5/site_perl/5.37.2/Text/Unidecode/x58.pm
Installing /home/liveapp/.plenv/versions/5.37.2/lib/perl5/site_perl/5.37.2/Text/Unidecode/xde.pm
Installing /home/liveapp/.plenv/versions/5.37.2/lib/perl5/site_perl/5.37.2/Text/Unidecode/xf7.pm
Installing /home/liveapp/.plenv/versions/5.37.2/lib/perl5/site_perl/5.37.2/Text/Unidecode/x19.pm
Installing /home/liveapp/.plenv/versions/5.37.2/lib/perl5/site_perl/5.37.2/Text/Unidecode/xfe.pm
Installing /home/liveapp/.plenv/versions/5.37.2/lib/perl5/site_perl/5.37.2/Text/Unidecode/x56.pm
Installing /home/liveapp/.plenv/versions/5.37.2/lib/perl5/site_perl/5.37.2/Text/Unidecode/x85.pm
Installing /home/liveapp/.plenv/versions/5.37.2/lib/perl5/site_perl/5.37.2/Text/Unidecode/xb8.pm
Installing /home/liveapp/.plenv/versions/5.37.2/lib/perl5/site_perl/5.37.2/Text/Unidecode/xbe.pm
Installing /home/liveapp/.plenv/versions/5.37.2/lib/perl5/site_perl/5.37.2/Text/Unidecode/x53.pm
Installing /home/liveapp/.plenv/versions/5.37.2/lib/perl5/site_perl/5.37.2/Text/Unidecode/xd7.pm
Installing /home/liveapp/.plenv/versions/5.37.2/lib/perl5/site_perl/5.37.2/Text/Unidecode/x4a.pm
Installing /home/liveapp/.plenv/versions/5.37.2/lib/perl5/site_perl/5.37.2/Text/Unidecode/x5e.pm
Installing /home/liveapp/.plenv/versions/5.37.2/lib/perl5/site_perl/5.37.2/Text/Unidecode/x52.pm
Installing /home/liveapp/.plenv/versions/5.37.2/lib/perl5/site_perl/5.37.2/Text/Unidecode/xc4.pm
Installing /home/liveapp/.plenv/versions/5.37.2/lib/perl5/site_perl/5.37.2/Text/Unidecode/x7d.pm
Installing /home/liveapp/.plenv/versions/5.37.2/lib/perl5/site_perl/5.37.2/Text/Unidecode/x47.pm
Installing /home/liveapp/.plenv/versions/5.37.2/lib/perl5/site_perl/5.37.2/Text/Unidecode/x65.pm
Installing /home/liveapp/.plenv/versions/5.37.2/man/man3/Text::Unidecode.3
Appending installation info to /home/liveapp/.plenv/versions/5.37.2/lib/perl5/5.37.2/x86_64-linux/perllocal.pod
-> OK
Successfully tested Text-Unidecode-1.30
Searching XML::LibXML (0) on cpanmetadb ...
--> Working on XML::LibXML
Fetching http://www.cpan.org/authors/id/S/SH/SHLOMIF/XML-LibXML-2.0207.tar.gz
-> OK
Unpacking XML-LibXML-2.0207.tar.gz
"/home/liveapp/.plenv/versions/5.37.2/bin/perl5.37.2" -MExtUtils::Command::MM -e 'cp_nonempty' -- LibXML.bs blib/arch/auto/XML/LibXML/LibXML.bs 644
Manifying 34 pod documents
Files found in blib/arch: installing files in blib/lib into architecture dependent library tree
Installing /home/liveapp/.plenv/versions/5.37.2/lib/perl5/site_perl/5.37.2/x86_64-linux/auto/XML/LibXML/LibXML.so
Installing /home/liveapp/.plenv/versions/5.37.2/lib/perl5/site_perl/5.37.2/x86_64-linux/XML/LibXML.pm
Installing /home/liveapp/.plenv/versions/5.37.2/lib/perl5/site_perl/5.37.2/x86_64-linux/XML/LibXML.pod
Installing /home/liveapp/.plenv/versions/5.37.2/lib/perl5/site_perl/5.37.2/x86_64-linux/XML/LibXML/PI.pod
Installing /home/liveapp/.plenv/versions/5.37.2/lib/perl5/site_perl/5.37.2/x86_64-linux/XML/LibXML/DocumentFragment.pod
Installing /home/liveapp/.plenv/versions/5.37.2/lib/perl5/site_perl/5.37.2/x86_64-linux/XML/LibXML/Boolean.pm
Installing /home/liveapp/.plenv/versions/5.37.2/lib/perl5/site_perl/5.37.2/x86_64-linux/XML/LibXML/Error.pm
Installing /home/liveapp/.plenv/versions/5.37.2/lib/perl5/site_perl/5.37.2/x86_64-linux/XML/LibXML/Common.pod
Installing /home/liveapp/.plenv/versions/5.37.2/lib/perl5/site_perl/5.37.2/x86_64-linux/XML/LibXML/CDATASection.pod
Installing /home/liveapp/.plenv/versions/5.37.2/lib/perl5/site_perl/5.37.2/x86_64-linux/XML/LibXML/AttributeHash.pm
Installing /home/liveapp/.plenv/versions/5.37.2/lib/perl5/site_perl/5.37.2/x86_64-linux/XML/LibXML/Reader.pm
Installing /home/liveapp/.plenv/versions/5.37.2/lib/perl5/site_perl/5.37.2/x86_64-linux/XML/LibXML/Text.pod
Installing /home/liveapp/.plenv/versions/5.37.2/lib/perl5/site_perl/5.37.2/x86_64-linux/XML/LibXML/Pattern.pod
Installing /home/liveapp/.plenv/versions/5.37.2/lib/perl5/site_perl/5.37.2/x86_64-linux/XML/LibXML/ErrNo.pod
Installing /home/liveapp/.plenv/versions/5.37.2/lib/perl5/site_perl/5.37.2/x86_64-linux/XML/LibXML/Error.pod
Installing /home/liveapp/.plenv/versions/5.37.2/lib/perl5/site_perl/5.37.2/x86_64-linux/XML/LibXML/Reader.pod
Installing /home/liveapp/.plenv/versions/5.37.2/lib/perl5/site_perl/5.37.2/x86_64-linux/XML/LibXML/Document.pod
Installing /home/liveapp/.plenv/versions/5.37.2/lib/perl5/site_perl/5.37.2/x86_64-linux/XML/LibXML/DOM.pod
Installing /home/liveapp/.plenv/versions/5.37.2/lib/perl5/site_perl/5.37.2/x86_64-linux/XML/LibXML/Attr.pod
Installing /home/liveapp/.plenv/versions/5.37.2/lib/perl5/site_perl/5.37.2/x86_64-linux/XML/LibXML/Schema.pod
Installing /home/liveapp/.plenv/versions/5.37.2/lib/perl5/site_perl/5.37.2/x86_64-linux/XML/LibXML/Devel.pm
Installing /home/liveapp/.plenv/versions/5.37.2/lib/perl5/site_perl/5.37.2/x86_64-linux/XML/LibXML/Common.pm
Installing /home/liveapp/.plenv/versions/5.37.2/lib/perl5/site_perl/5.37.2/x86_64-linux/XML/LibXML/SAX.pm
Installing /home/liveapp/.plenv/versions/5.37.2/lib/perl5/site_perl/5.37.2/x86_64-linux/XML/LibXML/Node.pod
Installing /home/liveapp/.plenv/versions/5.37.2/lib/perl5/site_perl/5.37.2/x86_64-linux/XML/LibXML/ErrNo.pm
Installing /home/liveapp/.plenv/versions/5.37.2/lib/perl5/site_perl/5.37.2/x86_64-linux/XML/LibXML/Parser.pod
Installing /home/liveapp/.plenv/versions/5.37.2/lib/perl5/site_perl/5.37.2/x86_64-linux/XML/LibXML/XPathExpression.pod
Installing /home/liveapp/.plenv/versions/5.37.2/lib/perl5/site_perl/5.37.2/x86_64-linux/XML/LibXML/Literal.pm
Installing /home/liveapp/.plenv/versions/5.37.2/lib/perl5/site_perl/5.37.2/x86_64-linux/XML/LibXML/Dtd.pod
Installing /home/liveapp/.plenv/versions/5.37.2/lib/perl5/site_perl/5.37.2/x86_64-linux/XML/LibXML/Comment.pod
Installing /home/liveapp/.plenv/versions/5.37.2/lib/perl5/site_perl/5.37.2/x86_64-linux/XML/LibXML/InputCallback.pod
Installing /home/liveapp/.plenv/versions/5.37.2/lib/perl5/site_perl/5.37.2/x86_64-linux/XML/LibXML/Namespace.pod
Installing /home/liveapp/.plenv/versions/5.37.2/lib/perl5/site_perl/5.37.2/x86_64-linux/XML/LibXML/NodeList.pm
Installing /home/liveapp/.plenv/versions/5.37.2/lib/perl5/site_perl/5.37.2/x86_64-linux/XML/LibXML/RelaxNG.pod
Installing /home/liveapp/.plenv/versions/5.37.2/lib/perl5/site_perl/5.37.2/x86_64-linux/XML/LibXML/RegExp.pod
Installing /home/liveapp/.plenv/versions/5.37.2/lib/perl5/site_perl/5.37.2/x86_64-linux/XML/LibXML/SAX.pod
Installing /home/liveapp/.plenv/versions/5.37.2/lib/perl5/site_perl/5.37.2/x86_64-linux/XML/LibXML/XPathContext.pod
Installing /home/liveapp/.plenv/versions/5.37.2/lib/perl5/site_perl/5.37.2/x86_64-linux/XML/LibXML/Element.pod
Installing /home/liveapp/.plenv/versions/5.37.2/lib/perl5/site_perl/5.37.2/x86_64-linux/XML/LibXML/Number.pm
Installing /home/liveapp/.plenv/versions/5.37.2/lib/perl5/site_perl/5.37.2/x86_64-linux/XML/LibXML/XPathContext.pm
Installing /home/liveapp/.plenv/versions/5.37.2/lib/perl5/site_perl/5.37.2/x86_64-linux/XML/LibXML/SAX/Parser.pm
Installing /home/liveapp/.plenv/versions/5.37.2/lib/perl5/site_perl/5.37.2/x86_64-linux/XML/LibXML/SAX/Builder.pm
Installing /home/liveapp/.plenv/versions/5.37.2/lib/perl5/site_perl/5.37.2/x86_64-linux/XML/LibXML/SAX/Generator.pm
Installing /home/liveapp/.plenv/versions/5.37.2/lib/perl5/site_perl/5.37.2/x86_64-linux/XML/LibXML/SAX/Builder.pod
Installing /home/liveapp/.plenv/versions/5.37.2/man/man3/XML::LibXML::NodeList.3
Installing /home/liveapp/.plenv/versions/5.37.2/man/man3/XML::LibXML::SAX.3
Installing /home/liveapp/.plenv/versions/5.37.2/man/man3/XML::LibXML::ErrNo.3
Installing /home/liveapp/.plenv/versions/5.37.2/man/man3/XML::LibXML::Schema.3
Installing /home/liveapp/.plenv/versions/5.37.2/man/man3/XML::LibXML::RelaxNG.3
Installing /home/liveapp/.plenv/versions/5.37.2/man/man3/XML::LibXML::Boolean.3
Installing /home/liveapp/.plenv/versions/5.37.2/man/man3/XML::LibXML::DOM.3
Installing /home/liveapp/.plenv/versions/5.37.2/man/man3/XML::LibXML::Node.3
Installing /home/liveapp/.plenv/versions/5.37.2/man/man3/XML::LibXML::Parser.3
Installing /home/liveapp/.plenv/versions/5.37.2/man/man3/XML::LibXML::InputCallback.3
Installing /home/liveapp/.plenv/versions/5.37.2/man/man3/XML::LibXML::Namespace.3
Installing /home/liveapp/.plenv/versions/5.37.2/man/man3/XML::LibXML::CDATASection.3
Installing /home/liveapp/.plenv/versions/5.37.2/man/man3/XML::LibXML::Pattern.3
Installing /home/liveapp/.plenv/versions/5.37.2/man/man3/XML::LibXML::Common.3
Installing /home/liveapp/.plenv/versions/5.37.2/man/man3/XML::LibXML::DocumentFragment.3
Installing /home/liveapp/.plenv/versions/5.37.2/man/man3/XML::LibXML::XPathContext.3
Installing /home/liveapp/.plenv/versions/5.37.2/man/man3/XML::LibXML::Element.3
Installing /home/liveapp/.plenv/versions/5.37.2/man/man3/XML::LibXML.3
Installing /home/liveapp/.plenv/versions/5.37.2/man/man3/XML::LibXML::Text.3
Installing /home/liveapp/.plenv/versions/5.37.2/man/man3/XML::LibXML::Devel.3
Installing /home/liveapp/.plenv/versions/5.37.2/man/man3/XML::LibXML::XPathExpression.3
Installing /home/liveapp/.plenv/versions/5.37.2/man/man3/XML::LibXML::Document.3
Installing /home/liveapp/.plenv/versions/5.37.2/man/man3/XML::LibXML::Number.3
Installing /home/liveapp/.plenv/versions/5.37.2/man/man3/XML::LibXML::AttributeHash.3
Installing /home/liveapp/.plenv/versions/5.37.2/man/man3/XML::LibXML::PI.3
Installing /home/liveapp/.plenv/versions/5.37.2/man/man3/XML::LibXML::SAX::Generator.3
Installing /home/liveapp/.plenv/versions/5.37.2/man/man3/XML::LibXML::Comment.3
Installing /home/liveapp/.plenv/versions/5.37.2/man/man3/XML::LibXML::Error.3
Installing /home/liveapp/.plenv/versions/5.37.2/man/man3/XML::LibXML::RegExp.3
Installing /home/liveapp/.plenv/versions/5.37.2/man/man3/XML::LibXML::Literal.3
Installing /home/liveapp/.plenv/versions/5.37.2/man/man3/XML::LibXML::SAX::Builder.3
Installing /home/liveapp/.plenv/versions/5.37.2/man/man3/XML::LibXML::Reader.3
Installing /home/liveapp/.plenv/versions/5.37.2/man/man3/XML::LibXML::Dtd.3
Installing /home/liveapp/.plenv/versions/5.37.2/man/man3/XML::LibXML::Attr.3
Appending installation info to /home/liveapp/.plenv/versions/5.37.2/lib/perl5/5.37.2/x86_64-linux/perllocal.pod
-> OK
Successfully tested XML-LibXML-2.0207
Searching XML::Simple (0) on cpanmetadb ...
--> Working on XML::Simple
Fetching http://www.cpan.org/authors/id/G/GR/GRANTM/XML-Simple-2.25.tar.gz
-> OK
Unpacking XML-Simple-2.25.tar.gz
Manifying 2 pod documents
Installing /home/liveapp/.plenv/versions/5.37.2/lib/perl5/site_perl/5.37.2/XML/Simple.pm
Installing /home/liveapp/.plenv/versions/5.37.2/lib/perl5/site_perl/5.37.2/XML/Simple/FAQ.pod
Installing /home/liveapp/.plenv/versions/5.37.2/man/man3/XML::Simple::FAQ.3
Installing /home/liveapp/.plenv/versions/5.37.2/man/man3/XML::Simple.3
Appending installation info to /home/liveapp/.plenv/versions/5.37.2/lib/perl5/5.37.2/x86_64-linux/perllocal.pod
-> OK
Successfully tested XML-Simple-2.25
Searching Regexp::Assemble (0) on cpanmetadb ...
--> Working on Regexp::Assemble
Fetching http://www.cpan.org/authors/id/R/RS/RSAVAGE/Regexp-Assemble-0.38.tgz
-> OK
Unpacking Regexp-Assemble-0.38.tgz
Manifying 1 pod document
Installing /home/liveapp/.plenv/versions/5.37.2/lib/perl5/site_perl/5.37.2/Regexp/Assemble.pm
Installing /home/liveapp/.plenv/versions/5.37.2/man/man3/Regexp::Assemble.3
Appending installation info to /home/liveapp/.plenv/versions/5.37.2/lib/perl5/5.37.2/x86_64-linux/perllocal.pod
-> OK
Successfully tested Regexp-Assemble-0.38
Searching Lemonldap::NG::Handler (v2.0.14) on cpanmetadb ...
--> Working on Lemonldap::NG::Handler
Fetching http://www.cpan.org/authors/id/C/CO/COUDOT/Lemonldap-NG-Handler-2.0.14.tar.gz
-> OK
Unpacking Lemonldap-NG-Handler-2.0.14.tar.gz
Manifying 6 pod documents
Manifying 9 pod documents
Installing /home/liveapp/.plenv/versions/5.37.2/lib/perl5/site_perl/5.37.2/auto/Lemonldap/NG/Common/Apache/Session/_dbiGKFAS.al
Installing /home/liveapp/.plenv/versions/5.37.2/lib/perl5/site_perl/5.37.2/auto/Lemonldap/NG/Common/Apache/Session/get_key_from_all_sessions.al
Installing /home/liveapp/.plenv/versions/5.37.2/lib/perl5/site_perl/5.37.2/auto/Lemonldap/NG/Common/Apache/Session/_LDAPGKFAS.al
Installing /home/liveapp/.plenv/versions/5.37.2/lib/perl5/site_perl/5.37.2/auto/Lemonldap/NG/Common/Apache/Session/decodeThaw64.al
Installing /home/liveapp/.plenv/versions/5.37.2/lib/perl5/site_perl/5.37.2/auto/Lemonldap/NG/Common/Apache/Session/_FileGKFAS.al
Installing /home/liveapp/.plenv/versions/5.37.2/lib/perl5/site_perl/5.37.2/auto/Lemonldap/NG/Common/Apache/Session/setId.al
Installing /home/liveapp/.plenv/versions/5.37.2/lib/perl5/site_perl/5.37.2/auto/Lemonldap/NG/Common/Apache/Session/_PHPGKFAS.al
Installing /home/liveapp/.plenv/versions/5.37.2/lib/perl5/site_perl/5.37.2/auto/Lemonldap/NG/Common/Apache/Session/autosplit.ix
Installing /home/liveapp/.plenv/versions/5.37.2/lib/perl5/site_perl/5.37.2/auto/Lemonldap/NG/Common/Apache/Session/_NoSQLGKFAS.al
Installing /home/liveapp/.plenv/versions/5.37.2/lib/perl5/site_perl/5.37.2/auto/Lemonldap/NG/Common/Apache/Session/searchOnExpr.al
Installing /home/liveapp/.plenv/versions/5.37.2/lib/perl5/site_perl/5.37.2/auto/Lemonldap/NG/Common/Apache/Session/searchOn.al
Installing /home/liveapp/.plenv/versions/5.37.2/lib/perl5/site_perl/5.37.2/auto/Lemonldap/NG/Common/Apache/Session/_DBFileGKFAS.al
Installing /home/liveapp/.plenv/versions/5.37.2/lib/perl5/site_perl/5.37.2/auto/Lemonldap/NG/Common/Apache/Session/searchLt.al
Installing /home/liveapp/.plenv/versions/5.37.2/lib/perl5/site_perl/5.37.2/auto/Lemonldap/NG/Common/Regexp/HTTP_URI.al
Installing /home/liveapp/.plenv/versions/5.37.2/lib/perl5/site_perl/5.37.2/auto/Lemonldap/NG/Common/Regexp/HOSTNAME.al
Installing /home/liveapp/.plenv/versions/5.37.2/lib/perl5/site_perl/5.37.2/auto/Lemonldap/NG/Common/Regexp/OPENIDSREGATTR.al
Installing /home/liveapp/.plenv/versions/5.37.2/lib/perl5/site_perl/5.37.2/auto/Lemonldap/NG/Common/Regexp/reDomainsToHost.al
Installing /home/liveapp/.plenv/versions/5.37.2/lib/perl5/site_perl/5.37.2/auto/Lemonldap/NG/Common/Regexp/HOST.al
Installing /home/liveapp/.plenv/versions/5.37.2/lib/perl5/site_perl/5.37.2/auto/Lemonldap/NG/Common/Regexp/autosplit.ix
Installing /home/liveapp/.plenv/versions/5.37.2/lib/perl5/site_perl/5.37.2/auto/Lemonldap/NG/Common/Regexp/GOOGLEAXATTR.al
Installing /home/liveapp/.plenv/versions/5.37.2/lib/perl5/site_perl/5.37.2/Lemonldap/NG/Common.pm
Installing /home/liveapp/.plenv/versions/5.37.2/lib/perl5/site_perl/5.37.2/Lemonldap/NG/Common/Cli.pm
Installing /home/liveapp/.plenv/versions/5.37.2/lib/perl5/site_perl/5.37.2/Lemonldap/NG/Common/Conf.pm
Installing /home/liveapp/.plenv/versions/5.37.2/lib/perl5/site_perl/5.37.2/Lemonldap/NG/Common/JWT.pm
Installing /home/liveapp/.plenv/versions/5.37.2/lib/perl5/site_perl/5.37.2/Lemonldap/NG/Common/EmailTransport.pm
Installing /home/liveapp/.plenv/versions/5.37.2/lib/perl5/site_perl/5.37.2/Lemonldap/NG/Common/Module.pm
Installing /home/liveapp/.plenv/versions/5.37.2/lib/perl5/site_perl/5.37.2/Lemonldap/NG/Common/Regexp.pm
Installing /home/liveapp/.plenv/versions/5.37.2/lib/perl5/site_perl/5.37.2/Lemonldap/NG/Common/PSGI.pm
Installing /home/liveapp/.plenv/versions/5.37.2/lib/perl5/site_perl/5.37.2/Lemonldap/NG/Common/Session.pm
Installing /home/liveapp/.plenv/versions/5.37.2/lib/perl5/site_perl/5.37.2/Lemonldap/NG/Common/TOTP.pm
Installing /home/liveapp/.plenv/versions/5.37.2/lib/perl5/site_perl/5.37.2/Lemonldap/NG/Common/UserAgent.pm
Installing /home/liveapp/.plenv/versions/5.37.2/lib/perl5/site_perl/5.37.2/Lemonldap/NG/Common/Crypto.pm
Installing /home/liveapp/.plenv/versions/5.37.2/lib/perl5/site_perl/5.37.2/Lemonldap/NG/Common/Util.pm
Installing /home/liveapp/.plenv/versions/5.37.2/lib/perl5/site_perl/5.37.2/Lemonldap/NG/Common/FormEncode.pm
Installing /home/liveapp/.plenv/versions/5.37.2/lib/perl5/site_perl/5.37.2/Lemonldap/NG/Common/Safelib.pm
Installing /home/liveapp/.plenv/versions/5.37.2/lib/perl5/site_perl/5.37.2/Lemonldap/NG/Common/IPv6.pm
Installing /home/liveapp/.plenv/versions/5.37.2/lib/perl5/site_perl/5.37.2/Lemonldap/NG/Common/CliSessions.pm
Installing /home/liveapp/.plenv/versions/5.37.2/lib/perl5/site_perl/5.37.2/Lemonldap/NG/Common/Notifications.pm
Installing /home/liveapp/.plenv/versions/5.37.2/lib/perl5/site_perl/5.37.2/Lemonldap/NG/Common/PSGI/Request.pm
Installing /home/liveapp/.plenv/versions/5.37.2/lib/perl5/site_perl/5.37.2/Lemonldap/NG/Common/PSGI/Constants.pm
Installing /home/liveapp/.plenv/versions/5.37.2/lib/perl5/site_perl/5.37.2/Lemonldap/NG/Common/PSGI/SOAPService.pm
Installing /home/liveapp/.plenv/versions/5.37.2/lib/perl5/site_perl/5.37.2/Lemonldap/NG/Common/PSGI/SOAPServer.pm
Installing /home/liveapp/.plenv/versions/5.37.2/lib/perl5/site_perl/5.37.2/Lemonldap/NG/Common/PSGI/Router.pm
Installing /home/liveapp/.plenv/versions/5.37.2/lib/perl5/site_perl/5.37.2/Lemonldap/NG/Common/PSGI/Cli/Lib.pm
Installing /home/liveapp/.plenv/versions/5.37.2/lib/perl5/site_perl/5.37.2/Lemonldap/NG/Common/Session/REST.pm
Installing /home/liveapp/.plenv/versions/5.37.2/lib/perl5/site_perl/5.37.2/Lemonldap/NG/Common/Logger/Null.pm
Installing /home/liveapp/.plenv/versions/5.37.2/lib/perl5/site_perl/5.37.2/Lemonldap/NG/Common/Logger/_Duplicate.pm
Installing /home/liveapp/.plenv/versions/5.37.2/lib/perl5/site_perl/5.37.2/Lemonldap/NG/Common/Logger/Dispatch.pm
Installing /home/liveapp/.plenv/versions/5.37.2/lib/perl5/site_perl/5.37.2/Lemonldap/NG/Common/Logger/Apache2.pm
Installing /home/liveapp/.plenv/versions/5.37.2/lib/perl5/site_perl/5.37.2/Lemonldap/NG/Common/Logger/Syslog.pm
Installing /home/liveapp/.plenv/versions/5.37.2/lib/perl5/site_perl/5.37.2/Lemonldap/NG/Common/Logger/Log4perl.pm
Installing /home/liveapp/.plenv/versions/5.37.2/lib/perl5/site_perl/5.37.2/Lemonldap/NG/Common/Logger/Sentry.pm
Installing /home/liveapp/.plenv/versions/5.37.2/lib/perl5/site_perl/5.37.2/Lemonldap/NG/Common/Logger/Std.pm
Installing /home/liveapp/.plenv/versions/5.37.2/lib/perl5/site_perl/5.37.2/Lemonldap/NG/Common/Apache/Session.pm
Installing /home/liveapp/.plenv/versions/5.37.2/lib/perl5/site_perl/5.37.2/Lemonldap/NG/Common/Apache/Session/REST.pm
Installing /home/liveapp/.plenv/versions/5.37.2/lib/perl5/site_perl/5.37.2/Lemonldap/NG/Common/Apache/Session/Store.pm
Installing /home/liveapp/.plenv/versions/5.37.2/lib/perl5/site_perl/5.37.2/Lemonldap/NG/Common/Apache/Session/SOAP.pm
Installing /home/liveapp/.plenv/versions/5.37.2/lib/perl5/site_perl/5.37.2/Lemonldap/NG/Common/Apache/Session/Lock.pm
Installing /home/liveapp/.plenv/versions/5.37.2/lib/perl5/site_perl/5.37.2/Lemonldap/NG/Common/Apache/Session/Serialize/JSON.pm
Installing /home/liveapp/.plenv/versions/5.37.2/lib/perl5/site_perl/5.37.2/Lemonldap/NG/Common/Apache/Session/Generate/SHA256.pm
Installing /home/liveapp/.plenv/versions/5.37.2/lib/perl5/site_perl/5.37.2/Lemonldap/NG/Common/Combination/Parser.pm
Installing /home/liveapp/.plenv/versions/5.37.2/lib/perl5/site_perl/5.37.2/Lemonldap/NG/Common/Conf/RESTServer.pm
Installing /home/liveapp/.plenv/versions/5.37.2/lib/perl5/site_perl/5.37.2/Lemonldap/NG/Common/Conf/Serializer.pm
Installing /home/liveapp/.plenv/versions/5.37.2/lib/perl5/site_perl/5.37.2/Lemonldap/NG/Common/Conf/ReConstants.pm
Installing /home/liveapp/.plenv/versions/5.37.2/lib/perl5/site_perl/5.37.2/Lemonldap/NG/Common/Conf/DefaultValues.pm
Installing /home/liveapp/.plenv/versions/5.37.2/lib/perl5/site_perl/5.37.2/Lemonldap/NG/Common/Conf/Constants.pm
Installing /home/liveapp/.plenv/versions/5.37.2/lib/perl5/site_perl/5.37.2/Lemonldap/NG/Common/Conf/AccessLib.pm
Installing /home/liveapp/.plenv/versions/5.37.2/lib/perl5/site_perl/5.37.2/Lemonldap/NG/Common/Conf/Wrapper.pm
Installing /home/liveapp/.plenv/versions/5.37.2/lib/perl5/site_perl/5.37.2/Lemonldap/NG/Common/Conf/Compact.pm
Installing /home/liveapp/.plenv/versions/5.37.2/lib/perl5/site_perl/5.37.2/Lemonldap/NG/Common/Conf/Backends/CDBI.pm
Installing /home/liveapp/.plenv/versions/5.37.2/lib/perl5/site_perl/5.37.2/Lemonldap/NG/Common/Conf/Backends/REST.pm
Installing /home/liveapp/.plenv/versions/5.37.2/lib/perl5/site_perl/5.37.2/Lemonldap/NG/Common/Conf/Backends/LDAP.pm
Installing /home/liveapp/.plenv/versions/5.37.2/lib/perl5/site_perl/5.37.2/Lemonldap/NG/Common/Conf/Backends/RDBI.pm
Installing /home/liveapp/.plenv/versions/5.37.2/lib/perl5/site_perl/5.37.2/Lemonldap/NG/Common/Conf/Backends/JSONFile.pm
Installing /home/liveapp/.plenv/versions/5.37.2/lib/perl5/site_perl/5.37.2/Lemonldap/NG/Common/Conf/Backends/File.pm
Installing /home/liveapp/.plenv/versions/5.37.2/lib/perl5/site_perl/5.37.2/Lemonldap/NG/Common/Conf/Backends/Local.pm
Installing /home/liveapp/.plenv/versions/5.37.2/lib/perl5/site_perl/5.37.2/Lemonldap/NG/Common/Conf/Backends/SOAP.pm
Installing /home/liveapp/.plenv/versions/5.37.2/lib/perl5/site_perl/5.37.2/Lemonldap/NG/Common/Conf/Backends/YAMLFile.pm
Installing /home/liveapp/.plenv/versions/5.37.2/lib/perl5/site_perl/5.37.2/Lemonldap/NG/Common/Conf/Backends/MongoDB.pm
Installing /home/liveapp/.plenv/versions/5.37.2/lib/perl5/site_perl/5.37.2/Lemonldap/NG/Common/Conf/Backends/_DBI.pm
Installing /home/liveapp/.plenv/versions/5.37.2/lib/perl5/site_perl/5.37.2/Lemonldap/NG/Common/Conf/Backends/DBI.pm
Installing /home/liveapp/.plenv/versions/5.37.2/lib/perl5/site_perl/5.37.2/Lemonldap/NG/Common/Conf/SAML/Metadata.pm
Installing /home/liveapp/.plenv/versions/5.37.2/lib/perl5/site_perl/5.37.2/Lemonldap/NG/Common/Notifications/LDAP.pm
Installing /home/liveapp/.plenv/versions/5.37.2/lib/perl5/site_perl/5.37.2/Lemonldap/NG/Common/Notifications/File.pm
Installing /home/liveapp/.plenv/versions/5.37.2/lib/perl5/site_perl/5.37.2/Lemonldap/NG/Common/Notifications/XML.pm
Installing /home/liveapp/.plenv/versions/5.37.2/lib/perl5/site_perl/5.37.2/Lemonldap/NG/Common/Notifications/JSON.pm
Installing /home/liveapp/.plenv/versions/5.37.2/lib/perl5/site_perl/5.37.2/Lemonldap/NG/Common/Notifications/DBI.pm
Installing /home/liveapp/.plenv/versions/5.37.2/man/man1/encryptTotpSecrets.1p
Installing /home/liveapp/.plenv/versions/5.37.2/man/man1/importMetadata.1p
Installing /home/liveapp/.plenv/versions/5.37.2/man/man1/convertConfig.1p
Installing /home/liveapp/.plenv/versions/5.37.2/man/man1/convertSessions.1p
Installing /home/liveapp/.plenv/versions/5.37.2/man/man1/lemonldap-ng-cli.1p
Installing /home/liveapp/.plenv/versions/5.37.2/man/man1/lemonldap-ng-sessions.1p
Installing /home/liveapp/.plenv/versions/5.37.2/man/man3/Lemonldap::NG::Common::Apache::Session::REST.3
Installing /home/liveapp/.plenv/versions/5.37.2/man/man3/Lemonldap::NG::Common::PSGI::Router.3
Installing /home/liveapp/.plenv/versions/5.37.2/man/man3/Lemonldap::NG::Common::Apache::Session::Serialize::JSON.3
Installing /home/liveapp/.plenv/versions/5.37.2/man/man3/Lemonldap::NG::Common::Apache::Session::SOAP.3
Installing /home/liveapp/.plenv/versions/5.37.2/man/man3/Lemonldap::NG::Common::Util.3
Installing /home/liveapp/.plenv/versions/5.37.2/man/man3/Lemonldap::NG::Common::Conf.3
Installing /home/liveapp/.plenv/versions/5.37.2/man/man3/Lemonldap::NG::Common::PSGI::Request.3
Installing /home/liveapp/.plenv/versions/5.37.2/man/man3/Lemonldap::NG::Common.3
Installing /home/liveapp/.plenv/versions/5.37.2/man/man3/Lemonldap::NG::Common::PSGI.3
Appending installation info to /home/liveapp/.plenv/versions/5.37.2/lib/perl5/5.37.2/x86_64-linux/perllocal.pod
-> OK
Successfully tested Lemonldap-NG-Common-v2.0.14
Already tried Mouse. Skipping.
Searching Time::Fake (0) on cpanmetadb ...
--> Working on Time::Fake
Fetching http://www.cpan.org/authors/id/R/RO/ROSULEK/Time-Fake-0.11.tar.gz
-> OK
Unpacking Time-Fake-0.11.tar.gz
Successfully tested Time-Fake-0.11
Building and testing Lemonldap-NG-Handler-v2.0.14
cp lib/Lemonldap/NG/Handler/ApacheMP2/Request.pm blib/lib/Lemonldap/NG/Handler/ApacheMP2/Request.pm
cp lib/Lemonldap/NG/Handler/Lib/Fail.pm blib/lib/Lemonldap/NG/Handler/Lib/Fail.pm
cp lib/Lemonldap/NG/Handler/Lib/SecureToken.pm blib/lib/Lemonldap/NG/Handler/Lib/SecureToken.pm
cp lib/Lemonldap/NG/Handler/ApacheMP2/Menu.pm blib/lib/Lemonldap/NG/Handler/ApacheMP2/Menu.pm
cp lib/Lemonldap/NG/Handler/ApacheMP2/ServiceToken.pm blib/lib/Lemonldap/NG/Handler/ApacheMP2/ServiceToken.pm
cp lib/Lemonldap/NG/Handler/ApacheMP2/ZimbraPreAuth.pm blib/lib/Lemonldap/NG/Handler/ApacheMP2/ZimbraPreAuth.pm
cp lib/Lemonldap/NG/Handler/Main.pm blib/lib/Lemonldap/NG/Handler/Main.pm
cp lib/Lemonldap/NG/Handler/ApacheMP2/DevOps.pm blib/lib/Lemonldap/NG/Handler/ApacheMP2/DevOps.pm
cp lib/Lemonldap/NG/Handler/ApacheMP2/AuthBasic.pm blib/lib/Lemonldap/NG/Handler/ApacheMP2/AuthBasic.pm
cp lib/Lemonldap/NG/Handler/Lib/OAuth2.pm blib/lib/Lemonldap/NG/Handler/Lib/OAuth2.pm
cp lib/Lemonldap/NG/Handler/ApacheMP2/FCGIClient.pm blib/lib/Lemonldap/NG/Handler/ApacheMP2/FCGIClient.pm
cp lib/Lemonldap/NG/Handler/Lib/AuthBasic.pm blib/lib/Lemonldap/NG/Handler/Lib/AuthBasic.pm
cp lib/Lemonldap/NG/Handler.pm blib/lib/Lemonldap/NG/Handler.pm
cp lib/Lemonldap/NG/Handler/Lib/ServiceToken.pm blib/lib/Lemonldap/NG/Handler/Lib/ServiceToken.pm
cp lib/Lemonldap/NG/Handler/Lib/DevOps.pm blib/lib/Lemonldap/NG/Handler/Lib/DevOps.pm
cp lib/Lemonldap/NG/Handler/ApacheMP2.pm blib/lib/Lemonldap/NG/Handler/ApacheMP2.pm
cp lib/Lemonldap/NG/Handler/ApacheMP2/OAuth2.pm blib/lib/Lemonldap/NG/Handler/ApacheMP2/OAuth2.pm
cp lib/Lemonldap/NG/Handler/ApacheMP2/SecureToken.pm blib/lib/Lemonldap/NG/Handler/ApacheMP2/SecureToken.pm
cp lib/Lemonldap/NG/Handler/Lib/ZimbraPreAuth.pm blib/lib/Lemonldap/NG/Handler/Lib/ZimbraPreAuth.pm
cp lib/Lemonldap/NG/Handler/ApacheMP2/Fail.pm blib/lib/Lemonldap/NG/Handler/ApacheMP2/Fail.pm
cp lib/Lemonldap/NG/Handler/Lib/PSGI.pm blib/lib/Lemonldap/NG/Handler/Lib/PSGI.pm
cp lib/Lemonldap/NG/Handler/Lib/CDA.pm blib/lib/Lemonldap/NG/Handler/Lib/CDA.pm
cp lib/Lemonldap/NG/Handler/ApacheMP2/CDA.pm blib/lib/Lemonldap/NG/Handler/ApacheMP2/CDA.pm
cp lib/Lemonldap/NG/Handler/Lib/StatusConstants.pm blib/lib/Lemonldap/NG/Handler/Lib/StatusConstants.pm
cp lib/Lemonldap/NG/Handler/Lib/Status.pm blib/lib/Lemonldap/NG/Handler/Lib/Status.pm
cp lib/Lemonldap/NG/Handler/ApacheMP2/DevOpsST.pm blib/lib/Lemonldap/NG/Handler/ApacheMP2/DevOpsST.pm
cp lib/Lemonldap/NG/Handler/ApacheMP2/Main.pm blib/lib/Lemonldap/NG/Handler/ApacheMP2/Main.pm
AutoSplitting blib/lib/Lemonldap/NG/Handler/ApacheMP2/Main.pm (blib/lib/auto/Lemonldap/NG/Handler/ApacheMP2/Main)
cp lib/Lemonldap/NG/Handler/Server/Fail.pm blib/lib/Lemonldap/NG/Handler/Server/Fail.pm
cp lib/Lemonldap/NG/Handler/Main/Init.pm blib/lib/Lemonldap/NG/Handler/Main/Init.pm
cp lib/Lemonldap/NG/Handler/PSGI/OAuth2.pm blib/lib/Lemonldap/NG/Handler/PSGI/OAuth2.pm
cp lib/Lemonldap/NG/Handler/Main/Run.pm blib/lib/Lemonldap/NG/Handler/Main/Run.pm
cp lib/Lemonldap/NG/Handler/PSGI/Main.pm blib/lib/Lemonldap/NG/Handler/PSGI/Main.pm
cp lib/Lemonldap/NG/Handler/PSGI/ServiceToken.pm blib/lib/Lemonldap/NG/Handler/PSGI/ServiceToken.pm
cp lib/Lemonldap/NG/Handler/Server/Main.pm blib/lib/Lemonldap/NG/Handler/Server/Main.pm
cp lib/Lemonldap/NG/Handler/PSGI/Router.pm blib/lib/Lemonldap/NG/Handler/PSGI/Router.pm
cp lib/Lemonldap/NG/Handler/Server/DevOps.pm blib/lib/Lemonldap/NG/Handler/Server/DevOps.pm
cp lib/Lemonldap/NG/Handler/Server.pm blib/lib/Lemonldap/NG/Handler/Server.pm
cp lib/Plack/Middleware/Auth/LemonldapNG.pm blib/lib/Plack/Middleware/Auth/LemonldapNG.pm
cp lib/Lemonldap/NG/Handler/Server/AuthBasic.pm blib/lib/Lemonldap/NG/Handler/Server/AuthBasic.pm
cp lib/Lemonldap/NG/Handler/Server/DevOpsST.pm blib/lib/Lemonldap/NG/Handler/Server/DevOpsST.pm
cp lib/Lemonldap/NG/Handler/Server/ZimbraPreAuth.pm blib/lib/Lemonldap/NG/Handler/Server/ZimbraPreAuth.pm
cp lib/Lemonldap/NG/Handler/PSGI.pm blib/lib/Lemonldap/NG/Handler/PSGI.pm
cp lib/Lemonldap/NG/Handler/Server/SecureToken.pm blib/lib/Lemonldap/NG/Handler/Server/SecureToken.pm
cp lib/Lemonldap/NG/Handler/Main/Reload.pm blib/lib/Lemonldap/NG/Handler/Main/Reload.pm
cp lib/Lemonldap/NG/Handler/PSGI/Try.pm blib/lib/Lemonldap/NG/Handler/PSGI/Try.pm
cp lib/Lemonldap/NG/Handler/Main/SharedVariables.pm blib/lib/Lemonldap/NG/Handler/Main/SharedVariables.pm
cp lib/Lemonldap/NG/Handler/PSGI/AuthBasic.pm blib/lib/Lemonldap/NG/Handler/PSGI/AuthBasic.pm
cp lib/Lemonldap/NG/Handler/Main/Jail.pm blib/lib/Lemonldap/NG/Handler/Main/Jail.pm
cp lib/Lemonldap/NG/Handler/PSGI/Fail.pm blib/lib/Lemonldap/NG/Handler/PSGI/Fail.pm
cp lib/Lemonldap/NG/Handler/PSGI/CDA.pm blib/lib/Lemonldap/NG/Handler/PSGI/CDA.pm
cp lib/Lemonldap/NG/Handler/Server/CDA.pm blib/lib/Lemonldap/NG/Handler/Server/CDA.pm
cp lib/Lemonldap/NG/Handler/Server/OAuth2.pm blib/lib/Lemonldap/NG/Handler/Server/OAuth2.pm
cp lib/Lemonldap/NG/Handler/Server/Nginx.pm blib/lib/Lemonldap/NG/Handler/Server/Nginx.pm
cp lib/Lemonldap/NG/Handler/Server/ServiceToken.pm blib/lib/Lemonldap/NG/Handler/Server/ServiceToken.pm
Manifying 6 pod documents
PERL_DL_NONLAZY=1 "/home/liveapp/.plenv/versions/5.37.2/bin/perl5.37.2" "-MExtUtils::Command::MM" "-MTest::Harness" "-e" "undef *Test::Harness::Switches; test_harness(0, 'blib/lib', 'blib/arch')" t/*.t
t/01-Lemonldap-NG-Handler-Main.t ........................... ok
[Thu Aug 18 13:39:25 2022] [LLNG:2696523] [error] Bad logLevel value '', switching to 'info'

t/05-Lemonldap-NG-Handler-Reload.t ......................... ok
t/12-Lemonldap-NG-Handler-Jail.t ........................... ok
t/13-Lemonldap-NG-Handler-Fake-Safe.t ...................... ok
t/14-Lemonldap-NG-Handler-Rule-Building.t .................. ok
t/50-Lemonldap-NG-Handler-SecureToken.t .................... ok
t/51-Lemonldap-NG-Handler-Zimbra.t ......................... ok
t/60-Lemonldap-NG-Handler-PSGI.t ........................... ok
t/61-Lemonldap-NG-Handler-PSGI-Server.t .................... ok
t/62-Lemonldap-NG-Handler-Nginx.t .......................... ok
t/63-Lemonldap-NG-Handler-PSGI-Try.t ....................... ok
t/64-Lemonldap-NG-Handler-PSGI-DevOps-vhostOptions.t ....... ok
t/64-Lemonldap-NG-Handler-PSGI-DevOps-with-param.t ......... ok
t/64-Lemonldap-NG-Handler-PSGI-DevOps.t .................... ok
[Thu Aug 18 13:44:58 2022] [LLNG:2696536] [error] test3.example.com not authorized in token (test1.example.com, test2.example.com, *.example.com)
[Thu Aug 18 13:44:58 2022] [LLNG:2696536] [error] Bad service token
t/65-Lemonldap-NG-Handler-Nginx-ServiceToken.t ............. ok
[Thu Aug 18 13:44:58 2022] [LLNG:2696537] [error] test3.example.com not authorized in token (test1.example.com, test2.example.com, *.example.com)
[Thu Aug 18 13:44:58 2022] [LLNG:2696537] [error] Bad service token
t/65-Lemonldap-NG-Handler-PSGI-ServiceToken.t .............. ok
t/66-Lemonldap-NG-Handler-PSGI-wildcard.t .................. ok
Use of uninitialized value in string eq at /home/liveapp/.plenv/versions/5.37.2/lib/perl5/site_perl/5.37.2/Plack/Request.pm line 42.
t/67-Lemonldap-NG-Handler-PSGI-vhostOptions-with-reload.t .. ok
t/67-Lemonldap-NG-Handler-PSGI-vhostOptions.t .............. ok
t/68-Lemonldap-NG-Handler-PSGI-Zimbra.t .................... ok
t/69-Lemonldap-NG-Handler-PSGI-SecureToken.t ............... ok
t/70-Lemonldap-NG-Handler-PSGI-AuthBasic.t ................. ok
t/71-Lemonldap-NG-Handler-PSGI-OAuth2.t .................... ok
t/99-pod.t ................................................. ok
All tests successful.
Files=24, Tests=521,  4 wallclock secs ( 0.11 usr  0.04 sys +  3.40 cusr  0.55 csys =  4.10 CPU)
Result: PASS

------------------------------
PREREQUISITES
------------------------------

Prerequisite modules loaded:

    No requirements found

------------------------------
ENVIRONMENT AND OTHER CONTEXT
------------------------------

Environment variables:

    LANG = C.UTF-8
    PATH = /home/liveapp/.plenv/versions/5.37.2/bin:/home/liveapp/.plenv/libexec:/home/liveapp/.plenv/plugins/perl-build/bin:/home/liveapp/.plenv/shims:/home/liveapp/.plenv/bin:/usr/local/sbin:/usr/local/bin:/usr/sbin:/usr/bin:/sbin:/bin:/usr/games:/usr/local/games:/snap/bin
    PERL_CPANM_HOME = /home/liveapp/cpantesters.new/5.37.2/.cpanm_temp
    SHELL = /bin/bash
    TERM = xterm-256color

Perl special variables (and OS-specific diagnostics, for MSWin32):

    EGID = 1001 27 1001
    EUID = 1001
    EXECUTABLE_NAME = /home/liveapp/.plenv/versions/5.37.2/bin/perl5.37.2
    GID = 1001 27 1001
    UID = 1001

Perl module toolchain versions installed:

    Module              Have    
    ------------------- --------
    CPAN                2.34    
    CPAN::Meta          2.150010
    Cwd                 3.86    
    ExtUtils::CBuilder  0.280237
    ExtUtils::Command   7.64    
    ExtUtils::Install   2.20    
    ExtUtils::MakeMaker 7.64    
    ExtUtils::Manifest  1.73    
    ExtUtils::ParseXS   3.45    
    File::Spec          3.86    
    JSON                4.09    
    JSON::PP            4.10    
    Module::Build       0.4231  
    Module::Signature   n/a     
    Parse::CPAN::Meta   2.150010
    Test::Harness       3.44    
    Test::More          1.302191
    YAML                n/a     
    YAML::Syck          n/a     
    version             0.9929  


--

Summary of my perl5 (revision 5 version 37 subversion 2) configuration:
   
  Platform:
    osname=linux
    osvers=5.4.0-91-generic
    archname=x86_64-linux
    uname='linux supremeadmin 5.4.0-91-generic #102-ubuntu smp fri nov 5 16:31:28 utc 2021 x86_64 x86_64 x86_64 gnulinux '
    config_args='-Dprefix=/home/liveapp/.plenv/versions/5.37.2 -de -Dversiononly -Dusedevel -A'eval:scriptdir=/home/liveapp/.plenv/versions/5.37.2/bin''
    hint=recommended
    useposix=true
    d_sigaction=define
    useithreads=undef
    usemultiplicity=undef
    use64bitint=define
    use64bitall=define
    uselongdouble=undef
    usemymalloc=n
    default_inc_excludes_dot=define
  Compiler:
    cc='cc'
    ccflags ='-fwrapv -fno-strict-aliasing -pipe -fstack-protector-strong -I/usr/local/include -D_LARGEFILE_SOURCE -D_FILE_OFFSET_BITS=64'
    optimize='-O2'
    cppflags='-fwrapv -fno-strict-aliasing -pipe -fstack-protector-strong -I/usr/local/include'
    ccversion=''
    gccversion='9.4.0'
    gccosandvers=''
    intsize=4
    longsize=8
    ptrsize=8
    doublesize=8
    byteorder=12345678
    doublekind=3
    d_longlong=define
    longlongsize=8
    d_longdbl=define
    longdblsize=16
    longdblkind=3
    ivtype='long'
    ivsize=8
    nvtype='double'
    nvsize=8
    Off_t='off_t'
    lseeksize=8
    alignbytes=8
    prototype=define
  Linker and Libraries:
    ld='cc'
    ldflags =' -fstack-protector-strong -L/usr/local/lib'
    libpth=/usr/local/lib /usr/lib/x86_64-linux-gnu /usr/lib /lib/x86_64-linux-gnu /lib
    libs=-lpthread -lnsl -ldl -lm -lcrypt -lutil -lc
    perllibs=-lpthread -lnsl -ldl -lm -lcrypt -lutil -lc
    libc=libc-2.31.so
    so=so
    useshrplib=false
    libperl=libperl.a
    gnulibc_version='2.31'
  Dynamic Linking:
    dlsrc=dl_dlopen.xs
    dlext=so
    d_dlsymun=undef
    ccdlflags='-Wl,-E'
    cccdlflags='-fPIC'
    lddlflags='-shared -O2 -L/usr/local/lib -fstack-protector-strong'


Characteristics of this binary (from libperl): 
  Compile-time options:
    HAS_TIMES
    PERLIO_LAYERS
    PERL_COPY_ON_WRITE
    PERL_DONT_CREATE_GVSV
    PERL_MALLOC_WRAP
    PERL_OP_PARENT
    PERL_PRESERVE_IVUV
    PERL_USE_DEVEL
    PERL_USE_SAFE_PUTENV
    USE_64_BIT_ALL
    USE_64_BIT_INT
    USE_LARGE_FILES
    USE_LOCALE
    USE_LOCALE_COLLATE
    USE_LOCALE_CTYPE
    USE_LOCALE_NUMERIC
    USE_LOCALE_TIME
    USE_PERLIO
    USE_PERL_ATOF
  Built under linux
  Compiled at Aug  6 2022 07:20:28
  %ENV:
    PERL_CPANM_HOME="/home/liveapp/cpantesters.new/5.37.2/.cpanm_temp"
  @INC:
    /home/liveapp/.plenv/versions/5.37.2/lib/perl5/site_perl/5.37.2/x86_64-linux
    /home/liveapp/.plenv/versions/5.37.2/lib/perl5/site_perl/5.37.2
    /home/liveapp/.plenv/versions/5.37.2/lib/perl5/5.37.2/x86_64-linux
    /home/liveapp/.plenv/versions/5.37.2/lib/perl5/5.37.2