CHI v0.61 Perl 5 v5.33.6 x86_64-linux

Status
Pass
From
John SJ Anderson
Dist
CHI v0.61
Platform
Perl 5 v5.33.6 x86_64-linux
Date
2022-09-20 19:41:40
ID
3f34778a-391c-11ed-9142-a4f35f3285f5
This distribution has been tested as part of the CPAN Testers
project, supporting the Perl programming language.  See
http://wiki.cpantesters.org/ for more information or email
questions to cpan-testers-discuss@perl.org


--
Dear ASB,

This is a computer-generated report for CHI-0.61
on perl 5.33.6, created by App::cpanminus::reporter 0.17 (1.7044).

Thank you for uploading your work to CPAN.  Congratulations!
All tests were successful.

Sections of this report:

    * Tester comments
    * Program output
    * Prerequisites
    * Environment and other context

------------------------------
TESTER COMMENTS
------------------------------

Additional comments from tester:

none provided

------------------------------
PROGRAM OUTPUT
------------------------------

Output from '':

Building and testing CHI-0.61
cp lib/CHI/Driver/Development.pod blib/lib/CHI/Driver/Development.pod
cp lib/CHI/Driver/Role/IsSubcache.pm blib/lib/CHI/Driver/Role/IsSubcache.pm
cp lib/CHI/t/Driver/CacheCache.pm blib/lib/CHI/t/Driver/CacheCache.pm
cp lib/CHI/Constants.pm blib/lib/CHI/Constants.pm
cp lib/CHI/Driver/Role/IsSizeAware.pm blib/lib/CHI/Driver/Role/IsSizeAware.pm
cp lib/CHI/Driver/Base/CacheContainer.pm blib/lib/CHI/Driver/Base/CacheContainer.pm
cp lib/CHI/Serializer/Storable.pm blib/lib/CHI/Serializer/Storable.pm
cp lib/CHI/Test/Driver/NonMoose.pm blib/lib/CHI/Test/Driver/NonMoose.pm
cp lib/CHI/Test.pm blib/lib/CHI/Test.pm
cp lib/CHI/t/Driver/File.pm blib/lib/CHI/t/Driver/File.pm
cp lib/CHI/t/Driver.pm blib/lib/CHI/t/Driver.pm
cp lib/CHI/t/Bugs.pm blib/lib/CHI/t/Bugs.pm
cp lib/CHI/Benchmarks.pod blib/lib/CHI/Benchmarks.pod
cp lib/CHI/Driver/FastMmap.pm blib/lib/CHI/Driver/FastMmap.pm
cp lib/CHI/Test/Class.pm blib/lib/CHI/Test/Class.pm
cp lib/CHI/t/Driver/Memory.pm blib/lib/CHI/t/Driver/Memory.pm
cp lib/CHI/t/Driver/FastMmap.pm blib/lib/CHI/t/Driver/FastMmap.pm
cp lib/CHI/t/Config.pm blib/lib/CHI/t/Config.pm
cp lib/CHI/t/Driver/File/DepthZero.pm blib/lib/CHI/t/Driver/File/DepthZero.pm
cp lib/CHI/Driver/Memory.pm blib/lib/CHI/Driver/Memory.pm
cp lib/CHI/Test/Driver/Role/CheckKeyValidity.pm blib/lib/CHI/Test/Driver/Role/CheckKeyValidity.pm
cp lib/CHI/Driver/Metacache.pm blib/lib/CHI/Driver/Metacache.pm
cp lib/CHI/t/Driver/NonMoose.pm blib/lib/CHI/t/Driver/NonMoose.pm
cp lib/CHI/t/Driver/RawMemory.pm blib/lib/CHI/t/Driver/RawMemory.pm
cp lib/CHI.pm blib/lib/CHI.pm
cp lib/CHI/Driver/RawMemory.pm blib/lib/CHI/Driver/RawMemory.pm
cp lib/CHI/Driver/Role/HasSubcaches.pm blib/lib/CHI/Driver/Role/HasSubcaches.pm
cp lib/CHI/Serializer/JSON.pm blib/lib/CHI/Serializer/JSON.pm
cp lib/CHI/Driver/Role/Universal.pm blib/lib/CHI/Driver/Role/Universal.pm
cp lib/CHI/Test/Driver/Writeonly.pm blib/lib/CHI/Test/Driver/Writeonly.pm
cp lib/CHI/Types.pm blib/lib/CHI/Types.pm
cp lib/CHI/Util.pm blib/lib/CHI/Util.pm
cp lib/CHI/t/Constants.pm blib/lib/CHI/t/Constants.pm
cp lib/CHI/Test/Util.pm blib/lib/CHI/Test/Util.pm
cp lib/CHI/Test/Driver/Readonly.pm blib/lib/CHI/Test/Driver/Readonly.pm
cp lib/CHI/Driver/CacheCache.pm blib/lib/CHI/Driver/CacheCache.pm
cp lib/CHI/Driver.pm blib/lib/CHI/Driver.pm
cp lib/CHI/Driver/File.pm blib/lib/CHI/Driver/File.pm
cp lib/CHI/CacheObject.pm blib/lib/CHI/CacheObject.pm
cp lib/CHI/Stats.pm blib/lib/CHI/Stats.pm
cp lib/CHI/Driver/Null.pm blib/lib/CHI/Driver/Null.pm
cp lib/CHI/t/Driver/Subcache/mirror_cache.pm blib/lib/CHI/t/Driver/Subcache/mirror_cache.pm
cp lib/CHI/t/GetError.pm blib/lib/CHI/t/GetError.pm
cp lib/CHI/t/SetError.pm blib/lib/CHI/t/SetError.pm
cp lib/CHI/t/Driver/Subcache/l1_cache.pm blib/lib/CHI/t/Driver/Subcache/l1_cache.pm
cp lib/CHI/t/Subclass.pm blib/lib/CHI/t/Subclass.pm
cp lib/CHI/t/Subcache.pm blib/lib/CHI/t/Subcache.pm
cp lib/CHI/t/Sanity.pm blib/lib/CHI/t/Sanity.pm
cp lib/CHI/t/Util.pm blib/lib/CHI/t/Util.pm
cp lib/CHI/t/Null.pm blib/lib/CHI/t/Null.pm
cp lib/CHI/t/Driver/Subcache.pm blib/lib/CHI/t/Driver/Subcache.pm
cp lib/CHI/t/Initialize.pm blib/lib/CHI/t/Initialize.pm
cp lib/CHI/t/RequiredModules.pm blib/lib/CHI/t/RequiredModules.pm
PERL_DL_NONLAZY=1 "/opt/plenv/versions/5.33.6/bin/perl5.33.6" "-MExtUtils::Command::MM" "-MTest::Harness" "-e" "undef *Test::Harness::Switches; test_harness(0, 'blib/lib', 'blib/arch')" t/*.t
# Testing CHI 0.61, Perl 5.033006, /opt/plenv/versions/5.33.6/bin/perl5.33.6
t/00-load.t ............................. ok
t/author-03-pod.t ....................... skipped: these tests are for testing by the author
t/author-file-driver.t .................. skipped: these tests are for testing by the author
t/author-no-data-serializer.t ........... skipped: these tests are for testing by the author
t/author-RequiredModules.t .............. skipped: these tests are for testing by the author
t/Bugs.t ................................ ok
t/Config.t .............................. ok
t/Constants.t ........................... ok
t/Driver-Memory.t ....................... ok
t/Driver-RawMemory.t .................... ok
t/GetError.t ............................ ok
t/Initialize.t .......................... ok
t/release-dependent.t ................... skipped: these tests are for release candidate testing
t/Sanity.t .............................. ok
t/SetError.t ............................ ok
t/smoke-Driver-CacheCache.t ............. skipped: these tests are for "smoke bot" testing
t/smoke-Driver-FastMmap.t ............... skipped: these tests are for "smoke bot" testing
t/smoke-Driver-File-DepthZero.t ......... skipped: these tests are for "smoke bot" testing
t/smoke-Driver-File.t ................... skipped: these tests are for "smoke bot" testing
t/smoke-Driver-NonMoose.t ............... skipped: these tests are for "smoke bot" testing
t/smoke-Driver-Subcache-l1_cache.t ...... skipped: these tests are for "smoke bot" testing
t/smoke-Driver-Subcache-mirror_cache.t .. skipped: these tests are for "smoke bot" testing
t/smoke-Null.t .......................... skipped: these tests are for "smoke bot" testing
t/Subcache.t ............................ ok
t/Subclass.t ............................ ok
t/Util.t ................................ ok
All tests successful.
Files=26, Tests=1787,  4 wallclock secs ( 0.33 usr  0.12 sys +  3.42 cusr  0.51 csys =  4.38 CPU)
Result: PASS

------------------------------
PREREQUISITES
------------------------------

Prerequisite modules loaded:

    No requirements found

------------------------------
ENVIRONMENT AND OTHER CONTEXT
------------------------------

Environment variables:

    LANG = en_US.UTF-8
    LC_ALL = en_US.UTF-8
    PATH = /opt/plenv/versions/5.33.6/bin:/opt/plenv/libexec:/opt/plenv/plugins/perl-build/bin:/opt/plenv/shims:/opt/plenv/shims:/opt/plenv/bin:/home/genehack/bin:/opt/nvm/versions/node/v12.18.4/bin:/opt/git/bin:/opt/emacs/bin:/opt/local/bin:/usr/local/sbin:/usr/local/bin:/usr/sbin:/usr/bin:/sbin:/bin:/usr/games:/usr/local/games:/usr/lib/wsl/lib:/mnt/c/WINDOWS/system32:/mnt/c/WINDOWS:/mnt/c/WINDOWS/System32/Wbem:/mnt/c/WINDOWS/System32/WindowsPowerShell/v1.0/:/mnt/c/WINDOWS/System32/OpenSSH/:/mnt/c/Program Files (x86)/NVIDIA Corporation/PhysX/Common:/mnt/c/Program Files/NVIDIA Corporation/NVIDIA NvDLISR:/mnt/c/Program Files/dotnet/:/mnt/c/Program Files/Git/cmd:/mnt/c/Program Files/Microsoft SQL Server/130/Tools/Binn/:/mnt/c/Program Files/Microsoft SQL Server/Client SDK/ODBC/170/Tools/Binn/:/mnt/c/Program Files/nodejs/:/mnt/c/Users/geneh/AppData/Local/Microsoft/WindowsApps:/mnt/c/Users/geneh/AppData/Local/Programs/Microsoft VS Code/bin:/mnt/c/Users/geneh/.dotnet/tools:/mnt/c/Users/geneh/AppData/Roaming/npm
    PERL_CPANM_OPT = --skip-installed --prompt
    SHELL = /bin/zsh
    TERM = screen-256color

Perl special variables (and OS-specific diagnostics, for MSWin32):

    EGID = 1000 4 24 27 30 46 1000
    EUID = 1000
    EXECUTABLE_NAME = /opt/plenv/versions/5.33.6/bin/perl5.33.6
    GID = 1000 4 24 27 30 46 1000
    UID = 1000

Perl module toolchain versions installed:

    Module              Have    
    ------------------- --------
    CPAN                2.34    
    CPAN::Meta          2.150010
    Cwd                 3.80    
    ExtUtils::CBuilder  0.280236
    ExtUtils::Command   7.64    
    ExtUtils::Install   2.20    
    ExtUtils::MakeMaker 7.64    
    ExtUtils::Manifest  1.73    
    ExtUtils::ParseXS   3.44    
    File::Spec          3.80    
    JSON                4.09    
    JSON::PP            4.11    
    Module::Build       0.4231  
    Module::Signature   n/a     
    Parse::CPAN::Meta   2.150010
    Test::Harness       3.44    
    Test::More          1.302191
    YAML                1.30    
    YAML::Syck          n/a     
    version             0.9929  


--

Summary of my perl5 (revision 5 version 33 subversion 6) configuration:
   
  Platform:
    osname=linux
    osvers=4.19.84-microsoft-standard
    archname=x86_64-linux
    uname='linux perry 4.19.84-microsoft-standard #1 smp wed nov 13 11:44:37 utc 2019 x86_64 gnulinux '
    config_args='-Dprefix=/opt/plenv/versions/5.33.6 -de -Dversiononly -Dusedevel -A'eval:scriptdir=/opt/plenv/versions/5.33.6/bin''
    hint=recommended
    useposix=true
    d_sigaction=define
    useithreads=undef
    usemultiplicity=undef
    use64bitint=define
    use64bitall=define
    uselongdouble=undef
    usemymalloc=n
    default_inc_excludes_dot=define
  Compiler:
    cc='cc'
    ccflags ='-fwrapv -fno-strict-aliasing -pipe -fstack-protector-strong -I/usr/local/include -D_LARGEFILE_SOURCE -D_FILE_OFFSET_BITS=64 -D_FORTIFY_SOURCE=2'
    optimize='-O2'
    cppflags='-fwrapv -fno-strict-aliasing -pipe -fstack-protector-strong -I/usr/local/include'
    ccversion=''
    gccversion='8.3.0'
    gccosandvers=''
    intsize=4
    longsize=8
    ptrsize=8
    doublesize=8
    byteorder=12345678
    doublekind=3
    d_longlong=define
    longlongsize=8
    d_longdbl=define
    longdblsize=16
    longdblkind=3
    ivtype='long'
    ivsize=8
    nvtype='double'
    nvsize=8
    Off_t='off_t'
    lseeksize=8
    alignbytes=8
    prototype=define
  Linker and Libraries:
    ld='cc'
    ldflags =' -fstack-protector-strong -L/usr/local/lib'
    libpth=/usr/local/lib /usr/lib/gcc/x86_64-linux-gnu/8/include-fixed /usr/include/x86_64-linux-gnu /usr/lib /lib/x86_64-linux-gnu /lib/../lib /usr/lib/x86_64-linux-gnu /usr/lib/../lib /lib
    libs=-lpthread -lnsl -ldl -lm -lcrypt -lutil -lc
    perllibs=-lpthread -lnsl -ldl -lm -lcrypt -lutil -lc
    libc=libc-2.28.so
    so=so
    useshrplib=false
    libperl=libperl.a
    gnulibc_version='2.28'
  Dynamic Linking:
    dlsrc=dl_dlopen.xs
    dlext=so
    d_dlsymun=undef
    ccdlflags='-Wl,-E'
    cccdlflags='-fPIC'
    lddlflags='-shared -O2 -L/usr/local/lib -fstack-protector-strong'


Characteristics of this binary (from libperl): 
  Compile-time options:
    HAS_TIMES
    PERLIO_LAYERS
    PERL_COPY_ON_WRITE
    PERL_DONT_CREATE_GVSV
    PERL_MALLOC_WRAP
    PERL_OP_PARENT
    PERL_PRESERVE_IVUV
    PERL_USE_DEVEL
    USE_64_BIT_ALL
    USE_64_BIT_INT
    USE_LARGE_FILES
    USE_LOCALE
    USE_LOCALE_COLLATE
    USE_LOCALE_CTYPE
    USE_LOCALE_NUMERIC
    USE_LOCALE_TIME
    USE_PERLIO
    USE_PERL_ATOF
  Built under linux
  Compiled at Feb 19 2021 17:50:28
  %ENV:
    PERL_CPANM_OPT="--skip-installed --prompt"
  @INC:
    /opt/plenv/versions/5.33.6/lib/perl5/site_perl/5.33.6/x86_64-linux
    /opt/plenv/versions/5.33.6/lib/perl5/site_perl/5.33.6
    /opt/plenv/versions/5.33.6/lib/perl5/5.33.6/x86_64-linux
    /opt/plenv/versions/5.33.6/lib/perl5/5.33.6