FunctionalPerl v0.72.76 Perl 5 v5.28.3 x86_64-linux-thread-multi-ld
- Status
- Pass
- From
- Andreas J. König (ANDK)
- Dist
-
FunctionalPerl v0.72.76
- Platform
- Perl 5 v5.28.3 x86_64-linux-thread-multi-ld
- Date
- 2023-01-24 20:11:07
- ID
- 3ce41d2c-9c23-11ed-98a2-858a47b96176
This distribution has been tested as part of the CPAN Testers
project, supporting the Perl programming language. See
http://wiki.cpantesters.org/ for more information or email
questions to cpan-testers-discuss@perl.org
--
Dear Christian Jaeger,
This is a computer-generated report for FunctionalPerl-0.72.76
on perl 5.28.3, created by CPAN-Reporter-1.2018.
Thank you for uploading your work to CPAN. Congratulations!
All tests were successful.
Sections of this report:
* Tester comments
* Program output
* Prerequisites
* Environment and other context
------------------------------
TESTER COMMENTS
------------------------------
Additional comments from tester:
this report is from an automated smoke testing program
and was not reviewed by a human for accuracy
------------------------------
PROGRAM OUTPUT
------------------------------
Output from '/usr/bin/make test':
PERL_DL_NONLAZY=1 "/home/sand/src/perl/repoperls/installed-perls/host/k93msid/v5.28.3/ac75/bin/perl" "-MExtUtils::Command::MM" "-MTest::Harness" "-e" "undef *Test::Harness::Switches; test_harness(0, 'blib/lib', 'blib/arch')" t/*.t
t/csv_to_xml.t ........................... ok
t/dbi.t .................................. ok
t/examples-csv-to-json.t ................. ok
times for fib: user = 0.11, system = 0.01, cuser = 0, csystem = 0
times for fibonacci: user = 1.17, system = 0.01, cuser = 0, csystem = 0
t/examples-fibs.t ........................ ok
t/examples-functional-classes.t .......... ok
not activating since running in test mode at examples//../lib/FP/Repl/Trap.pm line 47.
t/examples-hiring-without-whiteboards.t .. ok
not activating since running in test mode at examples//../lib/FP/Repl/Trap.pm line 47.
t/examples-logic.t ....................... ok
t/examples-perlweekly-111-1.t ............ skipped: Perl v5.32.1 required--this is only v5.28.3, stopped at (eval 74) line 1.
times: user = 0.02, system = 0, cuser = 0, csystem = 0
times: user = 0.03, system = 0, cuser = 0, csystem = 0
times: user = 0.04, system = 0, cuser = 0, csystem = 0
t/examples-perlweekly-113-1.t ............ ok
t/examples-perlweekly-113-2.t ............ ok
t/examples-primes.t ...................... ok
t/functional_XML-t-div.t ................. ok
t/functional_XML-test.t .................. ok
t/htmlgen.t .............................. ok
not activating since running in test mode at intro//../lib/FP/Repl/AutoTrap.pm line 64.
t/intro-basics.t ......................... ok
t/perl-goto-leak.t ....................... ok
t/perl-weaken-coderef-correctness.t ...... ok
t/perl-weaken-coderef.t .................. ok
Exception: Label not found for "last T2_SUBTEST_WRAPPER" at /home/sand/src/perl/repoperls/installed-perls/host/k93msid/v5.28.3/ac75/lib/site_perl/5.28.3/Test2/Hub/Subtest.pm line 67.
at /home/sand/src/perl/repoperls/installed-perls/host/k93msid/v5.28.3/ac75/lib/site_perl/5.28.3/Test2/Hub/Subtest.pm line 67.
Test2::Hub::Subtest::terminate(Test2::Hub::Subtest=HASH(0x55f7a3e07658), 0, Test2::Event::Plan=HASH(0x55f7a3e37398), HASH(0x55f7a3e50350)) called at /home/sand/src/perl/repoperls/installed-perls/host/k93msid/v5.28.3/ac75/lib/site_perl/5.28.3/Test2/Hub.pm line 386
Test2::Hub::process(Test2::Hub::Subtest=HASH(0x55f7a3e07658), Test2::Event::Plan=HASH(0x55f7a3e37398)) called at /home/sand/src/perl/repoperls/installed-perls/host/k93msid/v5.28.3/ac75/lib/site_perl/5.28.3/Test2/Hub.pm line 306
Test2::Hub::send(Test2::Hub::Subtest=HASH(0x55f7a3e07658), Test2::Event::Plan=HASH(0x55f7a3e37398)) called at /home/sand/src/perl/repoperls/installed-perls/host/k93msid/v5.28.3/ac75/lib/site_perl/5.28.3/Test2/Hub/Subtest.pm line 34
Test2::Hub::Subtest::send(Test2::Hub::Subtest=HASH(0x55f7a3e07658), Test2::Event::Plan=HASH(0x55f7a3e37398)) called at /home/sand/src/perl/repoperls/installed-perls/host/k93msid/v5.28.3/ac75/lib/site_perl/5.28.3/Test2/API/Context.pm line 272
Test2::API::Context::send_event(Test2::API::Context=HASH(0x55f7a3e37440), "Plan", "max", 0, "directive", "SKIP", "reason", "FunctionalPerl::Dependencies::ChjBin import: these programs a"...) called at /home/sand/src/perl/repoperls/installed-perls/host/k93msid/v5.28.3/ac75/lib/site_perl/5.28.3/Test2/API/Context.pm line 448
Test2::API::Context::plan(Test2::API::Context=HASH(0x55f7a3e37440), 0, "SKIP", "FunctionalPerl::Dependencies::ChjBin import: these programs a"...) called at /home/sand/src/perl/repoperls/installed-perls/host/k93msid/v5.28.3/ac75/lib/site_perl/5.28.3/Test/Builder.pm line 660
Test::Builder::skip_all(Test::Builder=HASH(0x55f79df0fb08), "FunctionalPerl::Dependencies::ChjBin import: these programs a"...) called at /home/sand/src/perl/repoperls/installed-perls/host/k93msid/v5.28.3/ac75/lib/site_perl/5.28.3/Test/Requires.pm line 44
Test::Requires::__ANON__("FunctionalPerl::Dependencies::ChjBin import: these programs a"...) called at /home/sand/src/perl/repoperls/installed-perls/host/k93msid/v5.28.3/ac75/lib/site_perl/5.28.3/Test/Requires.pm line 71
Test::Requires::test_requires("FunctionalPerl::Dependencies::ChjBin", "\"trigger-listen\"", "t_pod_snippets_112") called at /home/sand/src/perl/repoperls/installed-perls/host/k93msid/v5.28.3/ac75/lib/site_perl/5.28.3/Test/Requires.pm line 21
Test::Requires::import("Test::Requires", HASH(0x55f7a3e38a08)) called at meta/FunctionalPerl/Dependencies/ChjBin.pm line 19
t_pod_snippets_112::BEGIN() called at meta/FunctionalPerl/Dependencies/ChjBin.pm line 19
eval {...} called at meta/FunctionalPerl/Dependencies/ChjBin.pm line 19
eval 'package main; package t_pod_snippets_112; use Test::More ;
{
no warnings;
use strict; # things are likely to be sloppy
ok 1 => \'the tests compile\';
#line 16 meta/FunctionalPerl/Dependencies/ChjBin.pm
use Chj::TEST use => \'FunctionalPerl::Dependencies::ChjBin\';
# or
use Test::Requires +{
\'FunctionalPerl::Dependencies::ChjBin\' => \'"trigger-listen"\' };
# or
# list in FunctionalPerl::Dependencies\'s %dependencies
;
ok 1 => \'we reached the end!\';
}
;
1' called at lib/FP/Repl/WithRepl.pm line 75
FP::Repl::WithRepl::WithRepl_eval("package t_pod_snippets_112; use Test::More ;\x{a}{\x{a}no warnings;\x{a}u"...) called at t/pod_snippets.t line 37
main::myeval("package t_pod_snippets_112; use Test::More ;\x{a}{\x{a}no warnings;\x{a}u"...) called at t/pod_snippets.t line 158
main::__ANON__() called at /home/sand/src/perl/repoperls/installed-perls/host/k93msid/v5.28.3/ac75/lib/site_perl/5.28.3/Test/Builder.pm line 374
eval {...} called at /home/sand/src/perl/repoperls/installed-perls/host/k93msid/v5.28.3/ac75/lib/site_perl/5.28.3/Test/Builder.pm line 374
Test::Builder::subtest(Test::Builder=HASH(0x55f79df0fb08), "pod snippets in FunctionalPerl::Dependencies::ChjBin", CODE(0x55f79d4a0f88)) called at /home/sand/src/perl/repoperls/installed-perls/host/k93msid/v5.28.3/ac75/lib/site_perl/5.28.3/Test/More.pm line 809
Test::More::subtest("pod snippets in FunctionalPerl::Dependencies::ChjBin", CODE(0x55f79d4a0f88)) called at t/pod_snippets.t line 183
BEGIN failed--compilation aborted at meta/FunctionalPerl/Dependencies/ChjBin.pm line 19.
at meta/FunctionalPerl/Dependencies/ChjBin.pm line 19.
eval 'package main; package t_pod_snippets_112; use Test::More ;
{
no warnings;
use strict; # things are likely to be sloppy
ok 1 => \'the tests compile\';
#line 16 meta/FunctionalPerl/Dependencies/ChjBin.pm
use Chj::TEST use => \'FunctionalPerl::Dependencies::ChjBin\';
# or
use Test::Requires +{
\'FunctionalPerl::Dependencies::ChjBin\' => \'"trigger-listen"\' };
# or
# list in FunctionalPerl::Dependencies\'s %dependencies
;
ok 1 => \'we reached the end!\';
}
;
1' called at lib/FP/Repl/WithRepl.pm line 75
FP::Repl::WithRepl::WithRepl_eval("package t_pod_snippets_112; use Test::More ;\x{a}{\x{a}no warnings;\x{a}u"...) called at t/pod_snippets.t line 37
main::myeval("package t_pod_snippets_112; use Test::More ;\x{a}{\x{a}no warnings;\x{a}u"...) called at t/pod_snippets.t line 158
main::__ANON__() called at /home/sand/src/perl/repoperls/installed-perls/host/k93msid/v5.28.3/ac75/lib/site_perl/5.28.3/Test/Builder.pm line 374
eval {...} called at /home/sand/src/perl/repoperls/installed-perls/host/k93msid/v5.28.3/ac75/lib/site_perl/5.28.3/Test/Builder.pm line 374
Test::Builder::subtest(Test::Builder=HASH(0x55f79df0fb08), "pod snippets in FunctionalPerl::Dependencies::ChjBin", CODE(0x55f79d4a0f88)) called at /home/sand/src/perl/repoperls/installed-perls/host/k93msid/v5.28.3/ac75/lib/site_perl/5.28.3/Test/More.pm line 809
Test::More::subtest("pod snippets in FunctionalPerl::Dependencies::ChjBin", CODE(0x55f79d4a0f88)) called at t/pod_snippets.t line 183
# Failed test 'pod snippets in FunctionalPerl::Dependencies::ChjBin'
# at t/pod_snippets.t line 177.
# Looks like you failed 1 test of 1.
t/pod_snippets.t ......................... ok
t/predicates.t ........................... ok
t/repl.t ................................. ok
not activating since running in test mode at lib/FP/Repl/AutoTrap.pm line 64.
not activating since running in test mode at lib/FP/Repl/Trap.pm line 47.
Reference is already weak at lib/FP/Stream.pm line 770.
t/require_and_run_tests.t ................ ok
t/skip-internal.t ........................ ok
t/skip-leak.t ............................ ok
t/skip.t ................................. ok
t/testlazy.t ............................. ok
t/testlazy10.t ........................... ok
times for T: user = 0.1, system = 0, cuser = 0, csystem = 0
times for TC: user = 0.07, system = 0, cuser = 0, csystem = 0
t/trampoline-fix.t ....................... ok
All tests successful.
Files=28, Tests=183, 29 wallclock secs ( 0.23 usr 0.07 sys + 20.53 cusr 3.13 csys = 23.96 CPU)
Result: PASS
------------------------------
PREREQUISITES
------------------------------
Prerequisite modules loaded:
requires:
Module Need Have
------------------- -------- --------
autobox 0 v3.0.1
base 0 2.27
Digest 0 1.17_01
File::Path 0 2.18
Getopt::Long 0 2.54
Import::Into 0 1.002005
Math::BigInt 0 1.999811
NEXT 0 0.67_01
perl 5.016004 5.028003
PerlIO::utf8_strict 0 0.010
Safe::Isa 0 1.000010
Scalar::Util 0 1.63
Symbol 0 1.08
Test::More 0.96 1.302191
utf8 0 1.21
build_requires:
Module Need Have
------------------- -------- --------
BSD::Resource 0 1.2911
Capture::Tiny 0 0.48
DBD::CSV 0 0.60
DBI 0 1.643
ExtUtils::MakeMaker 0 7.64
File::chdir 0 0.1011
Sub::Util 0 1.63
Test::Pod::Snippets 0 0.07
Test::Requires 0 0.11
Text::CSV 0 2.02
URI 0 5.17
configure_requires:
Module Need Have
------------------- -------- --------
ExtUtils::MakeMaker 0 7.64
opt_requires:
Module Need Have
------------------- -------- --------
B::Deparse 0 1.48
Clone 0 0.46
Encode 0 3.19
Eval::WithLexicals 0 1.003006
JSON 0 4.10
LWP::UserAgent 0 6.67
Method::Signatures 0 20170211
PadWalker 0 2.5
Term::ReadLine::Gnu 0 1.45
Text::Markdown 0 1.000031
------------------------------
ENVIRONMENT AND OTHER CONTEXT
------------------------------
Environment variables:
AUTOMATED_TESTING = 1
LANG = en_US.UTF-8
LANGUAGE = en_US:en
PATH = /home/sand/bin:/usr/local/bin:/usr/bin:/bin:/usr/games:/usr/local/perl/bin:/usr/X11/bin:/sbin:/usr/sbin
PERL = /home/sand/src/perl/repoperls/installed-perls/host/k93msid/v5.28.3/ac75/bin/perl
PERL5LIB =
PERL5OPT =
PERL5_CPANPLUS_IS_RUNNING = 3864063
PERL5_CPAN_IS_RUNNING = 3864063
PERL_CANARY_STABILITY_NOPROMPT = 1
PERL_MM_USE_DEFAULT = 1
PERL_USE_UNSAFE_INC = 1
SHELL = /usr/bin/zsh
TERM = screen
Perl special variables (and OS-specific diagnostics, for MSWin32):
$^X = /home/sand/src/perl/repoperls/installed-perls/host/k93msid/v5.28.3/ac75/bin/perl
$UID/$EUID = 1005 / 1005
$GID = 1005 1005
$EGID = 1005 1005
Perl module toolchain versions installed:
Module Have
------------------- --------
CPAN 2.34
CPAN::Meta 2.150010
Cwd 3.75
ExtUtils::CBuilder 0.280236
ExtUtils::Command 7.64
ExtUtils::Install 2.14
ExtUtils::MakeMaker 7.64
ExtUtils::Manifest 1.70
ExtUtils::ParseXS 3.39
File::Spec 3.75
JSON 4.10
JSON::PP 4.12
Module::Build 0.4231
Module::Signature 0.88
Parse::CPAN::Meta 2.150010
Test::Harness 3.44
Test::More 1.302191
YAML 1.30
YAML::Syck 1.34
version 0.9929
--
Summary of my perl5 (revision 5 version 28 subversion 3) configuration:
Derived from: ae49126f3ca2352fb49d7121a769189bf31e6f72
Platform:
osname=linux
osvers=5.19.0-2-amd64
archname=x86_64-linux-thread-multi-ld
uname='linux k93msid 5.19.0-2-amd64 #1 smp preempt_dynamic debian 5.19.11-1 (2022-09-24) x86_64 gnulinux '
config_args='-Dprefix=/home/sand/src/perl/repoperls/installed-perls/host/k93msid/v5.28.3/ac75 -Dmyhostname=k93msid -Dinstallusrbinperl=n -Uversiononly -Dusedevel -des -Ui_db -Dlibswanted=cl pthread socket inet nsl gdbm dbm malloc dl ld sun m crypt sec util c cposix posix ucb BSD gdbm_compat -Duseithreads -Duselongdouble -DEBUGGING=both'
hint=recommended
useposix=true
d_sigaction=define
useithreads=define
usemultiplicity=define
use64bitint=define
use64bitall=define
uselongdouble=define
usemymalloc=n
default_inc_excludes_dot=define
bincompat5005=undef
Compiler:
cc='cc'
ccflags ='-D_REENTRANT -D_GNU_SOURCE -fwrapv -DDEBUGGING -fno-strict-aliasing -pipe -fstack-protector-strong -I/usr/local/include -D_LARGEFILE_SOURCE -D_FILE_OFFSET_BITS=64 -D_FORTIFY_SOURCE=2'
optimize='-O2 -g'
cppflags='-D_REENTRANT -D_GNU_SOURCE -fwrapv -DDEBUGGING -fno-strict-aliasing -pipe -fstack-protector-strong -I/usr/local/include'
ccversion=''
gccversion='12.2.0'
gccosandvers=''
intsize=4
longsize=8
ptrsize=8
doublesize=8
byteorder=12345678
doublekind=3
d_longlong=define
longlongsize=8
d_longdbl=define
longdblsize=16
longdblkind=3
ivtype='long'
ivsize=8
nvtype='long double'
nvsize=16
Off_t='off_t'
lseeksize=8
alignbytes=16
prototype=define
Linker and Libraries:
ld='cc'
ldflags =' -fstack-protector-strong -L/usr/local/lib'
libpth=/usr/local/lib /usr/include/x86_64-linux-gnu /usr/lib /lib/x86_64-linux-gnu /lib/../lib /usr/lib/x86_64-linux-gnu /usr/lib/../lib /lib /lib64 /usr/lib64
libs=-lpthread -lnsl -ldl -lm -lcrypt -lutil -lc
perllibs=-lpthread -lnsl -ldl -lm -lcrypt -lutil -lc
libc=/lib/x86_64-linux-gnu/libc.so.6
so=so
useshrplib=false
libperl=libperl.a
gnulibc_version='2.35'
Dynamic Linking:
dlsrc=dl_dlopen.xs
dlext=so
d_dlsymun=undef
ccdlflags='-Wl,-E'
cccdlflags='-fPIC'
lddlflags='-shared -O2 -g -L/usr/local/lib -fstack-protector-strong'
Characteristics of this binary (from libperl):
Compile-time options:
DEBUGGING
HAS_TIMES
MULTIPLICITY
PERLIO_LAYERS
PERL_COPY_ON_WRITE
PERL_DONT_CREATE_GVSV
PERL_IMPLICIT_CONTEXT
PERL_MALLOC_WRAP
PERL_OP_PARENT
PERL_PRESERVE_IVUV
PERL_TRACK_MEMPOOL
PERL_USE_DEVEL
USE_64_BIT_ALL
USE_64_BIT_INT
USE_ITHREADS
USE_LARGE_FILES
USE_LOCALE
USE_LOCALE_COLLATE
USE_LOCALE_CTYPE
USE_LOCALE_NUMERIC
USE_LOCALE_TIME
USE_LONG_DOUBLE
USE_PERLIO
USE_PERL_ATOF
USE_REENTRANT_API
Locally applied patches:
uncommitted-changes
Built under linux
Compiled at Dec 1 2022 13:41:59
%ENV:
PERL="/home/sand/src/perl/repoperls/installed-perls/host/k93msid/v5.28.3/ac75/bin/perl"
PERL5LIB=""
PERL5OPT=""
PERL5_CPANPLUS_IS_RUNNING="3864063"
PERL5_CPAN_IS_RUNNING="3864063"
PERL_CANARY_STABILITY_NOPROMPT="1"
PERL_MM_USE_DEFAULT="1"
PERL_USE_UNSAFE_INC="1"
@INC:
/home/sand/src/perl/repoperls/installed-perls/host/k93msid/v5.28.3/ac75/lib/site_perl/5.28.3/x86_64-linux-thread-multi-ld
/home/sand/src/perl/repoperls/installed-perls/host/k93msid/v5.28.3/ac75/lib/site_perl/5.28.3
/home/sand/src/perl/repoperls/installed-perls/host/k93msid/v5.28.3/ac75/lib/5.28.3/x86_64-linux-thread-multi-ld
/home/sand/src/perl/repoperls/installed-perls/host/k93msid/v5.28.3/ac75/lib/5.28.3
.