Yancy v1.084 Perl 5 v5.16.3 x86_64-linux
- Status
- Pass
- From
- Slaven Rezić
- Dist
-
Yancy v1.084
- Platform
- Perl 5 v5.16.3 x86_64-linux
- Date
- 2021-11-03 17:26:53
- ID
- 3c5e470a-3ccb-11ec-929c-51241f24ea8f
This distribution has been tested as part of the CPAN Testers
project, supporting the Perl programming language. See
http://wiki.cpantesters.org/ for more information or email
questions to cpan-testers-discuss@perl.org
--
Dear Doug Bell,
This is a computer-generated report for Yancy-1.084
on perl 5.16.3, created by CPAN-Reporter-1.2018.
Thank you for uploading your work to CPAN. Congratulations!
All tests were successful.
Sections of this report:
* Tester comments
* Program output
* Prerequisites
* Environment and other context
------------------------------
TESTER COMMENTS
------------------------------
Additional comments from tester:
none provided
------------------------------
PROGRAM OUTPUT
------------------------------
Output from '/usr/bin/make test':
Skip blib/lib/auto/share/dist/Yancy/update_resources.sh (unchanged)
PERL_DL_NONLAZY=1 "/opt/perl-5.16.3/bin/perl" "-MExtUtils::Command::MM" "-MTest::Harness" "-e" "undef *Test::Harness::Switches; test_harness(0, 'blib/lib', 'blib/arch')" t/*.t t/backend/*.t t/command/backend/*.t t/controller/*.t t/examples/*.t t/plugin/*.t t/plugin/auth/*.t t/plugin/form/*.t
t/00-compile.t ............... ok
#
# Versions for all modules listed in MYMETA.json (including optional ones):
#
# === Configure Requires ===
#
# Module Want Have
# ----------------------- ---- ----
# ExtUtils::MakeMaker any 7.62
# File::ShareDir::Install 0.06 0.13
#
# === Configure Suggests ===
#
# Module Want Have
# -------- ------- ----
# JSON::PP 2.27300 4.06
#
# === Build Requires ===
#
# Module Want Have
# ------------------- ---- ----
# ExtUtils::MakeMaker any 7.62
#
# === Test Requires ===
#
# Module Want Have
# ------------------- -------- --------
# ExtUtils::MakeMaker any 7.62
# File::Spec any 3.75
# File::Temp 0.2307 0.2311
# IO::Handle any 1.48
# IPC::Open3 any 1.12
# Test::More 1.001005 1.302188
#
# === Test Recommends ===
#
# Module Want Have
# ---------- -------- --------
# CPAN::Meta 2.120900 2.150010
#
# === Runtime Requires ===
#
# Module Want Have
# ---------------------------- -------- --------
# Class::Method::Modifiers any 2.13
# Digest any 1.17
# Exporter any 5.74
# File::Spec::Functions any 3.75
# FindBin any 1.52
# JSON::Validator 5.00 5.01
# Mojolicious 9 9.21
# Mojolicious::Plugin::I18N 1.6 1.6
# Mojolicious::Plugin::OpenAPI 5.00 5.00
# Role::Tiny 2.000001 2.002004
# Scalar::Util any 1.60
# Sys::Hostname any 1.16
# Text::Balanced any 2.02
#
t/00-report-prereqs.t ........ ok
x-view is deprecated and will be removed in v2. Use Yancy::Model or your database's CREATE VIEW instead. at /home/cpansand/.cpan/build/2021110318/Yancy-1.084-1/blib/lib/Yancy/Model/Schema.pm line 281.
t/api.t ...................... ok
t/app.t ...................... ok
DBIx::Class::Storage::DBI::SQLite::_dbi_attrs_for_bind(): Non-integer value supplied for column 'me.id' despite the integer datatype at /home/cpansand/.cpan/build/2021110318/Yancy-1.084-1/blib/lib/Yancy/Backend/Dbic.pm line 174
datatype mismatch: bind param (0) DOES_NOT_EXIST as integer at /opt/perl-5.16.3/lib/site_perl/5.16.3/DBIx/Class/Storage/DBI.pm line 1958.
datatype mismatch: bind param (0) DOES_NOT_EXIST as integer at /opt/perl-5.16.3/lib/site_perl/5.16.3/DBIx/Class/Storage/DBI.pm line 1958.
datatype mismatch: bind param (0) DOES_NOT_EXIST as integer at /opt/perl-5.16.3/lib/site_perl/5.16.3/DBIx/Class/Storage/DBI.pm line 1958.
datatype mismatch: bind param (0) DOES_NOT_EXIST as integer at /opt/perl-5.16.3/lib/site_perl/5.16.3/DBIx/Class/Storage/DBI.pm line 1958.
datatype mismatch: bind param (0) DOES_NOT_EXIST as integer at /opt/perl-5.16.3/lib/site_perl/5.16.3/DBIx/Class/Storage/DBI.pm line 1958.
datatype mismatch: bind param (0) DOES_NOT_EXIST as integer at /opt/perl-5.16.3/lib/site_perl/5.16.3/DBIx/Class/Storage/DBI.pm line 1958.
t/backend/dbic.t ............. ok
t/backend/memory.t ........... ok
t/backend/mysql.t ............ skipped: set TEST_ONLINE_MYSQL to enable this test
t/backend/pg.t ............... skipped: Mojo::Pg >= 3.0 required for this test
t/backend/sqlite.t ........... skipped: Mojo::SQLite >= 3.005 required for this test
x-view is deprecated and will be removed in v2. Use Yancy::Model or your database's CREATE VIEW instead. at /home/cpansand/.cpan/build/2021110318/Yancy-1.084-1/blib/lib/Yancy/Model/Schema.pm line 281.
t/command/backend/copy.t ..... ok
x-view is deprecated and will be removed in v2. Use Yancy::Model or your database's CREATE VIEW instead. at /home/cpansand/.cpan/build/2021110318/Yancy-1.084-1/blib/lib/Yancy/Model/Schema.pm line 281.
t/config.t ................... ok
x-view is deprecated and will be removed in v2. Use Yancy::Model or your database's CREATE VIEW instead. at /home/cpansand/.cpan/build/2021110318/Yancy-1.084-1/blib/lib/Yancy/Model/Schema.pm line 281.
t/controller/multi_tenant.t .. ok
x-view is deprecated and will be removed in v2. Use Yancy::Model or your database's CREATE VIEW instead. at /home/cpansand/.cpan/build/2021110318/Yancy-1.084-1/blib/lib/Yancy/Model/Schema.pm line 281.
t/controller/yancy.t ......... ok
t/examples/doc-site.t ........ skipped: Set TEST_YANCY_EXAMPLES to run these tests
t/examples/limited-editor.t .. skipped: Set TEST_YANCY_EXAMPLES to run these tests
t/examples/test-app.t ........ skipped: Set TEST_YANCY_EXAMPLES to run these tests
t/examples/todo-app.t ........ skipped: Set TEST_YANCY_EXAMPLES to run these tests
x-view is deprecated and will be removed in v2. Use Yancy::Model or your database's CREATE VIEW instead. at /home/cpansand/.cpan/build/2021110318/Yancy-1.084-1/blib/lib/Yancy/Model/Schema.pm line 281.
[2021-11-03 18:17:42.50137] [23984] [fatal] [2_iYzq0mLu64] Unknown filter: DOES.NOT.EXIST (schema: user, field: email) at /home/cpansand/.cpan/build/2021110318/Yancy-1.084-1/blib/lib/Mojolicious/Plugin/Yancy.pm line 876.
t/filter.t ................... ok
x-view is deprecated and will be removed in v2. Use Yancy::Model or your database's CREATE VIEW instead. at /home/cpansand/.cpan/build/2021110318/Yancy-1.084-1/blib/lib/Yancy/Model/Schema.pm line 281.
t/helpers.t .................. ok
x-view is deprecated and will be removed in v2. Use Yancy::Model or your database's CREATE VIEW instead. at /home/cpansand/.cpan/build/2021110318/Yancy-1.084-1/blib/lib/Yancy/Model/Schema.pm line 281.
t/i18n.t ..................... ok
t/model.t .................... ok
x-view is deprecated and will be removed in v2. Use Yancy::Model or your database's CREATE VIEW instead. at /home/cpansand/.cpan/build/2021110318/Yancy-1.084-1/blib/lib/Yancy/Model/Schema.pm line 281.
t/plugin/auth.t .............. ok
x-view is deprecated and will be removed in v2. Use Yancy::Model or your database's CREATE VIEW instead. at /home/cpansand/.cpan/build/2021110318/Yancy-1.084-1/blib/lib/Yancy/Model/Schema.pm line 281.
The Auth::Basic plugin is deprecated and will be removed in Yancy v2.000. Please migrate to the Auth::Password module.
at /home/cpansand/.cpan/build/2021110318/Yancy-1.084-1/blib/lib/Yancy/Plugin/Auth/Basic.pm line 256.
t/plugin/auth/basic.t ........ ok
x-view is deprecated and will be removed in v2. Use Yancy::Model or your database's CREATE VIEW instead. at /home/cpansand/.cpan/build/2021110318/Yancy-1.084-1/blib/lib/Yancy/Model/Schema.pm line 281.
t/plugin/auth/github.t ....... ok
x-view is deprecated and will be removed in v2. Use Yancy::Model or your database's CREATE VIEW instead. at /home/cpansand/.cpan/build/2021110318/Yancy-1.084-1/blib/lib/Yancy/Model/Schema.pm line 281.
t/plugin/auth/oauth2.t ....... ok
x-view is deprecated and will be removed in v2. Use Yancy::Model or your database's CREATE VIEW instead. at /home/cpansand/.cpan/build/2021110318/Yancy-1.084-1/blib/lib/Yancy/Model/Schema.pm line 281.
t/plugin/auth/password.t ..... ok
x-view is deprecated and will be removed in v2. Use Yancy::Model or your database's CREATE VIEW instead. at /home/cpansand/.cpan/build/2021110318/Yancy-1.084-1/blib/lib/Yancy/Model/Schema.pm line 281.
t/plugin/auth/token.t ........ ok
t/plugin/editor.t ............ ok
x-view is deprecated and will be removed in v2. Use Yancy::Model or your database's CREATE VIEW instead. at /home/cpansand/.cpan/build/2021110318/Yancy-1.084-1/blib/lib/Yancy/Model/Schema.pm line 281.
[2021-11-03 18:17:50.94877] [24015] [warn] *** Cannot verify that admin editor is behind authentication.
Add a Yancy Auth plugin, add a `route` to the Yancy plugin config,
or set `editor.require_user => undef` to silence this warning
[2021-11-03 18:17:50.94952] [24015] [debug] [KkcT7FW3G77B] 201 Created (0s, ??/s)
[2021-11-03 18:17:50.96538] [24015] [debug] [_4umEfkHnktD] 200 OK (0s, ??/s)
[2021-11-03 18:17:50.97501] [24015] [debug] [YBegTZ3JT_r-] 302 Found (0s, ??/s)
[2021-11-03 18:17:50.97968] [24015] [debug] [KxmrQt0T-Obu] 200 OK (0s, ??/s)
t/plugin/file.t .............. ok
x-view is deprecated and will be removed in v2. Use Yancy::Model or your database's CREATE VIEW instead. at /home/cpansand/.cpan/build/2021110318/Yancy-1.084-1/blib/lib/Yancy/Model/Schema.pm line 281.
[2021-11-03 18:17:51.64201] [24025] [warn] [upLfzm8Ol4rz] form_for() called with incomplete request. CSRF token may not validate!
t/plugin/form/bootstrap4.t ... ok
x-view is deprecated and will be removed in v2. Use Yancy::Model or your database's CREATE VIEW instead. at /home/cpansand/.cpan/build/2021110318/Yancy-1.084-1/blib/lib/Yancy/Model/Schema.pm line 281.
t/plugin/roles.t ............. ok
# Could not load SQLite backend: Mojo::SQLite version 3.005 or higher required
# BEGIN failed--compilation aborted at /home/cpansand/.cpan/build/2021110318/Yancy-1.084-1/blib/lib/Yancy/Backend/Sqlite.pm line 116.
# Compilation failed in require at t/register.t line 21.
# Could not load Pg backend: Mojo::Pg version 4.03 or higher required
# BEGIN failed--compilation aborted at /home/cpansand/.cpan/build/2021110318/Yancy-1.084-1/blib/lib/Yancy/Backend/Pg.pm line 128.
# Compilation failed in require at t/register.t line 37.
t/register.t ................. ok
t/util.t ..................... ok
All tests successful.
Files=33, Tests=218, 29 wallclock secs ( 0.51 usr 0.08 sys + 23.92 cusr 1.58 csys = 26.09 CPU)
Result: PASS
------------------------------
PREREQUISITES
------------------------------
Prerequisite modules loaded:
requires:
Module Need Have
---------------------------- -------- --------
Class::Method::Modifiers 0 2.13
Digest 0 1.17
Exporter 0 5.74
File::Spec::Functions 0 3.75
FindBin 0 1.52
JSON::Validator 5.00 5.01
Mojolicious 9 9.21
Mojolicious::Plugin::I18N 1.6 1.6
Mojolicious::Plugin::OpenAPI 5.00 5.00
perl 5.016 5.016003
Role::Tiny 2.000001 2.002004
Scalar::Util 0 1.60
Sys::Hostname 0 1.16
Text::Balanced 0 2.02
build_requires:
Module Need Have
---------------------------- -------- --------
ExtUtils::MakeMaker 0 7.62
File::Spec 0 3.75
File::Temp 0.2307 0.2311
IO::Handle 0 1.48
IPC::Open3 0 1.12
Test::More 1.001005 1.302188
configure_requires:
Module Need Have
---------------------------- -------- --------
ExtUtils::MakeMaker 0 7.62
File::ShareDir::Install 0.06 0.13
------------------------------
ENVIRONMENT AND OTHER CONTEXT
------------------------------
Environment variables:
LANG = C
PATH = /usr/local/bin:/usr/bin:/bin:/usr/local/sbin:/usr/sbin:/sbin:/home/cpansand/bin/linux-gnu:/home/cpansand/bin/sh:/home/cpansand/bin:/usr/games:/home/cpansand/devel:/home/eserte/src/srezic-misc/scripts
PERL5LIB =
PERL5OPT =
PERL5_CPANPLUS_IS_RUNNING = 23831
PERL5_CPAN_IS_RUNNING = 23831
PERL5_CPAN_IS_RUNNING_IN_RECURSION = 18341,23831
PERLDOC = -MPod::Perldoc::ToTextOverstrike
PERL_BATCH = yes
PERL_CANARY_STABILITY_NOPROMPT = 1
PERL_CPAN_REPORTER_CONFIG = /var/tmp/cpansmoker-1023/2021110318/cpanreporter_000_config.ini
PERL_EXTUTILS_AUTOINSTALL = --defaultdeps
PERL_USE_UNSAFE_INC = 1
SHELL = /usr/bin/zsh
TERM = screen
TMPDIR = /var/tmp/cpansmoker-1023/2021110318
Perl special variables (and OS-specific diagnostics, for MSWin32):
$^X = /opt/perl-5.16.3/bin/perl
$UID/$EUID = 1023 / 1023
$GID = 1023 1023
$EGID = 1023 1023
Perl module toolchain versions installed:
Module Have
------------------- --------
CPAN 2.28
CPAN::Meta 2.150010
Cwd 3.75
ExtUtils::CBuilder 0.280236
ExtUtils::Command 7.62
ExtUtils::Install 2.06
ExtUtils::MakeMaker 7.62
ExtUtils::Manifest 1.70
ExtUtils::ParseXS 3.35
File::Spec 3.75
JSON 4.03
JSON::PP 4.06
Module::Build 0.4231
Module::Signature n/a
Parse::CPAN::Meta 2.150010
Test::Harness 3.42
Test::More 1.302188
YAML 1.30
YAML::Syck 1.34
version 0.9929
--
Summary of my perl5 (revision 5 version 16 subversion 3) configuration:
Platform:
osname=linux, osvers=4.9.0-16-amd64, archname=x86_64-linux
uname='linux cloud11.bbbike.org 4.9.0-16-amd64 #1 smp debian 4.9.272-2 (2021-07-19) x86_64 gnulinux '
config_args='-ds -e -Dprefix=/opt/perl-5.16.3 -Dcf_email=srezic@cpan.org'
hint=recommended, useposix=true, d_sigaction=define
useithreads=undef, usemultiplicity=undef
useperlio=define, d_sfio=undef, uselargefiles=define, usesocks=undef
use64bitint=define, use64bitall=define, uselongdouble=undef
usemymalloc=n, bincompat5005=undef
Compiler:
cc='cc', ccflags ='-fwrapv -fno-strict-aliasing -pipe -fstack-protector -I/usr/local/include -D_LARGEFILE_SOURCE -D_FILE_OFFSET_BITS=64',
optimize='-O2',
cppflags='-fwrapv -fno-strict-aliasing -pipe -fstack-protector -I/usr/local/include'
ccversion='', gccversion='6.3.0 20170516', gccosandvers=''
intsize=4, longsize=8, ptrsize=8, doublesize=8, byteorder=12345678
d_longlong=define, longlongsize=8, d_longdbl=define, longdblsize=16
ivtype='long', ivsize=8, nvtype='double', nvsize=8, Off_t='off_t', lseeksize=8
alignbytes=8, prototype=define
Linker and Libraries:
ld='cc', ldflags =' -fstack-protector -L/usr/local/lib'
libpth=/usr/local/lib /lib/x86_64-linux-gnu /lib/../lib /usr/lib/x86_64-linux-gnu /usr/lib/../lib /lib /usr/lib
libs=-lnsl -ldb -ldl -lm -lcrypt -lutil -lc
perllibs=-lnsl -ldl -lm -lcrypt -lutil -lc
libc=libc-2.24.so, so=so, useshrplib=false, libperl=libperl.a
gnulibc_version='2.24'
Dynamic Linking:
dlsrc=dl_dlopen.xs, dlext=so, d_dlsymun=undef, ccdlflags='-Wl,-E'
cccdlflags='-fPIC', lddlflags='-shared -O2 -L/usr/local/lib -fstack-protector'
Characteristics of this binary (from libperl):
Compile-time options: HAS_TIMES PERLIO_LAYERS PERL_DONT_CREATE_GVSV
PERL_MALLOC_WRAP PERL_PRESERVE_IVUV USE_64_BIT_ALL
USE_64_BIT_INT USE_LARGE_FILES USE_LOCALE
USE_LOCALE_COLLATE USE_LOCALE_CTYPE
USE_LOCALE_NUMERIC USE_PERLIO USE_PERL_ATOF
Locally applied patches:
Devel::PatchPerl 2.08
Built under linux
Compiled at Sep 5 2021 11:37:44
%ENV:
PERL5LIB=""
PERL5OPT=""
PERL5_CPANPLUS_IS_RUNNING="23831"
PERL5_CPAN_IS_RUNNING="23831"
PERL5_CPAN_IS_RUNNING_IN_RECURSION="18341,23831"
PERLDOC="-MPod::Perldoc::ToTextOverstrike"
PERL_BATCH="yes"
PERL_CANARY_STABILITY_NOPROMPT="1"
PERL_CPAN_REPORTER_CONFIG="/var/tmp/cpansmoker-1023/2021110318/cpanreporter_000_config.ini"
PERL_EXTUTILS_AUTOINSTALL="--defaultdeps"
PERL_USE_UNSAFE_INC="1"
@INC:
/opt/perl-5.16.3/lib/site_perl/5.16.3/x86_64-linux
/opt/perl-5.16.3/lib/site_perl/5.16.3
/opt/perl-5.16.3/lib/5.16.3/x86_64-linux
/opt/perl-5.16.3/lib/5.16.3
.