urpmi vv8.133.2 Perl 5 v5.28.2 x86_64-linux-thread-multi
- Status
- Pass
- From
- Thierry Vignaud
- Dist
-
urpmi vv8.133.2
- Platform
- Perl 5 v5.28.2 x86_64-linux-thread-multi
- Date
- 2024-06-03 08:56:57
- ID
- 3b947c56-2187-11ef-8c38-c1ceda55bd50
This distribution has been tested as part of the CPAN Testers
project, supporting the Perl programming language. See
http://wiki.cpantesters.org/ for more information or email
questions to cpan-testers-discuss@perl.org
--
Dear Thierry Vignaud,
This is a computer-generated report for urpmi-v8.133.2
on perl 5.28.2, created by CPAN-Reporter-1.2018.
Thank you for uploading your work to CPAN. Congratulations!
All tests were successful.
Sections of this report:
* Tester comments
* Program output
* Prerequisites
* Environment and other context
------------------------------
TESTER COMMENTS
------------------------------
Additional comments from tester:
none provided
------------------------------
PROGRAM OUTPUT
------------------------------
Output from '/usr/bin/make test':
Skip blib/lib/urpm/orphans.pm (unchanged)
Skip blib/lib/urpm/parallel.pm (unchanged)
Skip blib/lib/urpm/bug_report.pm (unchanged)
Skip blib/lib/urpm/xml_info.pm (unchanged)
Skip blib/lib/urpm/removable.pm (unchanged)
Skip blib/lib/urpm/cfg.pm (unchanged)
Skip blib/lib/urpm/lock.pm (unchanged)
Skip blib/lib/urpmi.pm (unchanged)
Skip blib/lib/urpm/install.pm (unchanged)
Skip blib/lib/gurpm/RPMProgressDialog.pm (unchanged)
Skip blib/lib/urpm/xml_info_pkg.pm (unchanged)
Skip blib/lib/urpm/prompt.pm (unchanged)
Skip blib/lib/urpm/ldap.pm (unchanged)
Skip blib/lib/urpm/parallel_ssh.pm (unchanged)
Skip blib/lib/urpm/media.pm (unchanged)
Skip blib/lib/urpm/msg.pm (unchanged)
Skip blib/lib/urpm/get_pkgs.pm (unchanged)
Skip blib/lib/urpm/README.ka-run (unchanged)
Skip blib/lib/urpm/main_loop.pm (unchanged)
Skip blib/lib/urpm/sys.pm (unchanged)
Skip blib/lib/urpm/parallel_ka_run.pm (unchanged)
Skip blib/lib/urpm/md5sum.pm (unchanged)
Skip blib/lib/urpm/mirrors.pm (unchanged)
Skip blib/lib/urpm/cdrom.pm (unchanged)
Skip blib/lib/urpm/select.pm (unchanged)
Skip blib/lib/urpm/download.pm (unchanged)
Skip blib/lib/urpm/util.pm (unchanged)
Skip blib/lib/urpm/args.pm (unchanged)
Skip blib/lib/urpm/README.ssh (unchanged)
Skip blib/lib/urpm/signature.pm (unchanged)
Skip blib/lib/urpm.pm (unchanged)
PERL_DL_NONLAZY=1 PERL_USE_UNSAFE_INC=1 "/usr/bin/perl5.28.2" "-MExtUtils::Command::MM" "-MTest::Harness" "-e" "undef *Test::Harness::Switches; test_harness(0, 'blib/lib', 'blib/arch')" t/*.t
t/01compile.t ................................................... ok
>> RPM version is: RPM version 4.14.3
0 blocks
32341 blocks
missing ./media/various/media_info/pubkey, not creating alternate location ./media/media_info/pubkey_various
missing ./media/various2/media_info/pubkey, not creating alternate location ./media/media_info/pubkey_various_ii
missing ./media/various3/media_info/pubkey, not creating alternate location ./media/media_info/pubkey_various_iii
missing ./media/various-debug/media_info/pubkey, not creating alternate location ./media/media_info/pubkey_various_debug
missing ./media/SRPMS-srpm-bootstrapping/media_info/pubkey, not creating alternate location ./media/media_info/pubkey_various_sources
t/02create_pkgs.t ............................................... ok
t/03kwality.t ................................................... skipped: These tests are for authors only!
t/cfg.t ......................................................... ok
t/pod.t ......................................................... ok
t/superuser--addmedia.t ......................................... ok
t/superuser--arch_to_noarch.t ................................... ok
t/superuser--backtrack-promotion.t .............................. ok
t/superuser--best-versioned-provide.t ........................... ok
t/superuser--buggy-rpms.t ....................................... ok
t/superuser--dropped-provides.t ................................. ok
t/superuser--epochless-conflict-with-promotion.t ................ ok
t/superuser--exclude.t .......................................... ok
t/superuser--failing-promotion.t ................................ ok
error: failed to exec scriptlet interpreter /bin/sh: No such file or directory
error: %prein(pre-1-1.x86_64) scriptlet failed, exit status 127
error: pre-1-1.x86_64: install failed
error: failed to exec scriptlet interpreter /bin/sh: No such file or directory
error: %pretrans(pretrans-1-1.x86_64) scriptlet failed, exit status 127
error: pretrans-1-1.x86_64: install skipped
error: failed to exec scriptlet interpreter /bin/sh: No such file or directory
warning: %post(post-1-1.x86_64) scriptlet failed, exit status 127
error: failed to exec scriptlet interpreter /bin/sh: No such file or directory
error: %preun(preun-1-1.x86_64) scriptlet failed, exit status 127
error: preun-1-1.x86_64: erase failed
error: failed to exec scriptlet interpreter /bin/sh: No such file or directory
warning: %postun(postun-1-1.x86_64) scriptlet failed, exit status 127
error: failed to exec scriptlet interpreter /bin/sh: No such file or directory
warning: %posttrans(posttrans-1-1.x86_64) scriptlet failed, exit status 127
error: failed to exec scriptlet interpreter /bin/sh: No such file or directory
warning: %triggerprein(triggerprein-1-1.x86_64) scriptlet failed, exit status 127
error: failed to exec scriptlet interpreter /bin/sh: No such file or directory
warning: %triggerprein(triggerprein-2-1.x86_64) scriptlet failed, exit status 127
error: failed to exec scriptlet interpreter /bin/sh: No such file or directory
warning: %triggerin(triggerin-1-1.x86_64) scriptlet failed, exit status 127
error: failed to exec scriptlet interpreter /bin/sh: No such file or directory
warning: %triggerin(triggerin-1-1.x86_64) scriptlet failed, exit status 127
error: failed to exec scriptlet interpreter /bin/sh: No such file or directory
warning: %triggerin(triggerin-1-1.x86_64) scriptlet failed, exit status 127
error: failed to exec scriptlet interpreter /bin/sh: No such file or directory
warning: %triggerin(triggerin-2-1.x86_64) scriptlet failed, exit status 127
error: failed to exec scriptlet interpreter /bin/sh: No such file or directory
warning: %triggerin(triggerin-2-1.x86_64) scriptlet failed, exit status 127
error: failed to exec scriptlet interpreter /bin/sh: No such file or directory
warning: %triggerun(triggerun-1-1.x86_64) scriptlet failed, exit status 127
error: failed to exec scriptlet interpreter /bin/sh: No such file or directory
warning: %triggerun(triggerun-1-1.x86_64) scriptlet failed, exit status 127
error: failed to exec scriptlet interpreter /bin/sh: No such file or directory
warning: %triggerun(triggerun-2-1.x86_64) scriptlet failed, exit status 127
error: failed to exec scriptlet interpreter /bin/sh: No such file or directory
warning: %triggerun(triggerun-2-1.x86_64) scriptlet failed, exit status 127
error: failed to exec scriptlet interpreter /bin/sh: No such file or directory
warning: %triggerun(triggerun-2-1.x86_64) scriptlet failed, exit status 127
error: failed to exec scriptlet interpreter /bin/sh: No such file or directory
warning: %triggerpostun(triggerpostun-1-1.x86_64) scriptlet failed, exit status 127
error: failed to exec scriptlet interpreter /bin/sh: No such file or directory
warning: %triggerpostun(triggerpostun-2-1.x86_64) scriptlet failed, exit status 127
error: failed to exec scriptlet interpreter /bin/sh: No such file or directory
warning: %triggerpostun(triggerpostun-2-1.x86_64) scriptlet failed, exit status 127
t/superuser--failing-scriptlets.t ............................... ok
file /etc/foo conflicts between attempted installs of a-1-1.noarch and b-1-1.noarch
file /etc/dir conflicts between attempted installs of a-1-1.noarch and e-1-1.noarch
file /etc/foo from install of b-1-1.noarch conflicts with file from package a-1-1.noarch
file /etc/dir from install of e-1-1.noarch conflicts with file from package a-1-1.noarch
t/superuser--file-conflicts.t ................................... ok
t/superuser--handle-conflict-deps.t ............................. ok
t/superuser--handle-conflict-deps2.t ............................ ok
SKIPing test_exotic_medium_name() due to nobody having no access to /root/rpm*
t/superuser--http.t ............................................. ok
No package named unknown-pkg
No package named unknown-pkg
warning: user bin does not exist - using root
warning: group bin does not exist - using root
warning: user bin does not exist - using root
warning: group bin does not exist - using root
warning: user bin does not exist - using root
warning: group bin does not exist - using root
warning: user bin does not exist - using root
warning: group bin does not exist - using root
t/superuser--media_info_dir.t ................................... ok
t/superuser--mirrorlist.t ....................................... ok
t/superuser--obsolete-and-conflict.t ............................ ok
t/superuser--ordering-scriptlets.t .............................. ok
t/superuser--orphans-kernels.t .................................. ok
t/superuser--orphans.t .......................................... ok
t/superuser--prefer.t ........................................... ok
t/superuser--prefer2.t .......................................... ok
t/superuser--priority-upgrade.t ................................. ok
t/superuser--provide-and-no-obsolete.t .......................... ok
t/superuser--README-urpmi.t ..................................... ok
error: Unable to open /usr/lib/rpm/rpmrc for reading: No such file or directory.
t/superuser--rpm.t .............................................. ok
warning: /etc/config saved as /etc/config.rpmorig
warning: /etc/config-noreplace created as /etc/config-noreplace.rpmnew
warning: /etc/config-noreplace created as /etc/config-noreplace.rpmnew
warning: /etc/config-noreplace saved as /etc/config-noreplace.rpmsave
warning: /etc/config saved as /etc/config.rpmorig
warning: /etc/config-noreplace created as /etc/config-noreplace.rpmnew
warning: /etc/config-noreplace created as /etc/config-noreplace.rpmnew
warning: /etc/config-noreplace saved as /etc/config-noreplace.rpmsave
t/superuser--rpmnew.t ........................................... ok
t/superuser--should-restart.t ................................... ok
t/superuser--specify-media.t .................................... ok
t/superuser--split-transactions--conflict.t ..................... ok
t/superuser--split-transactions--promote.t ...................... ok
t/superuser--split-transactions--strict-require-and-obsolete.t .. ok
search_packages: found g-2-1.x86_64 matching g
opening rpmdb (root=/root/.cpan/build/urpmi-v8.133.2-0/t/root, write=)
selecting g-2-1.x86_64
set_rejected: g-1-1.x86_64
installed f-1-1.x86_64 is conflicting because of unsatisfied gh[== 1]
promoting f-2-1.x86_64 because of conflict above
selecting f-2-1.x86_64
set_rejected: f-1-1.x86_64
requiring gh[== 2] for f-2-1.x86_64
chosen h-2-1.x86_64 for gh[== 2]
selecting h-2-1.x86_64
installed e-1-1.x86_64 is conflicting because of unsatisfied f[== 1]
promoting e-2-1.x86_64 because of conflict above
selecting e-2-1.x86_64
set_rejected: e-1-1.x86_64
opening rpmdb (root=/root/.cpan/build/urpmi-v8.133.2-0/t/root, write=)
getting graph of dependencies for sorting
sorting graph of dependencies
rpms sorted by dependencies:
h
f
e
g
selecting h-2-1.x86_64
selecting f-2-1.x86_64
set_rejected: f-1-1.x86_64
selecting e-2-1.x86_64
set_rejected: e-1-1.x86_64
selecting g-2-1.x86_64
set_rejected: g-1-1.x86_64
installed e-1-1.x86_64 is conflicting because of unsatisfied f[== 1]
promoting e-2-1.x86_64 because of conflict above
installed f-1-1.x86_64 is conflicting because of unsatisfied gh[== 1]
promoting f-2-1.x86_64 because of conflict above
transaction valid: remove= update=g,f,h,e
scheduled sets of transactions:
remove=0= update=4=g,f,h,e
verifying signature of /root/.cpan/build/urpmi-v8.133.2-0/t/media/split-transactions--strict-require-2/g-2-1.x86_64.rpm
verifying signature of /root/.cpan/build/urpmi-v8.133.2-0/t/media/split-transactions--strict-require-2/f-2-1.x86_64.rpm
verifying signature of /root/.cpan/build/urpmi-v8.133.2-0/t/media/split-transactions--strict-require-2/h-2-1.x86_64.rpm
verifying signature of /root/.cpan/build/urpmi-v8.133.2-0/t/media/split-transactions--strict-require-2/e-2-1.x86_64.rpm
opening rpmdb (root=/root/.cpan/build/urpmi-v8.133.2-0/t/root, write=1)
trans: scheduling update of g-2-1.x86_64 (id=7, file=/root/.cpan/build/urpmi-v8.133.2-0/t/media/split-transactions--strict-require-2/g-2-1.x86_64.rpm)
trans: scheduling update of f-2-1.x86_64 (id=6, file=/root/.cpan/build/urpmi-v8.133.2-0/t/media/split-transactions--strict-require-2/f-2-1.x86_64.rpm)
trans: scheduling update of h-2-1.x86_64 (id=2, file=/root/.cpan/build/urpmi-v8.133.2-0/t/media/split-transactions--strict-require-2/h-2-1.x86_64.rpm)
trans: scheduling update of e-2-1.x86_64 (id=3, file=/root/.cpan/build/urpmi-v8.133.2-0/t/media/split-transactions--strict-require-2/e-2-1.x86_64.rpm)
workaround bug in rpmlib by removing /root/.cpan/build/urpmi-v8.133.2-0/t/root/var/lib/rpm/__db*
EXITING (pid=149820)
t/superuser--split-transactions--strict-require.t ............... ok
t/superuser--split-transactions.t ............................... ok
t/superuser--srpm-bootstrapping.t ............................... ok
WARNING: --no-suggests is deprecated. Use --no-recommends instead
WARNING: --no-suggests is deprecated. Use --no-recommends instead
error: Failed dependencies:
cc is needed by (installed) c2-1-1.x86_64
error: Failed dependencies:
cc is needed by (installed) c2-1-1.x86_64
error: Failed dependencies:
cc is needed by (installed) c2-1-1.x86_64
WARNING: --allow-suggests is deprecated. Use --allow-recommends instead
t/superuser--suggests.t ......................................... ok
warning: Generating 18 missing index(es), please wait...
No package named various
No package named various-debug
No package named various-debug
t/superuser--urpmi_update.t ..................................... ok
All tests successful.
Files=42, Tests=3978, 226 wallclock secs ( 0.84 usr 0.07 sys + 175.61 cusr 40.35 csys = 216.87 CPU)
Result: PASS
------------------------------
PREREQUISITES
------------------------------
Prerequisite modules loaded:
requires:
Module Need Have
------------------- -------- --------
Filesys::Df 0 0.92
Getopt::Long 0 2.5
Locale::gettext 1.01 1.07
MDV::Distribconf 4.100 4.101
Net::LDAP 0 0.65
perl 5.010000 5.028002
Time::ZoneInfo 0 0.3
URPM v5.28.0 v5.225
XML::LibXML 0 2.0200
XML::LibXML::Reader 0 2.0200
build_requires:
Module Need Have
------------------- -------- --------
Expect 0 1.35
ExtUtils::MakeMaker 0 7.34
File::Slurp 0 9999.27
Net::Server 0 2.009
rpmtools 7.12 7.12
Test::More 1.302 1.302133
Test::Pod 0 1.52
Test::Pod::Coverage 0 1.10
configure_requires:
Module Need Have
------------------- -------- --------
ExtUtils::MakeMaker 6.64 7.34
------------------------------
ENVIRONMENT AND OTHER CONTEXT
------------------------------
Environment variables:
LANG = br_FR.UTF-8
LANGUAGE = br:fr_FR:fr
LC_ADDRESS = br_FR.UTF-8
LC_ALL = C
LC_COLLATE = br_FR.UTF-8
LC_CTYPE = br_FR.UTF-8
LC_IDENTIFICATION = br_FR.UTF-8
LC_MEASUREMENT = br_FR.UTF-8
LC_MESSAGES = br_FR.UTF-8
LC_MONETARY = br_FR.UTF-8
LC_NAME = br_FR.UTF-8
LC_NUMERIC = br_FR.UTF-8
LC_PAPER = br_FR.UTF-8
LC_SOURCED = 1
LC_TELEPHONE = br_FR.UTF-8
LC_TIME = br_FR.UTF-8
PATH = /sbin:/bin:/usr/sbin:/usr/bin
PERL5LIB = /root/.cpan/build/URPM-v5.225-4/blib/arch:/root/.cpan/build/URPM-v5.225-4/blib/lib
PERL5OPT =
PERL5_CPANPLUS_IS_RUNNING = 140226
PERL5_CPAN_IS_RUNNING = 140226
PERL_USE_UNSAFE_INC = 1
SHELL = /bin/bash
TERM = screen
Perl special variables (and OS-specific diagnostics, for MSWin32):
$^X = /usr/bin/perl5.28.2
$UID/$EUID = 0 / 0
$GID = 0 0
$EGID = 0 0
Perl module toolchain versions installed:
Module Have
------------------- --------
CPAN 2.20
CPAN::Meta 2.150010
Cwd 3.74
ExtUtils::CBuilder 0.280230
ExtUtils::Command 7.34
ExtUtils::Install 2.14
ExtUtils::MakeMaker 7.34
ExtUtils::Manifest 1.70
ExtUtils::ParseXS 3.39
File::Spec 3.74
JSON 4.02
JSON::PP 2.97001
Module::Build n/a
Module::Signature n/a
Parse::CPAN::Meta 2.150010
Test::Harness 3.42
Test::More 1.302133
YAML 1.27
YAML::Syck n/a
version 0.9923
--
Summary of my perl5 (revision 5 version 28 subversion 2) configuration:
Platform:
osname=linux
osvers=4.14.110-server-1.mga6
archname=x86_64-linux-thread-multi
uname='linux rabbit.mageia.org 4.14.110-server-1.mga6 #1 smp wed apr 3 09:53:22 utc 2019 x86_64 x86_64 x86_64 gnulinux '
config_args='-des -Doptimize=none -Dccflags=-O2 -g -pipe -Wformat -Werror=format-security -Wp,-D_FORTIFY_SOURCE=2 -fstack-protector --param=ssp-buffer-size=4 -fasynchronous-unwind-tables -Dldflags= -Wl,--as-needed -Wl,-z,relro -Wl,-O1 -Wl,--build-id -Wl,--enable-new-dtags -Dccdlflags=-Wl,--enable-new-dtags -Wl,--as-needed -Wl,-z,relro -Wl,-O1 -Wl,--build-id -Wl,--enable-new-dtags -Dlddlflags=-shared -Wl,--as-needed -Wl,-z,relro -Wl,-O1 -Wl,--build-id -Wl,--enable-new-dtags -Dshrpdir=/usr/lib64 -DDEBUGGING=-g -Dmyhostname=localhost -Dperladmin=root@localhost -Dcc=gcc -Dcf_by=Mageia -Dcf_email=root@localhost -Dprefix=/usr -Dman3dir=/usr/share/man/man3pm -Dvendorprefix=/usr -Dsiteprefix=/usr/local -Dsitelib=/usr/local/share/perl5 -Dsitearch=/usr/local/lib64/perl5 -Dprivlib=/usr/share/perl5 -Dotherlibdirs=/usr/lib/perl5/5.26.2:/usr/lib/perl5/5.26.1/x86_64-linux-thread-multi:/usr/lib/perl5/5.26.1:/usr/lib/perl5/5.26.1/x86_64-linux-thread-multi:/usr/lib/perl5/5.26.0:/usr/lib/perl5/5.26.0/x86_64-linux-thread-multi:/usr/lib/perl5/5.22.3:/usr/lib/perl5/5.22.3/x86_64-linux-thread-multi:/usr/lib/perl5/5.22.2:/usr/lib/perl5/5.22.2/x86_64-linux-thread-multi:/usr/lib/perl5/5.22.1:/usr/lib/perl5/5.22.1/x86_64-linux-thread-multi:/usr/lib/perl5/5.22.0:/usr/lib/perl5/5.22.0/x86_64-linux-thread-multi:/usr/lib/perl5/vendor_perl/5.26.2:/usr/lib/perl5/vendor_perl/5.26.1/x86_64-linux-thread-multi:/usr/lib/perl5/vendor_perl/5.26.1:/usr/lib/perl5/vendor_perl/5.26.1/x86_64-linux-thread-multi:/usr/lib/perl5/vendor_perl/5.26.0:/usr/lib/perl5/vendor_perl/5.26.0/x86_64-linux-thread-multi:/usr/lib/perl5/vendor_perl/5.22.3:/usr/lib/perl5/vendor_perl/5.22.3/x86_64-linux-thread-multi:/usr/lib/perl5/vendor_perl/5.22.2:/usr/lib/perl5/vendor_perl/5.22.2/x86_64-linux-thread-multi:/usr/lib/perl5/vendor_perl/5.22.1:/usr/lib/perl5/vendor_perl/5.22.1/x86_64-linux-thread-multi:/usr/lib/perl5/vendor_perl/5.22.0:/usr/lib/perl5/vendor_perl/5.22.0/x86_64-linux-thread-multi -Dvendorlib=/usr/share/perl5/vendor_perl -Dsiteman1dir=/usr/local/share/man/man1 -Dsiteman3dir=/usr/local/share/man/man3 -Dvendorman3dir=/usr/share/man/man3 -Darchlib=/usr/lib64/perl5 -Dvendorarch=/usr/lib64/perl5/vendor_perl -Darchname=x86_64-linux-thread-multi -Ud_csh -Duseshrplib -Duseithreads -Di_db -Di_ndbm -Di_gdbm -Dman3ext=3pm -Duse64bitint'
hint=recommended
useposix=true
d_sigaction=define
useithreads=define
usemultiplicity=define
use64bitint=define
use64bitall=define
uselongdouble=undef
usemymalloc=n
default_inc_excludes_dot=define
bincompat5005=undef
Compiler:
cc='gcc'
ccflags ='-D_REENTRANT -D_GNU_SOURCE -O2 -g -pipe -Wformat -Werror=format-security -Wp,-D_FORTIFY_SOURCE=2 -fstack-protector --param=ssp-buffer-size=4 -fasynchronous-unwind-tables -fwrapv -fno-strict-aliasing -fstack-protector-strong -I/usr/local/include -D_LARGEFILE_SOURCE -D_FILE_OFFSET_BITS=64'
optimize=' -g'
cppflags='-D_REENTRANT -D_GNU_SOURCE -O2 -g -pipe -Wformat -Werror=format-security -Wp,-D_FORTIFY_SOURCE=2 -fstack-protector --param=ssp-buffer-size=4 -fasynchronous-unwind-tables -fwrapv -fno-strict-aliasing -fstack-protector-strong -I/usr/local/include'
ccversion=''
gccversion='8.3.1 20190419'
gccosandvers=''
intsize=4
longsize=8
ptrsize=8
doublesize=8
byteorder=12345678
doublekind=3
d_longlong=define
longlongsize=8
d_longdbl=define
longdblsize=16
longdblkind=3
ivtype='long'
ivsize=8
nvtype='double'
nvsize=8
Off_t='off_t'
lseeksize=8
alignbytes=8
prototype=define
Linker and Libraries:
ld='gcc'
ldflags =' -Wl,--as-needed -Wl,-z,relro -Wl,-O1 -Wl,--build-id -Wl,--enable-new-dtags -fstack-protector-strong -L/usr/local/lib64'
libpth=/usr/local/lib /usr/lib /usr/local/lib64 /lib/../lib64 /usr/lib/../lib64 /lib /lib64 /usr/lib64
libs=-lpthread -lnsl -lgdbm -ldb -ldl -lm -lcrypt -lutil -lc -lgdbm_compat
perllibs=-lpthread -lnsl -ldl -lm -lcrypt -lutil -lc
libc=libc-2.29.so
so=so
useshrplib=true
libperl=libperl.so
gnulibc_version='2.29'
Dynamic Linking:
dlsrc=dl_dlopen.xs
dlext=so
d_dlsymun=undef
ccdlflags='-Wl,--enable-new-dtags -Wl,--as-needed -Wl,-z,relro -Wl,-O1 -Wl,--build-id -Wl,--enable-new-dtags'
cccdlflags='-fPIC'
lddlflags='-lpthread -shared -Wl,--as-needed -Wl,-z,relro -Wl,-O1 -Wl,--build-id -Wl,--enable-new-dtags -L/usr/local/lib64 -fstack-protector-strong'
Characteristics of this binary (from libperl):
Compile-time options:
HAS_TIMES
MULTIPLICITY
PERLIO_LAYERS
PERL_COPY_ON_WRITE
PERL_DONT_CREATE_GVSV
PERL_IMPLICIT_CONTEXT
PERL_MALLOC_WRAP
PERL_OP_PARENT
PERL_PRESERVE_IVUV
USE_64_BIT_ALL
USE_64_BIT_INT
USE_ITHREADS
USE_LARGE_FILES
USE_LOCALE
USE_LOCALE_COLLATE
USE_LOCALE_CTYPE
USE_LOCALE_NUMERIC
USE_LOCALE_TIME
USE_PERLIO
USE_PERL_ATOF
USE_REENTRANT_API
Locally applied patches:
Mageia patches
Built under linux
Compiled at Apr 23 2019 19:07:45
%ENV:
PERL5LIB="/root/.cpan/build/URPM-v5.225-4/blib/arch:/root/.cpan/build/URPM-v5.225-4/blib/lib"
PERL5OPT=""
PERL5_CPANPLUS_IS_RUNNING="140226"
PERL5_CPAN_IS_RUNNING="140226"
PERL_USE_UNSAFE_INC="1"
@INC:
/root/.cpan/build/URPM-v5.225-4/blib/arch
/root/.cpan/build/URPM-v5.225-4/blib/lib
/usr/local/lib64/perl5
/usr/local/share/perl5
/usr/lib64/perl5/vendor_perl
/usr/share/perl5/vendor_perl
/usr/lib64/perl5
/usr/share/perl5
/usr/lib/perl5/5.26.2
/usr/lib/perl5/5.26.1/x86_64-linux-thread-multi
/usr/lib/perl5/5.26.1
/usr/lib/perl5/5.26.1/x86_64-linux-thread-multi
/usr/lib/perl5/5.26.0
/usr/lib/perl5/5.26.0/x86_64-linux-thread-multi
/usr/lib/perl5/5.22.3
/usr/lib/perl5/5.22.3/x86_64-linux-thread-multi
/usr/lib/perl5/5.22.2
/usr/lib/perl5/5.22.2/x86_64-linux-thread-multi
/usr/lib/perl5/5.22.1
/usr/lib/perl5/5.22.1/x86_64-linux-thread-multi
/usr/lib/perl5/5.22.0
/usr/lib/perl5/5.22.0/x86_64-linux-thread-multi
/usr/lib/perl5/vendor_perl/5.26.2
/usr/lib/perl5/vendor_perl/5.26.1/x86_64-linux-thread-multi
/usr/lib/perl5/vendor_perl/5.26.1
/usr/lib/perl5/vendor_perl/5.26.1/x86_64-linux-thread-multi
/usr/lib/perl5/vendor_perl/5.26.0
/usr/lib/perl5/vendor_perl/5.26.0/x86_64-linux-thread-multi
/usr/lib/perl5/vendor_perl/5.22.3
/usr/lib/perl5/vendor_perl/5.22.3/x86_64-linux-thread-multi
/usr/lib/perl5/vendor_perl/5.22.2
/usr/lib/perl5/vendor_perl/5.22.2/x86_64-linux-thread-multi
/usr/lib/perl5/vendor_perl/5.22.1
/usr/lib/perl5/vendor_perl/5.22.1/x86_64-linux-thread-multi
/usr/lib/perl5/vendor_perl/5.22.0
/usr/lib/perl5/vendor_perl/5.22.0/x86_64-linux-thread-multi
.