Encode v3.16 Perl 5 v5.26.1 x86_64-linux
- Status
- Pass
- From
- Slaven Rezić
- Dist
-
Encode v3.16
- Platform
- Perl 5 v5.26.1 x86_64-linux
- Date
- 2022-02-02 07:32:10
- ID
- 3b84214e-83fa-11ec-9614-2a2c1f24ea8f
This distribution has been tested as part of the CPAN Testers
project, supporting the Perl programming language. See
http://wiki.cpantesters.org/ for more information or email
questions to cpan-testers-discuss@perl.org
--
Dear Dan Kogai,
This is a computer-generated report for Encode-3.16
on perl 5.26.1, created by CPAN-Reporter-1.2018.
Thank you for uploading your work to CPAN. Congratulations!
All tests were successful.
Sections of this report:
* Tester comments
* Program output
* Prerequisites
* Environment and other context
------------------------------
TESTER COMMENTS
------------------------------
Additional comments from tester:
none provided
------------------------------
PROGRAM OUTPUT
------------------------------
Output from 'make test':
"/cabulja2/perl/perl-5.26.1d/bin/perl" -MExtUtils::Command::MM -e 'cp_nonempty' -- Encode.bs blib/arch/auto/Encode/Encode.bs 644
make[1]: Entering directory '/home/e/eserte/.cpan/build/2022020208/Encode-3.16-0/Byte'
"/cabulja2/perl/perl-5.26.1d/bin/perl" -MExtUtils::Command::MM -e 'cp_nonempty' -- Byte.bs ../blib/arch/auto/Encode/Byte/Byte.bs 644
make[1]: Leaving directory '/home/e/eserte/.cpan/build/2022020208/Encode-3.16-0/Byte'
make[1]: Entering directory '/home/e/eserte/.cpan/build/2022020208/Encode-3.16-0/CN'
"/cabulja2/perl/perl-5.26.1d/bin/perl" -MExtUtils::Command::MM -e 'cp_nonempty' -- CN.bs ../blib/arch/auto/Encode/CN/CN.bs 644
make[1]: Leaving directory '/home/e/eserte/.cpan/build/2022020208/Encode-3.16-0/CN'
make[1]: Entering directory '/home/e/eserte/.cpan/build/2022020208/Encode-3.16-0/EBCDIC'
"/cabulja2/perl/perl-5.26.1d/bin/perl" -MExtUtils::Command::MM -e 'cp_nonempty' -- EBCDIC.bs ../blib/arch/auto/Encode/EBCDIC/EBCDIC.bs 644
make[1]: Leaving directory '/home/e/eserte/.cpan/build/2022020208/Encode-3.16-0/EBCDIC'
make[1]: Entering directory '/home/e/eserte/.cpan/build/2022020208/Encode-3.16-0/JP'
"/cabulja2/perl/perl-5.26.1d/bin/perl" -MExtUtils::Command::MM -e 'cp_nonempty' -- JP.bs ../blib/arch/auto/Encode/JP/JP.bs 644
make[1]: Leaving directory '/home/e/eserte/.cpan/build/2022020208/Encode-3.16-0/JP'
make[1]: Entering directory '/home/e/eserte/.cpan/build/2022020208/Encode-3.16-0/KR'
"/cabulja2/perl/perl-5.26.1d/bin/perl" -MExtUtils::Command::MM -e 'cp_nonempty' -- KR.bs ../blib/arch/auto/Encode/KR/KR.bs 644
make[1]: Leaving directory '/home/e/eserte/.cpan/build/2022020208/Encode-3.16-0/KR'
make[1]: Entering directory '/home/e/eserte/.cpan/build/2022020208/Encode-3.16-0/Symbol'
"/cabulja2/perl/perl-5.26.1d/bin/perl" -MExtUtils::Command::MM -e 'cp_nonempty' -- Symbol.bs ../blib/arch/auto/Encode/Symbol/Symbol.bs 644
make[1]: Leaving directory '/home/e/eserte/.cpan/build/2022020208/Encode-3.16-0/Symbol'
make[1]: Entering directory '/home/e/eserte/.cpan/build/2022020208/Encode-3.16-0/TW'
"/cabulja2/perl/perl-5.26.1d/bin/perl" -MExtUtils::Command::MM -e 'cp_nonempty' -- TW.bs ../blib/arch/auto/Encode/TW/TW.bs 644
make[1]: Leaving directory '/home/e/eserte/.cpan/build/2022020208/Encode-3.16-0/TW'
make[1]: Entering directory '/home/e/eserte/.cpan/build/2022020208/Encode-3.16-0/Unicode'
"/cabulja2/perl/perl-5.26.1d/bin/perl" -MExtUtils::Command::MM -e 'cp_nonempty' -- Unicode.bs ../blib/arch/auto/Encode/Unicode/Unicode.bs 644
make[1]: Leaving directory '/home/e/eserte/.cpan/build/2022020208/Encode-3.16-0/Unicode'
make[1]: Entering directory '/home/e/eserte/.cpan/build/2022020208/Encode-3.16-0/Byte'
"/cabulja2/perl/perl-5.26.1d/bin/perl" -MExtUtils::Command::MM -e 'cp_nonempty' -- Byte.bs ../blib/arch/auto/Encode/Byte/Byte.bs 644
No tests defined for Encode::Byte extension.
make[1]: Leaving directory '/home/e/eserte/.cpan/build/2022020208/Encode-3.16-0/Byte'
make[1]: Entering directory '/home/e/eserte/.cpan/build/2022020208/Encode-3.16-0/CN'
"/cabulja2/perl/perl-5.26.1d/bin/perl" -MExtUtils::Command::MM -e 'cp_nonempty' -- CN.bs ../blib/arch/auto/Encode/CN/CN.bs 644
No tests defined for Encode::CN extension.
make[1]: Leaving directory '/home/e/eserte/.cpan/build/2022020208/Encode-3.16-0/CN'
make[1]: Entering directory '/home/e/eserte/.cpan/build/2022020208/Encode-3.16-0/EBCDIC'
"/cabulja2/perl/perl-5.26.1d/bin/perl" -MExtUtils::Command::MM -e 'cp_nonempty' -- EBCDIC.bs ../blib/arch/auto/Encode/EBCDIC/EBCDIC.bs 644
No tests defined for Encode::EBCDIC extension.
make[1]: Leaving directory '/home/e/eserte/.cpan/build/2022020208/Encode-3.16-0/EBCDIC'
make[1]: Entering directory '/home/e/eserte/.cpan/build/2022020208/Encode-3.16-0/JP'
"/cabulja2/perl/perl-5.26.1d/bin/perl" -MExtUtils::Command::MM -e 'cp_nonempty' -- JP.bs ../blib/arch/auto/Encode/JP/JP.bs 644
No tests defined for Encode::JP extension.
make[1]: Leaving directory '/home/e/eserte/.cpan/build/2022020208/Encode-3.16-0/JP'
make[1]: Entering directory '/home/e/eserte/.cpan/build/2022020208/Encode-3.16-0/KR'
"/cabulja2/perl/perl-5.26.1d/bin/perl" -MExtUtils::Command::MM -e 'cp_nonempty' -- KR.bs ../blib/arch/auto/Encode/KR/KR.bs 644
No tests defined for Encode::KR extension.
make[1]: Leaving directory '/home/e/eserte/.cpan/build/2022020208/Encode-3.16-0/KR'
make[1]: Entering directory '/home/e/eserte/.cpan/build/2022020208/Encode-3.16-0/Symbol'
"/cabulja2/perl/perl-5.26.1d/bin/perl" -MExtUtils::Command::MM -e 'cp_nonempty' -- Symbol.bs ../blib/arch/auto/Encode/Symbol/Symbol.bs 644
No tests defined for Encode::Symbol extension.
make[1]: Leaving directory '/home/e/eserte/.cpan/build/2022020208/Encode-3.16-0/Symbol'
make[1]: Entering directory '/home/e/eserte/.cpan/build/2022020208/Encode-3.16-0/TW'
"/cabulja2/perl/perl-5.26.1d/bin/perl" -MExtUtils::Command::MM -e 'cp_nonempty' -- TW.bs ../blib/arch/auto/Encode/TW/TW.bs 644
No tests defined for Encode::TW extension.
make[1]: Leaving directory '/home/e/eserte/.cpan/build/2022020208/Encode-3.16-0/TW'
make[1]: Entering directory '/home/e/eserte/.cpan/build/2022020208/Encode-3.16-0/Unicode'
"/cabulja2/perl/perl-5.26.1d/bin/perl" -MExtUtils::Command::MM -e 'cp_nonempty' -- Unicode.bs ../blib/arch/auto/Encode/Unicode/Unicode.bs 644
No tests defined for Encode::Unicode extension.
make[1]: Leaving directory '/home/e/eserte/.cpan/build/2022020208/Encode-3.16-0/Unicode'
PERL_DL_NONLAZY=1 "/cabulja2/perl/perl-5.26.1d/bin/perl" "-MExtUtils::Command::MM" "-MTest::Harness" "-e" "undef *Test::Harness::Switches; test_harness(0, 'blib/lib', 'blib/arch')" t/*.t
t/Aliases.t ................ ok
t/at-cn.t .................. ok
t/at-tw.t .................. ok
t/CJKT.t ................... ok
t/cow.t .................... ok
t/decode.t ................. ok
t/enc_data.t ............... skipped: encoding pragma not supported in Perl 5.26
t/enc_eucjp.t .............. skipped: Perl <=5.25.2 or cperl required
t/enc_module.t ............. skipped: encoding pragma not supported in Perl 5.26
t/enc_utf8.t ............... skipped: Perl <=5.25.2 or cperl required
t/Encode.t ................. ok
t/Encoder.t ................ ok
t/encoding-locale.t ........ ok
t/encoding.t ............... skipped: encoding pragma not supported in Perl 5.26
t/fallback.t ............... ok
t/from_to.t ................ ok
t/grow.t ................... ok
t/gsm0338.t ................ ok
t/guess.t .................. ok
t/isa.t .................... ok
t/jis7-fallback.t .......... ok
t/jperl.t .................. skipped: encoding pragma not supported in Perl 5.26
t/magic.t .................. ok
t/mime-header.t ............ ok
t/mime-name.t .............. ok
t/mime_header_iso2022jp.t .. ok
t/perlio.t ................. ok
t/piconv.t ................. ok
t/rt113164.t ............... ok
t/rt65541.t ................ ok
t/rt76824.t ................ ok
t/rt85489.t ................ ok
t/rt86327.t ................ ok
t/taint.t .................. ok
t/truncated_utf8.t ......... ok
t/undef.t .................. ok
t/Unicode.t ................ ok
# temp file: /var/tmp/cpansmoker-1000/2022020207/PJsbG3ZeFM
t/Unicode_trailing_nul.t ... ok
t/use-Encode-Alias.t ....... ok
t/utf8ref.t ................ ok
t/utf8strict.t ............. ok
t/utf8warnings.t ........... ok
t/whatwg-aliases.t ......... skipped: For maintainers only
t/xml.t .................... ok
All tests successful.
Test Summary Report
-------------------
t/truncated_utf8.t (Wstat: 0 Tests: 9 Failed: 0)
TODO passed: 9
Files=44, Tests=7711, 10 wallclock secs ( 0.59 usr 0.03 sys + 5.37 cusr 0.15 csys = 6.14 CPU)
Result: PASS
------------------------------
PREREQUISITES
------------------------------
Prerequisite modules loaded:
requires:
Module Need Have
------------------- ----- --------
Exporter 5.57 5.72
parent 0.221 0.236
Storable 0 2.62
build_requires:
Module Need Have
------------------- ----- --------
ExtUtils::MakeMaker 0 7.24
Test::More 0.92 1.302073
configure_requires:
Module Need Have
------------------- ----- --------
ExtUtils::MakeMaker 0 7.24
------------------------------
ENVIRONMENT AND OTHER CONTEXT
------------------------------
Environment variables:
LANG = en_US.UTF-8
PATH = /usr/local/bin:/usr/bin:/bin:/usr/local/sbin:/usr/sbin:/sbin:/home/e/eserte/bin/linux-gnu:/home/e/eserte/bin/sh:/home/e/eserte/bin:/home/e/eserte/bin/pistachio-perl/bin:/usr/games:/home/e/eserte/devel:/home/e/eserte/work2/fzf/bin:/home/e/eserte/src/srezic-misc/scripts
PERL5LIB = /home/e/eserte/.cpan/build/2022020208/Data-Dump-1.25-0/blib/arch:/home/e/eserte/.cpan/build/2022020208/Data-Dump-1.25-0/blib/lib
PERL5OPT =
PERL5_CPANPLUS_IS_RUNNING = 32445
PERL5_CPAN_IS_RUNNING = 32445
PERL5_CPAN_IS_RUNNING_IN_RECURSION = 5871,32445
PERLDOC = -MPod::Perldoc::ToTextOverstrike
PERL_BATCH = yes
PERL_CANARY_STABILITY_NOPROMPT = 1
PERL_CPAN_REPORTER_CONFIG = /var/tmp/cpansmoker-1000/2022020207/cpanreporter_000_config.ini
PERL_EXTUTILS_AUTOINSTALL = --defaultdeps
PERL_USE_UNSAFE_INC = 1
SHELL = /bin/zsh
STDPERL = perl
TERM = xterm
TMPDIR = /var/tmp/cpansmoker-1000/2022020207
Perl special variables (and OS-specific diagnostics, for MSWin32):
$^X = /cabulja2/perl/perl-5.26.1d/bin/perl
$UID/$EUID = 1000 / 1000
$GID = 1000 4 24 25 27 29 30 33 44 46 108 111 115 128 134 1000 1024
$EGID = 1000 4 24 25 27 29 30 33 44 46 108 111 115 128 134 1000 1024
Perl module toolchain versions installed:
Module Have
------------------- ----------
CPAN 2.18
CPAN::Meta 2.150010
Cwd 3.67
ExtUtils::CBuilder 0.280225
ExtUtils::Command 7.24
ExtUtils::Install 2.04
ExtUtils::MakeMaker 7.24
ExtUtils::Manifest 1.70
ExtUtils::ParseXS 3.34
File::Spec 3.67
JSON n/a
JSON::PP 2.27400_02
Module::Build 0.4224
Module::Signature n/a
Parse::CPAN::Meta 2.150010
Test::Harness 3.38
Test::More 1.302073
YAML 1.24
YAML::Syck 1.30
version 0.9917
--
Summary of my perl5 (revision 5 version 26 subversion 1) configuration:
Platform:
osname=linux
osvers=3.16.0-4-amd64
archname=x86_64-linux
uname='linux cabulja 3.16.0-4-amd64 #1 smp debian 3.16.51-3 (2017-12-13) x86_64 gnulinux '
config_args='-ds -e -Dprefix=/opt/perl-5.26.1d -DDEBUGGING -Dcf_email=srezic@cpan.org'
hint=recommended
useposix=true
d_sigaction=define
useithreads=undef
usemultiplicity=undef
use64bitint=define
use64bitall=define
uselongdouble=undef
usemymalloc=n
default_inc_excludes_dot=define
bincompat5005=undef
Compiler:
cc='cc'
ccflags ='-fwrapv -DDEBUGGING -fno-strict-aliasing -pipe -fstack-protector-strong -I/usr/local/include -D_LARGEFILE_SOURCE -D_FILE_OFFSET_BITS=64 -D_FORTIFY_SOURCE=2'
optimize='-O2 -g'
cppflags='-fwrapv -DDEBUGGING -fno-strict-aliasing -pipe -fstack-protector-strong -I/usr/local/include'
ccversion=''
gccversion='4.9.2'
gccosandvers=''
intsize=4
longsize=8
ptrsize=8
doublesize=8
byteorder=12345678
doublekind=3
d_longlong=define
longlongsize=8
d_longdbl=define
longdblsize=16
longdblkind=3
ivtype='long'
ivsize=8
nvtype='double'
nvsize=8
Off_t='off_t'
lseeksize=8
alignbytes=8
prototype=define
Linker and Libraries:
ld='cc'
ldflags =' -fstack-protector-strong -L/usr/local/lib'
libpth=/usr/local/lib /usr/lib/gcc/x86_64-linux-gnu/4.9/include-fixed /usr/include/x86_64-linux-gnu /usr/lib /lib/x86_64-linux-gnu /lib/../lib /usr/lib/x86_64-linux-gnu /usr/lib/../lib /lib
libs=-lpthread -lnsl -lgdbm -ldb -ldl -lm -lcrypt -lutil -lc -lgdbm_compat
perllibs=-lpthread -lnsl -ldl -lm -lcrypt -lutil -lc
libc=libc-2.19.so
so=so
useshrplib=false
libperl=libperl.a
gnulibc_version='2.19'
Dynamic Linking:
dlsrc=dl_dlopen.xs
dlext=so
d_dlsymun=undef
ccdlflags='-Wl,-E'
cccdlflags='-fPIC'
lddlflags='-shared -O2 -g -L/usr/local/lib -fstack-protector-strong'
Characteristics of this binary (from libperl):
Compile-time options:
DEBUGGING
HAS_TIMES
PERLIO_LAYERS
PERL_COPY_ON_WRITE
PERL_DONT_CREATE_GVSV
PERL_MALLOC_WRAP
PERL_OP_PARENT
PERL_PRESERVE_IVUV
USE_64_BIT_ALL
USE_64_BIT_INT
USE_LARGE_FILES
USE_LOCALE
USE_LOCALE_COLLATE
USE_LOCALE_CTYPE
USE_LOCALE_NUMERIC
USE_LOCALE_TIME
USE_PERLIO
USE_PERL_ATOF
Built under linux
Compiled at Feb 26 2018 21:13:16
%ENV:
PERL5LIB="/home/e/eserte/.cpan/build/2022020208/Data-Dump-1.25-0/blib/arch:/home/e/eserte/.cpan/build/2022020208/Data-Dump-1.25-0/blib/lib"
PERL5OPT=""
PERL5_CPANPLUS_IS_RUNNING="32445"
PERL5_CPAN_IS_RUNNING="32445"
PERL5_CPAN_IS_RUNNING_IN_RECURSION="5871,32445"
PERLDOC="-MPod::Perldoc::ToTextOverstrike"
PERL_BATCH="yes"
PERL_CANARY_STABILITY_NOPROMPT="1"
PERL_CPAN_REPORTER_CONFIG="/var/tmp/cpansmoker-1000/2022020207/cpanreporter_000_config.ini"
PERL_EXTUTILS_AUTOINSTALL="--defaultdeps"
PERL_USE_UNSAFE_INC="1"
@INC:
/home/e/eserte/.cpan/build/2022020208/Data-Dump-1.25-0/blib/arch
/home/e/eserte/.cpan/build/2022020208/Data-Dump-1.25-0/blib/lib
/opt/perl-5.26.1d/lib/site_perl/5.26.1/x86_64-linux
/opt/perl-5.26.1d/lib/site_perl/5.26.1
/opt/perl-5.26.1d/lib/5.26.1/x86_64-linux
/opt/perl-5.26.1d/lib/5.26.1
.