Perl-Critic-Dancer2 v0.4100 Perl 5 v5.32.1 MSWin32-x86-multi-thread-64int

Status
Pass
From
gregor herrmann
Dist
Perl-Critic-Dancer2 v0.4100
Platform
Perl 5 v5.32.1 MSWin32-x86-multi-thread-64int
Date
2022-08-01 09:33:30
ID
3b6312bd-6c74-1014-b586-a19c58b3be15
This distribution has been tested as part of the CPAN Testers
project, supporting the Perl programming language.  See
http://wiki.cpantesters.org/ for more information or email
questions to cpan-testers-discuss@perl.org


--
Dear D Ruth Holloway,

This is a computer-generated report for Perl-Critic-Dancer2-0.4100
on perl 5.32.1, created by CPAN-Reporter-1.2018.

Thank you for uploading your work to CPAN.  Congratulations!
All tests were successful.

Sections of this report:

    * Tester comments
    * Program output
    * Prerequisites
    * Environment and other context

------------------------------
TESTER COMMENTS
------------------------------

Additional comments from tester:

this report is from an automated smoke testing program
and was not reviewed by a human for accuracy

------------------------------
PROGRAM OUTPUT
------------------------------

Output from 'C:\strawberry\c\bin\gmake.EXE test':

"C:\Strawberry\perl\bin\perl.exe" "-MExtUtils::Command::MM" "-MTest::Harness" "-e" "undef *Test::Harness::Switches; test_harness(0, 'blib\lib', 'blib\arch')" t/*.t
t/00-compile.t ..................... ok
# 
# Versions for all modules listed in MYMETA.json (including optional ones):
# 
# === Configure Requires ===
# 
#     Module              Want    Have
#     ------------------- ---- -------
#     ExtUtils::MakeMaker  any 7.65_02
# 
# === Build Requires ===
# 
#     Module              Want    Have
#     ------------------- ---- -------
#     ExtUtils::MakeMaker  any 7.65_02
# 
# === Test Requires ===
# 
#     Module                  Want     Have
#     ----------------------- ---- --------
#     Dancer2                  any 0.400000
#     ExtUtils::MakeMaker      any  7.65_02
#     File::Slurp              any  9999.32
#     File::Spec               any     3.78
#     IO::Handle               any     1.48
#     IPC::Open3               any     1.21
#     Perl::Critic::TestUtils  any    1.140
#     Test2::V0                any 0.000145
#     Test::More               any 1.302191
#     lib                      any     0.65
# 
# === Test Recommends ===
# 
#     Module         Want     Have
#     ---------- -------- --------
#     CPAN::Meta 2.120900 2.150010
# 
# === Runtime Requires ===
# 
#     Module                   Want       Have
#     ------------------------ ---- ----------
#     Carp                      any       1.50
#     Modern::Perl              any 1.20220515
#     Perl::Critic::Policy      any      1.140
#     Perl::Critic::Utils       any      1.140
#     Perl::Critic::Utils::PPI  any      1.140
#     Readonly                  any       2.05
#     base                      any       2.27
#     strict                    any       1.11
#     warnings                  any       1.47
# 
t/00-report-prereqs.t .............. ok
Couldn't require Perl::Critic::Policy::Community::ArrayAssignAref : Can't locate Perl/Critic/Policy/ValuesAndExpressions/ProhibitArrayAssignAref.pm in @INC (you may need to install the Perl::Critic::Policy::ValuesAndExpressions::ProhibitArrayAssignAref module) (@INC contains: C:\cpan\build\Perl-Critic-Dancer2-0.4100-0\blib\lib C:\cpan\build\Perl-Critic-Dancer2-0.4100-0\blib\arch C:/Strawberry/perl/site/lib/MSWin32-x86-multi-thread-64int C:/Strawberry/perl/site/lib C:/Strawberry/perl/vendor/lib C:/Strawberry/perl/lib .) at C:/Strawberry/perl/lib/parent.pm line 16.
BEGIN failed--compilation aborted at C:/Strawberry/perl/site/lib/Perl/Critic/Policy/Community/ArrayAssignAref.pm line 7.
Compilation failed in require at C:/Strawberry/perl/vendor/lib/Module/Runtime.pm line 314.
 at C:/Strawberry/perl/vendor/lib/Module/Pluggable.pm line 32.
Couldn't require Perl::Critic::Policy::Freenode::ArrayAssignAref : Attempt to reload Perl/Critic/Policy/Community/ArrayAssignAref.pm aborted.
Compilation failed in require at C:/Strawberry/perl/lib/parent.pm line 16.
BEGIN failed--compilation aborted at C:/Strawberry/perl/site/lib/Perl/Critic/Policy/Freenode/ArrayAssignAref.pm line 6.
Compilation failed in require at C:/Strawberry/perl/vendor/lib/Module/Runtime.pm line 314.
 at C:/Strawberry/perl/vendor/lib/Module/Pluggable.pm line 32.
t/ProhibitDeprecatedKeywords.t ..... ok
Couldn't require Perl::Critic::Policy::Community::ArrayAssignAref : Can't locate Perl/Critic/Policy/ValuesAndExpressions/ProhibitArrayAssignAref.pm in @INC (you may need to install the Perl::Critic::Policy::ValuesAndExpressions::ProhibitArrayAssignAref module) (@INC contains: C:\cpan\build\Perl-Critic-Dancer2-0.4100-0\blib\lib C:\cpan\build\Perl-Critic-Dancer2-0.4100-0\blib\arch C:/Strawberry/perl/site/lib/MSWin32-x86-multi-thread-64int C:/Strawberry/perl/site/lib C:/Strawberry/perl/vendor/lib C:/Strawberry/perl/lib .) at C:/Strawberry/perl/lib/parent.pm line 16.
BEGIN failed--compilation aborted at C:/Strawberry/perl/site/lib/Perl/Critic/Policy/Community/ArrayAssignAref.pm line 7.
Compilation failed in require at C:/Strawberry/perl/vendor/lib/Module/Runtime.pm line 314.
 at C:/Strawberry/perl/vendor/lib/Module/Pluggable.pm line 32.
Couldn't require Perl::Critic::Policy::Freenode::ArrayAssignAref : Attempt to reload Perl/Critic/Policy/Community/ArrayAssignAref.pm aborted.
Compilation failed in require at C:/Strawberry/perl/lib/parent.pm line 16.
BEGIN failed--compilation aborted at C:/Strawberry/perl/site/lib/Perl/Critic/Policy/Freenode/ArrayAssignAref.pm line 6.
Compilation failed in require at C:/Strawberry/perl/vendor/lib/Module/Runtime.pm line 314.
 at C:/Strawberry/perl/vendor/lib/Module/Pluggable.pm line 32.
t/ProhibitUnrecommendedKeywords.t .. ok
Couldn't require Perl::Critic::Policy::Community::ArrayAssignAref : Can't locate Perl/Critic/Policy/ValuesAndExpressions/ProhibitArrayAssignAref.pm in @INC (you may need to install the Perl::Critic::Policy::ValuesAndExpressions::ProhibitArrayAssignAref module) (@INC contains: C:\cpan\build\Perl-Critic-Dancer2-0.4100-0\blib\lib C:\cpan\build\Perl-Critic-Dancer2-0.4100-0\blib\arch C:/Strawberry/perl/site/lib/MSWin32-x86-multi-thread-64int C:/Strawberry/perl/site/lib C:/Strawberry/perl/vendor/lib C:/Strawberry/perl/lib .) at C:/Strawberry/perl/lib/parent.pm line 16.
BEGIN failed--compilation aborted at C:/Strawberry/perl/site/lib/Perl/Critic/Policy/Community/ArrayAssignAref.pm line 7.
Compilation failed in require at C:/Strawberry/perl/vendor/lib/Module/Runtime.pm line 314.
 at C:/Strawberry/perl/vendor/lib/Module/Pluggable.pm line 32.
Couldn't require Perl::Critic::Policy::Freenode::ArrayAssignAref : Attempt to reload Perl/Critic/Policy/Community/ArrayAssignAref.pm aborted.
Compilation failed in require at C:/Strawberry/perl/lib/parent.pm line 16.
BEGIN failed--compilation aborted at C:/Strawberry/perl/site/lib/Perl/Critic/Policy/Freenode/ArrayAssignAref.pm line 6.
Compilation failed in require at C:/Strawberry/perl/vendor/lib/Module/Runtime.pm line 314.
 at C:/Strawberry/perl/vendor/lib/Module/Pluggable.pm line 32.
t/ReturnNotNecessary.t ............. ok
All tests successful.
Files=5, Tests=11, 48 wallclock secs ( 0.12 usr +  0.01 sys =  0.14 CPU)
Result: PASS

------------------------------
PREREQUISITES
------------------------------

Prerequisite modules loaded:

requires:

    Module                   Need     Have      
    ------------------------ -------- ----------
    base                     0        2.27      
    Carp                     0        1.50      
    Modern::Perl             0        1.20220515
    perl                     5.008001 5.032001  
    Perl::Critic::Policy     0        1.140     
    Perl::Critic::Utils      0        1.140     
    Perl::Critic::Utils::PPI 0        1.140     
    Readonly                 0        2.05      
    strict                   0        1.11      
    warnings                 0        1.47      

build_requires:

    Module                   Need     Have      
    ------------------------ -------- ----------
    Dancer2                  0        0.400000  
    ExtUtils::MakeMaker      0        7.65_02   
    File::Slurp              0        9999.32   
    File::Spec               0        3.78      
    IO::Handle               0        1.48      
    IPC::Open3               0        1.21      
    lib                      0        0.65      
    Perl::Critic::TestUtils  0        1.140     
    Test2::V0                0        0.000145  
    Test::More               0        1.302191  

configure_requires:

    Module                   Need     Have      
    ------------------------ -------- ----------
    ExtUtils::MakeMaker      0        7.65_02   
    perl                     5.006001 5.032001  


------------------------------
ENVIRONMENT AND OTHER CONTEXT
------------------------------

Environment variables:

    AUTOMATED_TESTING = 1
    COMSPEC = C:\WINDOWS.0\system32\cmd.exe
    NONINTERACTIVE_TESTING = 1
    NUMBER_OF_PROCESSORS = 1
    PATH = C:\WINDOWS.0\system32;C:\strawberry\c\bin;C:\strawberry\perl\site\bin;C:\strawberry\perl\bin
    PERL5LIB = 
    PERL5OPT = 
    PERL5_CPANPLUS_IS_RUNNING = 2432
    PERL5_CPAN_IS_RUNNING = 2432
    PERL5_CPAN_IS_RUNNING_IN_RECURSION = 2336,2432
    PERL_CR_SMOKER_CURRENT = Perl-Critic-Dancer2-0.4100
    PERL_EXTUTILS_AUTOINSTALL = --defaultdeps
    PERL_MM_USE_DEFAULT = 1
    PERL_USE_UNSAFE_INC = 1
    PROCESSOR_IDENTIFIER = x86 Family 6 Model 14 Stepping 8, GenuineIntel
    TEMP = C:\DOKUME~1\smoker\LOKALE~1\Temp
    TERM = dumb

Perl special variables (and OS-specific diagnostics, for MSWin32):

    $^X = C:\Strawberry\perl\bin\perl.exe
    $UID/$EUID = 0 / 0
    $GID = 0
    $EGID = 0
    Win32::GetOSName = WinXP/.Net
    Win32::GetOSVersion = Service Pack 3, 5, 1, 2600, 2, 3, 0, 256, 1
    Win32::FsType = NTFS
    Win32::IsAdminUser = 1

Perl module toolchain versions installed:

    Module              Have    
    ------------------- --------
    CPAN                2.34    
    CPAN::Meta          2.150010
    Cwd                 3.78    
    ExtUtils::CBuilder  0.280235
    ExtUtils::Command   7.65_02 
    ExtUtils::Install   2.20    
    ExtUtils::MakeMaker 7.65_02 
    ExtUtils::Manifest  1.73    
    ExtUtils::ParseXS   3.44    
    File::Spec          3.78    
    JSON                4.09    
    JSON::PP            4.11    
    Module::Build       0.4231  
    Module::Signature   0.88    
    Parse::CPAN::Meta   2.150010
    Test::Harness       3.44    
    Test::More          1.302191
    YAML                1.30    
    YAML::Syck          1.34    
    version             0.9928  


--

Summary of my perl5 (revision 5 version 32 subversion 1) configuration:
   
  Platform:
    osname=MSWin32
    osvers=10.0.19042.746
    archname=MSWin32-x86-multi-thread-64int
    uname='Win32 strawberry-perl 5.32.1.1 #1 Sun Jan 24 12:17:47 2021 i386'
    config_args='undef'
    hint=recommended
    useposix=true
    d_sigaction=undef
    useithreads=define
    usemultiplicity=define
    use64bitint=define
    use64bitall=undef
    uselongdouble=undef
    usemymalloc=n
    default_inc_excludes_dot=define
    bincompat5005=undef
  Compiler:
    cc='gcc'
    ccflags =' -DWIN32 -D__USE_MINGW_ANSI_STDIO -DPERL_TEXTMODE_SCRIPTS -DPERL_IMPLICIT_CONTEXT -DPERL_IMPLICIT_SYS -DUSE_PERLIO -fwrapv -fno-strict-aliasing -mms-bitfields'
    optimize='-s -O2'
    cppflags='-DWIN32'
    ccversion=''
    gccversion='8.3.0'
    gccosandvers=''
    intsize=4
    longsize=4
    ptrsize=4
    doublesize=8
    byteorder=12345678
    doublekind=3
    d_longlong=define
    longlongsize=8
    d_longdbl=define
    longdblsize=12
    longdblkind=3
    ivtype='long long'
    ivsize=8
    nvtype='double'
    nvsize=8
    Off_t='long long'
    lseeksize=8
    alignbytes=8
    prototype=define
  Linker and Libraries:
    ld='g++'
    ldflags ='-s -L"C:\STRAWB~1\perl\lib\CORE" -L"C:\STRAWB~1\c\lib"'
    libpth=C:\STRAWB~1\c\lib C:\STRAWB~1\c\i686-w64-mingw32\lib C:\STRAWB~1\c\lib\gcc\i686-w64-mingw32\8.3.0
    libs= -lmoldname -lkernel32 -luser32 -lgdi32 -lwinspool -lcomdlg32 -ladvapi32 -lshell32 -lole32 -loleaut32 -lnetapi32 -luuid -lws2_32 -lmpr -lwinmm -lversion -lodbc32 -lodbccp32 -lcomctl32
    perllibs= -lmoldname -lkernel32 -luser32 -lgdi32 -lwinspool -lcomdlg32 -ladvapi32 -lshell32 -lole32 -loleaut32 -lnetapi32 -luuid -lws2_32 -lmpr -lwinmm -lversion -lodbc32 -lodbccp32 -lcomctl32
    libc=
    so=dll
    useshrplib=true
    libperl=libperl532.a
    gnulibc_version=''
  Dynamic Linking:
    dlsrc=dl_win32.xs
    dlext=xs.dll
    d_dlsymun=undef
    ccdlflags=' '
    cccdlflags=' '
    lddlflags='-mdll -s -L"C:\STRAWB~1\perl\lib\CORE" -L"C:\STRAWB~1\c\lib"'


Characteristics of this binary (from libperl): 
  Compile-time options:
    HAS_TIMES
    HAVE_INTERP_INTERN
    MULTIPLICITY
    PERLIO_LAYERS
    PERL_COPY_ON_WRITE
    PERL_DONT_CREATE_GVSV
    PERL_IMPLICIT_CONTEXT
    PERL_IMPLICIT_SYS
    PERL_MALLOC_WRAP
    PERL_OP_PARENT
    PERL_PRESERVE_IVUV
    USE_64_BIT_INT
    USE_ITHREADS
    USE_LARGE_FILES
    USE_LOCALE
    USE_LOCALE_COLLATE
    USE_LOCALE_CTYPE
    USE_LOCALE_NUMERIC
    USE_LOCALE_TIME
    USE_PERLIO
    USE_PERL_ATOF
  Built under MSWin32
  Compiled at Jan 24 2021 12:22:49
  %ENV:
    PERL5_CPANPLUS_IS_RUNNING="2432"
    PERL5_CPAN_IS_RUNNING="2432"
    PERL5_CPAN_IS_RUNNING_IN_RECURSION="2336,2432"
    PERL_CR_SMOKER_CURRENT="Perl-Critic-Dancer2-0.4100"
    PERL_EXTUTILS_AUTOINSTALL="--defaultdeps"
    PERL_MM_USE_DEFAULT="1"
    PERL_USE_UNSAFE_INC="1"
  @INC:
    C:/Strawberry/perl/site/lib/MSWin32-x86-multi-thread-64int
    C:/Strawberry/perl/site/lib
    C:/Strawberry/perl/vendor/lib
    C:/Strawberry/perl/lib
    .