Dist-Zilla-PluginBundle-GitLab v1.0002 Perl 5 v5.34.0 x86_64-linux
- Status
- Pass
- From
- Slaven Rezić
- Dist
-
Dist-Zilla-PluginBundle-GitLab v1.0002
- Platform
- Perl 5 v5.34.0 x86_64-linux
- Date
- 2022-07-02 19:21:54
- ID
- 3b3ea606-fa3c-11ec-8a43-bfc12cbfd570
This distribution has been tested as part of the CPAN Testers
project, supporting the Perl programming language. See
http://wiki.cpantesters.org/ for more information or email
questions to cpan-testers-discuss@perl.org
--
Dear D Ruth Holloway,
This is a computer-generated report for Dist-Zilla-PluginBundle-GitLab-1.0002
on perl 5.34.0, created by CPAN-Reporter-1.2018.
Thank you for uploading your work to CPAN. Congratulations!
All tests were successful.
Sections of this report:
* Tester comments
* Program output
* Prerequisites
* Environment and other context
------------------------------
TESTER COMMENTS
------------------------------
Additional comments from tester:
none provided
------------------------------
PROGRAM OUTPUT
------------------------------
Output from '/usr/bin/make test':
PERL_DL_NONLAZY=1 "/opt/perl-5.34.0/bin/perl" "-MExtUtils::Command::MM" "-MTest::Harness" "-e" "undef *Test::Harness::Switches; test_harness(0, 'blib/lib', 'blib/arch')" t/*.t t/tests/dist/zilla/app/command/*.t t/tests/dist/zilla/plugin/gitlab/*.t t/tests/dist/zilla/pluginbundle/*.t
t/00-compile.t ............................. ok
#
# Versions for all modules listed in MYMETA.json (including optional ones):
#
# === Configure Requires ===
#
# Module Want Have
# ------------------- ---- ----
# ExtUtils::MakeMaker any 7.64
#
# === Build Requires ===
#
# Module Want Have
# ------------------- ---- ----
# ExtUtils::MakeMaker any 7.64
#
# === Test Requires ===
#
# Module Want Have
# --------------------- ---- --------
# ExtUtils::MakeMaker any 7.64
# File::Spec any 3.80
# FindBin any 1.52
# IO::Handle any 1.46
# IPC::Open3 any 1.21
# Path::Tiny any 0.122
# Test2::Tools::Compare any 0.000145
# Test2::Tools::Explain any 0.02
# Test2::Tools::JSON any 0.05
# Test2::V0 any 0.000145
# Test::DZil any 6.024
# Test::More any 1.302190
# lib any 0.65
# strict any 1.12
# warnings any 1.51
#
# === Test Recommends ===
#
# Module Want Have
# ---------- -------- --------
# CPAN::Meta 2.120900 2.150010
#
# === Runtime Requires ===
#
# Module Want Have
# ------------------------------------- ---- ----------
# Carp any 1.52
# Class::Load any 0.25
# Cwd any 3.80
# Data::Dumper any 2.183
# Dist::Zilla::App any 6.024
# Dist::Zilla::Dist::Minter any 6.024
# Dist::Zilla::Role::AfterMint any 6.024
# Dist::Zilla::Role::AfterRelease any 6.024
# Dist::Zilla::Role::MetaProvider any 6.024
# Dist::Zilla::Role::PluginBundle::Easy any 6.024
# Dist::Zilla::Role::TextTemplate any 6.024
# File::Basename any 2.85
# Git::Wrapper any 0.048
# HTTP::Tiny any 0.076
# JSON::MaybeXS any 1.004003
# List::Util any 1.62
# Modern::Perl any 1.20220515
# Moose any 2.2201
# Try::Tiny any 0.31
# URL::Encode any 0.03
#
t/00-report-prereqs.t ...................... ok
t/tests/dist/zilla/app/command/gl.t ........ skipped: Tests for dzil gl commands not yet written.
t/tests/dist/zilla/plugin/gitlab/create.t .. skipped: Tests not yet written.
t/tests/dist/zilla/plugin/gitlab/meta.t .... skipped: Tests not yet written.
t/tests/dist/zilla/plugin/gitlab/update.t .. ok
t/tests/dist/zilla/pluginbundle/gitlab.t ... skipped: Tests not yet written.
All tests successful.
Files=7, Tests=8, 2 wallclock secs ( 0.02 usr 0.00 sys + 1.86 cusr 0.23 csys = 2.11 CPU)
Result: PASS
------------------------------
PREREQUISITES
------------------------------
Prerequisite modules loaded:
requires:
Module Need Have
------------------------------------- ----- ----------
Carp 0 1.52
Class::Load 0 0.25
Cwd 0 3.80
Data::Dumper 0 2.183
Dist::Zilla::App 0 6.024
Dist::Zilla::Dist::Minter 0 6.024
Dist::Zilla::Role::AfterMint 0 6.024
Dist::Zilla::Role::AfterRelease 0 6.024
Dist::Zilla::Role::MetaProvider 0 6.024
Dist::Zilla::Role::PluginBundle::Easy 0 6.024
Dist::Zilla::Role::TextTemplate 0 6.024
File::Basename 0 2.85
Git::Wrapper 0 0.048
HTTP::Tiny 0 0.076
JSON::MaybeXS 0 1.004003
List::Util 0 1.62
Modern::Perl 0 1.20220515
Moose 0 2.2201
perl 5.008 5.034000
Try::Tiny 0 0.31
URL::Encode 0 0.03
build_requires:
Module Need Have
------------------------------------- ----- ----------
ExtUtils::MakeMaker 0 7.64
File::Spec 0 3.80
FindBin 0 1.52
IO::Handle 0 1.46
IPC::Open3 0 1.21
lib 0 0.65
Path::Tiny 0 0.122
strict 0 1.12
Test2::Tools::Compare 0 0.000145
Test2::Tools::Explain 0 0.02
Test2::Tools::JSON 0 0.05
Test2::V0 0 0.000145
Test::DZil 0 6.024
Test::More 0 1.302190
warnings 0 1.51
configure_requires:
Module Need Have
------------------------------------- ----- ----------
ExtUtils::MakeMaker 0 7.64
------------------------------
ENVIRONMENT AND OTHER CONTEXT
------------------------------
Environment variables:
LANG = en_US.UTF-8
PATH = /usr/local/bin:/usr/bin:/bin:/usr/local/sbin:/usr/sbin:/sbin:/home/cpansand/bin/linux-gnu:/home/cpansand/bin/sh:/home/cpansand/bin:/usr/games:/home/cpansand/devel:/home/eserte/src/srezic-misc/scripts
PERL5LIB = /home/cpansand/.cpan/build/2022070217/Test2-Tools-JSON-0.05-0/blib/arch:/home/cpansand/.cpan/build/2022070217/Test2-Tools-JSON-0.05-0/blib/lib:/home/cpansand/.cpan/build/2022070217/Dist-Zilla-Plugin-Covenant-0.1.2-0/blib/arch:/home/cpansand/.cpan/build/2022070217/Dist-Zilla-Plugin-Covenant-0.1.2-0/blib/lib:/home/cpansand/.cpan/build/2022070217/Dist-Zilla-Plugin-ContributorCovenant-2.000000-0/blib/arch:/home/cpansand/.cpan/build/2022070217/Dist-Zilla-Plugin-ContributorCovenant-2.000000-0/blib/lib:/home/cpansand/.cpan/build/2022070217/Dist-Zilla-Plugin-CoalescePod-0.3.0-0/blib/arch:/home/cpansand/.cpan/build/2022070217/Dist-Zilla-Plugin-CoalescePod-0.3.0-0/blib/lib:/home/cpansand/.cpan/build/2022070217/Dist-Zilla-Plugin-ChangeStats-Git-0.6.0-0/blib/arch:/home/cpansand/.cpan/build/2022070217/Dist-Zilla-Plugin-ChangeStats-Git-0.6.0-0/blib/lib
PERL5OPT =
PERL5_CPANPLUS_IS_RUNNING = 195158
PERL5_CPAN_IS_RUNNING = 195158
PERL5_CPAN_IS_RUNNING_IN_RECURSION = 195043,195158
PERLDOC = -MPod::Perldoc::ToTextOverstrike
PERL_BATCH = yes
PERL_CANARY_STABILITY_NOPROMPT = 1
PERL_CPAN_REPORTER_CONFIG = /var/tmp/cpansmoker-1023/2022070217/cpanreporter_000_config.ini
PERL_EXTUTILS_AUTOINSTALL = --defaultdeps
PERL_USE_UNSAFE_INC = 1
SHELL = /usr/bin/zsh
TERM = screen
TMPDIR = /var/tmp/cpansmoker-1023/2022070217
Perl special variables (and OS-specific diagnostics, for MSWin32):
$^X = /opt/perl-5.34.0/bin/perl
$UID/$EUID = 1023 / 1023
$GID = 1023 1023
$EGID = 1023 1023
Perl module toolchain versions installed:
Module Have
------------------- --------
CPAN 2.34
CPAN::Meta 2.150010
Cwd 3.80
ExtUtils::CBuilder 0.280236
ExtUtils::Command 7.64
ExtUtils::Install 2.20
ExtUtils::MakeMaker 7.64
ExtUtils::Manifest 1.73
ExtUtils::ParseXS 3.43
File::Spec 3.80
JSON 4.05
JSON::PP 4.09
Module::Build 0.4231
Module::Signature 0.88
Parse::CPAN::Meta 2.150010
Test::Harness 3.44
Test::More 1.302190
YAML 1.30
YAML::Syck 1.34
version 0.9928
--
Summary of my perl5 (revision 5 version 34 subversion 0) configuration:
Platform:
osname=linux
osvers=4.18.0-348.12.2.el8_5.x86_64
archname=x86_64-linux
uname='linux cloud5.bbbike.org 4.18.0-348.12.2.el8_5.x86_64 #1 smp wed jan 19 17:53:40 utc 2022 x86_64 x86_64 x86_64 gnulinux '
config_args='-ds -e -Dprefix=/opt/perl-5.34.0 -Dcf_email=srezic@cpan.org'
hint=recommended
useposix=true
d_sigaction=define
useithreads=undef
usemultiplicity=undef
use64bitint=define
use64bitall=define
uselongdouble=undef
usemymalloc=n
default_inc_excludes_dot=define
Compiler:
cc='cc'
ccflags ='-fwrapv -fno-strict-aliasing -pipe -fstack-protector-strong -I/usr/local/include -D_LARGEFILE_SOURCE -D_FILE_OFFSET_BITS=64 -D_FORTIFY_SOURCE=2'
optimize='-O2'
cppflags='-fwrapv -fno-strict-aliasing -pipe -fstack-protector-strong -I/usr/local/include'
ccversion=''
gccversion='8.5.0 20210514 (Red Hat 8.5.0-4)'
gccosandvers=''
intsize=4
longsize=8
ptrsize=8
doublesize=8
byteorder=12345678
doublekind=3
d_longlong=define
longlongsize=8
d_longdbl=define
longdblsize=16
longdblkind=3
ivtype='long'
ivsize=8
nvtype='double'
nvsize=8
Off_t='off_t'
lseeksize=8
alignbytes=8
prototype=define
Linker and Libraries:
ld='cc'
ldflags =' -fstack-protector-strong -L/usr/local/lib'
libpth=/usr/local/lib /usr/lib /usr/lib64 /usr/local/lib64
libs=-lpthread -ldb -ldl -lm -lcrypt -lutil -lc
perllibs=-lpthread -ldl -lm -lcrypt -lutil -lc
libc=libc-2.28.so
so=so
useshrplib=false
libperl=libperl.a
gnulibc_version='2.28'
Dynamic Linking:
dlsrc=dl_dlopen.xs
dlext=so
d_dlsymun=undef
ccdlflags='-Wl,-E'
cccdlflags='-fPIC'
lddlflags='-shared -O2 -L/usr/local/lib -fstack-protector-strong'
Characteristics of this binary (from libperl):
Compile-time options:
HAS_TIMES
PERLIO_LAYERS
PERL_COPY_ON_WRITE
PERL_DONT_CREATE_GVSV
PERL_MALLOC_WRAP
PERL_OP_PARENT
PERL_PRESERVE_IVUV
USE_64_BIT_ALL
USE_64_BIT_INT
USE_LARGE_FILES
USE_LOCALE
USE_LOCALE_COLLATE
USE_LOCALE_CTYPE
USE_LOCALE_NUMERIC
USE_LOCALE_TIME
USE_PERLIO
USE_PERL_ATOF
Built under linux
Compiled at Feb 6 2022 09:55:05
%ENV:
PERL5LIB="/home/cpansand/.cpan/build/2022070217/Test2-Tools-JSON-0.05-0/blib/arch:/home/cpansand/.cpan/build/2022070217/Test2-Tools-JSON-0.05-0/blib/lib:/home/cpansand/.cpan/build/2022070217/Dist-Zilla-Plugin-Covenant-0.1.2-0/blib/arch:/home/cpansand/.cpan/build/2022070217/Dist-Zilla-Plugin-Covenant-0.1.2-0/blib/lib:/home/cpansand/.cpan/build/2022070217/Dist-Zilla-Plugin-ContributorCovenant-2.000000-0/blib/arch:/home/cpansand/.cpan/build/2022070217/Dist-Zilla-Plugin-ContributorCovenant-2.000000-0/blib/lib:/home/cpansand/.cpan/build/2022070217/Dist-Zilla-Plugin-CoalescePod-0.3.0-0/blib/arch:/home/cpansand/.cpan/build/2022070217/Dist-Zilla-Plugin-CoalescePod-0.3.0-0/blib/lib:/home/cpansand/.cpan/build/2022070217/Dist-Zilla-Plugin-ChangeStats-Git-0.6.0-0/blib/arch:/home/cpansand/.cpan/build/2022070217/Dist-Zilla-Plugin-ChangeStats-Git-0.6.0-0/blib/lib"
PERL5OPT=""
PERL5_CPANPLUS_IS_RUNNING="195158"
PERL5_CPAN_IS_RUNNING="195158"
PERL5_CPAN_IS_RUNNING_IN_RECURSION="195043,195158"
PERLDOC="-MPod::Perldoc::ToTextOverstrike"
PERL_BATCH="yes"
PERL_CANARY_STABILITY_NOPROMPT="1"
PERL_CPAN_REPORTER_CONFIG="/var/tmp/cpansmoker-1023/2022070217/cpanreporter_000_config.ini"
PERL_EXTUTILS_AUTOINSTALL="--defaultdeps"
PERL_USE_UNSAFE_INC="1"
@INC:
/home/cpansand/.cpan/build/2022070217/Test2-Tools-JSON-0.05-0/blib/arch
/home/cpansand/.cpan/build/2022070217/Test2-Tools-JSON-0.05-0/blib/lib
/home/cpansand/.cpan/build/2022070217/Dist-Zilla-Plugin-Covenant-0.1.2-0/blib/arch
/home/cpansand/.cpan/build/2022070217/Dist-Zilla-Plugin-Covenant-0.1.2-0/blib/lib
/home/cpansand/.cpan/build/2022070217/Dist-Zilla-Plugin-ContributorCovenant-2.000000-0/blib/arch
/home/cpansand/.cpan/build/2022070217/Dist-Zilla-Plugin-ContributorCovenant-2.000000-0/blib/lib
/home/cpansand/.cpan/build/2022070217/Dist-Zilla-Plugin-CoalescePod-0.3.0-0/blib/arch
/home/cpansand/.cpan/build/2022070217/Dist-Zilla-Plugin-CoalescePod-0.3.0-0/blib/lib
/home/cpansand/.cpan/build/2022070217/Dist-Zilla-Plugin-ChangeStats-Git-0.6.0-0/blib/arch
/home/cpansand/.cpan/build/2022070217/Dist-Zilla-Plugin-ChangeStats-Git-0.6.0-0/blib/lib
/opt/perl-5.34.0/lib/site_perl/5.34.0/x86_64-linux
/opt/perl-5.34.0/lib/site_perl/5.34.0
/opt/perl-5.34.0/lib/5.34.0/x86_64-linux
/opt/perl-5.34.0/lib/5.34.0
.