Perl-Critic v1.152 Perl 5 v5.34.1 MSWin32-x86-multi-thread-64int
- Status
- Pass
- From
- twata
- Dist
-
Perl-Critic v1.152
- Platform
- Perl 5 v5.34.1 MSWin32-x86-multi-thread-64int
- Date
- 2023-10-19 09:37:59
- ID
- 3b21e079-6bfb-1014-8029-eabee3396204
This distribution has been tested as part of the CPAN Testers
project, supporting the Perl programming language. See
http://wiki.cpantesters.org/ for more information or email
questions to cpan-testers-discuss@perl.org
--
Dear Andy Lester,
This is a computer-generated report for Perl-Critic-1.152
on perl 5.34.1, created by CPAN-Reporter-1.2019.
Thank you for uploading your work to CPAN. Congratulations!
All tests were successful.
Sections of this report:
* Tester comments
* Program output
* Prerequisites
* Environment and other context
------------------------------
TESTER COMMENTS
------------------------------
Additional comments from tester:
none provided
------------------------------
PROGRAM OUTPUT
------------------------------
Output from 'C:\perl32a\bin\perl.exe ./Build test':
# Testing Perl::Critic 1.152 with PPI 1.277 under Perl 5.034001, C:\perl32a\bin\perl.exe
t\00_modules.t ................................ ok
t\00_versions.t ............................... ok
t\01_config.t ................................. ok
t\01_config_bad_perlcriticrc.t ................ ok
t\01_policy_config.t .......................... ok
t\02_policy.t ................................. ok
t\03_annotations.t ............................ ok
t\03_pragmas.t ................................ ok
t\04_options_processor.t ...................... ok
t\05_utils.t .................................. ok
t\05_utils_perl.t ............................. ok
t\05_utils_pod.t .............................. ok
t\05_utils_ppi.t .............................. ok
t\06_violation.t .............................. ok
t\07_command.t ................................ ok
t\07_perlcritic.t ............................. ok
t\08_document.t ............................... ok
t\09_theme.t .................................. ok
t\10_user_profile.t ........................... ok
t\11_policy_factory.t ......................... ok
t\12_policy_listing.t ......................... ok
t\12_theme_listing.t .......................... ok
t\13_bundled_policies.t ....................... ok
t\14_policy_parameter_behavior_boolean.t ...... ok
t\14_policy_parameter_behavior_enumeration.t .. ok
t\14_policy_parameter_behavior_integer.t ...... ok
t\14_policy_parameter_behavior_list_string.t .. ok
t\14_policy_parameter_behavior_string.t ....... ok
t\14_policy_parameters.t ...................... ok
t\15_statistics.t ............................. ok
t\16_roundtrip_defaults.t ..................... ok
t\20_policies.t ............................... skipped: Test::Perl::Critic required to test Perl::Critic itself
t\20_policy_pod_spelling.t .................... ok
t\20_policy_prohibit_evil_modules.t ........... ok
t\20_policy_prohibit_hard_tabs.t .............. ok
t\20_policy_prohibit_trailing_whitespace.t .... ok
t\20_policy_require_consistent_newlines.t ..... ok
t\20_policy_require_tidy_code.t ............... ok
Unhandled type: REGEXP at C:\home\earth1a\perl5\lib\perl5/Devel/Cycle.pm line 107.
t\92_memory_leaks.t ........................... ok
t\gh-734.t .................................... ok
All tests successful.
Files=40, Tests=5399, 154 wallclock secs ( 0.83 usr + 0.28 sys = 1.11 CPU)
Result: PASS
------------------------------
PREREQUISITES
------------------------------
Prerequisite modules loaded:
requires:
Module Need Have
------------------------- -------- --------
B::Keywords 1.23 1.26
Carp 0 1.52
charnames 0 1.48
Config::Tiny 2 2.30
English 0 1.11
Exception::Class 1.23 1.45
Exporter 5.63 5.76
File::Basename 0 2.85
File::Find 0 1.41
File::Path 0 2.18
File::Spec 0 3.80
File::Spec::Unix 0 3.80
File::Temp 0 0.2311
File::Which 0 1.27
Getopt::Long 0 2.54
List::SomeUtils 0.55 0.59
List::Util 0 1.63
Module::Pluggable 3.1 5.2
overload 0 1.33
parent 0 0.238
perl 5.010001 5.034001
Perl::Tidy 0 20230912
Pod::PlainText 0 2.07
Pod::Select 0 1.66
Pod::Spell 1 1.26
Pod::Usage 0 2.03
PPI 1.277 1.277
PPI::Document 1.277 1.277
PPI::Document::File 1.277 1.277
PPI::Node 1.277 1.277
PPI::Token::Quote::Single 1.277 1.277
PPI::Token::Whitespace 1.277 1.277
PPIx::QuoteLike 0 0.023
PPIx::Regexp 0.027 0.088
PPIx::Regexp::Util 0.068 0.088
PPIx::Utils::Traversal 0.003 0.003
Readonly 2 2.05
Scalar::Util 0 1.63
strict 0 1.12
String::Format 1.18 1.18
Term::ANSIColor 2.02 5.01
Test::Builder 0.92 1.302190
Text::ParseWords 3 3.30
version 0.77 0.9930
warnings 0 1.51
build_requires:
Module Need Have
------------------------- -------- --------
lib 0 0.65
Test::More 0 1.302190
configure_requires:
Module Need Have
------------------------- -------- --------
B::Keywords 1.23 1.26
base 0 2.27
Carp 0 1.52
English 0 1.11
Exporter 5.63 5.76
lib 0 0.65
List::SomeUtils 0.55 0.59
Module::Build 0.4204 0.4234
------------------------------
ENVIRONMENT AND OTHER CONTEXT
------------------------------
Environment variables:
COMSPEC = C:\windows\system32\cmd.exe
INCLUDE = C:\Program Files\Microsoft Visual Studio 12.0\VC\INCLUDE;C:\Program Files\Microsoft Visual Studio 12.0\VC\ATLMFC\INCLUDE;C:\Program Files\Windows Kits\8.1\include\shared;C:\Program Files\Windows Kits\8.1\include\um;C:\Program Files\Windows Kits\8.1\include\winrt;;C:\perl32a\local\include
LC_ALL = C
LIB = C:\Program Files\Microsoft Visual Studio 12.0\VC\LIB;C:\Program Files\Microsoft Visual Studio 12.0\VC\ATLMFC\LIB;C:\Program Files\Windows Kits\8.1\lib\winv6.3\um\x86;
NONINTERACTIVE_TESTING = 1
NUMBER_OF_PROCESSORS = 4
PATH = C:\home\earth1a\perl5\bin;C:\perl32a\bin;C:\build-openssl\bin;C:\Program Files\Microsoft Visual Studio 12.0\Common7\IDE\CommonExtensions\Microsoft\TestWindow;C:\Program Files\Microsoft SDKs\F#\3.1\Framework\v4.0\;C:\Program Files\MSBuild\12.0\bin;C:\Program Files\Microsoft Visual Studio 12.0\Common7\IDE\;C:\Program Files\Microsoft Visual Studio 12.0\VC\BIN;C:\Program Files\Microsoft Visual Studio 12.0\Common7\Tools;C:\windows\Microsoft.NET\Framework\v4.0.30319;C:\Program Files\Microsoft Visual Studio 12.0\VC\VCPackages;C:\Program Files\HTML Help Workshop;C:\Program Files\Microsoft Visual Studio 12.0\Team Tools\Performance Tools;C:\Program Files\Windows Kits\8.1\bin\x86;C:\Program Files\Microsoft SDKs\Windows\v8.1A\bin\NETFX 4.5.1 Tools\;C:\Windows\System32;C:\Windows;C:\Windows\System32\Wbem;C:\windows\System32\WindowsPowerShell\v1.0\
PERL5LIB = C:\home\earth1a\perl5\lib\perl5
PERL5OPT =
PERL5_CPANPLUS_IS_RUNNING = 3868
PERL5_CPAN_IS_RUNNING = 3868
PERL_LOCAL_LIB_ROOT = C:\home\earth1a\perl5
PERL_MB_OPT = --install_base "C:\\home\\earth1a\\perl5"
PERL_MM_OPT = INSTALL_BASE=C:\\home\\earth1a\\perl5
PERL_MM_USE_DEFAULT = 1
PERL_USE_UNSAFE_INC = 1
PROCESSOR_IDENTIFIER = x86 Family 6 Model 37 Stepping 5, GenuineIntel
TEMP = C:\Users\user\AppData\Local\Temp
TERM = dumb
TUGI_PERLVER = 5.034001
Perl special variables (and OS-specific diagnostics, for MSWin32):
$^X = C:\perl32a\bin\perl.exe
$UID/$EUID = 0 / 0
$GID = 0
$EGID = 0
Win32::GetOSName = Win7
Win32::GetOSVersion = Service Pack 1, 6, 1, 7601, 2, 1, 0, 256, 1
Win32::FsType = NTFS
Win32::IsAdminUser = 0
Perl module toolchain versions installed:
Module Have
------------------- --------
CPAN 2.28
CPAN::Meta 2.150010
Cwd 3.80
ExtUtils::CBuilder 0.280236
ExtUtils::Command 7.62
ExtUtils::Install 2.20
ExtUtils::MakeMaker 7.62
ExtUtils::Manifest 1.75
ExtUtils::ParseXS 3.51
File::Spec 3.80
JSON 4.10
JSON::PP 4.17_01
Module::Build 0.4234
Module::Signature n/a
Parse::CPAN::Meta 2.150010
Test2 1.302190
Test::Harness 3.47
Test::More 1.302190
YAML 1.30
YAML::Syck 1.34
version 0.9930
--
Summary of my perl5 (revision 5 version 34 subversion 1) configuration:
Platform:
osname=MSWin32
osvers=6.1.7601
archname=MSWin32-x86-multi-thread-64int
uname=''
config_args='undef'
hint=recommended
useposix=true
d_sigaction=undef
useithreads=define
usemultiplicity=define
use64bitint=define
use64bitall=undef
uselongdouble=undef
usemymalloc=n
default_inc_excludes_dot=define
Compiler:
cc='cl'
ccflags ='-nologo -GF -W3 -MD -DWIN32 -D_CONSOLE -DNO_STRICT -D_CRT_SECURE_NO_DEPRECATE -D_CRT_NONSTDC_NO_DEPRECATE -DPERL_TEXTMODE_SCRIPTS -DPERL_IMPLICIT_CONTEXT -DPERL_IMPLICIT_SYS'
optimize='-O1 -Zi -GL'
cppflags='-DWIN32'
ccversion='18.00.40629'
gccversion=''
gccosandvers=''
intsize=4
longsize=4
ptrsize=4
doublesize=8
byteorder=12345678
doublekind=3
d_longlong=undef
longlongsize=8
d_longdbl=define
longdblsize=8
longdblkind=0
ivtype='__int64'
ivsize=8
nvtype='double'
nvsize=8
Off_t='__int64'
lseeksize=8
alignbytes=8
prototype=define
Linker and Libraries:
ld='link'
ldflags ='-nologo -nodefaultlib -debug -opt:ref,icf -ltcg -libpath:"c:\Perl32a\lib\CORE" -machine:x86 -subsystem:console,"5.01"'
libpth="C:\Program Files\Microsoft Visual Studio 12.0\VC\\lib"
libs=oldnames.lib kernel32.lib user32.lib gdi32.lib winspool.lib comdlg32.lib advapi32.lib shell32.lib ole32.lib oleaut32.lib netapi32.lib uuid.lib ws2_32.lib mpr.lib winmm.lib version.lib odbc32.lib odbccp32.lib comctl32.lib msvcrt.lib
perllibs=oldnames.lib kernel32.lib user32.lib gdi32.lib winspool.lib comdlg32.lib advapi32.lib shell32.lib ole32.lib oleaut32.lib netapi32.lib uuid.lib ws2_32.lib mpr.lib winmm.lib version.lib odbc32.lib odbccp32.lib comctl32.lib msvcrt.lib
libc=msvcrt.lib
so=dll
useshrplib=true
libperl=perl534.lib
gnulibc_version=''
Dynamic Linking:
dlsrc=dl_win32.xs
dlext=dll
d_dlsymun=undef
ccdlflags=' '
cccdlflags=' '
lddlflags='-dll -nologo -nodefaultlib -debug -opt:ref,icf -ltcg -libpath:"c:\Perl32a\lib\CORE" -machine:x86 -subsystem:console,"5.01"'
Characteristics of this binary (from libperl):
Compile-time options:
HAS_TIMES
HAVE_INTERP_INTERN
MULTIPLICITY
PERLIO_LAYERS
PERL_COPY_ON_WRITE
PERL_DONT_CREATE_GVSV
PERL_IMPLICIT_CONTEXT
PERL_IMPLICIT_SYS
PERL_MALLOC_WRAP
PERL_OP_PARENT
PERL_PRESERVE_IVUV
USE_64_BIT_INT
USE_ITHREADS
USE_LARGE_FILES
USE_LOCALE
USE_LOCALE_COLLATE
USE_LOCALE_CTYPE
USE_LOCALE_NUMERIC
USE_LOCALE_TIME
USE_PERLIO
USE_PERL_ATOF
USE_THREAD_SAFE_LOCALE
Locally applied patches:
VS2013: [GH #19138] Fix 5.34 test failures with Inf NaN numbers on Windows
VS2013: [GH #20008] File::Find: fix "follow => 1" on Windows
Built under MSWin32
Compiled at Jun 4 2023 20:06:12
%ENV:
PERL5LIB="C:\home\earth1a\perl5\lib\perl5"
PERL5_CPANPLUS_IS_RUNNING="3868"
PERL5_CPAN_IS_RUNNING="3868"
PERL_LOCAL_LIB_ROOT="C:\home\earth1a\perl5"
PERL_MB_OPT="--install_base "C:\\home\\earth1a\\perl5""
PERL_MM_OPT="INSTALL_BASE=C:\\home\\earth1a\\perl5"
PERL_MM_USE_DEFAULT="1"
PERL_USE_UNSAFE_INC="1"
@INC:
C:\home\earth1a\perl5\lib\perl5/MSWin32-x86-multi-thread-64int
C:\home\earth1a\perl5\lib\perl5
C:/Perl32a/site/lib
C:/Perl32a/lib
.