Encode v3.18 Perl 5 v5.34.0 darwin-thread-multi-ld-2level
- Status
- Pass
- From
- Gary Greene
- Dist
-
Encode v3.18
- Platform
- Perl 5 v5.34.0 darwin-thread-multi-ld-2level
- Date
- 2022-07-08 14:42:44
- ID
- 3a44bc60-fecc-11ec-9c47-329f8fcbba84
This distribution has been tested as part of the CPAN Testers
project, supporting the Perl programming language. See
http://wiki.cpantesters.org/ for more information or email
questions to cpan-testers-discuss@perl.org
--
Dear Dan Kogai,
This is a computer-generated report for Encode-3.18
on perl 5.34.0, created by CPAN-Reporter-1.2018.
Thank you for uploading your work to CPAN. Congratulations!
All tests were successful.
Sections of this report:
* Tester comments
* Program output
* Prerequisites
* Environment and other context
------------------------------
TESTER COMMENTS
------------------------------
Additional comments from tester:
none provided
------------------------------
PROGRAM OUTPUT
------------------------------
Output from '/opt/local/libexec/gnubin/make test':
"/opt/Perl5.34.0/bin/perl" -MExtUtils::Command::MM -e 'cp_nonempty' -- Encode.bs blib/arch/auto/Encode/Encode.bs 644
make[1]: Entering directory '/Users/ggreen99/.cpan/build/Encode-3.18-0/Byte'
"/opt/Perl5.34.0/bin/perl" -MExtUtils::Command::MM -e 'cp_nonempty' -- Byte.bs ../blib/arch/auto/Encode/Byte/Byte.bs 644
make[1]: Leaving directory '/Users/ggreen99/.cpan/build/Encode-3.18-0/Byte'
make[1]: Entering directory '/Users/ggreen99/.cpan/build/Encode-3.18-0/CN'
"/opt/Perl5.34.0/bin/perl" -MExtUtils::Command::MM -e 'cp_nonempty' -- CN.bs ../blib/arch/auto/Encode/CN/CN.bs 644
make[1]: Leaving directory '/Users/ggreen99/.cpan/build/Encode-3.18-0/CN'
make[1]: Entering directory '/Users/ggreen99/.cpan/build/Encode-3.18-0/EBCDIC'
"/opt/Perl5.34.0/bin/perl" -MExtUtils::Command::MM -e 'cp_nonempty' -- EBCDIC.bs ../blib/arch/auto/Encode/EBCDIC/EBCDIC.bs 644
make[1]: Leaving directory '/Users/ggreen99/.cpan/build/Encode-3.18-0/EBCDIC'
make[1]: Entering directory '/Users/ggreen99/.cpan/build/Encode-3.18-0/JP'
"/opt/Perl5.34.0/bin/perl" -MExtUtils::Command::MM -e 'cp_nonempty' -- JP.bs ../blib/arch/auto/Encode/JP/JP.bs 644
make[1]: Leaving directory '/Users/ggreen99/.cpan/build/Encode-3.18-0/JP'
make[1]: Entering directory '/Users/ggreen99/.cpan/build/Encode-3.18-0/KR'
"/opt/Perl5.34.0/bin/perl" -MExtUtils::Command::MM -e 'cp_nonempty' -- KR.bs ../blib/arch/auto/Encode/KR/KR.bs 644
make[1]: Leaving directory '/Users/ggreen99/.cpan/build/Encode-3.18-0/KR'
make[1]: Entering directory '/Users/ggreen99/.cpan/build/Encode-3.18-0/Symbol'
"/opt/Perl5.34.0/bin/perl" -MExtUtils::Command::MM -e 'cp_nonempty' -- Symbol.bs ../blib/arch/auto/Encode/Symbol/Symbol.bs 644
make[1]: Leaving directory '/Users/ggreen99/.cpan/build/Encode-3.18-0/Symbol'
make[1]: Entering directory '/Users/ggreen99/.cpan/build/Encode-3.18-0/TW'
"/opt/Perl5.34.0/bin/perl" -MExtUtils::Command::MM -e 'cp_nonempty' -- TW.bs ../blib/arch/auto/Encode/TW/TW.bs 644
make[1]: Leaving directory '/Users/ggreen99/.cpan/build/Encode-3.18-0/TW'
make[1]: Entering directory '/Users/ggreen99/.cpan/build/Encode-3.18-0/Unicode'
"/opt/Perl5.34.0/bin/perl" -MExtUtils::Command::MM -e 'cp_nonempty' -- Unicode.bs ../blib/arch/auto/Encode/Unicode/Unicode.bs 644
make[1]: Leaving directory '/Users/ggreen99/.cpan/build/Encode-3.18-0/Unicode'
make[1]: Entering directory '/Users/ggreen99/.cpan/build/Encode-3.18-0/Byte'
"/opt/Perl5.34.0/bin/perl" -MExtUtils::Command::MM -e 'cp_nonempty' -- Byte.bs ../blib/arch/auto/Encode/Byte/Byte.bs 644
No tests defined for Encode::Byte extension.
make[1]: Leaving directory '/Users/ggreen99/.cpan/build/Encode-3.18-0/Byte'
make[1]: Entering directory '/Users/ggreen99/.cpan/build/Encode-3.18-0/CN'
"/opt/Perl5.34.0/bin/perl" -MExtUtils::Command::MM -e 'cp_nonempty' -- CN.bs ../blib/arch/auto/Encode/CN/CN.bs 644
No tests defined for Encode::CN extension.
make[1]: Leaving directory '/Users/ggreen99/.cpan/build/Encode-3.18-0/CN'
make[1]: Entering directory '/Users/ggreen99/.cpan/build/Encode-3.18-0/EBCDIC'
"/opt/Perl5.34.0/bin/perl" -MExtUtils::Command::MM -e 'cp_nonempty' -- EBCDIC.bs ../blib/arch/auto/Encode/EBCDIC/EBCDIC.bs 644
No tests defined for Encode::EBCDIC extension.
make[1]: Leaving directory '/Users/ggreen99/.cpan/build/Encode-3.18-0/EBCDIC'
make[1]: Entering directory '/Users/ggreen99/.cpan/build/Encode-3.18-0/JP'
"/opt/Perl5.34.0/bin/perl" -MExtUtils::Command::MM -e 'cp_nonempty' -- JP.bs ../blib/arch/auto/Encode/JP/JP.bs 644
No tests defined for Encode::JP extension.
make[1]: Leaving directory '/Users/ggreen99/.cpan/build/Encode-3.18-0/JP'
make[1]: Entering directory '/Users/ggreen99/.cpan/build/Encode-3.18-0/KR'
"/opt/Perl5.34.0/bin/perl" -MExtUtils::Command::MM -e 'cp_nonempty' -- KR.bs ../blib/arch/auto/Encode/KR/KR.bs 644
No tests defined for Encode::KR extension.
make[1]: Leaving directory '/Users/ggreen99/.cpan/build/Encode-3.18-0/KR'
make[1]: Entering directory '/Users/ggreen99/.cpan/build/Encode-3.18-0/Symbol'
"/opt/Perl5.34.0/bin/perl" -MExtUtils::Command::MM -e 'cp_nonempty' -- Symbol.bs ../blib/arch/auto/Encode/Symbol/Symbol.bs 644
No tests defined for Encode::Symbol extension.
make[1]: Leaving directory '/Users/ggreen99/.cpan/build/Encode-3.18-0/Symbol'
make[1]: Entering directory '/Users/ggreen99/.cpan/build/Encode-3.18-0/TW'
"/opt/Perl5.34.0/bin/perl" -MExtUtils::Command::MM -e 'cp_nonempty' -- TW.bs ../blib/arch/auto/Encode/TW/TW.bs 644
No tests defined for Encode::TW extension.
make[1]: Leaving directory '/Users/ggreen99/.cpan/build/Encode-3.18-0/TW'
make[1]: Entering directory '/Users/ggreen99/.cpan/build/Encode-3.18-0/Unicode'
"/opt/Perl5.34.0/bin/perl" -MExtUtils::Command::MM -e 'cp_nonempty' -- Unicode.bs ../blib/arch/auto/Encode/Unicode/Unicode.bs 644
No tests defined for Encode::Unicode extension.
make[1]: Leaving directory '/Users/ggreen99/.cpan/build/Encode-3.18-0/Unicode'
PERL_DL_NONLAZY=1 "/opt/Perl5.34.0/bin/perl" "-MExtUtils::Command::MM" "-MTest::Harness" "-e" "undef *Test::Harness::Switches; test_harness(0, 'blib/lib', 'blib/arch')" t/*.t
t/Aliases.t ................ ok
t/at-cn.t .................. ok
t/at-tw.t .................. ok
t/CJKT.t ................... ok
t/cow.t .................... ok
t/decode.t ................. ok
t/enc_data.t ............... skipped: encoding pragma not supported in Perl 5.25 or later
t/enc_eucjp.t .............. skipped: Perl <=5.25.2 or cperl required
t/enc_module.t ............. skipped: encoding pragma not supported in Perl 5.25 or later
t/enc_utf8.t ............... skipped: Perl <=5.25.2 or cperl required
t/Encode.t ................. ok
t/Encoder.t ................ ok
t/encoding-locale.t ........ ok
t/encoding.t ............... skipped: encoding pragma not supported in Perl 5.25 or later
t/fallback.t ............... ok
t/from_to.t ................ ok
t/grow.t ................... ok
t/gsm0338.t ................ ok
t/guess.t .................. ok
t/isa.t .................... ok
t/jis7-fallback.t .......... ok
t/jperl.t .................. skipped: encoding pragma not supported in Perl 5.25 or later
t/magic.t .................. ok
t/mime-header.t ............ ok
t/mime-name.t .............. ok
t/mime_header_iso2022jp.t .. ok
t/perlio.t ................. ok
t/piconv.t ................. ok
t/rt113164.t ............... ok
t/rt65541.t ................ ok
t/rt76824.t ................ ok
t/rt85489.t ................ ok
t/rt86327.t ................ ok
t/taint.t .................. ok
t/truncated_utf8.t ......... ok
t/undef.t .................. ok
t/Unicode.t ................ ok
t/Unicode_trailing_nul.t ... ok
t/use-Encode-Alias.t ....... ok
t/utf32warnings.t .......... ok
t/utf8ref.t ................ ok
t/utf8strict.t ............. ok
t/utf8warnings.t ........... ok
t/whatwg-aliases.t ......... skipped: For maintainers only
t/xml.t .................... ok
All tests successful.
Files=45, Tests=7757, 7 wallclock secs ( 0.60 usr 0.14 sys + 5.91 cusr 0.93 csys = 7.58 CPU)
Result: PASS
------------------------------
PREREQUISITES
------------------------------
Prerequisite modules loaded:
requires:
Module Need Have
------------------- ----- --------
Exporter 5.57 5.76
parent 0.221 0.238
Storable 0 3.25
build_requires:
Module Need Have
------------------- ----- --------
ExtUtils::MakeMaker 0 7.64
Test::More 0.92 1.302190
configure_requires:
Module Need Have
------------------- ----- --------
ExtUtils::MakeMaker 0 7.64
------------------------------
ENVIRONMENT AND OTHER CONTEXT
------------------------------
Environment variables:
LANG = en_US.UTF-8
LC_ALL = en_US.UTF-8
LC_CTYPE = C
PATH = /opt/Perl/bin:/opt/Perl/sbin:/opt/local/bin:/opt/local/sbin:/opt/local/libexec/gnubin:/Applications/VMware\ OVF\ Tool:/Users/ggreen99/.cargo/bin:/opt/google/kubernetes/bin:/opt/coreos/bin:/opt/coreos/sbin:/opt/packer/bin:/opt/vagrant/bin:/Applications/VirtualBox.app/Contents/MacOS/:/Users/ggreen99/.chefdk/gem/ruby/2.3.0/bin:/Users/ggreen99/bin:/opt/chefdk/bin:/opt/chefdk/embedded/bin:/opt/X11/bin:/opt/local/lib/go/bin:/opt/local/libexec/qt4/bin:/opt/local/Library/Frameworks/wxWidgets.framework/Versions/wxWidgets/3.1/bin:/usr/local/mysql/bin:/Users/ggreene99/Development/hrs:/bin:/sbin:/usr/bin:/usr/sbin:/usr/local/bin:/usr/local/sbin:/Users/ggreen99/.rvm/bin
PERL5LIB =
PERL5OPT =
PERL5_CPANPLUS_IS_RUNNING = 82228
PERL5_CPAN_IS_RUNNING = 82228
PERL_USE_UNSAFE_INC = 1
SHELL = /opt/local/bin/zsh
TERM = xterm-256color
TMPDIR = /var/folders/rz/kxg21j6s3nd00x242vzhlmtd3ybnw8/T/
Perl special variables (and OS-specific diagnostics, for MSWin32):
$^X = /opt/Perl5.34.0/bin/perl
$UID/$EUID = 1206245256 / 1206245256
$GID = 998356008 998356008 702 206 12 20 62 79 80 81 98 503 109106038 242039110 406238102 463325267 574656082
$EGID = 998356008 998356008 702 206 12 20 62 79 80 81 98 503 109106038 242039110 406238102 463325267 574656082
Perl module toolchain versions installed:
Module Have
------------------- --------
CPAN 2.34
CPAN::Meta 2.150010
Cwd 3.80
ExtUtils::CBuilder 0.280236
ExtUtils::Command 7.64
ExtUtils::Install 2.20
ExtUtils::MakeMaker 7.64
ExtUtils::Manifest 1.73
ExtUtils::ParseXS 3.44
File::Spec 3.80
JSON 4.07
JSON::PP 4.10
Module::Build 0.4231
Module::Signature 0.88
Parse::CPAN::Meta 2.150010
Test::Harness 3.44
Test::More 1.302190
YAML 1.30
YAML::Syck 1.34
version 0.9929
--
Summary of my perl5 (revision 5 version 34 subversion 0) configuration:
Platform:
osname=darwin
osvers=19.6.0
archname=darwin-thread-multi-ld-2level
uname='darwin mgc000002952.fmcc.ford.com 19.6.0 darwin kernel version 19.6.0: mon aug 31 22:12:52 pdt 2020; root:xnu-6153.141.2~1release_x86_64 x86_64 i386 macbookpro13,3 darwin '
config_args=''
hint=previous
useposix=true
d_sigaction=define
useithreads=define
usemultiplicity=define
use64bitint=define
use64bitall=define
uselongdouble=define
usemymalloc=n
default_inc_excludes_dot=define
Compiler:
cc='cc'
ccflags ='-fno-common -DPERL_DARWIN -mmacosx-version-min=10.15 -fno-strict-aliasing -pipe -fstack-protector-strong -I/usr/local/include -I/opt/local/include -DPERL_USE_SAFE_PUTENV'
optimize='-O3'
cppflags='-fno-common -DPERL_DARWIN -mmacosx-version-min=10.15 -fno-strict-aliasing -pipe -fstack-protector-strong -I/usr/local/include -I/opt/local/include'
ccversion=''
gccversion='4.2.1 Compatible Apple LLVM 11.0.0 (clang-1100.0.33.17)'
gccosandvers=''
intsize=4
longsize=8
ptrsize=8
doublesize=8
byteorder=12345678
doublekind=3
d_longlong=define
longlongsize=8
d_longdbl=define
longdblsize=16
longdblkind=3
ivtype='long'
ivsize=8
nvtype='long double'
nvsize=16
Off_t='off_t'
lseeksize=8
alignbytes=16
prototype=define
Linker and Libraries:
ld='cc'
ldflags =' -mmacosx-version-min=10.15 -fstack-protector-strong -L/usr/local/lib -L/opt/local/lib'
libpth=/usr/local/lib /Applications/Xcode.app/Contents/Developer/Toolchains/XcodeDefault.xctoolchain/usr/lib/clang/11.0.0/lib /Applications/Xcode.app/Contents/Developer/Toolchains/XcodeDefault.xctoolchain/usr/lib /Applications/Xcode.app/Contents/Developer/Platforms/MacOSX.platform/Developer/SDKs/MacOSX.sdk/usr/lib /opt/local/lib /usr/lib
libs=-lpthread -lgdbm -ldbm -ldl -lm -lutil -lc
perllibs=-lpthread -ldl -lm -lutil -lc
libc=
so=dylib
useshrplib=true
libperl=libperl.dylib
gnulibc_version=''
Dynamic Linking:
dlsrc=dl_dlopen.xs
dlext=bundle
d_dlsymun=undef
ccdlflags=' '
cccdlflags=' '
lddlflags=' -mmacosx-version-min=10.15 -bundle -undefined dynamic_lookup -L/usr/local/lib -L/opt/local/lib -fstack-protector-strong'
Characteristics of this binary (from libperl):
Compile-time options:
HAS_TIMES
MULTIPLICITY
PERLIO_LAYERS
PERL_COPY_ON_WRITE
PERL_DONT_CREATE_GVSV
PERL_IMPLICIT_CONTEXT
PERL_MALLOC_WRAP
PERL_OP_PARENT
PERL_PRESERVE_IVUV
PERL_USE_SAFE_PUTENV
USE_64_BIT_ALL
USE_64_BIT_INT
USE_ITHREADS
USE_LARGE_FILES
USE_LOCALE
USE_LOCALE_COLLATE
USE_LOCALE_CTYPE
USE_LOCALE_NUMERIC
USE_LOCALE_TIME
USE_LONG_DOUBLE
USE_PERLIO
USE_PERL_ATOF
USE_REENTRANT_API
USE_THREAD_SAFE_LOCALE
Built under darwin
Compiled at Jul 12 2021 15:03:23
%ENV:
PERL5LIB=""
PERL5OPT=""
PERL5_CPANPLUS_IS_RUNNING="82228"
PERL5_CPAN_IS_RUNNING="82228"
PERL_USE_UNSAFE_INC="1"
@INC:
/opt/Perl5.34.0/lib/perl5/site_perl/5.34.0/darwin-thread-multi-ld-2level
/opt/Perl5.34.0/lib/perl5/site_perl/5.34.0
/opt/Perl5.34.0/lib/perl5/5.34.0/darwin-thread-multi-ld-2level
/opt/Perl5.34.0/lib/perl5/5.34.0
.