Crypt-JWT v0.035 Perl 5 v5.10.1 x86_64-linux

Status
Pass
From
Slaven Rezić
Dist
Crypt-JWT v0.035
Platform
Perl 5 v5.10.1 x86_64-linux
Date
2023-10-08 01:01:33
ID
3932b888-6576-11ee-a496-7d286e8775ea
This distribution has been tested as part of the CPAN Testers
project, supporting the Perl programming language.  See
http://wiki.cpantesters.org/ for more information or email
questions to cpan-testers-discuss@perl.org


--
Dear Karel Miko,

This is a computer-generated report for Crypt-JWT-0.035
on perl 5.10.1, created by CPAN-Reporter-1.2018.

Thank you for uploading your work to CPAN.  Congratulations!
All tests were successful.

Sections of this report:

    * Tester comments
    * Program output
    * Prerequisites
    * Environment and other context

------------------------------
TESTER COMMENTS
------------------------------

Additional comments from tester:

none provided

------------------------------
PROGRAM OUTPUT
------------------------------

Output from '/usr/bin/make test':

PERL_DL_NONLAZY=1 "/bbbike/opt/perl-5.10.1/bin/perl" "-MExtUtils::Command::MM" "-MTest::Harness" "-e" "undef *Test::Harness::Switches; test_harness(0, 'blib/lib', 'blib/arch')" t/*.t
t/compile.t ............ ok
t/flattened.t .......... ok
t/jws_empty_payload.t .. ok
Use of uninitialized value $5 in length at /home/cpansand/.cpan/build/2023100800/Crypt-JWT-0.035-l3I3xs/blib/lib/Crypt/JWT.pm line 765.
t/jws_no_key.t ......... ok
Use of uninitialized value $5 in length at /home/cpansand/.cpan/build/2023100800/Crypt-JWT-0.035-l3I3xs/blib/lib/Crypt/JWT.pm line 765.
Use of uninitialized value $5 in length at /home/cpansand/.cpan/build/2023100800/Crypt-JWT-0.035-l3I3xs/blib/lib/Crypt/JWT.pm line 765.
Use of uninitialized value $5 in length at /home/cpansand/.cpan/build/2023100800/Crypt-JWT-0.035-l3I3xs/blib/lib/Crypt/JWT.pm line 765.
Use of uninitialized value $5 in length at /home/cpansand/.cpan/build/2023100800/Crypt-JWT-0.035-l3I3xs/blib/lib/Crypt/JWT.pm line 765.
Use of uninitialized value $5 in length at /home/cpansand/.cpan/build/2023100800/Crypt-JWT-0.035-l3I3xs/blib/lib/Crypt/JWT.pm line 765.
Use of uninitialized value $5 in length at /home/cpansand/.cpan/build/2023100800/Crypt-JWT-0.035-l3I3xs/blib/lib/Crypt/JWT.pm line 765.
Use of uninitialized value $5 in length at /home/cpansand/.cpan/build/2023100800/Crypt-JWT-0.035-l3I3xs/blib/lib/Crypt/JWT.pm line 765.
Use of uninitialized value $5 in length at /home/cpansand/.cpan/build/2023100800/Crypt-JWT-0.035-l3I3xs/blib/lib/Crypt/JWT.pm line 765.
Use of uninitialized value $5 in length at /home/cpansand/.cpan/build/2023100800/Crypt-JWT-0.035-l3I3xs/blib/lib/Crypt/JWT.pm line 765.
Use of uninitialized value $5 in length at /home/cpansand/.cpan/build/2023100800/Crypt-JWT-0.035-l3I3xs/blib/lib/Crypt/JWT.pm line 765.
Use of uninitialized value $5 in length at /home/cpansand/.cpan/build/2023100800/Crypt-JWT-0.035-l3I3xs/blib/lib/Crypt/JWT.pm line 765.
Use of uninitialized value $5 in length at /home/cpansand/.cpan/build/2023100800/Crypt-JWT-0.035-l3I3xs/blib/lib/Crypt/JWT.pm line 765.
Use of uninitialized value $5 in length at /home/cpansand/.cpan/build/2023100800/Crypt-JWT-0.035-l3I3xs/blib/lib/Crypt/JWT.pm line 765.
Use of uninitialized value $5 in length at /home/cpansand/.cpan/build/2023100800/Crypt-JWT-0.035-l3I3xs/blib/lib/Crypt/JWT.pm line 765.
Use of uninitialized value $5 in length at /home/cpansand/.cpan/build/2023100800/Crypt-JWT-0.035-l3I3xs/blib/lib/Crypt/JWT.pm line 765.
t/jwt_decode_tv.t ...... ok
Use of uninitialized value $5 in length at /home/cpansand/.cpan/build/2023100800/Crypt-JWT-0.035-l3I3xs/blib/lib/Crypt/JWT.pm line 765.
Use of uninitialized value $5 in length at /home/cpansand/.cpan/build/2023100800/Crypt-JWT-0.035-l3I3xs/blib/lib/Crypt/JWT.pm line 765.
Use of uninitialized value $5 in length at /home/cpansand/.cpan/build/2023100800/Crypt-JWT-0.035-l3I3xs/blib/lib/Crypt/JWT.pm line 765.
Use of uninitialized value $5 in length at /home/cpansand/.cpan/build/2023100800/Crypt-JWT-0.035-l3I3xs/blib/lib/Crypt/JWT.pm line 765.
Use of uninitialized value $5 in length at /home/cpansand/.cpan/build/2023100800/Crypt-JWT-0.035-l3I3xs/blib/lib/Crypt/JWT.pm line 765.
Use of uninitialized value $5 in length at /home/cpansand/.cpan/build/2023100800/Crypt-JWT-0.035-l3I3xs/blib/lib/Crypt/JWT.pm line 765.
Use of uninitialized value $5 in length at /home/cpansand/.cpan/build/2023100800/Crypt-JWT-0.035-l3I3xs/blib/lib/Crypt/JWT.pm line 765.
Use of uninitialized value $5 in length at /home/cpansand/.cpan/build/2023100800/Crypt-JWT-0.035-l3I3xs/blib/lib/Crypt/JWT.pm line 765.
Use of uninitialized value $5 in length at /home/cpansand/.cpan/build/2023100800/Crypt-JWT-0.035-l3I3xs/blib/lib/Crypt/JWT.pm line 765.
Use of uninitialized value $5 in length at /home/cpansand/.cpan/build/2023100800/Crypt-JWT-0.035-l3I3xs/blib/lib/Crypt/JWT.pm line 765.
Use of uninitialized value $5 in length at /home/cpansand/.cpan/build/2023100800/Crypt-JWT-0.035-l3I3xs/blib/lib/Crypt/JWT.pm line 765.
Use of uninitialized value $5 in length at /home/cpansand/.cpan/build/2023100800/Crypt-JWT-0.035-l3I3xs/blib/lib/Crypt/JWT.pm line 765.
Use of uninitialized value $5 in length at /home/cpansand/.cpan/build/2023100800/Crypt-JWT-0.035-l3I3xs/blib/lib/Crypt/JWT.pm line 765.
Use of uninitialized value $5 in length at /home/cpansand/.cpan/build/2023100800/Crypt-JWT-0.035-l3I3xs/blib/lib/Crypt/JWT.pm line 765.
Use of uninitialized value $5 in length at /home/cpansand/.cpan/build/2023100800/Crypt-JWT-0.035-l3I3xs/blib/lib/Crypt/JWT.pm line 765.
Use of uninitialized value $5 in length at /home/cpansand/.cpan/build/2023100800/Crypt-JWT-0.035-l3I3xs/blib/lib/Crypt/JWT.pm line 765.
Use of uninitialized value $5 in length at /home/cpansand/.cpan/build/2023100800/Crypt-JWT-0.035-l3I3xs/blib/lib/Crypt/JWT.pm line 765.
Use of uninitialized value $5 in length at /home/cpansand/.cpan/build/2023100800/Crypt-JWT-0.035-l3I3xs/blib/lib/Crypt/JWT.pm line 765.
Use of uninitialized value $5 in length at /home/cpansand/.cpan/build/2023100800/Crypt-JWT-0.035-l3I3xs/blib/lib/Crypt/JWT.pm line 765.
Use of uninitialized value $5 in length at /home/cpansand/.cpan/build/2023100800/Crypt-JWT-0.035-l3I3xs/blib/lib/Crypt/JWT.pm line 765.
Use of uninitialized value $5 in length at /home/cpansand/.cpan/build/2023100800/Crypt-JWT-0.035-l3I3xs/blib/lib/Crypt/JWT.pm line 765.
Use of uninitialized value $5 in length at /home/cpansand/.cpan/build/2023100800/Crypt-JWT-0.035-l3I3xs/blib/lib/Crypt/JWT.pm line 765.
Use of uninitialized value $5 in length at /home/cpansand/.cpan/build/2023100800/Crypt-JWT-0.035-l3I3xs/blib/lib/Crypt/JWT.pm line 765.
Use of uninitialized value $5 in length at /home/cpansand/.cpan/build/2023100800/Crypt-JWT-0.035-l3I3xs/blib/lib/Crypt/JWT.pm line 765.
Use of uninitialized value $5 in length at /home/cpansand/.cpan/build/2023100800/Crypt-JWT-0.035-l3I3xs/blib/lib/Crypt/JWT.pm line 765.
Use of uninitialized value $5 in length at /home/cpansand/.cpan/build/2023100800/Crypt-JWT-0.035-l3I3xs/blib/lib/Crypt/JWT.pm line 765.
t/jwt_encode_decode.t .. ok
Use of uninitialized value $5 in length at /home/cpansand/.cpan/build/2023100800/Crypt-JWT-0.035-l3I3xs/blib/lib/Crypt/JWT.pm line 765.
Use of uninitialized value $5 in length at /home/cpansand/.cpan/build/2023100800/Crypt-JWT-0.035-l3I3xs/blib/lib/Crypt/JWT.pm line 765.
Use of uninitialized value $5 in length at /home/cpansand/.cpan/build/2023100800/Crypt-JWT-0.035-l3I3xs/blib/lib/Crypt/JWT.pm line 765.
Use of uninitialized value $5 in length at /home/cpansand/.cpan/build/2023100800/Crypt-JWT-0.035-l3I3xs/blib/lib/Crypt/JWT.pm line 765.
Use of uninitialized value $5 in length at /home/cpansand/.cpan/build/2023100800/Crypt-JWT-0.035-l3I3xs/blib/lib/Crypt/JWT.pm line 765.
Use of uninitialized value $5 in length at /home/cpansand/.cpan/build/2023100800/Crypt-JWT-0.035-l3I3xs/blib/lib/Crypt/JWT.pm line 765.
Use of uninitialized value $5 in length at /home/cpansand/.cpan/build/2023100800/Crypt-JWT-0.035-l3I3xs/blib/lib/Crypt/JWT.pm line 765.
Use of uninitialized value $5 in length at /home/cpansand/.cpan/build/2023100800/Crypt-JWT-0.035-l3I3xs/blib/lib/Crypt/JWT.pm line 765.
Use of uninitialized value $5 in length at /home/cpansand/.cpan/build/2023100800/Crypt-JWT-0.035-l3I3xs/blib/lib/Crypt/JWT.pm line 765.
Use of uninitialized value $5 in length at /home/cpansand/.cpan/build/2023100800/Crypt-JWT-0.035-l3I3xs/blib/lib/Crypt/JWT.pm line 765.
Use of uninitialized value $5 in length at /home/cpansand/.cpan/build/2023100800/Crypt-JWT-0.035-l3I3xs/blib/lib/Crypt/JWT.pm line 765.
Use of uninitialized value $5 in length at /home/cpansand/.cpan/build/2023100800/Crypt-JWT-0.035-l3I3xs/blib/lib/Crypt/JWT.pm line 765.
Use of uninitialized value $5 in length at /home/cpansand/.cpan/build/2023100800/Crypt-JWT-0.035-l3I3xs/blib/lib/Crypt/JWT.pm line 765.
Use of uninitialized value $5 in length at /home/cpansand/.cpan/build/2023100800/Crypt-JWT-0.035-l3I3xs/blib/lib/Crypt/JWT.pm line 765.
Use of uninitialized value $5 in length at /home/cpansand/.cpan/build/2023100800/Crypt-JWT-0.035-l3I3xs/blib/lib/Crypt/JWT.pm line 765.
Use of uninitialized value $5 in length at /home/cpansand/.cpan/build/2023100800/Crypt-JWT-0.035-l3I3xs/blib/lib/Crypt/JWT.pm line 765.
Use of uninitialized value $5 in length at /home/cpansand/.cpan/build/2023100800/Crypt-JWT-0.035-l3I3xs/blib/lib/Crypt/JWT.pm line 765.
Use of uninitialized value $5 in length at /home/cpansand/.cpan/build/2023100800/Crypt-JWT-0.035-l3I3xs/blib/lib/Crypt/JWT.pm line 765.
Use of uninitialized value $5 in length at /home/cpansand/.cpan/build/2023100800/Crypt-JWT-0.035-l3I3xs/blib/lib/Crypt/JWT.pm line 765.
Use of uninitialized value $5 in length at /home/cpansand/.cpan/build/2023100800/Crypt-JWT-0.035-l3I3xs/blib/lib/Crypt/JWT.pm line 765.
Use of uninitialized value $5 in length at /home/cpansand/.cpan/build/2023100800/Crypt-JWT-0.035-l3I3xs/blib/lib/Crypt/JWT.pm line 765.
Use of uninitialized value $5 in length at /home/cpansand/.cpan/build/2023100800/Crypt-JWT-0.035-l3I3xs/blib/lib/Crypt/JWT.pm line 765.
Use of uninitialized value $5 in length at /home/cpansand/.cpan/build/2023100800/Crypt-JWT-0.035-l3I3xs/blib/lib/Crypt/JWT.pm line 765.
Use of uninitialized value $5 in length at /home/cpansand/.cpan/build/2023100800/Crypt-JWT-0.035-l3I3xs/blib/lib/Crypt/JWT.pm line 765.
Use of uninitialized value $5 in length at /home/cpansand/.cpan/build/2023100800/Crypt-JWT-0.035-l3I3xs/blib/lib/Crypt/JWT.pm line 765.
Use of uninitialized value $5 in length at /home/cpansand/.cpan/build/2023100800/Crypt-JWT-0.035-l3I3xs/blib/lib/Crypt/JWT.pm line 765.
Use of uninitialized value $5 in length at /home/cpansand/.cpan/build/2023100800/Crypt-JWT-0.035-l3I3xs/blib/lib/Crypt/JWT.pm line 765.
Use of uninitialized value $5 in length at /home/cpansand/.cpan/build/2023100800/Crypt-JWT-0.035-l3I3xs/blib/lib/Crypt/JWT.pm line 765.
Use of uninitialized value $5 in length at /home/cpansand/.cpan/build/2023100800/Crypt-JWT-0.035-l3I3xs/blib/lib/Crypt/JWT.pm line 765.
Use of uninitialized value $5 in length at /home/cpansand/.cpan/build/2023100800/Crypt-JWT-0.035-l3I3xs/blib/lib/Crypt/JWT.pm line 765.
Use of uninitialized value $5 in length at /home/cpansand/.cpan/build/2023100800/Crypt-JWT-0.035-l3I3xs/blib/lib/Crypt/JWT.pm line 765.
Use of uninitialized value $5 in length at /home/cpansand/.cpan/build/2023100800/Crypt-JWT-0.035-l3I3xs/blib/lib/Crypt/JWT.pm line 765.
Use of uninitialized value $5 in length at /home/cpansand/.cpan/build/2023100800/Crypt-JWT-0.035-l3I3xs/blib/lib/Crypt/JWT.pm line 765.
Use of uninitialized value $5 in length at /home/cpansand/.cpan/build/2023100800/Crypt-JWT-0.035-l3I3xs/blib/lib/Crypt/JWT.pm line 765.
Use of uninitialized value $5 in length at /home/cpansand/.cpan/build/2023100800/Crypt-JWT-0.035-l3I3xs/blib/lib/Crypt/JWT.pm line 765.
Use of uninitialized value $5 in length at /home/cpansand/.cpan/build/2023100800/Crypt-JWT-0.035-l3I3xs/blib/lib/Crypt/JWT.pm line 765.
Use of uninitialized value $5 in length at /home/cpansand/.cpan/build/2023100800/Crypt-JWT-0.035-l3I3xs/blib/lib/Crypt/JWT.pm line 765.
Use of uninitialized value $5 in length at /home/cpansand/.cpan/build/2023100800/Crypt-JWT-0.035-l3I3xs/blib/lib/Crypt/JWT.pm line 765.
Use of uninitialized value $5 in length at /home/cpansand/.cpan/build/2023100800/Crypt-JWT-0.035-l3I3xs/blib/lib/Crypt/JWT.pm line 765.
Use of uninitialized value $5 in length at /home/cpansand/.cpan/build/2023100800/Crypt-JWT-0.035-l3I3xs/blib/lib/Crypt/JWT.pm line 765.
Use of uninitialized value $5 in length at /home/cpansand/.cpan/build/2023100800/Crypt-JWT-0.035-l3I3xs/blib/lib/Crypt/JWT.pm line 765.
Use of uninitialized value $5 in length at /home/cpansand/.cpan/build/2023100800/Crypt-JWT-0.035-l3I3xs/blib/lib/Crypt/JWT.pm line 765.
Use of uninitialized value $5 in length at /home/cpansand/.cpan/build/2023100800/Crypt-JWT-0.035-l3I3xs/blib/lib/Crypt/JWT.pm line 765.
Use of uninitialized value $5 in length at /home/cpansand/.cpan/build/2023100800/Crypt-JWT-0.035-l3I3xs/blib/lib/Crypt/JWT.pm line 765.
Use of uninitialized value $5 in length at /home/cpansand/.cpan/build/2023100800/Crypt-JWT-0.035-l3I3xs/blib/lib/Crypt/JWT.pm line 765.
Use of uninitialized value $5 in length at /home/cpansand/.cpan/build/2023100800/Crypt-JWT-0.035-l3I3xs/blib/lib/Crypt/JWT.pm line 765.
Use of uninitialized value $5 in length at /home/cpansand/.cpan/build/2023100800/Crypt-JWT-0.035-l3I3xs/blib/lib/Crypt/JWT.pm line 765.
Use of uninitialized value $5 in length at /home/cpansand/.cpan/build/2023100800/Crypt-JWT-0.035-l3I3xs/blib/lib/Crypt/JWT.pm line 765.
Use of uninitialized value $5 in length at /home/cpansand/.cpan/build/2023100800/Crypt-JWT-0.035-l3I3xs/blib/lib/Crypt/JWT.pm line 765.
Use of uninitialized value $5 in length at /home/cpansand/.cpan/build/2023100800/Crypt-JWT-0.035-l3I3xs/blib/lib/Crypt/JWT.pm line 765.
Use of uninitialized value $5 in length at /home/cpansand/.cpan/build/2023100800/Crypt-JWT-0.035-l3I3xs/blib/lib/Crypt/JWT.pm line 765.
Use of uninitialized value $5 in length at /home/cpansand/.cpan/build/2023100800/Crypt-JWT-0.035-l3I3xs/blib/lib/Crypt/JWT.pm line 765.
Use of uninitialized value $5 in length at /home/cpansand/.cpan/build/2023100800/Crypt-JWT-0.035-l3I3xs/blib/lib/Crypt/JWT.pm line 765.
Use of uninitialized value $5 in length at /home/cpansand/.cpan/build/2023100800/Crypt-JWT-0.035-l3I3xs/blib/lib/Crypt/JWT.pm line 765.
Use of uninitialized value $5 in length at /home/cpansand/.cpan/build/2023100800/Crypt-JWT-0.035-l3I3xs/blib/lib/Crypt/JWT.pm line 765.
Use of uninitialized value $5 in length at /home/cpansand/.cpan/build/2023100800/Crypt-JWT-0.035-l3I3xs/blib/lib/Crypt/JWT.pm line 765.
Use of uninitialized value $5 in length at /home/cpansand/.cpan/build/2023100800/Crypt-JWT-0.035-l3I3xs/blib/lib/Crypt/JWT.pm line 765.
Use of uninitialized value $5 in length at /home/cpansand/.cpan/build/2023100800/Crypt-JWT-0.035-l3I3xs/blib/lib/Crypt/JWT.pm line 765.
Use of uninitialized value $5 in length at /home/cpansand/.cpan/build/2023100800/Crypt-JWT-0.035-l3I3xs/blib/lib/Crypt/JWT.pm line 765.
Use of uninitialized value $5 in length at /home/cpansand/.cpan/build/2023100800/Crypt-JWT-0.035-l3I3xs/blib/lib/Crypt/JWT.pm line 765.
Use of uninitialized value $5 in length at /home/cpansand/.cpan/build/2023100800/Crypt-JWT-0.035-l3I3xs/blib/lib/Crypt/JWT.pm line 765.
t/jwt_params.t ......... ok
t/kw_aes.t ............. ok
t/kw_ecdh.t ............ ok
t/kw_ecdhaes.t ......... ok
t/kw_gcm.t ............. ok
t/kw_pbes2.t ........... ok
t/kw_rsa.t ............. ok
All tests successful.
Files=13, Tests=600,  2 wallclock secs ( 0.05 usr  0.04 sys +  1.37 cusr  0.12 csys =  1.58 CPU)
Result: PASS

------------------------------
PREREQUISITES
------------------------------

Prerequisite modules loaded:

requires:

    Module              Need  Have    
    ------------------- ----- --------
    Compress::Raw::Zlib 0     2.020   
    CryptX              0.067 0.080   
    Exporter            5.57  5.63    
    JSON                0     4.10    
    perl                5.006 5.010001
    Scalar::Util        0     1.21    
    Test::More          0.88  1.302191

build_requires:

    Module              Need  Have    
    ------------------- ----- --------
    ExtUtils::MakeMaker 0     7.64    

configure_requires:

    Module              Need  Have    
    ------------------- ----- --------
    ExtUtils::MakeMaker 0     7.64    


------------------------------
ENVIRONMENT AND OTHER CONTEXT
------------------------------

Environment variables:

    LANG = C
    PATH = /usr/local/bin:/usr/bin:/bin:/usr/local/sbin:/usr/sbin:/sbin:/home/cpansand/bin/linux-gnu:/home/cpansand/bin/sh:/home/cpansand/bin:/usr/games:/home/cpansand/devel:/home/eserte/src/srezic-misc/scripts
    PERL5LIB = /home/cpansand/.cpan/build/2023100800/JSON-4.10-5b9BbA/blib/arch:/home/cpansand/.cpan/build/2023100800/JSON-4.10-5b9BbA/blib/lib:/home/cpansand/.cpan/build/2023100800/CryptX-0.080-jmIZhR/blib/arch:/home/cpansand/.cpan/build/2023100800/CryptX-0.080-jmIZhR/blib/lib
    PERL5OPT = 
    PERL5_CPANPLUS_IS_RUNNING = 366591
    PERL5_CPAN_IS_RUNNING = 366591
    PERL5_CPAN_IS_RUNNING_IN_RECURSION = 282985,366591
    PERLDOC = -MPod::Perldoc::ToTextOverstrike
    PERL_BATCH = yes
    PERL_CANARY_STABILITY_NOPROMPT = 1
    PERL_CPAN_REPORTER_CONFIG = /var/tmp/cpansmoker-1023/2023100519/cpanreporter_000_config.ini
    PERL_EXTUTILS_AUTOINSTALL = --defaultdeps
    SHELL = /usr/bin/zsh
    TERM = screen
    TMPDIR = /var/tmp/cpansmoker-1023/2023100519

Perl special variables (and OS-specific diagnostics, for MSWin32):

    $^X = /bbbike/opt/perl-5.10.1/bin/perl
    $UID/$EUID = 1023 / 1023
    $GID = 1023 1023
    $EGID = 1023 1023

Perl module toolchain versions installed:

    Module              Have    
    ------------------- --------
    CPAN                1.9402  
    CPAN::Meta          2.143240
    Cwd                 3.30    
    ExtUtils::CBuilder  0.2602  
    ExtUtils::Command   7.64    
    ExtUtils::Install   2.06    
    ExtUtils::MakeMaker 7.64    
    ExtUtils::Manifest  1.70    
    ExtUtils::ParseXS   2.2002  
    File::Spec          3.30    
    JSON                4.10    
    JSON::PP            2.27203 
    Module::Build       0.340201
    Module::Signature   n/a     
    Parse::CPAN::Meta   1.4414  
    Test::Harness       3.17    
    Test::More          1.302191
    YAML                1.30    
    YAML::Syck          1.34    
    version             0.9929  


--

Summary of my perl5 (revision 5 version 10 subversion 1) configuration:
   
  Platform:
    osname=linux, osvers=5.10.0-16-amd64, archname=x86_64-linux
    uname='linux eserte 5.10.0-16-amd64 #1 smp debian 5.10.127-1 (2022-06-30) x86_64 gnulinux '
    config_args='-ds -e -Dprefix=/opt/perl-5.10.1 -Dcf_email=srezic@cpan.org'
    hint=recommended, useposix=true, d_sigaction=define
    useithreads=undef, usemultiplicity=undef
    useperlio=define, d_sfio=undef, uselargefiles=define, usesocks=undef
    use64bitint=define, use64bitall=define, uselongdouble=undef
    usemymalloc=n, bincompat5005=undef
  Compiler:
    cc='cc', ccflags ='-fwrapv -fno-strict-aliasing -pipe -fstack-protector -I/usr/local/include -D_LARGEFILE_SOURCE -D_FILE_OFFSET_BITS=64',
    optimize='-O2',
    cppflags='-fwrapv -fno-strict-aliasing -pipe -fstack-protector -I/usr/local/include'
    ccversion='', gccversion='10.2.1 20210110', gccosandvers=''
    intsize=4, longsize=8, ptrsize=8, doublesize=8, byteorder=12345678
    d_longlong=define, longlongsize=8, d_longdbl=define, longdblsize=16
    ivtype='long', ivsize=8, nvtype='double', nvsize=8, Off_t='off_t', lseeksize=8
    alignbytes=8, prototype=define
  Linker and Libraries:
    ld='cc', ldflags =' -fstack-protector -L/usr/local/lib'
    libpth=/usr/local/lib /lib/x86_64-linux-gnu /lib/../lib /usr/lib/x86_64-linux-gnu /usr/lib/../lib /lib /usr/lib
    libs=-lnsl -lgdbm -ldb -ldl -lm -lcrypt -lutil -lc
    perllibs=-lnsl -ldl -lm -lcrypt -lutil -lc
    libc=libc-2.31.so, so=so, useshrplib=false, libperl=libperl.a
    gnulibc_version='2.31'
  Dynamic Linking:
    dlsrc=dl_dlopen.xs, dlext=so, d_dlsymun=undef, ccdlflags='-Wl,-E'
    cccdlflags='-fPIC', lddlflags='-shared -O2 -L/usr/local/lib -fstack-protector'


Characteristics of this binary (from libperl): 
  Compile-time options: PERL_DONT_CREATE_GVSV PERL_MALLOC_WRAP USE_64_BIT_ALL
                        USE_64_BIT_INT USE_LARGE_FILES USE_PERLIO
  Locally applied patches:
	Devel::PatchPerl 2.08
  Built under linux
  Compiled at Aug 16 2022 05:48:03
  %ENV:
    PERL5LIB="/home/cpansand/.cpan/build/2023100800/JSON-4.10-5b9BbA/blib/arch:/home/cpansand/.cpan/build/2023100800/JSON-4.10-5b9BbA/blib/lib:/home/cpansand/.cpan/build/2023100800/CryptX-0.080-jmIZhR/blib/arch:/home/cpansand/.cpan/build/2023100800/CryptX-0.080-jmIZhR/blib/lib"
    PERL5OPT=""
    PERL5_CPANPLUS_IS_RUNNING="366591"
    PERL5_CPAN_IS_RUNNING="366591"
    PERL5_CPAN_IS_RUNNING_IN_RECURSION="282985,366591"
    PERLDOC="-MPod::Perldoc::ToTextOverstrike"
    PERL_BATCH="yes"
    PERL_CANARY_STABILITY_NOPROMPT="1"
    PERL_CPAN_REPORTER_CONFIG="/var/tmp/cpansmoker-1023/2023100519/cpanreporter_000_config.ini"
    PERL_EXTUTILS_AUTOINSTALL="--defaultdeps"
  @INC:
    /home/cpansand/.cpan/build/2023100800/JSON-4.10-5b9BbA/blib/arch
    /home/cpansand/.cpan/build/2023100800/JSON-4.10-5b9BbA/blib/lib
    /home/cpansand/.cpan/build/2023100800/CryptX-0.080-jmIZhR/blib/arch
    /home/cpansand/.cpan/build/2023100800/CryptX-0.080-jmIZhR/blib/lib
    /opt/perl-5.10.1/lib/5.10.1/x86_64-linux
    /opt/perl-5.10.1/lib/5.10.1
    /opt/perl-5.10.1/lib/site_perl/5.10.1/x86_64-linux
    /opt/perl-5.10.1/lib/site_perl/5.10.1
    .