Encode v3.18 Perl 5 v5.36.0 x86_64-linux

Status
Pass
From
Ioan Rogers
Dist
Encode v3.18
Platform
Perl 5 v5.36.0 x86_64-linux
Date
2022-07-21 14:48:46
ID
392b825e-0904-11ed-a4c8-2b6648907861
This distribution has been tested as part of the CPAN Testers
project, supporting the Perl programming language.  See
http://wiki.cpantesters.org/ for more information or email
questions to cpan-testers-discuss@perl.org


--
Dear DANKOGAI,

This is a computer-generated report for Encode-3.18
on perl 5.36.0, created by App::cpanminus::reporter 0.17 (1.7046).

Thank you for uploading your work to CPAN.  Congratulations!
All tests were successful.

Sections of this report:

    * Tester comments
    * Program output
    * Prerequisites
    * Environment and other context

------------------------------
TESTER COMMENTS
------------------------------

Additional comments from tester:

none provided

------------------------------
PROGRAM OUTPUT
------------------------------

Output from '':

Building and testing Encode-3.18
Running Mkbootstrap for Encode ()
"/home/ioan/.plenv/versions/mm-perl-5.36.0/bin/perl5.36.0" "/home/ioan/.plenv/versions/mm-perl-5.36.0/lib/5.36.0/ExtUtils/xsubpp"  -typemap '/home/ioan/.plenv/versions/mm-perl-5.36.0/lib/5.36.0/ExtUtils/typemap'  Encode.xs > Encode.xsc
"/home/ioan/.plenv/versions/mm-perl-5.36.0/bin/perl5.36.0"  bin/enc2xs -"Q" -"O" -o def_t.c -f def_t.fnm
clang -c  -I./Encode -fno-strict-aliasing -pipe -fstack-protector-strong -I/usr/local/include -D_LARGEFILE_SOURCE -D_FILE_OFFSET_BITS=64 -O3   -DVERSION=\"3.18\" -DXS_VERSION=\"3.18\" -fPIC "-I/home/ioan/.plenv/versions/mm-perl-5.36.0/lib/5.36.0/x86_64-linux/CORE"   encengine.c
make[1]: Entering directory '/home/ioan/.cpanm/work/1658342032.2169317/Encode-3.18/Byte'
chmod 644 "Encode.bs"
Running Mkbootstrap for Byte ()
cp Encode/encode.h blib/lib/Encode/encode.h
cp lib/Encode/Alias.pm blib/lib/Encode/Alias.pm
cp lib/Encode/MIME/Name.pm blib/lib/Encode/MIME/Name.pm
cp Encode/ConfigLocal_PM.e2x blib/lib/Encode/ConfigLocal_PM.e2x
cp lib/Encode/Config.pm blib/lib/Encode/Config.pm
cp lib/Encode/Encoder.pm blib/lib/Encode/Encoder.pm
cp lib/Encode/CJKConstants.pm blib/lib/Encode/CJKConstants.pm
cp encoding.pm blib/lib/encoding.pm
cp lib/Encode/KR/2022_KR.pm blib/lib/Encode/KR/2022_KR.pm
cp lib/Encode/JP/JIS7.pm blib/lib/Encode/JP/JIS7.pm
cp lib/Encode/Unicode/UTF7.pm blib/lib/Encode/Unicode/UTF7.pm
cp Encode.pm blib/lib/Encode.pm
cp Encode/_PM.e2x blib/lib/Encode/_PM.e2x
cp lib/Encode/MIME/Header.pm blib/lib/Encode/MIME/Header.pm
cp lib/Encode/Supported.pod blib/lib/Encode/Supported.pod
cp Encode/Changes.e2x blib/lib/Encode/Changes.e2x
cp Encode/README.e2x blib/lib/Encode/README.e2x
cp lib/Encode/Guess.pm blib/lib/Encode/Guess.pm
cp lib/Encode/MIME/Header/ISO_2022_JP.pm blib/lib/Encode/MIME/Header/ISO_2022_JP.pm
cp Encode/_T.e2x blib/lib/Encode/_T.e2x
cp lib/Encode/PerlIO.pod blib/lib/Encode/PerlIO.pod
cp Encode/Makefile_PL.e2x blib/lib/Encode/Makefile_PL.e2x
cp lib/Encode/Encoding.pm blib/lib/Encode/Encoding.pm
cp lib/Encode/GSM0338.pm blib/lib/Encode/GSM0338.pm
cp lib/Encode/JP/H2Z.pm blib/lib/Encode/JP/H2Z.pm
cp lib/Encode/CN/HZ.pm blib/lib/Encode/CN/HZ.pm
Reading iso-8859-1 (iso-8859-1)
Reading ascii (ascii)
Reading cp1252 (cp1252)
Reading ascii-ctrl (ascii-ctrl)
Reading null (null)
"/home/ioan/.plenv/versions/mm-perl-5.36.0/bin/perl5.36.0" -MExtUtils::Command::MM -e 'cp_nonempty' -- Encode.bs blib/arch/auto/Encode/Encode.bs 644
clang -c  -I./Encode -fno-strict-aliasing -pipe -fstack-protector-strong -I/usr/local/include -D_LARGEFILE_SOURCE -D_FILE_OFFSET_BITS=64 -O3   -DVERSION=\"3.18\" -DXS_VERSION=\"3.18\" -fPIC "-I/home/ioan/.plenv/versions/mm-perl-5.36.0/lib/5.36.0/x86_64-linux/CORE"   def_t.c
"/home/ioan/.plenv/versions/mm-perl-5.36.0/bin/perl5.36.0"  ../bin/enc2xs -"Q" -"O" -o byte_t.c -f byte_t.fnm
cp Byte.pm ../blib/lib/Encode/Byte.pm
chmod 644 "Byte.bs"
"/home/ioan/.plenv/versions/mm-perl-5.36.0/bin/perl5.36.0" -MExtUtils::Command::MM -e 'cp_nonempty' -- Byte.bs ../blib/arch/auto/Encode/Byte/Byte.bs 644
mv Encode.xsc Encode.c
clang -c  -I./Encode -fno-strict-aliasing -pipe -fstack-protector-strong -I/usr/local/include -D_LARGEFILE_SOURCE -D_FILE_OFFSET_BITS=64 -O3   -DVERSION=\"3.18\" -DXS_VERSION=\"3.18\" -fPIC "-I/home/ioan/.plenv/versions/mm-perl-5.36.0/lib/5.36.0/x86_64-linux/CORE"   Encode.c
Reading iso-8859-2 (iso-8859-2)
Reading iso-8859-3 (iso-8859-3)
Reading iso-8859-4 (iso-8859-4)
Reading iso-8859-5 (iso-8859-5)
Reading iso-8859-6 (iso-8859-6)
Reading iso-8859-7 (iso-8859-7)
Reading iso-8859-8 (iso-8859-8)
Reading iso-8859-9 (iso-8859-9)
Reading iso-8859-10 (iso-8859-10)
Reading iso-8859-11 (iso-8859-11)
Reading iso-8859-13 (iso-8859-13)
Reading iso-8859-14 (iso-8859-14)
Reading iso-8859-15 (iso-8859-15)
Reading iso-8859-16 (iso-8859-16)
Reading AdobeStandardEncoding (AdobeStandardEncoding)
Reading cp1006 (cp1006)
Reading cp1250 (cp1250)
Reading cp1251 (cp1251)
Reading cp1253 (cp1253)
Reading cp1254 (cp1254)
Reading cp1255 (cp1255)
Reading cp1256 (cp1256)
Reading cp1257 (cp1257)
Reading cp1258 (cp1258)
Reading cp424 (cp424)
Reading cp437 (cp437)
Reading cp737 (cp737)
Reading cp775 (cp775)
Reading cp850 (cp850)
Reading cp852 (cp852)
Reading cp855 (cp855)
Reading cp856 (cp856)
Reading cp857 (cp857)
Reading cp858 (cp858)
Reading cp860 (cp860)
Reading cp861 (cp861)
Reading cp862 (cp862)
Reading cp863 (cp863)
Reading cp864 (cp864)
Reading cp865 (cp865)
Reading cp866 (cp866)
Reading cp869 (cp869)
Reading cp874 (cp874)
Reading hp-roman8 (hp-roman8)
Reading koi8-f (koi8-f)
Reading koi8-r (koi8-r)
Reading koi8-u (koi8-u)
Reading MacArabic (MacArabic)
Reading MacCentralEurRoman (MacCentralEurRoman)
Reading MacCroatian (MacCroatian)
Reading MacCyrillic (MacCyrillic)
Reading MacFarsi (MacFarsi)
Reading MacGreek (MacGreek)
Reading MacHebrew (MacHebrew)
Reading MacIcelandic (MacIcelandic)
Reading MacRomanian (MacRomanian)
Reading MacRumanian (MacRumanian)
Reading MacRoman (MacRoman)
Reading MacSami (MacSami)
Reading MacThai (MacThai)
Reading MacTurkish (MacTurkish)
Reading MacUkrainian (MacUkrainian)
Reading nextstep (nextstep)
Reading viscii (viscii)
"/home/ioan/.plenv/versions/mm-perl-5.36.0/bin/perl5.36.0" "/home/ioan/.plenv/versions/mm-perl-5.36.0/lib/5.36.0/ExtUtils/xsubpp"  -nolinenumbers -typemap '/home/ioan/.plenv/versions/mm-perl-5.36.0/lib/5.36.0/ExtUtils/typemap'  Byte.xs > Byte.xsc
clang -c -I./Encode  -I../Encode -fno-strict-aliasing -pipe -fstack-protector-strong -I/usr/local/include -D_LARGEFILE_SOURCE -D_FILE_OFFSET_BITS=64 -O3   -DVERSION=\"2.04\" -DXS_VERSION=\"2.04\" -fPIC "-I/home/ioan/.plenv/versions/mm-perl-5.36.0/lib/5.36.0/x86_64-linux/CORE"   byte_t.c
mv Byte.xsc Byte.c
clang -c -I./Encode  -I../Encode -fno-strict-aliasing -pipe -fstack-protector-strong -I/usr/local/include -D_LARGEFILE_SOURCE -D_FILE_OFFSET_BITS=64 -O3   -DVERSION=\"2.04\" -DXS_VERSION=\"2.04\" -fPIC "-I/home/ioan/.plenv/versions/mm-perl-5.36.0/lib/5.36.0/x86_64-linux/CORE"   Byte.c
rm -f ../blib/arch/auto/Encode/Byte/Byte.so
clang  -shared -O3 -L/usr/local/lib -fstack-protector-strong  Byte.o byte_t.o  -o ../blib/arch/auto/Encode/Byte/Byte.so  \
      \
  
chmod 755 ../blib/arch/auto/Encode/Byte/Byte.so
make[1]: Leaving directory '/home/ioan/.cpanm/work/1658342032.2169317/Encode-3.18/Byte'
make[1]: Entering directory '/home/ioan/.cpanm/work/1658342032.2169317/Encode-3.18/CN'
Running Mkbootstrap for CN ()
"/home/ioan/.plenv/versions/mm-perl-5.36.0/bin/perl5.36.0"  ../bin/enc2xs -"Q" -o cp_00_t.c -f cp_00_t.fnm
"/home/ioan/.plenv/versions/mm-perl-5.36.0/bin/perl5.36.0"  ../bin/enc2xs -"Q" -o eu_01_t.c -f eu_01_t.fnm
"/home/ioan/.plenv/versions/mm-perl-5.36.0/bin/perl5.36.0"  ../bin/enc2xs -"Q" -o gb_02_t.c -f gb_02_t.fnm
chmod 644 "CN.bs"
"/home/ioan/.plenv/versions/mm-perl-5.36.0/bin/perl5.36.0"  ../bin/enc2xs -"Q" -o gb_03_t.c -f gb_03_t.fnm
"/home/ioan/.plenv/versions/mm-perl-5.36.0/bin/perl5.36.0"  ../bin/enc2xs -"Q" -o ir_04_t.c -f ir_04_t.fnm
"/home/ioan/.plenv/versions/mm-perl-5.36.0/bin/perl5.36.0"  ../bin/enc2xs -"Q" -o ma_05_t.c -f ma_05_t.fnm
cp CN.pm ../blib/lib/Encode/CN.pm
"/home/ioan/.plenv/versions/mm-perl-5.36.0/bin/perl5.36.0" -MExtUtils::Command::MM -e 'cp_nonempty' -- CN.bs ../blib/arch/auto/Encode/CN/CN.bs 644
rm -f blib/arch/auto/Encode/Encode.so
clang  -shared -O3 -L/usr/local/lib -fstack-protector-strong  Encode.o def_t.o encengine.o  -o blib/arch/auto/Encode/Encode.so  \
      \
  
chmod 755 blib/arch/auto/Encode/Encode.so
Reading gb2312-raw (gb2312-raw)
clang -c -I./Encode  -I../Encode -fno-strict-aliasing -pipe -fstack-protector-strong -I/usr/local/include -D_LARGEFILE_SOURCE -D_FILE_OFFSET_BITS=64 -O3   -DVERSION=\"2.03\" -DXS_VERSION=\"2.03\" -fPIC "-I/home/ioan/.plenv/versions/mm-perl-5.36.0/lib/5.36.0/x86_64-linux/CORE"   gb_03_t.c
Reading MacChineseSimp (MacChineseSimp)
clang -c -I./Encode  -I../Encode -fno-strict-aliasing -pipe -fstack-protector-strong -I/usr/local/include -D_LARGEFILE_SOURCE -D_FILE_OFFSET_BITS=64 -O3   -DVERSION=\"2.03\" -DXS_VERSION=\"2.03\" -fPIC "-I/home/ioan/.plenv/versions/mm-perl-5.36.0/lib/5.36.0/x86_64-linux/CORE"   ma_05_t.c
Reading euc-cn (euc-cn)
clang -c -I./Encode  -I../Encode -fno-strict-aliasing -pipe -fstack-protector-strong -I/usr/local/include -D_LARGEFILE_SOURCE -D_FILE_OFFSET_BITS=64 -O3   -DVERSION=\"2.03\" -DXS_VERSION=\"2.03\" -fPIC "-I/home/ioan/.plenv/versions/mm-perl-5.36.0/lib/5.36.0/x86_64-linux/CORE"   eu_01_t.c
Reading gb12345-raw (gb12345-raw)
clang -c -I./Encode  -I../Encode -fno-strict-aliasing -pipe -fstack-protector-strong -I/usr/local/include -D_LARGEFILE_SOURCE -D_FILE_OFFSET_BITS=64 -O3   -DVERSION=\"2.03\" -DXS_VERSION=\"2.03\" -fPIC "-I/home/ioan/.plenv/versions/mm-perl-5.36.0/lib/5.36.0/x86_64-linux/CORE"   gb_02_t.c
Reading iso-ir-165 (iso-ir-165)
clang -c -I./Encode  -I../Encode -fno-strict-aliasing -pipe -fstack-protector-strong -I/usr/local/include -D_LARGEFILE_SOURCE -D_FILE_OFFSET_BITS=64 -O3   -DVERSION=\"2.03\" -DXS_VERSION=\"2.03\" -fPIC "-I/home/ioan/.plenv/versions/mm-perl-5.36.0/lib/5.36.0/x86_64-linux/CORE"   ir_04_t.c
Reading cp936 (cp936)
"/home/ioan/.plenv/versions/mm-perl-5.36.0/bin/perl5.36.0" "/home/ioan/.plenv/versions/mm-perl-5.36.0/lib/5.36.0/ExtUtils/xsubpp" -noprototypes -nolinenumbers -typemap '/home/ioan/.plenv/versions/mm-perl-5.36.0/lib/5.36.0/ExtUtils/typemap'  CN.xs > CN.xsc
clang -c -I./Encode  -I../Encode -fno-strict-aliasing -pipe -fstack-protector-strong -I/usr/local/include -D_LARGEFILE_SOURCE -D_FILE_OFFSET_BITS=64 -O3   -DVERSION=\"2.03\" -DXS_VERSION=\"2.03\" -fPIC "-I/home/ioan/.plenv/versions/mm-perl-5.36.0/lib/5.36.0/x86_64-linux/CORE"   cp_00_t.c
mv CN.xsc CN.c
clang -c -I./Encode  -I../Encode -fno-strict-aliasing -pipe -fstack-protector-strong -I/usr/local/include -D_LARGEFILE_SOURCE -D_FILE_OFFSET_BITS=64 -O3   -DVERSION=\"2.03\" -DXS_VERSION=\"2.03\" -fPIC "-I/home/ioan/.plenv/versions/mm-perl-5.36.0/lib/5.36.0/x86_64-linux/CORE"   CN.c
rm -f ../blib/arch/auto/Encode/CN/CN.so
clang  -shared -O3 -L/usr/local/lib -fstack-protector-strong  CN.o cp_00_t.o eu_01_t.o gb_02_t.o gb_03_t.o ir_04_t.o ma_05_t.o  -o ../blib/arch/auto/Encode/CN/CN.so  \
      \
  
chmod 755 ../blib/arch/auto/Encode/CN/CN.so
make[1]: Leaving directory '/home/ioan/.cpanm/work/1658342032.2169317/Encode-3.18/CN'
make[1]: Entering directory '/home/ioan/.cpanm/work/1658342032.2169317/Encode-3.18/EBCDIC'
Running Mkbootstrap for EBCDIC ()
"/home/ioan/.plenv/versions/mm-perl-5.36.0/bin/perl5.36.0"  ../bin/enc2xs -"Q" -"O" -o ebcdic_t.c -f ebcdic_t.fnm
chmod 644 "EBCDIC.bs"
"/home/ioan/.plenv/versions/mm-perl-5.36.0/bin/perl5.36.0" -MExtUtils::Command::MM -e 'cp_nonempty' -- EBCDIC.bs ../blib/arch/auto/Encode/EBCDIC/EBCDIC.bs 644
cp EBCDIC.pm ../blib/lib/Encode/EBCDIC.pm
Reading cp37 (cp37)
Reading cp1026 (cp1026)
Reading cp1047 (cp1047)
Reading cp500 (cp500)
Reading cp875 (cp875)
Reading posix-bc (posix-bc)
"/home/ioan/.plenv/versions/mm-perl-5.36.0/bin/perl5.36.0" "/home/ioan/.plenv/versions/mm-perl-5.36.0/lib/5.36.0/ExtUtils/xsubpp"  -nolinenumbers -typemap '/home/ioan/.plenv/versions/mm-perl-5.36.0/lib/5.36.0/ExtUtils/typemap'  EBCDIC.xs > EBCDIC.xsc
clang -c -I./Encode  -I../Encode -fno-strict-aliasing -pipe -fstack-protector-strong -I/usr/local/include -D_LARGEFILE_SOURCE -D_FILE_OFFSET_BITS=64 -O3   -DVERSION=\"2.02\" -DXS_VERSION=\"2.02\" -fPIC "-I/home/ioan/.plenv/versions/mm-perl-5.36.0/lib/5.36.0/x86_64-linux/CORE"   ebcdic_t.c
mv EBCDIC.xsc EBCDIC.c
clang -c -I./Encode  -I../Encode -fno-strict-aliasing -pipe -fstack-protector-strong -I/usr/local/include -D_LARGEFILE_SOURCE -D_FILE_OFFSET_BITS=64 -O3   -DVERSION=\"2.02\" -DXS_VERSION=\"2.02\" -fPIC "-I/home/ioan/.plenv/versions/mm-perl-5.36.0/lib/5.36.0/x86_64-linux/CORE"   EBCDIC.c
rm -f ../blib/arch/auto/Encode/EBCDIC/EBCDIC.so
clang  -shared -O3 -L/usr/local/lib -fstack-protector-strong  EBCDIC.o ebcdic_t.o  -o ../blib/arch/auto/Encode/EBCDIC/EBCDIC.so  \
      \
  
chmod 755 ../blib/arch/auto/Encode/EBCDIC/EBCDIC.so
make[1]: Leaving directory '/home/ioan/.cpanm/work/1658342032.2169317/Encode-3.18/EBCDIC'
make[1]: Entering directory '/home/ioan/.cpanm/work/1658342032.2169317/Encode-3.18/JP'
Running Mkbootstrap for JP ()
"/home/ioan/.plenv/versions/mm-perl-5.36.0/bin/perl5.36.0"  ../bin/enc2xs -"Q" -o cp_00_t.c -f cp_00_t.fnm
"/home/ioan/.plenv/versions/mm-perl-5.36.0/bin/perl5.36.0"  ../bin/enc2xs -"Q" -o eu_01_t.c -f eu_01_t.fnm
"/home/ioan/.plenv/versions/mm-perl-5.36.0/bin/perl5.36.0"  ../bin/enc2xs -"Q" -o ji_02_t.c -f ji_02_t.fnm
"/home/ioan/.plenv/versions/mm-perl-5.36.0/bin/perl5.36.0"  ../bin/enc2xs -"Q" -o ji_03_t.c -f ji_03_t.fnm
chmod 644 "JP.bs"
"/home/ioan/.plenv/versions/mm-perl-5.36.0/bin/perl5.36.0"  ../bin/enc2xs -"Q" -o ji_04_t.c -f ji_04_t.fnm
"/home/ioan/.plenv/versions/mm-perl-5.36.0/bin/perl5.36.0"  ../bin/enc2xs -"Q" -o ma_05_t.c -f ma_05_t.fnm
"/home/ioan/.plenv/versions/mm-perl-5.36.0/bin/perl5.36.0"  ../bin/enc2xs -"Q" -o sh_06_t.c -f sh_06_t.fnm
cp JP.pm ../blib/lib/Encode/JP.pm
Reading jis0201-raw (jis0201-raw)
clang -c -I./Encode  -I../Encode -fno-strict-aliasing -pipe -fstack-protector-strong -I/usr/local/include -D_LARGEFILE_SOURCE -D_FILE_OFFSET_BITS=64 -O3   -DVERSION=\"2.05\" -DXS_VERSION=\"2.05\" -fPIC "-I/home/ioan/.plenv/versions/mm-perl-5.36.0/lib/5.36.0/x86_64-linux/CORE"   ji_02_t.c
"/home/ioan/.plenv/versions/mm-perl-5.36.0/bin/perl5.36.0" -MExtUtils::Command::MM -e 'cp_nonempty' -- JP.bs ../blib/arch/auto/Encode/JP/JP.bs 644
Reading jis0208-raw (jis0208-raw)
clang -c -I./Encode  -I../Encode -fno-strict-aliasing -pipe -fstack-protector-strong -I/usr/local/include -D_LARGEFILE_SOURCE -D_FILE_OFFSET_BITS=64 -O3   -DVERSION=\"2.05\" -DXS_VERSION=\"2.05\" -fPIC "-I/home/ioan/.plenv/versions/mm-perl-5.36.0/lib/5.36.0/x86_64-linux/CORE"   ji_03_t.c
Reading cp932 (cp932)
clang -c -I./Encode  -I../Encode -fno-strict-aliasing -pipe -fstack-protector-strong -I/usr/local/include -D_LARGEFILE_SOURCE -D_FILE_OFFSET_BITS=64 -O3   -DVERSION=\"2.05\" -DXS_VERSION=\"2.05\" -fPIC "-I/home/ioan/.plenv/versions/mm-perl-5.36.0/lib/5.36.0/x86_64-linux/CORE"   cp_00_t.c
Reading jis0212-raw (jis0212-raw)
clang -c -I./Encode  -I../Encode -fno-strict-aliasing -pipe -fstack-protector-strong -I/usr/local/include -D_LARGEFILE_SOURCE -D_FILE_OFFSET_BITS=64 -O3   -DVERSION=\"2.05\" -DXS_VERSION=\"2.05\" -fPIC "-I/home/ioan/.plenv/versions/mm-perl-5.36.0/lib/5.36.0/x86_64-linux/CORE"   ji_04_t.c
Reading MacJapanese (MacJapanese)
clang -c -I./Encode  -I../Encode -fno-strict-aliasing -pipe -fstack-protector-strong -I/usr/local/include -D_LARGEFILE_SOURCE -D_FILE_OFFSET_BITS=64 -O3   -DVERSION=\"2.05\" -DXS_VERSION=\"2.05\" -fPIC "-I/home/ioan/.plenv/versions/mm-perl-5.36.0/lib/5.36.0/x86_64-linux/CORE"   ma_05_t.c
Reading shiftjis (shiftjis)
clang -c -I./Encode  -I../Encode -fno-strict-aliasing -pipe -fstack-protector-strong -I/usr/local/include -D_LARGEFILE_SOURCE -D_FILE_OFFSET_BITS=64 -O3   -DVERSION=\"2.05\" -DXS_VERSION=\"2.05\" -fPIC "-I/home/ioan/.plenv/versions/mm-perl-5.36.0/lib/5.36.0/x86_64-linux/CORE"   sh_06_t.c
Reading euc-jp (euc-jp)
"/home/ioan/.plenv/versions/mm-perl-5.36.0/bin/perl5.36.0" "/home/ioan/.plenv/versions/mm-perl-5.36.0/lib/5.36.0/ExtUtils/xsubpp"  -nolinenumbers -typemap '/home/ioan/.plenv/versions/mm-perl-5.36.0/lib/5.36.0/ExtUtils/typemap'  JP.xs > JP.xsc
clang -c -I./Encode  -I../Encode -fno-strict-aliasing -pipe -fstack-protector-strong -I/usr/local/include -D_LARGEFILE_SOURCE -D_FILE_OFFSET_BITS=64 -O3   -DVERSION=\"2.05\" -DXS_VERSION=\"2.05\" -fPIC "-I/home/ioan/.plenv/versions/mm-perl-5.36.0/lib/5.36.0/x86_64-linux/CORE"   eu_01_t.c
mv JP.xsc JP.c
clang -c -I./Encode  -I../Encode -fno-strict-aliasing -pipe -fstack-protector-strong -I/usr/local/include -D_LARGEFILE_SOURCE -D_FILE_OFFSET_BITS=64 -O3   -DVERSION=\"2.05\" -DXS_VERSION=\"2.05\" -fPIC "-I/home/ioan/.plenv/versions/mm-perl-5.36.0/lib/5.36.0/x86_64-linux/CORE"   JP.c
rm -f ../blib/arch/auto/Encode/JP/JP.so
clang  -shared -O3 -L/usr/local/lib -fstack-protector-strong  JP.o cp_00_t.o eu_01_t.o ji_02_t.o ji_03_t.o ji_04_t.o ma_05_t.o sh_06_t.o  -o ../blib/arch/auto/Encode/JP/JP.so  \
      \
  
chmod 755 ../blib/arch/auto/Encode/JP/JP.so
make[1]: Leaving directory '/home/ioan/.cpanm/work/1658342032.2169317/Encode-3.18/JP'
make[1]: Entering directory '/home/ioan/.cpanm/work/1658342032.2169317/Encode-3.18/KR'
Running Mkbootstrap for KR ()
"/home/ioan/.plenv/versions/mm-perl-5.36.0/bin/perl5.36.0"  ../bin/enc2xs -"Q" -o cp_00_t.c -f cp_00_t.fnm
"/home/ioan/.plenv/versions/mm-perl-5.36.0/bin/perl5.36.0"  ../bin/enc2xs -"Q" -o eu_01_t.c -f eu_01_t.fnm
"/home/ioan/.plenv/versions/mm-perl-5.36.0/bin/perl5.36.0"  ../bin/enc2xs -"Q" -o jo_02_t.c -f jo_02_t.fnm
"/home/ioan/.plenv/versions/mm-perl-5.36.0/bin/perl5.36.0"  ../bin/enc2xs -"Q" -o ks_03_t.c -f ks_03_t.fnm
chmod 644 "KR.bs"
"/home/ioan/.plenv/versions/mm-perl-5.36.0/bin/perl5.36.0"  ../bin/enc2xs -"Q" -o ma_04_t.c -f ma_04_t.fnm
"/home/ioan/.plenv/versions/mm-perl-5.36.0/bin/perl5.36.0" -MExtUtils::Command::MM -e 'cp_nonempty' -- KR.bs ../blib/arch/auto/Encode/KR/KR.bs 644
cp KR.pm ../blib/lib/Encode/KR.pm
Reading MacKorean (MacKorean)
clang -c -I./Encode  -I../Encode -fno-strict-aliasing -pipe -fstack-protector-strong -I/usr/local/include -D_LARGEFILE_SOURCE -D_FILE_OFFSET_BITS=64 -O3   -DVERSION=\"2.03\" -DXS_VERSION=\"2.03\" -fPIC "-I/home/ioan/.plenv/versions/mm-perl-5.36.0/lib/5.36.0/x86_64-linux/CORE"   ma_04_t.c
Reading johab (johab)
clang -c -I./Encode  -I../Encode -fno-strict-aliasing -pipe -fstack-protector-strong -I/usr/local/include -D_LARGEFILE_SOURCE -D_FILE_OFFSET_BITS=64 -O3   -DVERSION=\"2.03\" -DXS_VERSION=\"2.03\" -fPIC "-I/home/ioan/.plenv/versions/mm-perl-5.36.0/lib/5.36.0/x86_64-linux/CORE"   jo_02_t.c
Reading euc-kr (euc-kr)
Reading cp949 (cp949)
Reading ksc5601-raw (ksc5601-raw)
clang -c -I./Encode  -I../Encode -fno-strict-aliasing -pipe -fstack-protector-strong -I/usr/local/include -D_LARGEFILE_SOURCE -D_FILE_OFFSET_BITS=64 -O3   -DVERSION=\"2.03\" -DXS_VERSION=\"2.03\" -fPIC "-I/home/ioan/.plenv/versions/mm-perl-5.36.0/lib/5.36.0/x86_64-linux/CORE"   eu_01_t.c
clang -c -I./Encode  -I../Encode -fno-strict-aliasing -pipe -fstack-protector-strong -I/usr/local/include -D_LARGEFILE_SOURCE -D_FILE_OFFSET_BITS=64 -O3   -DVERSION=\"2.03\" -DXS_VERSION=\"2.03\" -fPIC "-I/home/ioan/.plenv/versions/mm-perl-5.36.0/lib/5.36.0/x86_64-linux/CORE"   ks_03_t.c
"/home/ioan/.plenv/versions/mm-perl-5.36.0/bin/perl5.36.0" "/home/ioan/.plenv/versions/mm-perl-5.36.0/lib/5.36.0/ExtUtils/xsubpp"  -nolinenumbers -typemap '/home/ioan/.plenv/versions/mm-perl-5.36.0/lib/5.36.0/ExtUtils/typemap'  KR.xs > KR.xsc
clang -c -I./Encode  -I../Encode -fno-strict-aliasing -pipe -fstack-protector-strong -I/usr/local/include -D_LARGEFILE_SOURCE -D_FILE_OFFSET_BITS=64 -O3   -DVERSION=\"2.03\" -DXS_VERSION=\"2.03\" -fPIC "-I/home/ioan/.plenv/versions/mm-perl-5.36.0/lib/5.36.0/x86_64-linux/CORE"   cp_00_t.c
mv KR.xsc KR.c
clang -c -I./Encode  -I../Encode -fno-strict-aliasing -pipe -fstack-protector-strong -I/usr/local/include -D_LARGEFILE_SOURCE -D_FILE_OFFSET_BITS=64 -O3   -DVERSION=\"2.03\" -DXS_VERSION=\"2.03\" -fPIC "-I/home/ioan/.plenv/versions/mm-perl-5.36.0/lib/5.36.0/x86_64-linux/CORE"   KR.c
rm -f ../blib/arch/auto/Encode/KR/KR.so
clang  -shared -O3 -L/usr/local/lib -fstack-protector-strong  KR.o cp_00_t.o eu_01_t.o jo_02_t.o ks_03_t.o ma_04_t.o  -o ../blib/arch/auto/Encode/KR/KR.so  \
      \
  
chmod 755 ../blib/arch/auto/Encode/KR/KR.so
make[1]: Leaving directory '/home/ioan/.cpanm/work/1658342032.2169317/Encode-3.18/KR'
make[1]: Entering directory '/home/ioan/.cpanm/work/1658342032.2169317/Encode-3.18/Symbol'
Running Mkbootstrap for Symbol ()
"/home/ioan/.plenv/versions/mm-perl-5.36.0/bin/perl5.36.0"  ../bin/enc2xs -"Q" -"O" -o symbol_t.c -f symbol_t.fnm
chmod 644 "Symbol.bs"
"/home/ioan/.plenv/versions/mm-perl-5.36.0/bin/perl5.36.0" -MExtUtils::Command::MM -e 'cp_nonempty' -- Symbol.bs ../blib/arch/auto/Encode/Symbol/Symbol.bs 644
cp Symbol.pm ../blib/lib/Encode/Symbol.pm
Reading AdobeSymbol (AdobeSymbol)
Reading AdobeZdingbat (AdobeZdingbat)
Reading dingbats (dingbats)
Reading MacDingbats (MacDingbats)
Reading MacSymbol (MacSymbol)
Reading symbol (symbol)
"/home/ioan/.plenv/versions/mm-perl-5.36.0/bin/perl5.36.0" "/home/ioan/.plenv/versions/mm-perl-5.36.0/lib/5.36.0/ExtUtils/xsubpp"  -nolinenumbers -typemap '/home/ioan/.plenv/versions/mm-perl-5.36.0/lib/5.36.0/ExtUtils/typemap'  Symbol.xs > Symbol.xsc
clang -c -I./Encode  -I../Encode -fno-strict-aliasing -pipe -fstack-protector-strong -I/usr/local/include -D_LARGEFILE_SOURCE -D_FILE_OFFSET_BITS=64 -O3   -DVERSION=\"2.02\" -DXS_VERSION=\"2.02\" -fPIC "-I/home/ioan/.plenv/versions/mm-perl-5.36.0/lib/5.36.0/x86_64-linux/CORE"   symbol_t.c
mv Symbol.xsc Symbol.c
clang -c -I./Encode  -I../Encode -fno-strict-aliasing -pipe -fstack-protector-strong -I/usr/local/include -D_LARGEFILE_SOURCE -D_FILE_OFFSET_BITS=64 -O3   -DVERSION=\"2.02\" -DXS_VERSION=\"2.02\" -fPIC "-I/home/ioan/.plenv/versions/mm-perl-5.36.0/lib/5.36.0/x86_64-linux/CORE"   Symbol.c
rm -f ../blib/arch/auto/Encode/Symbol/Symbol.so
clang  -shared -O3 -L/usr/local/lib -fstack-protector-strong  Symbol.o symbol_t.o  -o ../blib/arch/auto/Encode/Symbol/Symbol.so  \
      \
  
chmod 755 ../blib/arch/auto/Encode/Symbol/Symbol.so
make[1]: Leaving directory '/home/ioan/.cpanm/work/1658342032.2169317/Encode-3.18/Symbol'
make[1]: Entering directory '/home/ioan/.cpanm/work/1658342032.2169317/Encode-3.18/TW'
Running Mkbootstrap for TW ()
"/home/ioan/.plenv/versions/mm-perl-5.36.0/bin/perl5.36.0"  ../bin/enc2xs -"Q" -o bi_00_t.c -f bi_00_t.fnm
"/home/ioan/.plenv/versions/mm-perl-5.36.0/bin/perl5.36.0"  ../bin/enc2xs -"Q" -o bi_01_t.c -f bi_01_t.fnm
"/home/ioan/.plenv/versions/mm-perl-5.36.0/bin/perl5.36.0"  ../bin/enc2xs -"Q" -o cp_02_t.c -f cp_02_t.fnm
"/home/ioan/.plenv/versions/mm-perl-5.36.0/bin/perl5.36.0"  ../bin/enc2xs -"Q" -o ma_03_t.c -f ma_03_t.fnm
chmod 644 "TW.bs"
"/home/ioan/.plenv/versions/mm-perl-5.36.0/bin/perl5.36.0" -MExtUtils::Command::MM -e 'cp_nonempty' -- TW.bs ../blib/arch/auto/Encode/TW/TW.bs 644
cp TW.pm ../blib/lib/Encode/TW.pm
Reading MacChineseTrad (MacChineseTrad)
Reading big5-eten (big5-eten)
clang -c -I./Encode  -I../Encode -fno-strict-aliasing -pipe -fstack-protector-strong -I/usr/local/include -D_LARGEFILE_SOURCE -D_FILE_OFFSET_BITS=64 -O3   -DVERSION=\"2.03\" -DXS_VERSION=\"2.03\" -fPIC "-I/home/ioan/.plenv/versions/mm-perl-5.36.0/lib/5.36.0/x86_64-linux/CORE"   ma_03_t.c
clang -c -I./Encode  -I../Encode -fno-strict-aliasing -pipe -fstack-protector-strong -I/usr/local/include -D_LARGEFILE_SOURCE -D_FILE_OFFSET_BITS=64 -O3   -DVERSION=\"2.03\" -DXS_VERSION=\"2.03\" -fPIC "-I/home/ioan/.plenv/versions/mm-perl-5.36.0/lib/5.36.0/x86_64-linux/CORE"   bi_00_t.c
Reading big5-hkscs (big5-hkscs)
clang -c -I./Encode  -I../Encode -fno-strict-aliasing -pipe -fstack-protector-strong -I/usr/local/include -D_LARGEFILE_SOURCE -D_FILE_OFFSET_BITS=64 -O3   -DVERSION=\"2.03\" -DXS_VERSION=\"2.03\" -fPIC "-I/home/ioan/.plenv/versions/mm-perl-5.36.0/lib/5.36.0/x86_64-linux/CORE"   bi_01_t.c
Reading cp950 (cp950)
"/home/ioan/.plenv/versions/mm-perl-5.36.0/bin/perl5.36.0" "/home/ioan/.plenv/versions/mm-perl-5.36.0/lib/5.36.0/ExtUtils/xsubpp"  -nolinenumbers -typemap '/home/ioan/.plenv/versions/mm-perl-5.36.0/lib/5.36.0/ExtUtils/typemap'  TW.xs > TW.xsc
clang -c -I./Encode  -I../Encode -fno-strict-aliasing -pipe -fstack-protector-strong -I/usr/local/include -D_LARGEFILE_SOURCE -D_FILE_OFFSET_BITS=64 -O3   -DVERSION=\"2.03\" -DXS_VERSION=\"2.03\" -fPIC "-I/home/ioan/.plenv/versions/mm-perl-5.36.0/lib/5.36.0/x86_64-linux/CORE"   cp_02_t.c
mv TW.xsc TW.c
clang -c -I./Encode  -I../Encode -fno-strict-aliasing -pipe -fstack-protector-strong -I/usr/local/include -D_LARGEFILE_SOURCE -D_FILE_OFFSET_BITS=64 -O3   -DVERSION=\"2.03\" -DXS_VERSION=\"2.03\" -fPIC "-I/home/ioan/.plenv/versions/mm-perl-5.36.0/lib/5.36.0/x86_64-linux/CORE"   TW.c
rm -f ../blib/arch/auto/Encode/TW/TW.so
clang  -shared -O3 -L/usr/local/lib -fstack-protector-strong  TW.o bi_00_t.o bi_01_t.o cp_02_t.o ma_03_t.o  -o ../blib/arch/auto/Encode/TW/TW.so  \
      \
  
chmod 755 ../blib/arch/auto/Encode/TW/TW.so
make[1]: Leaving directory '/home/ioan/.cpanm/work/1658342032.2169317/Encode-3.18/TW'
make[1]: Entering directory '/home/ioan/.cpanm/work/1658342032.2169317/Encode-3.18/Unicode'
Running Mkbootstrap for Unicode ()
"/home/ioan/.plenv/versions/mm-perl-5.36.0/bin/perl5.36.0" "/home/ioan/.plenv/versions/mm-perl-5.36.0/lib/5.36.0/ExtUtils/xsubpp"  -typemap '/home/ioan/.plenv/versions/mm-perl-5.36.0/lib/5.36.0/ExtUtils/typemap'  Unicode.xs > Unicode.xsc
chmod 644 "Unicode.bs"
"/home/ioan/.plenv/versions/mm-perl-5.36.0/bin/perl5.36.0" -MExtUtils::Command::MM -e 'cp_nonempty' -- Unicode.bs ../blib/arch/auto/Encode/Unicode/Unicode.bs 644
cp Unicode.pm ../blib/lib/Encode/Unicode.pm
mv Unicode.xsc Unicode.c
clang -c -I./Encode  -I../Encode -fno-strict-aliasing -pipe -fstack-protector-strong -I/usr/local/include -D_LARGEFILE_SOURCE -D_FILE_OFFSET_BITS=64 -O3   -DVERSION=\"2.20\" -DXS_VERSION=\"2.20\" -fPIC "-I/home/ioan/.plenv/versions/mm-perl-5.36.0/lib/5.36.0/x86_64-linux/CORE"   Unicode.c
rm -f ../blib/arch/auto/Encode/Unicode/Unicode.so
clang  -shared -O3 -L/usr/local/lib -fstack-protector-strong  Unicode.o  -o ../blib/arch/auto/Encode/Unicode/Unicode.so  \
      \
  
chmod 755 ../blib/arch/auto/Encode/Unicode/Unicode.so
make[1]: Leaving directory '/home/ioan/.cpanm/work/1658342032.2169317/Encode-3.18/Unicode'
cp bin/enc2xs blib/script/enc2xs
cp bin/encguess blib/script/encguess
"/home/ioan/.plenv/versions/mm-perl-5.36.0/bin/perl5.36.0" -MExtUtils::MY -e 'MY->fixin(shift)' -- blib/script/enc2xs
"/home/ioan/.plenv/versions/mm-perl-5.36.0/bin/perl5.36.0" -MExtUtils::MY -e 'MY->fixin(shift)' -- blib/script/encguess
cp bin/piconv blib/script/piconv
"/home/ioan/.plenv/versions/mm-perl-5.36.0/bin/perl5.36.0" -MExtUtils::MY -e 'MY->fixin(shift)' -- blib/script/piconv
"/home/ioan/.plenv/versions/mm-perl-5.36.0/bin/perl5.36.0" -MExtUtils::Command::MM -e 'cp_nonempty' -- Encode.bs blib/arch/auto/Encode/Encode.bs 644
make[1]: Entering directory '/home/ioan/.cpanm/work/1658342032.2169317/Encode-3.18/Byte'
"/home/ioan/.plenv/versions/mm-perl-5.36.0/bin/perl5.36.0" -MExtUtils::Command::MM -e 'cp_nonempty' -- Byte.bs ../blib/arch/auto/Encode/Byte/Byte.bs 644
make[1]: Leaving directory '/home/ioan/.cpanm/work/1658342032.2169317/Encode-3.18/Byte'
make[1]: Entering directory '/home/ioan/.cpanm/work/1658342032.2169317/Encode-3.18/CN'
"/home/ioan/.plenv/versions/mm-perl-5.36.0/bin/perl5.36.0" -MExtUtils::Command::MM -e 'cp_nonempty' -- CN.bs ../blib/arch/auto/Encode/CN/CN.bs 644
make[1]: Leaving directory '/home/ioan/.cpanm/work/1658342032.2169317/Encode-3.18/CN'
make[1]: Entering directory '/home/ioan/.cpanm/work/1658342032.2169317/Encode-3.18/EBCDIC'
"/home/ioan/.plenv/versions/mm-perl-5.36.0/bin/perl5.36.0" -MExtUtils::Command::MM -e 'cp_nonempty' -- EBCDIC.bs ../blib/arch/auto/Encode/EBCDIC/EBCDIC.bs 644
make[1]: Leaving directory '/home/ioan/.cpanm/work/1658342032.2169317/Encode-3.18/EBCDIC'
make[1]: Entering directory '/home/ioan/.cpanm/work/1658342032.2169317/Encode-3.18/JP'
"/home/ioan/.plenv/versions/mm-perl-5.36.0/bin/perl5.36.0" -MExtUtils::Command::MM -e 'cp_nonempty' -- JP.bs ../blib/arch/auto/Encode/JP/JP.bs 644
make[1]: Leaving directory '/home/ioan/.cpanm/work/1658342032.2169317/Encode-3.18/JP'
make[1]: Entering directory '/home/ioan/.cpanm/work/1658342032.2169317/Encode-3.18/KR'
"/home/ioan/.plenv/versions/mm-perl-5.36.0/bin/perl5.36.0" -MExtUtils::Command::MM -e 'cp_nonempty' -- KR.bs ../blib/arch/auto/Encode/KR/KR.bs 644
make[1]: Leaving directory '/home/ioan/.cpanm/work/1658342032.2169317/Encode-3.18/KR'
make[1]: Entering directory '/home/ioan/.cpanm/work/1658342032.2169317/Encode-3.18/Symbol'
"/home/ioan/.plenv/versions/mm-perl-5.36.0/bin/perl5.36.0" -MExtUtils::Command::MM -e 'cp_nonempty' -- Symbol.bs ../blib/arch/auto/Encode/Symbol/Symbol.bs 644
make[1]: Leaving directory '/home/ioan/.cpanm/work/1658342032.2169317/Encode-3.18/Symbol'
make[1]: Entering directory '/home/ioan/.cpanm/work/1658342032.2169317/Encode-3.18/TW'
"/home/ioan/.plenv/versions/mm-perl-5.36.0/bin/perl5.36.0" -MExtUtils::Command::MM -e 'cp_nonempty' -- TW.bs ../blib/arch/auto/Encode/TW/TW.bs 644
make[1]: Leaving directory '/home/ioan/.cpanm/work/1658342032.2169317/Encode-3.18/TW'
make[1]: Entering directory '/home/ioan/.cpanm/work/1658342032.2169317/Encode-3.18/Unicode'
"/home/ioan/.plenv/versions/mm-perl-5.36.0/bin/perl5.36.0" -MExtUtils::Command::MM -e 'cp_nonempty' -- Unicode.bs ../blib/arch/auto/Encode/Unicode/Unicode.bs 644
make[1]: Leaving directory '/home/ioan/.cpanm/work/1658342032.2169317/Encode-3.18/Unicode'
make[1]: Entering directory '/home/ioan/.cpanm/work/1658342032.2169317/Encode-3.18/Byte'
"/home/ioan/.plenv/versions/mm-perl-5.36.0/bin/perl5.36.0" -MExtUtils::Command::MM -e 'cp_nonempty' -- Byte.bs ../blib/arch/auto/Encode/Byte/Byte.bs 644
No tests defined for Encode::Byte extension.
make[1]: Leaving directory '/home/ioan/.cpanm/work/1658342032.2169317/Encode-3.18/Byte'
make[1]: Entering directory '/home/ioan/.cpanm/work/1658342032.2169317/Encode-3.18/CN'
"/home/ioan/.plenv/versions/mm-perl-5.36.0/bin/perl5.36.0" -MExtUtils::Command::MM -e 'cp_nonempty' -- CN.bs ../blib/arch/auto/Encode/CN/CN.bs 644
No tests defined for Encode::CN extension.
make[1]: Leaving directory '/home/ioan/.cpanm/work/1658342032.2169317/Encode-3.18/CN'
make[1]: Entering directory '/home/ioan/.cpanm/work/1658342032.2169317/Encode-3.18/EBCDIC'
"/home/ioan/.plenv/versions/mm-perl-5.36.0/bin/perl5.36.0" -MExtUtils::Command::MM -e 'cp_nonempty' -- EBCDIC.bs ../blib/arch/auto/Encode/EBCDIC/EBCDIC.bs 644
No tests defined for Encode::EBCDIC extension.
make[1]: Leaving directory '/home/ioan/.cpanm/work/1658342032.2169317/Encode-3.18/EBCDIC'
make[1]: Entering directory '/home/ioan/.cpanm/work/1658342032.2169317/Encode-3.18/JP'
"/home/ioan/.plenv/versions/mm-perl-5.36.0/bin/perl5.36.0" -MExtUtils::Command::MM -e 'cp_nonempty' -- JP.bs ../blib/arch/auto/Encode/JP/JP.bs 644
No tests defined for Encode::JP extension.
make[1]: Leaving directory '/home/ioan/.cpanm/work/1658342032.2169317/Encode-3.18/JP'
make[1]: Entering directory '/home/ioan/.cpanm/work/1658342032.2169317/Encode-3.18/KR'
"/home/ioan/.plenv/versions/mm-perl-5.36.0/bin/perl5.36.0" -MExtUtils::Command::MM -e 'cp_nonempty' -- KR.bs ../blib/arch/auto/Encode/KR/KR.bs 644
No tests defined for Encode::KR extension.
make[1]: Leaving directory '/home/ioan/.cpanm/work/1658342032.2169317/Encode-3.18/KR'
make[1]: Entering directory '/home/ioan/.cpanm/work/1658342032.2169317/Encode-3.18/Symbol'
"/home/ioan/.plenv/versions/mm-perl-5.36.0/bin/perl5.36.0" -MExtUtils::Command::MM -e 'cp_nonempty' -- Symbol.bs ../blib/arch/auto/Encode/Symbol/Symbol.bs 644
No tests defined for Encode::Symbol extension.
make[1]: Leaving directory '/home/ioan/.cpanm/work/1658342032.2169317/Encode-3.18/Symbol'
make[1]: Entering directory '/home/ioan/.cpanm/work/1658342032.2169317/Encode-3.18/TW'
"/home/ioan/.plenv/versions/mm-perl-5.36.0/bin/perl5.36.0" -MExtUtils::Command::MM -e 'cp_nonempty' -- TW.bs ../blib/arch/auto/Encode/TW/TW.bs 644
No tests defined for Encode::TW extension.
make[1]: Leaving directory '/home/ioan/.cpanm/work/1658342032.2169317/Encode-3.18/TW'
make[1]: Entering directory '/home/ioan/.cpanm/work/1658342032.2169317/Encode-3.18/Unicode'
"/home/ioan/.plenv/versions/mm-perl-5.36.0/bin/perl5.36.0" -MExtUtils::Command::MM -e 'cp_nonempty' -- Unicode.bs ../blib/arch/auto/Encode/Unicode/Unicode.bs 644
No tests defined for Encode::Unicode extension.
make[1]: Leaving directory '/home/ioan/.cpanm/work/1658342032.2169317/Encode-3.18/Unicode'
PERL_DL_NONLAZY=1 "/home/ioan/.plenv/versions/mm-perl-5.36.0/bin/perl5.36.0" "-MExtUtils::Command::MM" "-MTest::Harness" "-e" "undef *Test::Harness::Switches; test_harness(0, 'blib/lib', 'blib/arch')" t/*.t
t/enc_data.t ............... skipped: encoding pragma not supported in Perl 5.25 or later
t/enc_module.t ............. skipped: encoding pragma not supported in Perl 5.25 or later
t/enc_eucjp.t .............. skipped: Perl <=5.25.2 or cperl required
t/enc_utf8.t ............... skipped: Perl <=5.25.2 or cperl required
t/at-tw.t .................. ok
t/at-cn.t .................. ok
t/cow.t .................... ok
t/decode.t ................. ok
t/encoding.t ............... skipped: encoding pragma not supported in Perl 5.25 or later
t/encoding-locale.t ........ ok
t/from_to.t ................ ok
t/fallback.t ............... ok
t/grow.t ................... ok
t/Encoder.t ................ ok
t/guess.t .................. ok
t/jperl.t .................. skipped: encoding pragma not supported in Perl 5.25 or later
t/jis7-fallback.t .......... ok
t/isa.t .................... ok
t/CJKT.t ................... ok
t/mime_header_iso2022jp.t .. ok
t/mime-name.t .............. ok
t/Aliases.t ................ ok
t/magic.t .................. ok
t/gsm0338.t ................ ok
t/rt113164.t ............... ok
t/rt65541.t ................ ok
t/rt85489.t ................ ok
t/rt86327.t ................ ok
t/piconv.t ................. ok
t/rt76824.t ................ ok
t/truncated_utf8.t ......... ok
t/use-Encode-Alias.t ....... ok
t/Unicode_trailing_nul.t ... ok
t/Encode.t ................. ok
t/taint.t .................. ok
t/utf32warnings.t .......... ok
t/undef.t .................. ok
t/utf8ref.t ................ ok
t/Unicode.t ................ ok
t/whatwg-aliases.t ......... skipped: For maintainers only
t/utf8warnings.t ........... ok
t/utf8strict.t ............. ok
t/perlio.t ................. ok
t/xml.t .................... ok
t/mime-header.t ............ ok
All tests successful.
Files=45, Tests=7757,  2 wallclock secs ( 0.69 usr  0.08 sys +  8.05 cusr  0.75 csys =  9.57 CPU)
Result: PASS

------------------------------
PREREQUISITES
------------------------------

Prerequisite modules loaded:

    No requirements found

------------------------------
ENVIRONMENT AND OTHER CONTEXT
------------------------------

Environment variables:

    HARNESS_OPTIONS = j8
    LANG = en_GB.UTF-8
    LANGUAGE = en_GB:en_CA:en_US:en
    LC_ADDRESS = en_GB.UTF-8
    LC_ALL = en_GB.UTF-8
    LC_IDENTIFICATION = en_GB.UTF-8
    LC_MEASUREMENT = en_GB.UTF-8
    LC_MONETARY = en_GB.UTF-8
    LC_NAME = en_GB.UTF-8
    LC_NUMERIC = en_GB.UTF-8
    LC_PAPER = en_GB.UTF-8
    LC_TELEPHONE = en_GB.UTF-8
    LC_TIME = en_GB.UTF-8
    PATH = /home/ioan/.plenv/versions/mm-perl-5.36.0/bin:/home/ioan/.plenv/libexec:/home/ioan/.plenv/plugins/perl-build/bin:/home/ioan/go/bin:/home/ioan/.raku/bin:/home/ioan/.plenv/shims:/snap/bin:/snap/google-cloud-sdk/current/bin:/home/ioan/.krew/bin::/home/ioan/.local/bin:/usr/local/bin:/usr/bin:/bin:/usr/local/sbin:/sbin:/usr/sbin:/usr/games
    PERL5LIB = /home/ioan/Projects/github.maxmind.com/maxmind/mm_website/lib
    PERL_CPANM_OPT = --prompt --no-man-pages --verify --mirror https://cpan.metacpan.org
    SHELL = /bin/zsh
    TERM = xterm-256color

Perl special variables (and OS-specific diagnostics, for MSWin32):

    EGID = 1001 4 20 24 27 30 46 119 130 131 134 138 1001
    EUID = 1001
    EXECUTABLE_NAME = /home/ioan/.plenv/versions/mm-perl-5.36.0/bin/perl5.36.0
    GID = 1001 4 20 24 27 30 46 119 130 131 134 138 1001
    UID = 1001

Perl module toolchain versions installed:

    Module              Have    
    ------------------- --------
    CPAN                2.34    
    CPAN::Meta          2.150010
    Cwd                 3.84    
    ExtUtils::CBuilder  0.280236
    ExtUtils::Command   7.64    
    ExtUtils::Install   2.20    
    ExtUtils::MakeMaker 7.64    
    ExtUtils::Manifest  1.73    
    ExtUtils::ParseXS   3.45    
    File::Spec          3.84    
    JSON                4.07    
    JSON::PP            4.10    
    Module::Build       0.4231  
    Module::Signature   0.88    
    Parse::CPAN::Meta   2.150010
    Test::Harness       3.44    
    Test::More          1.302191
    YAML                1.30    
    YAML::Syck          1.34    
    version             0.9929  


--

Summary of my perl5 (revision 5 version 36 subversion 0) configuration:
   
  Platform:
    osname=linux
    osvers=5.15.0-41-generic
    archname=x86_64-linux
    uname='linux impatience 5.15.0-41-generic #44-ubuntu smp wed jun 22 14:20:53 utc 2022 x86_64 x86_64 x86_64 gnulinux '
    config_args='-Dprefix=/home/ioan/.plenv/versions/mm-perl-5.36.0 -de -Dversiononly -Dcc=clang -Doptimize=-O3 -Dccflags-march=native  -Dman1dir=none -Dman3dir=none -A'eval:scriptdir=/home/ioan/.plenv/versions/mm-perl-5.36.0/bin''
    hint=recommended
    useposix=true
    d_sigaction=define
    useithreads=undef
    usemultiplicity=undef
    use64bitint=define
    use64bitall=define
    uselongdouble=undef
    usemymalloc=n
    default_inc_excludes_dot=define
  Compiler:
    cc='clang'
    ccflags ='-fno-strict-aliasing -pipe -fstack-protector-strong -I/usr/local/include -D_LARGEFILE_SOURCE -D_FILE_OFFSET_BITS=64'
    optimize='-O3'
    cppflags='-fno-strict-aliasing -pipe -fstack-protector-strong -I/usr/local/include'
    ccversion=''
    gccversion='Ubuntu Clang 14.0.0'
    gccosandvers=''
    intsize=4
    longsize=8
    ptrsize=8
    doublesize=8
    byteorder=12345678
    doublekind=3
    d_longlong=define
    longlongsize=8
    d_longdbl=define
    longdblsize=16
    longdblkind=3
    ivtype='long'
    ivsize=8
    nvtype='double'
    nvsize=8
    Off_t='off_t'
    lseeksize=8
    alignbytes=8
    prototype=define
  Linker and Libraries:
    ld='clang'
    ldflags =' -fstack-protector-strong -L/usr/local/lib'
    libpth=/usr/lib/llvm-14/lib/clang/14.0.0/lib /usr/local/lib /usr/lib/x86_64-linux-gnu /usr/lib /usr/lib64
    libs=-lpthread -lnsl -ldb -ldl -lm -lcrypt -lutil -lc
    perllibs=-lpthread -lnsl -ldl -lm -lcrypt -lutil -lc
    libc=/lib/x86_64-linux-gnu/libc.so.6
    so=so
    useshrplib=false
    libperl=libperl.a
    gnulibc_version='2.35'
  Dynamic Linking:
    dlsrc=dl_dlopen.xs
    dlext=so
    d_dlsymun=undef
    ccdlflags='-Wl,-E'
    cccdlflags='-fPIC'
    lddlflags='-shared -O3 -L/usr/local/lib -fstack-protector-strong'


Characteristics of this binary (from libperl): 
  Compile-time options:
    HAS_TIMES
    PERLIO_LAYERS
    PERL_COPY_ON_WRITE
    PERL_DONT_CREATE_GVSV
    PERL_MALLOC_WRAP
    PERL_OP_PARENT
    PERL_PRESERVE_IVUV
    USE_64_BIT_ALL
    USE_64_BIT_INT
    USE_LARGE_FILES
    USE_LOCALE
    USE_LOCALE_COLLATE
    USE_LOCALE_CTYPE
    USE_LOCALE_NUMERIC
    USE_LOCALE_TIME
    USE_PERLIO
    USE_PERL_ATOF
  Built under linux
  Compiled at Jul 20 2022 11:19:10
  %ENV:
    PERL5LIB="/home/ioan/Projects/github.maxmind.com/maxmind/mm_website/lib"
    PERL_CPANM_OPT="--prompt --no-man-pages --verify --mirror https://cpan.metacpan.org"
  @INC:
    /home/ioan/Projects/github.maxmind.com/maxmind/mm_website/lib
    /home/ioan/.plenv/versions/mm-perl-5.36.0/lib/site_perl/5.36.0/x86_64-linux
    /home/ioan/.plenv/versions/mm-perl-5.36.0/lib/site_perl/5.36.0
    /home/ioan/.plenv/versions/mm-perl-5.36.0/lib/5.36.0/x86_64-linux
    /home/ioan/.plenv/versions/mm-perl-5.36.0/lib/5.36.0