FFI-Platypus v1.10 Perl 5 v5.30.2 darwin-thread-multi-2level
- Status
- Pass
- From
- Gintautas Grigelionis
- Dist
-
FFI-Platypus v1.10
- Platform
- Perl 5 v5.30.2 darwin-thread-multi-2level
- Date
- 2020-04-13 14:58:23
- ID
- 38dd3b12-7d97-11ea-ae8e-edcfb8c7a691
This distribution has been tested as part of the CPAN Testers
project, supporting the Perl programming language. See
http://wiki.cpantesters.org/ for more information or email
questions to cpan-testers-discuss@perl.org
--
Dear Graham Ollis,
This is a computer-generated report for FFI-Platypus-1.10
on perl 5.30.2, created by CPAN-Reporter-1.2018.
Thank you for uploading your work to CPAN. Congratulations!
All tests were successful.
Sections of this report:
* Tester comments
* Program output
* Prerequisites
* Environment and other context
------------------------------
TESTER COMMENTS
------------------------------
Additional comments from tester:
none provided
------------------------------
PROGRAM OUTPUT
------------------------------
Output from '/usr/bin/make test':
"/usr/local/Cellar/perl/5.30.2/bin/perl" -MExtUtils::Command::MM -e 'cp_nonempty' -- lib/FFI/Platypus.bs blib/arch/auto/FFI/Platypus/Platypus.bs 644
CC t/ffi/align.c
CC t/ffi/align_array.c
CC t/ffi/align_fixed.c
CC t/ffi/align_string.c
CC t/ffi/basic.c
CC t/ffi/closure.c
CC t/ffi/color.c
CC t/ffi/complex_double.c
CC t/ffi/complex_float.c
CC t/ffi/double.c
CC t/ffi/float.c
CC t/ffi/gh117.c
CC t/ffi/gh174.c
CC t/ffi/longdouble.c
CC t/ffi/memcmp4.c
CC t/ffi/meta.c
CC t/ffi/pointer.c
CC t/ffi/record.c
CC t/ffi/sint16.c
CC t/ffi/sint32.c
CC t/ffi/sint64.c
CC t/ffi/sint8.c
CC t/ffi/string.c
CC t/ffi/string_array.c
CC t/ffi/uint16.c
CC t/ffi/uint32.c
CC t/ffi/uint64.c
CC t/ffi/uint8.c
CC t/ffi/variadic.c
LD t/ffi/libtest.dylib
PERL_DL_NONLAZY=1 "/usr/local/Cellar/perl/5.30.2/bin/perl" "-MExtUtils::Command::MM" "-MTest::Harness" "-e" "undef *Test::Harness::Switches; test_harness(0, 'blib/lib', 'blib/arch')" t/*.t
#
#
#
# HARNESS_ACTIVE=1
# HARNESS_VERSION=3.42
# LC_CTYPE=UTF-8
# PERL5LIB=/Users/gintas/.cpan/build/FFI-Platypus-1.10-0/blib/lib:/Users/gintas/.cpan/build/FFI-Platypus-1.10-0/blib/arch:/Users/gintas/Projects/perl5/lib/perl5/5.30.2/darwin-thread-multi-2level:/Users/gintas/Projects/perl5/lib/perl5/5.30.2:/Users/gintas/Projects/perl5/lib/perl5/darwin-thread-multi-2level:/Users/gintas/Projects/perl5/lib/perl5:/Users/gintas/perl5/lib/perl5/5.30.2/darwin-thread-multi-2level:/Users/gintas/perl5/lib/perl5/5.30.2:/Users/gintas/perl5/lib/perl5/darwin-thread-multi-2level:/Users/gintas/perl5/lib/perl5:/Users/gintas/Projects/perl5/lib/perl5:/Users/gintas/perl5/lib/perl5
# PERL5OPT=
# PERL5_CPANPLUS_IS_RUNNING=39732
# PERL5_CPAN_IS_RUNNING=39732
# PERL_DL_NONLAZY=1
# PERL_LOCAL_LIB_ROOT=/Users/gintas/Projects/perl5:/Users/gintas/perl5
# PERL_MB_OPT=--install_base "/Users/gintas/Projects/perl5"
# PERL_MM_OPT=INSTALL_BASE=/Users/gintas/Projects/perl5
# PERL_USE_UNSAFE_INC=1
# SHELL=/bin/bash
#
#
#
# PERL5LIB path
# /Users/gintas/.cpan/build/FFI-Platypus-1.10-0/blib/lib
# /Users/gintas/.cpan/build/FFI-Platypus-1.10-0/blib/arch
# /Users/gintas/Projects/perl5/lib/perl5/5.30.2/darwin-thread-multi-2level
# /Users/gintas/Projects/perl5/lib/perl5/5.30.2
# /Users/gintas/Projects/perl5/lib/perl5/darwin-thread-multi-2level
# /Users/gintas/Projects/perl5/lib/perl5
# /Users/gintas/perl5/lib/perl5/5.30.2/darwin-thread-multi-2level
# /Users/gintas/perl5/lib/perl5/5.30.2
# /Users/gintas/perl5/lib/perl5/darwin-thread-multi-2level
# /Users/gintas/perl5/lib/perl5
# /Users/gintas/Projects/perl5/lib/perl5
# /Users/gintas/perl5/lib/perl5
#
#
#
# perl 5.030002
# Alien::Base 2.21
# Capture::Tiny 0.48
# Devel::Hide 0.0013
# ExtUtils::CBuilder 0.280234
# ExtUtils::MakeMaker 7.44
# ExtUtils::ParseXS 3.40
# FFI::CheckLib 0.26
# IPC::Cmd 1.04
# JSON::PP 4.04
# List::Util 1.55
# Math::LongDouble -
# PkgConfig 0.23026
# Test::More 1.302174
# constant 1.33
# forks -
#
#
#
# mode : system
# Alien::FFI::pkgconfig->VERSION = undef
# Alien::FFI::pkgconfig->install_type = system
# Alien::FFI::pkgconfig->cflags = -I/usr/local/Cellar/libffi/3.2.1/lib/libffi-3.2.1/include
# Alien::FFI::pkgconfig->libs = -L/usr/local/Cellar/libffi/3.2.1/lib -lffi
# Alien::FFI::pkgconfig->version = 3.2.1
#
#
#
# ffi.platypus.memory.strdup_impl =libc
# ffi.platypus.memory.strndup_impl=libc
#
#
#
# Types:
# double : double, float complex
# float : float
# longdouble : double complex, long double, long double complex
# sint16 : int16_t, short, signed short
# sint32 : blksize_t, dev_t, int, int32_t, senum, signed int, wchar_t, wint_t
# sint64 : blkcnt_t, int64_t, intptr_t, long, long long, off_t, ptrdiff_t, signed long, signed long long, ssize_t, time_t
# sint8 : char, int8_t, signed char
# uint16 : mode_t, nlink_t, uint16_t, unsigned short, ushort
# uint32 : enum, gid_t, uid_t, uint, uint32_t, unsigned int
# uint64 : ino_t, size_t, uint64_t, uintptr_t, ulong, unsigned long, unsigned long long
# uint8 : bool, uchar, uint8_t, unsigned char
#
#
#
# ABIs:
# default_abi 2
# fastcall 4
# pascal 6
# register 7
# stdcall 5
# sysv 1
# thiscall 3
# unix64 2
#
#
#
# Probes:
# longdouble 1
# bigendian64 0
# recordvalue 1
# variadic 1
# bigendian 0
# alloca 1
# abi 1
#
#
#
# [PLATFORM]
# osname : darwin
# cc : cc
# cxx : c++
# for : gfortran
# ld : cc
# ccflags : -fno-common -DPERL_DARWIN -mmacosx-version-min=10.15 -fno-strict-aliasing -pipe -fstack-protector-strong -I/usr/local/include -DPERL_USE_SAFE_PUTENV -O3 -I/Users/gintas/.cpan/build/FFI-Platypus-1.10-0/blib/lib/auto/share/dist/FFI-Platypus/include
# ldflags : -mmacosx-version-min=10.15 -shared -undefined dynamic_lookup -L/usr/local/lib -fstack-protector-strong
# object suffix : .o
# library prefix : lib
# library suffix : .dylib,.bundle
# cc mm works : -MM
#
#
#
t/00_diag.t .............................. ok
t/01_use.t ............................... ok
t/ffi_build.t ............................ ok
t/ffi_build_file_base.t .................. ok
t/ffi_build_file_c.t ..................... ok
t/ffi_build_file_cxx.t ................... ok
t/ffi_build_file_library.t ............... ok
t/ffi_build_file_object.t ................ ok
t/ffi_build_mm.t ......................... ok
t/ffi_build_platform.t ................... ok
t/ffi_platypus.t ......................... ok
t/ffi_platypus_api.t ..................... ok
t/ffi_platypus_buffer.t .................. ok
t/ffi_platypus_bundle.t .................. ok
t/ffi_platypus_closure.t ................. ok
t/ffi_platypus_constant.t ................ ok
t/ffi_platypus_declare.t ................. ok
t/ffi_platypus_dl.t ...................... ok
t/ffi_platypus_function.t ................ ok
t/ffi_platypus_function_wrapper.t ........ ok
t/ffi_platypus_internal.t ................ ok
t/ffi_platypus_lang.t .................... ok
t/ffi_platypus_lang_asm.t ................ ok
t/ffi_platypus_lang_c.t .................. ok
t/ffi_platypus_lang_win32.t .............. ok
t/ffi_platypus_legacy.t .................. ok
t/ffi_platypus_memory.t .................. ok
t/ffi_platypus_record.t .................. ok
t/ffi_platypus_record_meta.t ............. ok
t/ffi_platypus_record_tiearray.t ......... ok
t/ffi_platypus_shareconfig.t ............. ok
t/ffi_platypus_type.t .................... ok
t/ffi_platypus_type_pointersizebuffer.t .. ok
t/ffi_platypus_type_stringarray.t ........ ok
t/ffi_platypus_type_stringpointer.t ...... ok
t/ffi_platypus_typeparser.t .............. ok
t/ffi_platypus_typeparser_version0.t ..... ok
t/ffi_platypus_typeparser_version1.t ..... ok
t/ffi_probe.t ............................ ok
t/ffi_probe_runner.t ..................... ok
t/ffi_probe_runner_builder.t ............. ok
t/ffi_probe_runner_result.t .............. ok
t/ffi_temp.t ............................. ok
t/forks.t ................................ skipped: Test requires forks
t/gh117.t ................................ ok
t/gh129.t ................................ ok
t/memory.t ............................... skipped: tested only in CI
t/threads.t .............................. ok
t/type_complex_double.t .................. skipped: Test requires support for double complex
t/type_complex_float.t ................... skipped: Test requires support for float complex
t/type_custom.t .......................... ok
t/type_double.t .......................... ok
t/type_float.t ........................... ok
t/type_longdouble.t ...................... ok
t/type_longdouble__array.t ............... ok
t/type_longdouble__hide.t ................ ok
t/type_longdouble__ptr.t ................. ok
t/type_opaque.t .......................... ok
t/type_record.t .......................... ok
t/type_record_value.t .................... ok
t/type_sint16.t .......................... ok
t/type_sint32.t .......................... ok
t/type_sint64.t .......................... ok
t/type_sint8.t ........................... ok
t/type_string.t .......................... ok
t/type_uint16.t .......................... ok
t/type_uint32.t .......................... ok
t/type_uint64.t .......................... ok
t/type_uint8.t ........................... ok
All tests successful.
Files=69, Tests=342, 21 wallclock secs ( 0.48 usr 0.18 sys + 11.36 cusr 3.48 csys = 15.50 CPU)
Result: PASS
------------------------------
PREREQUISITES
------------------------------
Prerequisite modules loaded:
requires:
Module Need Have
------------------- -------- --------
Capture::Tiny 0 0.48
constant 1.32 1.33
ExtUtils::MakeMaker 7.12 7.44
FFI::CheckLib 0.05 0.26
IPC::Cmd 0 1.04
JSON::PP 0 4.04
List::Util 1.45 1.55
perl 5.008001 5.030002
build_requires:
Module Need Have
------------------- -------- --------
Capture::Tiny 0 0.48
ExtUtils::CBuilder 0 0.280234
Test::More 0.98 1.302174
configure_requires:
Module Need Have
------------------- -------- --------
Capture::Tiny 0 0.48
ExtUtils::MakeMaker 7.12 7.44
ExtUtils::ParseXS 3.30 3.40
IPC::Cmd 0 1.04
perl 5.006 5.030002
------------------------------
ENVIRONMENT AND OTHER CONTEXT
------------------------------
Environment variables:
LC_CTYPE = UTF-8
PATH = /Users/gintas/Projects/perl5/bin:/Users/gintas/perl5/bin:/usr/local/bin:/usr/bin:/bin:/usr/sbin:/sbin:/usr/local/MacGPG2/bin:/opt/X11/bin:/Library/Apple/usr/bin
PERL5LIB = /Users/gintas/Projects/perl5/lib/perl5:/Users/gintas/perl5/lib/perl5
PERL5OPT =
PERL5_CPANPLUS_IS_RUNNING = 39732
PERL5_CPAN_IS_RUNNING = 39732
PERL_LOCAL_LIB_ROOT = /Users/gintas/Projects/perl5:/Users/gintas/perl5
PERL_MB_OPT = --install_base "/Users/gintas/Projects/perl5"
PERL_MM_OPT = INSTALL_BASE=/Users/gintas/Projects/perl5
PERL_USE_UNSAFE_INC = 1
SHELL = /bin/bash
TERM = xterm-256color
TMPDIR = /var/folders/7j/gsygg6dj3yg5vj5ph2nk1x880000gn/T/
Perl special variables (and OS-specific diagnostics, for MSWin32):
$^X = /usr/local/Cellar/perl/5.30.2/bin/perl
$UID/$EUID = 501 / 501
$GID = 20 20 701 12 61 79 80 81 98 703 702 33 100 204 250 395 398
$EGID = 20 20 701 12 61 79 80 81 98 703 702 33 100 204 250 395 398
Perl module toolchain versions installed:
Module Have
------------------- --------
CPAN 2.22
CPAN::Meta 2.150010
Cwd 3.78
ExtUtils::CBuilder 0.280234
ExtUtils::Command 7.44
ExtUtils::Install 2.14
ExtUtils::MakeMaker 7.44
ExtUtils::Manifest 1.72
ExtUtils::ParseXS 3.40
File::Spec 3.78
JSON 4.02
JSON::PP 4.04
Module::Build 0.4231
Module::Signature 0.83
Parse::CPAN::Meta 2.150010
Test::Harness 3.42
Test::More 1.302174
YAML 1.30
YAML::Syck 1.32
version 0.9924
--
Summary of my perl5 (revision 5 version 30 subversion 2) configuration:
Platform:
osname=darwin
osvers=19.4.0
archname=darwin-thread-multi-2level
uname='darwin catalina 19.4.0 darwin kernel version 19.4.0: wed mar 4 22:28:40 pst 2020; root:xnu-6153.101.6~15release_x86_64 x86_64 '
config_args='-des -Dprefix=/usr/local/Cellar/perl/5.30.2 -Dprivlib=/usr/local/Cellar/perl/5.30.2/lib/perl5/5.30.2 -Dsitelib=/usr/local/Cellar/perl/5.30.2/lib/perl5/site_perl/5.30.2 -Dotherlibdirs=/usr/local/lib/perl5/site_perl/5.30.2 -Dperlpath=/usr/local/opt/perl/bin/perl -Dstartperl=#!/usr/local/opt/perl/bin/perl -Dman1dir=/usr/local/Cellar/perl/5.30.2/share/man/man1 -Dman3dir=/usr/local/Cellar/perl/5.30.2/share/man/man3 -Duseshrplib -Duselargefiles -Dusethreads'
hint=recommended
useposix=true
d_sigaction=define
useithreads=define
usemultiplicity=define
use64bitint=define
use64bitall=define
uselongdouble=undef
usemymalloc=n
default_inc_excludes_dot=define
bincompat5005=undef
Compiler:
cc='cc'
ccflags ='-fno-common -DPERL_DARWIN -mmacosx-version-min=10.15 -fno-strict-aliasing -pipe -fstack-protector-strong -I/usr/local/include -DPERL_USE_SAFE_PUTENV'
optimize='-O3'
cppflags='-fno-common -DPERL_DARWIN -mmacosx-version-min=10.15 -fno-strict-aliasing -pipe -fstack-protector-strong -I/usr/local/include'
ccversion=''
gccversion='4.2.1 Compatible Apple LLVM 11.0.3 (clang-1103.0.32.29)'
gccosandvers=''
intsize=4
longsize=8
ptrsize=8
doublesize=8
byteorder=12345678
doublekind=3
d_longlong=define
longlongsize=8
d_longdbl=define
longdblsize=16
longdblkind=3
ivtype='long'
ivsize=8
nvtype='double'
nvsize=8
Off_t='off_t'
lseeksize=8
alignbytes=8
prototype=define
Linker and Libraries:
ld='cc'
ldflags =' -mmacosx-version-min=10.15 -fstack-protector-strong -L/usr/local/lib'
libpth=/usr/local/lib /Applications/Xcode.app/Contents/Developer/Toolchains/XcodeDefault.xctoolchain/usr/lib/clang/11.0.3/lib /Library/Developer/CommandLineTools/SDKs/MacOSX10.15.sdk/usr/lib /Applications/Xcode.app/Contents/Developer/Toolchains/XcodeDefault.xctoolchain/usr/lib /usr/lib
libs=-lpthread -ldbm -ldl -lm -lutil -lc
perllibs=-lpthread -ldl -lm -lutil -lc
libc=
so=dylib
useshrplib=true
libperl=libperl.dylib
gnulibc_version=''
Dynamic Linking:
dlsrc=dl_dlopen.xs
dlext=bundle
d_dlsymun=undef
ccdlflags=' '
cccdlflags=' '
lddlflags=' -mmacosx-version-min=10.15 -bundle -undefined dynamic_lookup -L/usr/local/lib -fstack-protector-strong'
Characteristics of this binary (from libperl):
Compile-time options:
HAS_TIMES
MULTIPLICITY
PERLIO_LAYERS
PERL_COPY_ON_WRITE
PERL_DONT_CREATE_GVSV
PERL_IMPLICIT_CONTEXT
PERL_MALLOC_WRAP
PERL_OP_PARENT
PERL_PRESERVE_IVUV
PERL_USE_SAFE_PUTENV
USE_64_BIT_ALL
USE_64_BIT_INT
USE_ITHREADS
USE_LARGE_FILES
USE_LOCALE
USE_LOCALE_COLLATE
USE_LOCALE_CTYPE
USE_LOCALE_NUMERIC
USE_LOCALE_TIME
USE_PERLIO
USE_PERL_ATOF
USE_REENTRANT_API
USE_THREAD_SAFE_LOCALE
Built under darwin
Compiled at Apr 7 2020 18:15:23
%ENV:
PERL5LIB="/Users/gintas/Projects/perl5/lib/perl5:/Users/gintas/perl5/lib/perl5"
PERL5OPT=""
PERL5_CPANPLUS_IS_RUNNING="39732"
PERL5_CPAN_IS_RUNNING="39732"
PERL_LOCAL_LIB_ROOT="/Users/gintas/Projects/perl5:/Users/gintas/perl5"
PERL_MB_OPT="--install_base "/Users/gintas/Projects/perl5""
PERL_MM_OPT="INSTALL_BASE=/Users/gintas/Projects/perl5"
PERL_USE_UNSAFE_INC="1"
@INC:
/Users/gintas/Projects/perl5/lib/perl5/5.30.2/darwin-thread-multi-2level
/Users/gintas/Projects/perl5/lib/perl5/5.30.2
/Users/gintas/Projects/perl5/lib/perl5/darwin-thread-multi-2level
/Users/gintas/Projects/perl5/lib/perl5
/Users/gintas/perl5/lib/perl5/5.30.2/darwin-thread-multi-2level
/Users/gintas/perl5/lib/perl5/5.30.2
/Users/gintas/perl5/lib/perl5/darwin-thread-multi-2level
/Users/gintas/perl5/lib/perl5
/usr/local/Cellar/perl/5.30.2/lib/perl5/site_perl/5.30.2/darwin-thread-multi-2level
/usr/local/Cellar/perl/5.30.2/lib/perl5/site_perl/5.30.2
/usr/local/Cellar/perl/5.30.2/lib/perl5/5.30.2/darwin-thread-multi-2level
/usr/local/Cellar/perl/5.30.2/lib/perl5/5.30.2
/usr/local/lib/perl5/site_perl/5.30.2/darwin-thread-multi-2level
/usr/local/lib/perl5/site_perl/5.30.2
.