JSON-Schema-Draft201909 v0.023 Perl 5 v5.30.2 x86_64-linux
- Status
- Pass
- From
- Slaven Rezić
- Dist
-
JSON-Schema-Draft201909 v0.023
- Platform
- Perl 5 v5.30.2 x86_64-linux
- Date
- 2021-02-22 09:06:16
- ID
- 38086934-74ed-11eb-a05b-e6261f24ea8f
This distribution has been tested as part of the CPAN Testers
project, supporting the Perl programming language. See
http://wiki.cpantesters.org/ for more information or email
questions to cpan-testers-discuss@perl.org
--
Dear Karen Etheridge,
This is a computer-generated report for JSON-Schema-Draft201909-0.023
on perl 5.30.2, created by CPAN-Reporter-1.2018.
Thank you for uploading your work to CPAN. Congratulations!
All tests were successful.
Sections of this report:
* Tester comments
* Program output
* Prerequisites
* Environment and other context
------------------------------
TESTER COMMENTS
------------------------------
Additional comments from tester:
none provided
------------------------------
PROGRAM OUTPUT
------------------------------
Output from './Build test':
#
# Versions for all modules listed in MYMETA.json (including optional ones):
#
# === Configure Requires ===
#
# Module Want Have
# ----------------------- ----- -----
# ExtUtils::MakeMaker any 7.58
# File::ShareDir::Install 0.06 0.13
# Module::Build::Tiny 0.034 0.039
#
# === Test Requires ===
#
# Module Want Have
# ------------------------------ ----- --------
# File::Spec any 3.78
# Module::Metadata any 1.000036
# Scalar::Util any 1.55
# Test::Deep any 1.130
# Test::Deep::UnorderedPairs any 0.006
# Test::Fatal any 0.014
# Test::File::ShareDir any 1.001002
# Test::JSON::Schema::Acceptance 1.000 1.003
# Test::Memory::Cycle any 1.06
# Test::More 0.96 1.302183
# lib any 0.65
# open any 1.11
# utf8 any 1.22
#
# === Test Recommends ===
#
# Module Want Have
# ---------- -------- --------
# CPAN::Meta 2.120900 2.150010
#
# === Runtime Requires ===
#
# Module Want Have
# -------------------- -------- --------
# B any 1.76
# Carp any 1.50
# Exporter any 5.73
# Feature::Compat::Try any 0.02
# File::ShareDir any 1.118
# JSON::MaybeXS 1.004001 1.004003
# JSON::PP any 4.06
# List::Util 1.55 1.55
# Module::Runtime any 0.016
# Mojo::JSON::Pointer any undef
# Mojo::URL any undef
# Mojolicious 7.23 9.0
# Moo any 2.004000
# Moo::Object any undef
# Moo::Role any 2.004000
# MooX::HandlesVia any 0.001008
# MooX::TypeTiny 0.002002 0.002003
# Path::Tiny any 0.116
# Ref::Util 0.100 0.204
# Safe::Isa any 1.000010
# Storable any 3.15
# Types::Standard 1.010002 1.010006
# constant any 1.33
# if any 0.0608
# namespace::clean any 0.27
# overload any 1.30
# strict any 1.11
# strictures 2 2.000006
# warnings any 1.44
#
# === Runtime Suggests ===
#
# Module Want Have
# ---------------------- ---- -----
# Class::XSAccessor any 1.19
# Data::Validate::Domain any 0.14
# Email::Address::XS 1.01 1.04
# Net::IDN::Encode any 2.500
# Time::Moment any 0.44
# Type::Tiny::XS any 0.016
#
# === Other Modules ===
#
# Module Have
# ---------------- ------
# Cpanel::JSON::XS 4.25
# Encode 3.07
# File::Temp 0.2309
# JSON::PP 4.06
# JSON::XS 4.02
# Module::Runtime 0.016
# Mojolicious 9.0
# Pod::Coverage 0.23
# Sub::Name 0.26
# YAML 1.30
# autodie 2.34
#
t/00-report-prereqs.t ..... ok
t/add-schema.t ............ ok
#
#
# Results using Test::JSON::Schema::Acceptance 1.003
# using custom test directory: /home/cpansand/.cpan/build/2021022210/JSON-Schema-Draft201909-0.023-1/t/additional-tests
# optional tests included: no
#
# filename pass todo-fail fail
# --------------------------------------------------------
# anchor.json 2 0 0
# badRef.json 3 0 0
# faux-buggy-schemas.json 2 0 0
# format-duration.json 5 0 0
# format-relative-json-pointer.json 7 0 0
# future-keywords-draft2019-09.json 10 0 0
# id.json 2 0 0
# invalid-input.json 2 0 0
# keyword-independence.json 688 0 0
# loose-types-const-enum.json 8 0 0
# not-an-anchor.json 2 0 0
# not-an-id.json 2 0 0
# recursive-dynamic.json 2 0 0
# recursiveRef.json 27 0 0
# ref-and-id.json 4 0 0
# ref.json 6 0 0
# short-circuit.json 20 0 0
# unicode.json 4 0 0
# --------------------------------------------------------
# TOTAL 796 0 0
#
t/additional-tests.t ...... ok
t/annotations.t ........... ok
t/booleans.t .............. ok
t/cached-metaschemas.t .... ok
t/dialects.t .............. ok
t/document.t .............. ok
t/equality.t .............. ok
t/errors.t ................ ok
t/evaluate_json_string.t .. ok
t/find-identifiers.t ...... ok
t/formats.t ............... ok
t/max_traversal_depth.t ... ok
t/output_format.t ......... ok
t/pattern.t ............... ok
t/ref.t ................... ok
t/traverse.t .............. ok
t/type.t .................. ok
t/zzz-acceptance.t ........ skipped: These tests may fail if the test suite continues to evolve! They should only be run with AUTHOR_TESTING=1, AUTOMATED_TESTING=1 or EXTENDED_TESTING=1
All tests successful.
Files=20, Tests=923, 10 wallclock secs ( 0.54 usr 0.05 sys + 8.66 cusr 0.65 csys = 9.90 CPU)
Result: PASS
------------------------------
PREREQUISITES
------------------------------
Prerequisite modules loaded:
requires:
Module Need Have
------------------------------ -------- --------
B 0 1.76
Carp 0 1.50
constant 0 1.33
Exporter 0 5.73
Feature::Compat::Try 0 0.02
File::ShareDir 0 1.118
if 0 0.0608
JSON::MaybeXS 1.004001 1.004003
JSON::PP 0 4.06
List::Util 1.55 1.55
Module::Runtime 0 0.016
Mojo::JSON::Pointer 0 0
Mojo::URL 0 0
Mojolicious 7.23 9.0
Moo 0 2.004000
Moo::Object 0 0
Moo::Role 0 2.004000
MooX::HandlesVia 0 0.001008
MooX::TypeTiny 0.002002 0.002003
namespace::clean 0 0.27
overload 0 1.30
Path::Tiny 0 0.116
perl 5.016 5.030002
Ref::Util 0.100 0.204
Safe::Isa 0 1.000010
Storable 0 3.15
strict 0 1.11
strictures 2 2.000006
Types::Standard 1.010002 1.010006
warnings 0 1.44
build_requires:
Module Need Have
------------------------------ -------- --------
File::Spec 0 3.78
lib 0 0.65
Module::Metadata 0 1.000036
open 0 1.11
perl 5.016 5.030002
Scalar::Util 0 1.55
Test::Deep 0 1.130
Test::Deep::UnorderedPairs 0 0.006
Test::Fatal 0 0.014
Test::File::ShareDir 0 1.001002
Test::JSON::Schema::Acceptance 1.000 1.003
Test::Memory::Cycle 0 1.06
Test::More 0.96 1.302183
utf8 0 1.22
configure_requires:
Module Need Have
------------------------------ -------- --------
ExtUtils::MakeMaker 0 7.58
File::ShareDir::Install 0.06 0.13
Module::Build::Tiny 0.034 0.039
perl 5.016 5.030002
opt_build_requires:
Module Need Have
------------------------------ -------- --------
CPAN::Meta 2.120900 2.150010
------------------------------
ENVIRONMENT AND OTHER CONTEXT
------------------------------
Environment variables:
LANG = en_US.UTF-8
PATH = /usr/local/bin:/usr/bin:/bin:/usr/local/sbin:/usr/sbin:/sbin:/home/cpansand/bin/linux-gnu:/home/cpansand/bin/sh:/home/cpansand/bin:/usr/games:/home/cpansand/devel:/home/eserte/src/srezic-misc/scripts
PERL5LIB =
PERL5OPT =
PERL5_CPANPLUS_IS_RUNNING = 19224
PERL5_CPAN_IS_RUNNING = 19224
PERL5_CPAN_IS_RUNNING_IN_RECURSION = 23929,19224
PERLDOC = -MPod::Perldoc::ToTextOverstrike
PERL_BATCH = yes
PERL_CANARY_STABILITY_NOPROMPT = 1
PERL_CPAN_REPORTER_CONFIG = /var/tmp/cpansmoker-1023/2021022207/cpanreporter_002_config.ini
PERL_EXTUTILS_AUTOINSTALL = --defaultdeps
PERL_USE_UNSAFE_INC = 1
SHELL = /usr/bin/zsh
TERM = screen
TMPDIR = /var/tmp/cpansmoker-1023/2021022207
Perl special variables (and OS-specific diagnostics, for MSWin32):
$^X = /opt/perl-5.30.2/bin/perl
$UID/$EUID = 1023 / 1023
$GID = 1023 1023
$EGID = 1023 1023
Perl module toolchain versions installed:
Module Have
------------------- --------
CPAN 2.22
CPAN::Meta 2.150010
Cwd 3.78
ExtUtils::CBuilder 0.280231
ExtUtils::Command 7.58
ExtUtils::Install 2.20
ExtUtils::MakeMaker 7.58
ExtUtils::Manifest 1.72
ExtUtils::ParseXS 3.40
File::Spec 3.78
JSON 4.03
JSON::PP 4.06
Module::Build 0.4231
Module::Signature 0.83
Parse::CPAN::Meta 2.150010
Test::Harness 3.42
Test::More 1.302183
YAML 1.30
YAML::Syck 1.32
version 0.9927
--
Summary of my perl5 (revision 5 version 30 subversion 2) configuration:
Platform:
osname=linux
osvers=3.10.0-1062.12.1.el7.x86_64
archname=x86_64-linux
uname='linux cloud3.bbbike.org 3.10.0-1062.12.1.el7.x86_64 #1 smp tue feb 4 23:02:59 utc 2020 x86_64 x86_64 x86_64 gnulinux '
config_args='-ds -e -Dprefix=/opt/perl-5.30.2 -Dcf_email=srezic@cpan.org'
hint=recommended
useposix=true
d_sigaction=define
useithreads=undef
usemultiplicity=undef
use64bitint=define
use64bitall=define
uselongdouble=undef
usemymalloc=n
default_inc_excludes_dot=define
bincompat5005=undef
Compiler:
cc='cc'
ccflags ='-fwrapv -fno-strict-aliasing -pipe -fstack-protector-strong -I/usr/local/include -D_LARGEFILE_SOURCE -D_FILE_OFFSET_BITS=64 -D_FORTIFY_SOURCE=2'
optimize='-O2'
cppflags='-fwrapv -fno-strict-aliasing -pipe -fstack-protector-strong -I/usr/local/include'
ccversion=''
gccversion='4.8.5 20150623 (Red Hat 4.8.5-39)'
gccosandvers=''
intsize=4
longsize=8
ptrsize=8
doublesize=8
byteorder=12345678
doublekind=3
d_longlong=define
longlongsize=8
d_longdbl=define
longdblsize=16
longdblkind=3
ivtype='long'
ivsize=8
nvtype='double'
nvsize=8
Off_t='off_t'
lseeksize=8
alignbytes=8
prototype=define
Linker and Libraries:
ld='cc'
ldflags =' -fstack-protector-strong -L/usr/local/lib'
libpth=/usr/local/lib /usr/lib /lib/../lib64 /usr/lib/../lib64 /lib /lib64 /usr/lib64 /usr/local/lib64
libs=-lpthread -lnsl -lgdbm -ldb -ldl -lm -lcrypt -lutil -lc -lgdbm_compat
perllibs=-lpthread -lnsl -ldl -lm -lcrypt -lutil -lc
libc=libc-2.17.so
so=so
useshrplib=false
libperl=libperl.a
gnulibc_version='2.17'
Dynamic Linking:
dlsrc=dl_dlopen.xs
dlext=so
d_dlsymun=undef
ccdlflags='-Wl,-E'
cccdlflags='-fPIC'
lddlflags='-shared -O2 -L/usr/local/lib -fstack-protector-strong'
Characteristics of this binary (from libperl):
Compile-time options:
HAS_TIMES
PERLIO_LAYERS
PERL_COPY_ON_WRITE
PERL_DONT_CREATE_GVSV
PERL_MALLOC_WRAP
PERL_OP_PARENT
PERL_PRESERVE_IVUV
USE_64_BIT_ALL
USE_64_BIT_INT
USE_LARGE_FILES
USE_LOCALE
USE_LOCALE_COLLATE
USE_LOCALE_CTYPE
USE_LOCALE_NUMERIC
USE_LOCALE_TIME
USE_PERLIO
USE_PERL_ATOF
Built under linux
Compiled at Mar 14 2020 22:35:05
%ENV:
PERL5LIB=""
PERL5OPT=""
PERL5_CPANPLUS_IS_RUNNING="19224"
PERL5_CPAN_IS_RUNNING="19224"
PERL5_CPAN_IS_RUNNING_IN_RECURSION="23929,19224"
PERLDOC="-MPod::Perldoc::ToTextOverstrike"
PERL_BATCH="yes"
PERL_CANARY_STABILITY_NOPROMPT="1"
PERL_CPAN_REPORTER_CONFIG="/var/tmp/cpansmoker-1023/2021022207/cpanreporter_002_config.ini"
PERL_EXTUTILS_AUTOINSTALL="--defaultdeps"
PERL_USE_UNSAFE_INC="1"
@INC:
/opt/perl-5.30.2/lib/site_perl/5.30.2/x86_64-linux
/opt/perl-5.30.2/lib/site_perl/5.30.2
/opt/perl-5.30.2/lib/5.30.2/x86_64-linux
/opt/perl-5.30.2/lib/5.30.2
.