Yancy v1.088 Perl 5 v5.32.1 x86_64-cygwin-threads-multi

Status
Pass
From
twata
Dist
Yancy v1.088
Platform
Perl 5 v5.32.1 x86_64-cygwin-threads-multi
Date
2022-02-23 00:19:53
ID
3762776c-6e44-1014-bb73-baa85aa7b97f
This distribution has been tested as part of the CPAN Testers
project, supporting the Perl programming language.  See
http://wiki.cpantesters.org/ for more information or email
questions to cpan-testers-discuss@perl.org


--
Dear Doug Bell,

This is a computer-generated report for Yancy-1.088
on perl 5.32.1, created by CPAN-Reporter-1.2018.

Thank you for uploading your work to CPAN.  Congratulations!
All tests were successful.

Sections of this report:

    * Tester comments
    * Program output
    * Prerequisites
    * Environment and other context

------------------------------
TESTER COMMENTS
------------------------------

Additional comments from tester:

none provided

------------------------------
PROGRAM OUTPUT
------------------------------

Output from '/usr/bin/make test':

Skip blib/lib/auto/share/dist/Yancy/update_resources.sh (unchanged)
PERL_DL_NONLAZY=1 "/usr/bin/perl.exe" "-MExtUtils::Command::MM" "-MTest::Harness" "-e" "undef *Test::Harness::Switches; test_harness(0, 'blib/lib', 'blib/arch')" t/*.t t/backend/*.t t/command/backend/*.t t/controller/*.t t/examples/*.t t/plugin/*.t t/plugin/auth/*.t t/plugin/form/*.t
t/00-compile.t ............... ok
# 
# Versions for all modules listed in MYMETA.json (including optional ones):
# 
# === Configure Requires ===
# 
#     Module                  Want    Have
#     ----------------------- ---- -------
#     ExtUtils::MakeMaker      any 7.63_05
#     File::ShareDir::Install 0.06    0.13
# 
# === Configure Suggests ===
# 
#     Module      Want Have
#     -------- ------- ----
#     JSON::PP 2.27300 4.06
# 
# === Build Requires ===
# 
#     Module              Want    Have
#     ------------------- ---- -------
#     ExtUtils::MakeMaker  any 7.63_05
# 
# === Test Requires ===
# 
#     Module                  Want     Have
#     ------------------- -------- --------
#     ExtUtils::MakeMaker      any  7.63_05
#     File::Spec               any     3.78
#     File::Temp            0.2307   0.2309
#     IO::Handle               any     1.42
#     IPC::Open3               any     1.21
#     Test::More          1.001005 1.302185
# 
# === Test Recommends ===
# 
#     Module         Want     Have
#     ---------- -------- --------
#     CPAN::Meta 2.120900 2.150010
# 
# === Runtime Requires ===
# 
#     Module                           Want     Have
#     ---------------------------- -------- --------
#     Class::Method::Modifiers          any     2.13
#     Digest                            any  1.17_01
#     Exporter                          any     5.74
#     File::Spec::Functions             any     3.78
#     FindBin                           any     1.51
#     JSON::Validator                  5.00     5.05
#     Mojolicious                         9     9.17
#     Mojolicious::Plugin::I18N         1.6      1.6
#     Mojolicious::Plugin::OpenAPI     5.00     5.02
#     Role::Tiny                   2.000001 2.002004
#     Scalar::Util                      any     1.56
#     Sys::Hostname                     any     1.23
#     Text::Balanced                    any     2.03
# 
t/00-report-prereqs.t ........ ok
x-view is deprecated and will be removed in v2. Use Yancy::Model or your database's CREATE VIEW instead. at /home/USER/.cpan/build/Yancy-1.088-0/blib/lib/Yancy/Model/Schema.pm line 283.
t/api.t ...................... ok
t/app.t ...................... ok
t/backend/dbic.t ............. skipped: DBIx::Class >= 0.082842 required for this test
t/backend/memory.t ........... ok
t/backend/mysql.t ............ skipped: Mojo::mysql >= 1.0 required for this test
t/backend/pg.t ............... skipped: Mojo::Pg >= 3.0 required for this test
t/backend/sqlite.t ........... skipped: Mojo::SQLite >= 3.005 required for this test
x-view is deprecated and will be removed in v2. Use Yancy::Model or your database's CREATE VIEW instead. at /home/USER/.cpan/build/Yancy-1.088-0/blib/lib/Yancy/Model/Schema.pm line 283.
t/command/backend/copy.t ..... ok
x-view is deprecated and will be removed in v2. Use Yancy::Model or your database's CREATE VIEW instead. at /home/USER/.cpan/build/Yancy-1.088-0/blib/lib/Yancy/Model/Schema.pm line 283.
t/config.t ................... ok
x-view is deprecated and will be removed in v2. Use Yancy::Model or your database's CREATE VIEW instead. at /home/USER/.cpan/build/Yancy-1.088-0/blib/lib/Yancy/Model/Schema.pm line 283.
t/controller/multi_tenant.t .. ok
x-view is deprecated and will be removed in v2. Use Yancy::Model or your database's CREATE VIEW instead. at /home/USER/.cpan/build/Yancy-1.088-0/blib/lib/Yancy/Model/Schema.pm line 283.
t/controller/yancy.t ......... ok
t/examples/doc-site.t ........ skipped: Set TEST_YANCY_EXAMPLES to run these tests
t/examples/limited-editor.t .. skipped: Set TEST_YANCY_EXAMPLES to run these tests
t/examples/test-app.t ........ skipped: Set TEST_YANCY_EXAMPLES to run these tests
t/examples/todo-app.t ........ skipped: Set TEST_YANCY_EXAMPLES to run these tests
x-view is deprecated and will be removed in v2. Use Yancy::Model or your database's CREATE VIEW instead. at /home/USER/.cpan/build/Yancy-1.088-0/blib/lib/Yancy/Model/Schema.pm line 283.
[2022-02-23 09:18:43.13514] [1783] [fatal] [yBQvW4grY7O7] Unknown filter: DOES.NOT.EXIST (schema: user, field: email) at /home/USER/.cpan/build/Yancy-1.088-0/blib/lib/Mojolicious/Plugin/Yancy.pm line 889.

t/filter.t ................... ok
x-view is deprecated and will be removed in v2. Use Yancy::Model or your database's CREATE VIEW instead. at /home/USER/.cpan/build/Yancy-1.088-0/blib/lib/Yancy/Model/Schema.pm line 283.
t/helpers.t .................. ok
x-view is deprecated and will be removed in v2. Use Yancy::Model or your database's CREATE VIEW instead. at /home/USER/.cpan/build/Yancy-1.088-0/blib/lib/Yancy/Model/Schema.pm line 283.
t/i18n.t ..................... ok
t/model.t .................... ok
x-view is deprecated and will be removed in v2. Use Yancy::Model or your database's CREATE VIEW instead. at /home/USER/.cpan/build/Yancy-1.088-0/blib/lib/Yancy/Model/Schema.pm line 283.
t/plugin/auth.t .............. ok
x-view is deprecated and will be removed in v2. Use Yancy::Model or your database's CREATE VIEW instead. at /home/USER/.cpan/build/Yancy-1.088-0/blib/lib/Yancy/Model/Schema.pm line 283.
The Auth::Basic plugin is deprecated and will be removed in Yancy v2.000. Please migrate to the Auth::Password module.
 at /home/USER/.cpan/build/Yancy-1.088-0/blib/lib/Yancy/Plugin/Auth/Basic.pm line 256.
t/plugin/auth/basic.t ........ ok
x-view is deprecated and will be removed in v2. Use Yancy::Model or your database's CREATE VIEW instead. at /home/USER/.cpan/build/Yancy-1.088-0/blib/lib/Yancy/Model/Schema.pm line 283.
t/plugin/auth/github.t ....... ok
x-view is deprecated and will be removed in v2. Use Yancy::Model or your database's CREATE VIEW instead. at /home/USER/.cpan/build/Yancy-1.088-0/blib/lib/Yancy/Model/Schema.pm line 283.
t/plugin/auth/oauth2.t ....... ok
x-view is deprecated and will be removed in v2. Use Yancy::Model or your database's CREATE VIEW instead. at /home/USER/.cpan/build/Yancy-1.088-0/blib/lib/Yancy/Model/Schema.pm line 283.
t/plugin/auth/password.t ..... ok
x-view is deprecated and will be removed in v2. Use Yancy::Model or your database's CREATE VIEW instead. at /home/USER/.cpan/build/Yancy-1.088-0/blib/lib/Yancy/Model/Schema.pm line 283.
t/plugin/auth/token.t ........ ok
t/plugin/editor.t ............ ok
x-view is deprecated and will be removed in v2. Use Yancy::Model or your database's CREATE VIEW instead. at /home/USER/.cpan/build/Yancy-1.088-0/blib/lib/Yancy/Model/Schema.pm line 283.
[2022-02-23 09:19:36.80147] [1794] [debug] [oHfLfDO7VK9t] POST "/yancy/upload"
[2022-02-23 09:19:36.81363] [1794] [debug] [oHfLfDO7VK9t] Routing to a callback
[2022-02-23 09:19:36.81822] [1794] [warn] *** Cannot verify that admin editor is behind authentication.
Add a Yancy Auth plugin, add a `route` to the Yancy plugin config,
or set `editor.require_user => undef` to silence this warning

[2022-02-23 09:19:36.82287] [1794] [debug] [oHfLfDO7VK9t] Routing to a callback
[2022-02-23 09:19:36.82930] [1794] [debug] [oHfLfDO7VK9t] 201 Created (0.027798s, 35.974/s)
[2022-02-23 09:19:36.92157] [1794] [debug] [7d31-qonJDvn] GET "/user/doug/edit"
[2022-02-23 09:19:36.94214] [1794] [debug] [7d31-qonJDvn] Routing to controller "Yancy::Controller::Yancy" and action "set"
[2022-02-23 09:19:36.97763] [1794] [debug] [7d31-qonJDvn] Rendering template "user_edit.html.ep"
[2022-02-23 09:19:36.98739] [1794] [debug] Your secret passphrase needs to be changed
[2022-02-23 09:19:36.99492] [1794] [debug] [7d31-qonJDvn] 200 OK (0.073214s, 13.659/s)
[2022-02-23 09:19:37.05401] [1794] [debug] [l2JGhwb3QZC8] POST "/user/doug/edit"
[2022-02-23 09:19:37.07073] [1794] [debug] [l2JGhwb3QZC8] Routing to controller "Yancy::Controller::Yancy" and action "set"
[2022-02-23 09:19:37.08282] [1794] [debug] [l2JGhwb3QZC8] 302 Found (0.028772s, 34.756/s)
[2022-02-23 09:19:37.09732] [1794] [debug] [KA2y2q33rttJ] GET "/user/doug"
[2022-02-23 09:19:37.11917] [1794] [debug] [KA2y2q33rttJ] Routing to controller "Yancy::Controller::Yancy" and action "get"
[2022-02-23 09:19:37.12628] [1794] [debug] [KA2y2q33rttJ] Rendering template "user.html.ep"
[2022-02-23 09:19:37.13590] [1794] [debug] [KA2y2q33rttJ] 200 OK (0.03844s, 26.015/s)
t/plugin/file.t .............. ok
x-view is deprecated and will be removed in v2. Use Yancy::Model or your database's CREATE VIEW instead. at /home/USER/.cpan/build/Yancy-1.088-0/blib/lib/Yancy/Model/Schema.pm line 283.
[2022-02-23 09:19:39.95954] [1795] [warn] [_x-PdlrM_wi6] form_for() called with incomplete request. CSRF token may not validate!
t/plugin/form/bootstrap4.t ... ok
x-view is deprecated and will be removed in v2. Use Yancy::Model or your database's CREATE VIEW instead. at /home/USER/.cpan/build/Yancy-1.088-0/blib/lib/Yancy/Model/Schema.pm line 283.
t/plugin/roles.t ............. ok
    # Could not load SQLite backend: Mojo::SQLite version 3.005 or higher required
    # BEGIN failed--compilation aborted at /home/USER/.cpan/build/Yancy-1.088-0/blib/lib/Yancy/Backend/Sqlite.pm line 116.
    # Compilation failed in require at t/register.t line 21.
    # Could not load Pg backend: Mojo::Pg version 4.03 or higher required
    # BEGIN failed--compilation aborted at /home/USER/.cpan/build/Yancy-1.088-0/blib/lib/Yancy/Backend/Pg.pm line 128.
    # Compilation failed in require at t/register.t line 37.
    # Could not load Mysql backend: Mojo::mysql version 1.05 or higher required
    # BEGIN failed--compilation aborted at /home/USER/.cpan/build/Yancy-1.088-0/blib/lib/Yancy/Backend/Mysql.pm line 119.
    # Compilation failed in require at t/register.t line 53.
t/register.t ................. ok
t/util.t ..................... ok
All tests successful.
Files=33, Tests=203, 170 wallclock secs ( 0.12 usr  0.25 sys + 54.57 cusr 76.79 csys = 131.73 CPU)
Result: PASS

------------------------------
PREREQUISITES
------------------------------

Prerequisite modules loaded:

requires:

    Module                       Need     Have    
    ---------------------------- -------- --------
    Class::Method::Modifiers     0        2.13    
    Digest                       0        1.17_01 
    Exporter                     0        5.74    
    File::Spec::Functions        0        3.78    
    FindBin                      0        1.51    
    JSON::Validator              5.00     5.05    
    Mojolicious                  9        9.17    
    Mojolicious::Plugin::I18N    1.6      1.6     
    Mojolicious::Plugin::OpenAPI 5.00     5.02    
    perl                         5.016    5.032001
    Role::Tiny                   2.000001 2.002004
    Scalar::Util                 0        1.56    
    Sys::Hostname                0        1.23    
    Text::Balanced               0        2.03    

build_requires:

    Module                       Need     Have    
    ---------------------------- -------- --------
    ExtUtils::MakeMaker          0        7.63_05 
    File::Spec                   0        3.78    
    File::Temp                   0.2307   0.2309  
    IO::Handle                   0        1.42    
    IPC::Open3                   0        1.21    
    Test::More                   1.001005 1.302185

configure_requires:

    Module                       Need     Have    
    ---------------------------- -------- --------
    ExtUtils::MakeMaker          0        7.63_05 
    File::ShareDir::Install      0.06     0.13    

opt_build_requires:

    Module                       Need     Have    
    ---------------------------- -------- --------
    CPAN::Meta                   2.120900 2.150010


------------------------------
ENVIRONMENT AND OTHER CONTEXT
------------------------------

Environment variables:

    COMSPEC = C:\WINDOWS\system32\cmd.exe
    LANG = en_US.UTF-8
    LC_CTYPE = ja_JP.UTF-8
    NONINTERACTIVE_TESTING = 1
    NUMBER_OF_PROCESSORS = 4
    PATH = /usr/local/bin:/usr/bin:/cygdrive/c/WINDOWS/system32:/cygdrive/c/WINDOWS:/cygdrive/c/WINDOWS/System32/Wbem:/cygdrive/c/WINDOWS/System32/WindowsPowerShell/v1.0
    PERL5LIB = /home/USER/perl5/lib/perl5
    PERL5OPT = 
    PERL5_CPANPLUS_IS_RUNNING = 1174
    PERL5_CPAN_IS_RUNNING = 1174
    PERL_LOCAL_LIB_ROOT = /home/USER/perl5
    PERL_MB_OPT = --install_base "/home/USER/perl5"
    PERL_MM_OPT = INSTALL_BASE=/home/USER/perl5
    PERL_MM_USE_DEFAULT = 1
    PERL_USE_UNSAFE_INC = 1
    PROCESSOR_IDENTIFIER = Intel64 Family 6 Model 58 Stepping 9, GenuineIntel
    SHELL = /bin/bash
    TEMP = /tmp
    TERM = xterm

Perl special variables (and OS-specific diagnostics, for MSWin32):

    $^X = /usr/bin/perl
    $UID/$EUID = 197609 / 197609
    $GID = 197121 197121 197610 197614 197625 197616 197622 197623 197624 545 4 66049 11 15 113 4095 66048 262154 401408
    $EGID = 197121 197121 197610 197614 197625 197616 197622 197623 197624 545 4 66049 11 15 113 4095 66048 262154 401408

Perl module toolchain versions installed:

    Module              Have    
    ------------------- --------
    CPAN                2.28    
    CPAN::Meta          2.150010
    Cwd                 3.78    
    ExtUtils::CBuilder  0.280236
    ExtUtils::Command   7.63_05 
    ExtUtils::Install   2.14    
    ExtUtils::MakeMaker 7.63_05 
    ExtUtils::Manifest  1.72    
    ExtUtils::ParseXS   3.40    
    File::Spec          3.78    
    JSON                4.03    
    JSON::PP            4.06    
    Module::Build       0.4231  
    Module::Signature   0.87    
    Parse::CPAN::Meta   2.150010
    Test::Harness       3.42    
    Test::More          1.302185
    YAML                1.30    
    YAML::Syck          n/a     
    version             0.9924  


--

Summary of my perl5 (revision 5 version 32 subversion 1) configuration:
   
  Platform:
    osname=cygwin
    osvers=3.2.0(0.34053)
    archname=x86_64-cygwin-threads-multi
    uname='cygwin_nt-10.0 cygwinpro 3.2.0(0.34053) 2021-03-29 08:42 x86_64 cygwin '
    config_args='-des -Dprefix=/usr -Dmksymlinks -Darchname=x86_64-cygwin-threads -Dlibperl=cygperl5_32.dll -Dcc=gcc -Dld=g++ -Accflags=-ggdb -O2 -pipe -Wall -Werror=format-security -D_FORTIFY_SOURCE=2 -fstack-protector-strong --param=ssp-buffer-size=4 -fdebug-prefix-map=/mnt/share/cygpkgs/perl/perl.x86_64/build=/usr/src/debug/perl-5.32.1-2 -fdebug-prefix-map=/mnt/share/cygpkgs/perl/perl.x86_64/src/perl-5.32.1=/usr/src/debug/perl-5.32.1-2 -fwrapv'
    hint=recommended
    useposix=true
    d_sigaction=define
    useithreads=define
    usemultiplicity=define
    use64bitint=define
    use64bitall=define
    uselongdouble=undef
    usemymalloc=n
    default_inc_excludes_dot=define
    bincompat5005=undef
  Compiler:
    cc='gcc'
    ccflags ='-DPERL_USE_SAFE_PUTENV -U__STRICT_ANSI__ -D_GNU_SOURCE -ggdb -O2 -pipe -Wall -Werror=format-security -D_FORTIFY_SOURCE=2 -fstack-protector-strong --param=ssp-buffer-size=4 -fdebug-prefix-map=/mnt/share/cygpkgs/perl/perl.x86_64/build=/usr/src/debug/perl-5.32.1-2 -fdebug-prefix-map=/mnt/share/cygpkgs/perl/perl.x86_64/src/perl-5.32.1=/usr/src/debug/perl-5.32.1-2 -fwrapv -fno-strict-aliasing'
    optimize='-O3'
    cppflags='-DPERL_USE_SAFE_PUTENV -U__STRICT_ANSI__ -D_GNU_SOURCE -ggdb -O2 -pipe -Wall -Werror=format-security -D_FORTIFY_SOURCE=2 -fstack-protector-strong --param=ssp-buffer-size=4 -fdebug-prefix-map=/mnt/share/cygpkgs/perl/perl.x86_64/build=/usr/src/debug/perl-5.32.1-2 -fdebug-prefix-map=/mnt/share/cygpkgs/perl/perl.x86_64/src/perl-5.32.1=/usr/src/debug/perl-5.32.1-2 -fwrapv -fno-strict-aliasing'
    ccversion=''
    gccversion='10.2.0'
    gccosandvers=''
    intsize=4
    longsize=8
    ptrsize=8
    doublesize=8
    byteorder=12345678
    doublekind=3
    d_longlong=define
    longlongsize=8
    d_longdbl=define
    longdblsize=16
    longdblkind=3
    ivtype='long'
    ivsize=8
    nvtype='double'
    nvsize=8
    Off_t='off_t'
    lseeksize=8
    alignbytes=8
    prototype=define
  Linker and Libraries:
    ld='g++'
    ldflags =' -Wl,--enable-auto-import -Wl,--export-all-symbols -Wl,--enable-auto-image-base -fstack-protector-strong'
    libpth=/usr/lib
    libs=-lpthread -lnsl -lgdbm -ldb -ldl -lcrypt -lgdbm_compat
    perllibs=-lpthread -lnsl -ldl -lcrypt
    libc=/usr/lib/libcygwin.a
    so=dll
    useshrplib=true
    libperl=cygperl5_32.dll
    gnulibc_version=''
  Dynamic Linking:
    dlsrc=dl_dlopen.xs
    dlext=dll
    d_dlsymun=undef
    ccdlflags=' '
    cccdlflags=' '
    lddlflags=' --shared  -Wl,--enable-auto-import -Wl,--export-all-symbols -Wl,--enable-auto-image-base -fstack-protector-strong'


Characteristics of this binary (from libperl): 
  Compile-time options:
    HAS_TIMES
    MULTIPLICITY
    PERLIO_LAYERS
    PERL_COPY_ON_WRITE
    PERL_DONT_CREATE_GVSV
    PERL_IMPLICIT_CONTEXT
    PERL_OP_PARENT
    PERL_PRESERVE_IVUV
    PERL_USE_SAFE_PUTENV
    USE_64_BIT_ALL
    USE_64_BIT_INT
    USE_ITHREADS
    USE_LARGE_FILES
    USE_LOCALE
    USE_LOCALE_COLLATE
    USE_LOCALE_CTYPE
    USE_LOCALE_NUMERIC
    USE_LOCALE_TIME
    USE_PERLIO
    USE_PERL_ATOF
    USE_REENTRANT_API
    USE_THREAD_SAFE_LOCALE
  Locally applied patches:
    Cygwin: README
    Cygwin: use auto-image-base instead of fixed DLL base address
    Cygwin: modify hints
    Cygwin: Configure correct libsearch
    Cygwin: Configure correct libpth
    Cygwin: Encode fix for CVE-2021-36770
    Cygwin: Win32 correct UTF8 handling
  Built under cygwin
  Compiled at Aug 14 2021 09:07:12
  %ENV:
    PERL5LIB="/home/USER/perl5/lib/perl5"
    PERL5OPT=""
    PERL5_CPANPLUS_IS_RUNNING="1174"
    PERL5_CPAN_IS_RUNNING="1174"
    PERL_LOCAL_LIB_ROOT="/home/USER/perl5"
    PERL_MB_OPT="--install_base "/home/USER/perl5""
    PERL_MM_OPT="INSTALL_BASE=/home/USER/perl5"
    PERL_MM_USE_DEFAULT="1"
    PERL_USE_UNSAFE_INC="1"
  @INC:
    /home/USER/perl5/lib/perl5/5.32.1/x86_64-cygwin-threads-multi
    /home/USER/perl5/lib/perl5/5.32.1
    /home/USER/perl5/lib/perl5/x86_64-cygwin-threads-multi
    /home/USER/perl5/lib/perl5
    /usr/local/lib/perl5/site_perl/5.32/x86_64-cygwin-threads
    /usr/local/share/perl5/site_perl/5.32
    /usr/lib/perl5/vendor_perl/5.32/x86_64-cygwin-threads
    /usr/share/perl5/vendor_perl/5.32
    /usr/lib/perl5/5.32/x86_64-cygwin-threads
    /usr/share/perl5/5.32
    .