Encode v3.21 Perl 5 v5.38.2 aarch64-android

Status
Pass
From
Trizen
Dist
Encode v3.21
Platform
Perl 5 v5.38.2 aarch64-android
Date
2024-07-15 16:35:15
ID
36b87f18-42c8-11ef-99d1-ee296a861aed
This distribution has been tested as part of the CPAN Testers
project, supporting the Perl programming language.  See
http://wiki.cpantesters.org/ for more information or email
questions to cpan-testers-discuss@perl.org


--
Dear DANKOGAI,

This is a computer-generated report for Encode-3.21
on perl 5.38.2, created by App::cpanminus::reporter 0.21 (1.7047).

Thank you for uploading your work to CPAN.  Congratulations!
All tests were successful.

Sections of this report:

    * Tester comments
    * Program output
    * Prerequisites
    * Environment and other context

------------------------------
TESTER COMMENTS
------------------------------

Additional comments from tester:

none provided

------------------------------
PROGRAM OUTPUT
------------------------------

Output from '':

Building and testing Encode-3.21
Running Mkbootstrap for Encode ()
chmod 644 "Encode.bs"
"/data/data/com.termux/files/usr/bin/perl" "/data/data/com.termux/files/usr/lib/perl5/5.38.2/ExtUtils/xsubpp"  -typemap '/data/data/com.termux/files/usr/lib/perl5/5.38.2/ExtUtils/typemap'  Encode.xs > Encode.xsc
cp Encode/_PM.e2x blib/lib/Encode/_PM.e2x
cp lib/Encode/Supported.pod blib/lib/Encode/Supported.pod
cp Encode/README.e2x blib/lib/Encode/README.e2x
cp Encode/ConfigLocal_PM.e2x blib/lib/Encode/ConfigLocal_PM.e2x
cp lib/Encode/Encoder.pm blib/lib/Encode/Encoder.pm
cp lib/Encode/Alias.pm blib/lib/Encode/Alias.pm
cp Encode/_T.e2x blib/lib/Encode/_T.e2x
cp Encode/Changes.e2x blib/lib/Encode/Changes.e2x
cp Encode.pm blib/lib/Encode.pm
cp encoding.pm blib/lib/encoding.pm
cp lib/Encode/KR/2022_KR.pm blib/lib/Encode/KR/2022_KR.pm
cp lib/Encode/Encoding.pm blib/lib/Encode/Encoding.pm
cp lib/Encode/PerlIO.pod blib/lib/Encode/PerlIO.pod
cp lib/Encode/JP/H2Z.pm blib/lib/Encode/JP/H2Z.pm
cp lib/Encode/Guess.pm blib/lib/Encode/Guess.pm
cp lib/Encode/MIME/Header.pm blib/lib/Encode/MIME/Header.pm
cp Encode/Makefile_PL.e2x blib/lib/Encode/Makefile_PL.e2x
cp Encode/encode.h blib/lib/Encode/encode.h
cp lib/Encode/MIME/Header/ISO_2022_JP.pm blib/lib/Encode/MIME/Header/ISO_2022_JP.pm
cp lib/Encode/CJKConstants.pm blib/lib/Encode/CJKConstants.pm
cp lib/Encode/Unicode/UTF7.pm blib/lib/Encode/Unicode/UTF7.pm
cp lib/Encode/GSM0338.pm blib/lib/Encode/GSM0338.pm
cp lib/Encode/JP/JIS7.pm blib/lib/Encode/JP/JIS7.pm
cp lib/Encode/Config.pm blib/lib/Encode/Config.pm
cp lib/Encode/MIME/Name.pm blib/lib/Encode/MIME/Name.pm
cp lib/Encode/CN/HZ.pm blib/lib/Encode/CN/HZ.pm
"/data/data/com.termux/files/usr/bin/perl"  bin/enc2xs -"Q" -"O" -o def_t.c -f def_t.fnm
Reading iso-8859-1 (iso-8859-1)
Reading ascii (ascii)
Reading cp1252 (cp1252)
Reading ascii-ctrl (ascii-ctrl)
Reading null (null)
aarch64-linux-android-clang -c  -I./Encode -I/data/data/com.termux/files/usr/include  -D__USE_BSD=1 -D_LARGEFILE_SOURCE -D_FILE_OFFSET_BITS=64 -s -march=native -O3 -pipe -fno-plt   -DVERSION=\"3.21\" -DXS_VERSION=\"3.21\" -fPIC -Wno-unused-function "-I/data/data/com.termux/files/usr/lib/perl5/5.38.2/aarch64-android/CORE"   encengine.c
aarch64-linux-android-clang: warning: argument unused during compilation: '-s' [-Wunused-command-line-argument]
mv Encode.xsc Encode.c
make[1]: Entering directory '/data/data/com.termux/files/home/.cpanm/work/1721060698.1761/Encode-3.21/Byte'
Running Mkbootstrap for Byte ()
chmod 644 "Byte.bs"
"/data/data/com.termux/files/usr/bin/perl"  ../bin/enc2xs -"Q" -"O" -o byte_t.c -f byte_t.fnm
"/data/data/com.termux/files/usr/bin/perl" -MExtUtils::Command::MM -e 'cp_nonempty' -- Byte.bs ../blib/arch/auto/Encode/Byte/Byte.bs 644
"/data/data/com.termux/files/usr/bin/perl" -MExtUtils::Command::MM -e 'cp_nonempty' -- Encode.bs blib/arch/auto/Encode/Encode.bs 644
aarch64-linux-android-clang -c  -I./Encode -I/data/data/com.termux/files/usr/include  -D__USE_BSD=1 -D_LARGEFILE_SOURCE -D_FILE_OFFSET_BITS=64 -s -march=native -O3 -pipe -fno-plt   -DVERSION=\"3.21\" -DXS_VERSION=\"3.21\" -fPIC -Wno-unused-function "-I/data/data/com.termux/files/usr/lib/perl5/5.38.2/aarch64-android/CORE"   Encode.c
aarch64-linux-android-clang: warning: argument unused during compilation: '-s' [-Wunused-command-line-argument]
"/data/data/com.termux/files/usr/bin/perl" "/data/data/com.termux/files/usr/lib/perl5/5.38.2/ExtUtils/xsubpp"  -nolinenumbers -typemap '/data/data/com.termux/files/usr/lib/perl5/5.38.2/ExtUtils/typemap'  Byte.xs > Byte.xsc
mv Byte.xsc Byte.c
aarch64-linux-android-clang -c -I./Encode  -I../Encode -I/data/data/com.termux/files/usr/include  -D__USE_BSD=1 -D_LARGEFILE_SOURCE -D_FILE_OFFSET_BITS=64 -s -march=native -O3 -pipe -fno-plt   -DVERSION=\"2.04\" -DXS_VERSION=\"2.04\" -fPIC -Wno-unused-function "-I/data/data/com.termux/files/usr/lib/perl5/5.38.2/aarch64-android/CORE"   byte_t.c
aarch64-linux-android-clang: warning: argument unused during compilation: '-s' [-Wunused-command-line-argument]
aarch64-linux-android-clang -c -I./Encode  -I../Encode -I/data/data/com.termux/files/usr/include  -D__USE_BSD=1 -D_LARGEFILE_SOURCE -D_FILE_OFFSET_BITS=64 -s -march=native -O3 -pipe -fno-plt   -DVERSION=\"2.04\" -DXS_VERSION=\"2.04\" -fPIC -Wno-unused-function "-I/data/data/com.termux/files/usr/lib/perl5/5.38.2/aarch64-android/CORE"   Byte.c
aarch64-linux-android-clang: warning: argument unused during compilation: '-s' [-Wunused-command-line-argument]
aarch64-linux-android-clang -c  -I./Encode -I/data/data/com.termux/files/usr/include  -D__USE_BSD=1 -D_LARGEFILE_SOURCE -D_FILE_OFFSET_BITS=64 -s -march=native -O3 -pipe -fno-plt   -DVERSION=\"3.21\" -DXS_VERSION=\"3.21\" -fPIC -Wno-unused-function "-I/data/data/com.termux/files/usr/lib/perl5/5.38.2/aarch64-android/CORE"   def_t.c
aarch64-linux-android-clang: warning: argument unused during compilation: '-s' [-Wunused-command-line-argument]
rm -f blib/arch/auto/Encode/Encode.so
aarch64-linux-android-clang -Wl,-rpath=/data/data/com.termux/files/usr/lib -Wl,--enable-new-dtags  -I/data/data/com.termux/files/usr/include -shared -I/data/data/com.termux/files/usr/include  -Wl,-rpath=/data/data/com.termux/files/usr/lib -L/data/data/com.termux/files/usr/lib -landroid-utimes -lm  Encode.o def_t.o encengine.o  -o blib/arch/auto/Encode/Encode.so  \
    "-L/data/data/com.termux/files/usr/lib/perl5/5.38.2/aarch64-android/CORE" -lperl   \
  
rm -f ../blib/arch/auto/Encode/Byte/Byte.so
aarch64-linux-android-clang -Wl,-rpath=/data/data/com.termux/files/usr/lib -Wl,--enable-new-dtags  -I/data/data/com.termux/files/usr/include -shared -I/data/data/com.termux/files/usr/include  -Wl,-rpath=/data/data/com.termux/files/usr/lib -L/data/data/com.termux/files/usr/lib -landroid-utimes -lm  Byte.o byte_t.o  -o ../blib/arch/auto/Encode/Byte/Byte.so  \
    "-L/data/data/com.termux/files/usr/lib/perl5/5.38.2/aarch64-android/CORE" -lperl   \
  
chmod 755 blib/arch/auto/Encode/Encode.so
chmod 755 ../blib/arch/auto/Encode/Byte/Byte.so
make[1]: Leaving directory '/data/data/com.termux/files/home/.cpanm/work/1721060698.1761/Encode-3.21/Byte'
make[1]: Entering directory '/data/data/com.termux/files/home/.cpanm/work/1721060698.1761/Encode-3.21/CN'
Running Mkbootstrap for CN ()
chmod 644 "CN.bs"
"/data/data/com.termux/files/usr/bin/perl"  ../bin/enc2xs -"Q" -o cp_00_t.c -f cp_00_t.fnm
"/data/data/com.termux/files/usr/bin/perl"  ../bin/enc2xs -"Q" -o eu_01_t.c -f eu_01_t.fnm
"/data/data/com.termux/files/usr/bin/perl"  ../bin/enc2xs -"Q" -o gb_02_t.c -f gb_02_t.fnm
"/data/data/com.termux/files/usr/bin/perl"  ../bin/enc2xs -"Q" -o gb_03_t.c -f gb_03_t.fnm
"/data/data/com.termux/files/usr/bin/perl"  ../bin/enc2xs -"Q" -o ir_04_t.c -f ir_04_t.fnm
"/data/data/com.termux/files/usr/bin/perl"  ../bin/enc2xs -"Q" -o ma_05_t.c -f ma_05_t.fnm
aarch64-linux-android-clang -c -I./Encode  -I../Encode -I/data/data/com.termux/files/usr/include  -D__USE_BSD=1 -D_LARGEFILE_SOURCE -D_FILE_OFFSET_BITS=64 -s -march=native -O3 -pipe -fno-plt   -DVERSION=\"2.03\" -DXS_VERSION=\"2.03\" -fPIC -Wno-unused-function "-I/data/data/com.termux/files/usr/lib/perl5/5.38.2/aarch64-android/CORE"   cp_00_t.c
aarch64-linux-android-clang: warning: argument unused during compilation: '-s' [-Wunused-command-line-argument]
aarch64-linux-android-clang -c -I./Encode  -I../Encode -I/data/data/com.termux/files/usr/include  -D__USE_BSD=1 -D_LARGEFILE_SOURCE -D_FILE_OFFSET_BITS=64 -s -march=native -O3 -pipe -fno-plt   -DVERSION=\"2.03\" -DXS_VERSION=\"2.03\" -fPIC -Wno-unused-function "-I/data/data/com.termux/files/usr/lib/perl5/5.38.2/aarch64-android/CORE"   eu_01_t.c
aarch64-linux-android-clang: warning: argument unused during compilation: '-s' [-Wunused-command-line-argument]
aarch64-linux-android-clang -c -I./Encode  -I../Encode -I/data/data/com.termux/files/usr/include  -D__USE_BSD=1 -D_LARGEFILE_SOURCE -D_FILE_OFFSET_BITS=64 -s -march=native -O3 -pipe -fno-plt   -DVERSION=\"2.03\" -DXS_VERSION=\"2.03\" -fPIC -Wno-unused-function "-I/data/data/com.termux/files/usr/lib/perl5/5.38.2/aarch64-android/CORE"   gb_02_t.c
aarch64-linux-android-clang: warning: argument unused during compilation: '-s' [-Wunused-command-line-argument]
aarch64-linux-android-clang -c -I./Encode  -I../Encode -I/data/data/com.termux/files/usr/include  -D__USE_BSD=1 -D_LARGEFILE_SOURCE -D_FILE_OFFSET_BITS=64 -s -march=native -O3 -pipe -fno-plt   -DVERSION=\"2.03\" -DXS_VERSION=\"2.03\" -fPIC -Wno-unused-function "-I/data/data/com.termux/files/usr/lib/perl5/5.38.2/aarch64-android/CORE"   gb_03_t.c
aarch64-linux-android-clang: warning: argument unused during compilation: '-s' [-Wunused-command-line-argument]
aarch64-linux-android-clang -c -I./Encode  -I../Encode -I/data/data/com.termux/files/usr/include  -D__USE_BSD=1 -D_LARGEFILE_SOURCE -D_FILE_OFFSET_BITS=64 -s -march=native -O3 -pipe -fno-plt   -DVERSION=\"2.03\" -DXS_VERSION=\"2.03\" -fPIC -Wno-unused-function "-I/data/data/com.termux/files/usr/lib/perl5/5.38.2/aarch64-android/CORE"   ir_04_t.c
aarch64-linux-android-clang: warning: argument unused during compilation: '-s' [-Wunused-command-line-argument]
aarch64-linux-android-clang -c -I./Encode  -I../Encode -I/data/data/com.termux/files/usr/include  -D__USE_BSD=1 -D_LARGEFILE_SOURCE -D_FILE_OFFSET_BITS=64 -s -march=native -O3 -pipe -fno-plt   -DVERSION=\"2.03\" -DXS_VERSION=\"2.03\" -fPIC -Wno-unused-function "-I/data/data/com.termux/files/usr/lib/perl5/5.38.2/aarch64-android/CORE"   ma_05_t.c
aarch64-linux-android-clang: warning: argument unused during compilation: '-s' [-Wunused-command-line-argument]
"/data/data/com.termux/files/usr/bin/perl" -MExtUtils::Command::MM -e 'cp_nonempty' -- CN.bs ../blib/arch/auto/Encode/CN/CN.bs 644
"/data/data/com.termux/files/usr/bin/perl" "/data/data/com.termux/files/usr/lib/perl5/5.38.2/ExtUtils/xsubpp" -noprototypes -nolinenumbers -typemap '/data/data/com.termux/files/usr/lib/perl5/5.38.2/ExtUtils/typemap'  CN.xs > CN.xsc
mv CN.xsc CN.c
aarch64-linux-android-clang -c -I./Encode  -I../Encode -I/data/data/com.termux/files/usr/include  -D__USE_BSD=1 -D_LARGEFILE_SOURCE -D_FILE_OFFSET_BITS=64 -s -march=native -O3 -pipe -fno-plt   -DVERSION=\"2.03\" -DXS_VERSION=\"2.03\" -fPIC -Wno-unused-function "-I/data/data/com.termux/files/usr/lib/perl5/5.38.2/aarch64-android/CORE"   CN.c
aarch64-linux-android-clang: warning: argument unused during compilation: '-s' [-Wunused-command-line-argument]
rm -f ../blib/arch/auto/Encode/CN/CN.so
aarch64-linux-android-clang -Wl,-rpath=/data/data/com.termux/files/usr/lib -Wl,--enable-new-dtags  -I/data/data/com.termux/files/usr/include -shared -I/data/data/com.termux/files/usr/include  -Wl,-rpath=/data/data/com.termux/files/usr/lib -L/data/data/com.termux/files/usr/lib -landroid-utimes -lm  CN.o cp_00_t.o eu_01_t.o gb_02_t.o gb_03_t.o ir_04_t.o ma_05_t.o  -o ../blib/arch/auto/Encode/CN/CN.so  \
    "-L/data/data/com.termux/files/usr/lib/perl5/5.38.2/aarch64-android/CORE" -lperl   \
  
chmod 755 ../blib/arch/auto/Encode/CN/CN.so
make[1]: Leaving directory '/data/data/com.termux/files/home/.cpanm/work/1721060698.1761/Encode-3.21/CN'
make[1]: Entering directory '/data/data/com.termux/files/home/.cpanm/work/1721060698.1761/Encode-3.21/EBCDIC'
Running Mkbootstrap for EBCDIC ()
chmod 644 "EBCDIC.bs"
"/data/data/com.termux/files/usr/bin/perl"  ../bin/enc2xs -"Q" -"O" -o ebcdic_t.c -f ebcdic_t.fnm
"/data/data/com.termux/files/usr/bin/perl" -MExtUtils::Command::MM -e 'cp_nonempty' -- EBCDIC.bs ../blib/arch/auto/Encode/EBCDIC/EBCDIC.bs 644
"/data/data/com.termux/files/usr/bin/perl" "/data/data/com.termux/files/usr/lib/perl5/5.38.2/ExtUtils/xsubpp"  -nolinenumbers -typemap '/data/data/com.termux/files/usr/lib/perl5/5.38.2/ExtUtils/typemap'  EBCDIC.xs > EBCDIC.xsc
aarch64-linux-android-clang -c -I./Encode  -I../Encode -I/data/data/com.termux/files/usr/include  -D__USE_BSD=1 -D_LARGEFILE_SOURCE -D_FILE_OFFSET_BITS=64 -s -march=native -O3 -pipe -fno-plt   -DVERSION=\"2.02\" -DXS_VERSION=\"2.02\" -fPIC -Wno-unused-function "-I/data/data/com.termux/files/usr/lib/perl5/5.38.2/aarch64-android/CORE"   ebcdic_t.c
aarch64-linux-android-clang: warning: argument unused during compilation: '-s' [-Wunused-command-line-argument]
mv EBCDIC.xsc EBCDIC.c
aarch64-linux-android-clang -c -I./Encode  -I../Encode -I/data/data/com.termux/files/usr/include  -D__USE_BSD=1 -D_LARGEFILE_SOURCE -D_FILE_OFFSET_BITS=64 -s -march=native -O3 -pipe -fno-plt   -DVERSION=\"2.02\" -DXS_VERSION=\"2.02\" -fPIC -Wno-unused-function "-I/data/data/com.termux/files/usr/lib/perl5/5.38.2/aarch64-android/CORE"   EBCDIC.c
aarch64-linux-android-clang: warning: argument unused during compilation: '-s' [-Wunused-command-line-argument]
rm -f ../blib/arch/auto/Encode/EBCDIC/EBCDIC.so
aarch64-linux-android-clang -Wl,-rpath=/data/data/com.termux/files/usr/lib -Wl,--enable-new-dtags  -I/data/data/com.termux/files/usr/include -shared -I/data/data/com.termux/files/usr/include  -Wl,-rpath=/data/data/com.termux/files/usr/lib -L/data/data/com.termux/files/usr/lib -landroid-utimes -lm  EBCDIC.o ebcdic_t.o  -o ../blib/arch/auto/Encode/EBCDIC/EBCDIC.so  \
    "-L/data/data/com.termux/files/usr/lib/perl5/5.38.2/aarch64-android/CORE" -lperl   \
  
chmod 755 ../blib/arch/auto/Encode/EBCDIC/EBCDIC.so
make[1]: Leaving directory '/data/data/com.termux/files/home/.cpanm/work/1721060698.1761/Encode-3.21/EBCDIC'
make[1]: Entering directory '/data/data/com.termux/files/home/.cpanm/work/1721060698.1761/Encode-3.21/JP'
Running Mkbootstrap for JP ()
chmod 644 "JP.bs"
"/data/data/com.termux/files/usr/bin/perl"  ../bin/enc2xs -"Q" -o cp_00_t.c -f cp_00_t.fnm
"/data/data/com.termux/files/usr/bin/perl"  ../bin/enc2xs -"Q" -o eu_01_t.c -f eu_01_t.fnm
"/data/data/com.termux/files/usr/bin/perl"  ../bin/enc2xs -"Q" -o ji_02_t.c -f ji_02_t.fnm
"/data/data/com.termux/files/usr/bin/perl"  ../bin/enc2xs -"Q" -o ji_03_t.c -f ji_03_t.fnm
"/data/data/com.termux/files/usr/bin/perl"  ../bin/enc2xs -"Q" -o ji_04_t.c -f ji_04_t.fnm
"/data/data/com.termux/files/usr/bin/perl"  ../bin/enc2xs -"Q" -o ma_05_t.c -f ma_05_t.fnm
"/data/data/com.termux/files/usr/bin/perl"  ../bin/enc2xs -"Q" -o sh_06_t.c -f sh_06_t.fnm
aarch64-linux-android-clang -c -I./Encode  -I../Encode -I/data/data/com.termux/files/usr/include  -D__USE_BSD=1 -D_LARGEFILE_SOURCE -D_FILE_OFFSET_BITS=64 -s -march=native -O3 -pipe -fno-plt   -DVERSION=\"2.05\" -DXS_VERSION=\"2.05\" -fPIC -Wno-unused-function "-I/data/data/com.termux/files/usr/lib/perl5/5.38.2/aarch64-android/CORE"   cp_00_t.c
aarch64-linux-android-clang: warning: argument unused during compilation: '-s' [-Wunused-command-line-argument]
aarch64-linux-android-clang -c -I./Encode  -I../Encode -I/data/data/com.termux/files/usr/include  -D__USE_BSD=1 -D_LARGEFILE_SOURCE -D_FILE_OFFSET_BITS=64 -s -march=native -O3 -pipe -fno-plt   -DVERSION=\"2.05\" -DXS_VERSION=\"2.05\" -fPIC -Wno-unused-function "-I/data/data/com.termux/files/usr/lib/perl5/5.38.2/aarch64-android/CORE"   eu_01_t.c
aarch64-linux-android-clang: warning: argument unused during compilation: '-s' [-Wunused-command-line-argument]
aarch64-linux-android-clang -c -I./Encode  -I../Encode -I/data/data/com.termux/files/usr/include  -D__USE_BSD=1 -D_LARGEFILE_SOURCE -D_FILE_OFFSET_BITS=64 -s -march=native -O3 -pipe -fno-plt   -DVERSION=\"2.05\" -DXS_VERSION=\"2.05\" -fPIC -Wno-unused-function "-I/data/data/com.termux/files/usr/lib/perl5/5.38.2/aarch64-android/CORE"   ji_02_t.c
aarch64-linux-android-clang: warning: argument unused during compilation: '-s' [-Wunused-command-line-argument]
aarch64-linux-android-clang -c -I./Encode  -I../Encode -I/data/data/com.termux/files/usr/include  -D__USE_BSD=1 -D_LARGEFILE_SOURCE -D_FILE_OFFSET_BITS=64 -s -march=native -O3 -pipe -fno-plt   -DVERSION=\"2.05\" -DXS_VERSION=\"2.05\" -fPIC -Wno-unused-function "-I/data/data/com.termux/files/usr/lib/perl5/5.38.2/aarch64-android/CORE"   ji_03_t.c
aarch64-linux-android-clang: warning: argument unused during compilation: '-s' [-Wunused-command-line-argument]
aarch64-linux-android-clang -c -I./Encode  -I../Encode -I/data/data/com.termux/files/usr/include  -D__USE_BSD=1 -D_LARGEFILE_SOURCE -D_FILE_OFFSET_BITS=64 -s -march=native -O3 -pipe -fno-plt   -DVERSION=\"2.05\" -DXS_VERSION=\"2.05\" -fPIC -Wno-unused-function "-I/data/data/com.termux/files/usr/lib/perl5/5.38.2/aarch64-android/CORE"   ji_04_t.c
aarch64-linux-android-clang -c -I./Encode  -I../Encode -I/data/data/com.termux/files/usr/include  -D__USE_BSD=1 -D_LARGEFILE_SOURCE -D_FILE_OFFSET_BITS=64 -s -march=native -O3 -pipe -fno-plt   -DVERSION=\"2.05\" -DXS_VERSION=\"2.05\" -fPIC -Wno-unused-function "-I/data/data/com.termux/files/usr/lib/perl5/5.38.2/aarch64-android/CORE"   ma_05_t.c
aarch64-linux-android-clang: warning: argument unused during compilation: '-s' [-Wunused-command-line-argument]
aarch64-linux-android-clang: warning: argument unused during compilation: '-s' [-Wunused-command-line-argument]
aarch64-linux-android-clang -c -I./Encode  -I../Encode -I/data/data/com.termux/files/usr/include  -D__USE_BSD=1 -D_LARGEFILE_SOURCE -D_FILE_OFFSET_BITS=64 -s -march=native -O3 -pipe -fno-plt   -DVERSION=\"2.05\" -DXS_VERSION=\"2.05\" -fPIC -Wno-unused-function "-I/data/data/com.termux/files/usr/lib/perl5/5.38.2/aarch64-android/CORE"   sh_06_t.c
aarch64-linux-android-clang: warning: argument unused during compilation: '-s' [-Wunused-command-line-argument]
"/data/data/com.termux/files/usr/bin/perl" -MExtUtils::Command::MM -e 'cp_nonempty' -- JP.bs ../blib/arch/auto/Encode/JP/JP.bs 644
"/data/data/com.termux/files/usr/bin/perl" "/data/data/com.termux/files/usr/lib/perl5/5.38.2/ExtUtils/xsubpp"  -nolinenumbers -typemap '/data/data/com.termux/files/usr/lib/perl5/5.38.2/ExtUtils/typemap'  JP.xs > JP.xsc
mv JP.xsc JP.c
aarch64-linux-android-clang -c -I./Encode  -I../Encode -I/data/data/com.termux/files/usr/include  -D__USE_BSD=1 -D_LARGEFILE_SOURCE -D_FILE_OFFSET_BITS=64 -s -march=native -O3 -pipe -fno-plt   -DVERSION=\"2.05\" -DXS_VERSION=\"2.05\" -fPIC -Wno-unused-function "-I/data/data/com.termux/files/usr/lib/perl5/5.38.2/aarch64-android/CORE"   JP.c
aarch64-linux-android-clang: warning: argument unused during compilation: '-s' [-Wunused-command-line-argument]
rm -f ../blib/arch/auto/Encode/JP/JP.so
aarch64-linux-android-clang -Wl,-rpath=/data/data/com.termux/files/usr/lib -Wl,--enable-new-dtags  -I/data/data/com.termux/files/usr/include -shared -I/data/data/com.termux/files/usr/include  -Wl,-rpath=/data/data/com.termux/files/usr/lib -L/data/data/com.termux/files/usr/lib -landroid-utimes -lm  JP.o cp_00_t.o eu_01_t.o ji_02_t.o ji_03_t.o ji_04_t.o ma_05_t.o sh_06_t.o  -o ../blib/arch/auto/Encode/JP/JP.so  \
    "-L/data/data/com.termux/files/usr/lib/perl5/5.38.2/aarch64-android/CORE" -lperl   \
  
chmod 755 ../blib/arch/auto/Encode/JP/JP.so
make[1]: Leaving directory '/data/data/com.termux/files/home/.cpanm/work/1721060698.1761/Encode-3.21/JP'
make[1]: Entering directory '/data/data/com.termux/files/home/.cpanm/work/1721060698.1761/Encode-3.21/KR'
Running Mkbootstrap for KR ()
chmod 644 "KR.bs"
"/data/data/com.termux/files/usr/bin/perl"  ../bin/enc2xs -"Q" -o cp_00_t.c -f cp_00_t.fnm
"/data/data/com.termux/files/usr/bin/perl"  ../bin/enc2xs -"Q" -o eu_01_t.c -f eu_01_t.fnm
"/data/data/com.termux/files/usr/bin/perl"  ../bin/enc2xs -"Q" -o jo_02_t.c -f jo_02_t.fnm
"/data/data/com.termux/files/usr/bin/perl"  ../bin/enc2xs -"Q" -o ks_03_t.c -f ks_03_t.fnm
"/data/data/com.termux/files/usr/bin/perl"  ../bin/enc2xs -"Q" -o ma_04_t.c -f ma_04_t.fnm
aarch64-linux-android-clang -c -I./Encode  -I../Encode -I/data/data/com.termux/files/usr/include  -D__USE_BSD=1 -D_LARGEFILE_SOURCE -D_FILE_OFFSET_BITS=64 -s -march=native -O3 -pipe -fno-plt   -DVERSION=\"2.03\" -DXS_VERSION=\"2.03\" -fPIC -Wno-unused-function "-I/data/data/com.termux/files/usr/lib/perl5/5.38.2/aarch64-android/CORE"   cp_00_t.c
aarch64-linux-android-clang: warning: argument unused during compilation: '-s' [-Wunused-command-line-argument]
aarch64-linux-android-clang -c -I./Encode  -I../Encode -I/data/data/com.termux/files/usr/include  -D__USE_BSD=1 -D_LARGEFILE_SOURCE -D_FILE_OFFSET_BITS=64 -s -march=native -O3 -pipe -fno-plt   -DVERSION=\"2.03\" -DXS_VERSION=\"2.03\" -fPIC -Wno-unused-function "-I/data/data/com.termux/files/usr/lib/perl5/5.38.2/aarch64-android/CORE"   eu_01_t.c
aarch64-linux-android-clang: warning: argument unused during compilation: '-s' [-Wunused-command-line-argument]
aarch64-linux-android-clang -c -I./Encode  -I../Encode -I/data/data/com.termux/files/usr/include  -D__USE_BSD=1 -D_LARGEFILE_SOURCE -D_FILE_OFFSET_BITS=64 -s -march=native -O3 -pipe -fno-plt   -DVERSION=\"2.03\" -DXS_VERSION=\"2.03\" -fPIC -Wno-unused-function "-I/data/data/com.termux/files/usr/lib/perl5/5.38.2/aarch64-android/CORE"   jo_02_t.c
aarch64-linux-android-clang: warning: argument unused during compilation: '-s' [-Wunused-command-line-argument]
aarch64-linux-android-clang -c -I./Encode  -I../Encode -I/data/data/com.termux/files/usr/include  -D__USE_BSD=1 -D_LARGEFILE_SOURCE -D_FILE_OFFSET_BITS=64 -s -march=native -O3 -pipe -fno-plt   -DVERSION=\"2.03\" -DXS_VERSION=\"2.03\" -fPIC -Wno-unused-function "-I/data/data/com.termux/files/usr/lib/perl5/5.38.2/aarch64-android/CORE"   ks_03_t.c
aarch64-linux-android-clang: warning: argument unused during compilation: '-s' [-Wunused-command-line-argument]
aarch64-linux-android-clang -c -I./Encode  -I../Encode -I/data/data/com.termux/files/usr/include  -D__USE_BSD=1 -D_LARGEFILE_SOURCE -D_FILE_OFFSET_BITS=64 -s -march=native -O3 -pipe -fno-plt   -DVERSION=\"2.03\" -DXS_VERSION=\"2.03\" -fPIC -Wno-unused-function "-I/data/data/com.termux/files/usr/lib/perl5/5.38.2/aarch64-android/CORE"   ma_04_t.c
aarch64-linux-android-clang: warning: argument unused during compilation: '-s' [-Wunused-command-line-argument]
"/data/data/com.termux/files/usr/bin/perl" -MExtUtils::Command::MM -e 'cp_nonempty' -- KR.bs ../blib/arch/auto/Encode/KR/KR.bs 644
"/data/data/com.termux/files/usr/bin/perl" "/data/data/com.termux/files/usr/lib/perl5/5.38.2/ExtUtils/xsubpp"  -nolinenumbers -typemap '/data/data/com.termux/files/usr/lib/perl5/5.38.2/ExtUtils/typemap'  KR.xs > KR.xsc
mv KR.xsc KR.c
aarch64-linux-android-clang -c -I./Encode  -I../Encode -I/data/data/com.termux/files/usr/include  -D__USE_BSD=1 -D_LARGEFILE_SOURCE -D_FILE_OFFSET_BITS=64 -s -march=native -O3 -pipe -fno-plt   -DVERSION=\"2.03\" -DXS_VERSION=\"2.03\" -fPIC -Wno-unused-function "-I/data/data/com.termux/files/usr/lib/perl5/5.38.2/aarch64-android/CORE"   KR.c
aarch64-linux-android-clang: warning: argument unused during compilation: '-s' [-Wunused-command-line-argument]
rm -f ../blib/arch/auto/Encode/KR/KR.so
aarch64-linux-android-clang -Wl,-rpath=/data/data/com.termux/files/usr/lib -Wl,--enable-new-dtags  -I/data/data/com.termux/files/usr/include -shared -I/data/data/com.termux/files/usr/include  -Wl,-rpath=/data/data/com.termux/files/usr/lib -L/data/data/com.termux/files/usr/lib -landroid-utimes -lm  KR.o cp_00_t.o eu_01_t.o jo_02_t.o ks_03_t.o ma_04_t.o  -o ../blib/arch/auto/Encode/KR/KR.so  \
    "-L/data/data/com.termux/files/usr/lib/perl5/5.38.2/aarch64-android/CORE" -lperl   \
  
chmod 755 ../blib/arch/auto/Encode/KR/KR.so
make[1]: Leaving directory '/data/data/com.termux/files/home/.cpanm/work/1721060698.1761/Encode-3.21/KR'
make[1]: Entering directory '/data/data/com.termux/files/home/.cpanm/work/1721060698.1761/Encode-3.21/Symbol'
Running Mkbootstrap for Symbol ()
chmod 644 "Symbol.bs"
"/data/data/com.termux/files/usr/bin/perl"  ../bin/enc2xs -"Q" -"O" -o symbol_t.c -f symbol_t.fnm
"/data/data/com.termux/files/usr/bin/perl" -MExtUtils::Command::MM -e 'cp_nonempty' -- Symbol.bs ../blib/arch/auto/Encode/Symbol/Symbol.bs 644
"/data/data/com.termux/files/usr/bin/perl" "/data/data/com.termux/files/usr/lib/perl5/5.38.2/ExtUtils/xsubpp"  -nolinenumbers -typemap '/data/data/com.termux/files/usr/lib/perl5/5.38.2/ExtUtils/typemap'  Symbol.xs > Symbol.xsc
aarch64-linux-android-clang -c -I./Encode  -I../Encode -I/data/data/com.termux/files/usr/include  -D__USE_BSD=1 -D_LARGEFILE_SOURCE -D_FILE_OFFSET_BITS=64 -s -march=native -O3 -pipe -fno-plt   -DVERSION=\"2.02\" -DXS_VERSION=\"2.02\" -fPIC -Wno-unused-function "-I/data/data/com.termux/files/usr/lib/perl5/5.38.2/aarch64-android/CORE"   symbol_t.c
aarch64-linux-android-clang: warning: argument unused during compilation: '-s' [-Wunused-command-line-argument]
mv Symbol.xsc Symbol.c
aarch64-linux-android-clang -c -I./Encode  -I../Encode -I/data/data/com.termux/files/usr/include  -D__USE_BSD=1 -D_LARGEFILE_SOURCE -D_FILE_OFFSET_BITS=64 -s -march=native -O3 -pipe -fno-plt   -DVERSION=\"2.02\" -DXS_VERSION=\"2.02\" -fPIC -Wno-unused-function "-I/data/data/com.termux/files/usr/lib/perl5/5.38.2/aarch64-android/CORE"   Symbol.c
aarch64-linux-android-clang: warning: argument unused during compilation: '-s' [-Wunused-command-line-argument]
rm -f ../blib/arch/auto/Encode/Symbol/Symbol.so
aarch64-linux-android-clang -Wl,-rpath=/data/data/com.termux/files/usr/lib -Wl,--enable-new-dtags  -I/data/data/com.termux/files/usr/include -shared -I/data/data/com.termux/files/usr/include  -Wl,-rpath=/data/data/com.termux/files/usr/lib -L/data/data/com.termux/files/usr/lib -landroid-utimes -lm  Symbol.o symbol_t.o  -o ../blib/arch/auto/Encode/Symbol/Symbol.so  \
    "-L/data/data/com.termux/files/usr/lib/perl5/5.38.2/aarch64-android/CORE" -lperl   \
  
chmod 755 ../blib/arch/auto/Encode/Symbol/Symbol.so
make[1]: Leaving directory '/data/data/com.termux/files/home/.cpanm/work/1721060698.1761/Encode-3.21/Symbol'
make[1]: Entering directory '/data/data/com.termux/files/home/.cpanm/work/1721060698.1761/Encode-3.21/TW'
Running Mkbootstrap for TW ()
chmod 644 "TW.bs"
"/data/data/com.termux/files/usr/bin/perl"  ../bin/enc2xs -"Q" -o bi_00_t.c -f bi_00_t.fnm
"/data/data/com.termux/files/usr/bin/perl"  ../bin/enc2xs -"Q" -o bi_01_t.c -f bi_01_t.fnm
"/data/data/com.termux/files/usr/bin/perl"  ../bin/enc2xs -"Q" -o cp_02_t.c -f cp_02_t.fnm
"/data/data/com.termux/files/usr/bin/perl"  ../bin/enc2xs -"Q" -o ma_03_t.c -f ma_03_t.fnm
aarch64-linux-android-clang -c -I./Encode  -I../Encode -I/data/data/com.termux/files/usr/include  -D__USE_BSD=1 -D_LARGEFILE_SOURCE -D_FILE_OFFSET_BITS=64 -s -march=native -O3 -pipe -fno-plt   -DVERSION=\"2.03\" -DXS_VERSION=\"2.03\" -fPIC -Wno-unused-function "-I/data/data/com.termux/files/usr/lib/perl5/5.38.2/aarch64-android/CORE"   bi_00_t.c
aarch64-linux-android-clang: warning: argument unused during compilation: '-s' [-Wunused-command-line-argument]
aarch64-linux-android-clang -c -I./Encode  -I../Encode -I/data/data/com.termux/files/usr/include  -D__USE_BSD=1 -D_LARGEFILE_SOURCE -D_FILE_OFFSET_BITS=64 -s -march=native -O3 -pipe -fno-plt   -DVERSION=\"2.03\" -DXS_VERSION=\"2.03\" -fPIC -Wno-unused-function "-I/data/data/com.termux/files/usr/lib/perl5/5.38.2/aarch64-android/CORE"   bi_01_t.c
aarch64-linux-android-clang: warning: argument unused during compilation: '-s' [-Wunused-command-line-argument]
aarch64-linux-android-clang -c -I./Encode  -I../Encode -I/data/data/com.termux/files/usr/include  -D__USE_BSD=1 -D_LARGEFILE_SOURCE -D_FILE_OFFSET_BITS=64 -s -march=native -O3 -pipe -fno-plt   -DVERSION=\"2.03\" -DXS_VERSION=\"2.03\" -fPIC -Wno-unused-function "-I/data/data/com.termux/files/usr/lib/perl5/5.38.2/aarch64-android/CORE"   cp_02_t.c
aarch64-linux-android-clang: warning: argument unused during compilation: '-s' [-Wunused-command-line-argument]
aarch64-linux-android-clang -c -I./Encode  -I../Encode -I/data/data/com.termux/files/usr/include  -D__USE_BSD=1 -D_LARGEFILE_SOURCE -D_FILE_OFFSET_BITS=64 -s -march=native -O3 -pipe -fno-plt   -DVERSION=\"2.03\" -DXS_VERSION=\"2.03\" -fPIC -Wno-unused-function "-I/data/data/com.termux/files/usr/lib/perl5/5.38.2/aarch64-android/CORE"   ma_03_t.c
aarch64-linux-android-clang: warning: argument unused during compilation: '-s' [-Wunused-command-line-argument]
"/data/data/com.termux/files/usr/bin/perl" -MExtUtils::Command::MM -e 'cp_nonempty' -- TW.bs ../blib/arch/auto/Encode/TW/TW.bs 644
"/data/data/com.termux/files/usr/bin/perl" "/data/data/com.termux/files/usr/lib/perl5/5.38.2/ExtUtils/xsubpp"  -nolinenumbers -typemap '/data/data/com.termux/files/usr/lib/perl5/5.38.2/ExtUtils/typemap'  TW.xs > TW.xsc
mv TW.xsc TW.c
aarch64-linux-android-clang -c -I./Encode  -I../Encode -I/data/data/com.termux/files/usr/include  -D__USE_BSD=1 -D_LARGEFILE_SOURCE -D_FILE_OFFSET_BITS=64 -s -march=native -O3 -pipe -fno-plt   -DVERSION=\"2.03\" -DXS_VERSION=\"2.03\" -fPIC -Wno-unused-function "-I/data/data/com.termux/files/usr/lib/perl5/5.38.2/aarch64-android/CORE"   TW.c
aarch64-linux-android-clang: warning: argument unused during compilation: '-s' [-Wunused-command-line-argument]
rm -f ../blib/arch/auto/Encode/TW/TW.so
aarch64-linux-android-clang -Wl,-rpath=/data/data/com.termux/files/usr/lib -Wl,--enable-new-dtags  -I/data/data/com.termux/files/usr/include -shared -I/data/data/com.termux/files/usr/include  -Wl,-rpath=/data/data/com.termux/files/usr/lib -L/data/data/com.termux/files/usr/lib -landroid-utimes -lm  TW.o bi_00_t.o bi_01_t.o cp_02_t.o ma_03_t.o  -o ../blib/arch/auto/Encode/TW/TW.so  \
    "-L/data/data/com.termux/files/usr/lib/perl5/5.38.2/aarch64-android/CORE" -lperl   \
  
chmod 755 ../blib/arch/auto/Encode/TW/TW.so
make[1]: Leaving directory '/data/data/com.termux/files/home/.cpanm/work/1721060698.1761/Encode-3.21/TW'
make[1]: Entering directory '/data/data/com.termux/files/home/.cpanm/work/1721060698.1761/Encode-3.21/Unicode'
Running Mkbootstrap for Unicode ()
chmod 644 "Unicode.bs"
"/data/data/com.termux/files/usr/bin/perl" "/data/data/com.termux/files/usr/lib/perl5/5.38.2/ExtUtils/xsubpp"  -typemap '/data/data/com.termux/files/usr/lib/perl5/5.38.2/ExtUtils/typemap'  Unicode.xs > Unicode.xsc
"/data/data/com.termux/files/usr/bin/perl" -MExtUtils::Command::MM -e 'cp_nonempty' -- Unicode.bs ../blib/arch/auto/Encode/Unicode/Unicode.bs 644
mv Unicode.xsc Unicode.c
aarch64-linux-android-clang -c -I./Encode  -I../Encode -I/data/data/com.termux/files/usr/include  -D__USE_BSD=1 -D_LARGEFILE_SOURCE -D_FILE_OFFSET_BITS=64 -s -march=native -O3 -pipe -fno-plt   -DVERSION=\"2.20\" -DXS_VERSION=\"2.20\" -fPIC -Wno-unused-function "-I/data/data/com.termux/files/usr/lib/perl5/5.38.2/aarch64-android/CORE"   Unicode.c
aarch64-linux-android-clang: warning: argument unused during compilation: '-s' [-Wunused-command-line-argument]
rm -f ../blib/arch/auto/Encode/Unicode/Unicode.so
aarch64-linux-android-clang -Wl,-rpath=/data/data/com.termux/files/usr/lib -Wl,--enable-new-dtags  -I/data/data/com.termux/files/usr/include -shared -I/data/data/com.termux/files/usr/include  -Wl,-rpath=/data/data/com.termux/files/usr/lib -L/data/data/com.termux/files/usr/lib -landroid-utimes -lm  Unicode.o  -o ../blib/arch/auto/Encode/Unicode/Unicode.so  \
    "-L/data/data/com.termux/files/usr/lib/perl5/5.38.2/aarch64-android/CORE" -lperl   \
  
chmod 755 ../blib/arch/auto/Encode/Unicode/Unicode.so
make[1]: Leaving directory '/data/data/com.termux/files/home/.cpanm/work/1721060698.1761/Encode-3.21/Unicode'
cp bin/enc2xs blib/script/enc2xs
cp bin/encguess blib/script/encguess
"/data/data/com.termux/files/usr/bin/perl" -MExtUtils::MY -e 'MY->fixin(shift)' -- blib/script/enc2xs
"/data/data/com.termux/files/usr/bin/perl" -MExtUtils::MY -e 'MY->fixin(shift)' -- blib/script/encguess
cp bin/piconv blib/script/piconv
"/data/data/com.termux/files/usr/bin/perl" -MExtUtils::MY -e 'MY->fixin(shift)' -- blib/script/piconv
Manifying 3 pod documents
Manifying 18 pod documents
"/data/data/com.termux/files/usr/bin/perl" -MExtUtils::Command::MM -e 'cp_nonempty' -- Encode.bs blib/arch/auto/Encode/Encode.bs 644
make[1]: Entering directory '/data/data/com.termux/files/home/.cpanm/work/1721060698.1761/Encode-3.21/Byte'
"/data/data/com.termux/files/usr/bin/perl" -MExtUtils::Command::MM -e 'cp_nonempty' -- Byte.bs ../blib/arch/auto/Encode/Byte/Byte.bs 644
make[1]: Leaving directory '/data/data/com.termux/files/home/.cpanm/work/1721060698.1761/Encode-3.21/Byte'
make[1]: Entering directory '/data/data/com.termux/files/home/.cpanm/work/1721060698.1761/Encode-3.21/CN'
"/data/data/com.termux/files/usr/bin/perl" -MExtUtils::Command::MM -e 'cp_nonempty' -- CN.bs ../blib/arch/auto/Encode/CN/CN.bs 644
make[1]: Leaving directory '/data/data/com.termux/files/home/.cpanm/work/1721060698.1761/Encode-3.21/CN'
make[1]: Entering directory '/data/data/com.termux/files/home/.cpanm/work/1721060698.1761/Encode-3.21/EBCDIC'
"/data/data/com.termux/files/usr/bin/perl" -MExtUtils::Command::MM -e 'cp_nonempty' -- EBCDIC.bs ../blib/arch/auto/Encode/EBCDIC/EBCDIC.bs 644
make[1]: Leaving directory '/data/data/com.termux/files/home/.cpanm/work/1721060698.1761/Encode-3.21/EBCDIC'
make[1]: Entering directory '/data/data/com.termux/files/home/.cpanm/work/1721060698.1761/Encode-3.21/JP'
"/data/data/com.termux/files/usr/bin/perl" -MExtUtils::Command::MM -e 'cp_nonempty' -- JP.bs ../blib/arch/auto/Encode/JP/JP.bs 644
make[1]: Leaving directory '/data/data/com.termux/files/home/.cpanm/work/1721060698.1761/Encode-3.21/JP'
make[1]: Entering directory '/data/data/com.termux/files/home/.cpanm/work/1721060698.1761/Encode-3.21/KR'
"/data/data/com.termux/files/usr/bin/perl" -MExtUtils::Command::MM -e 'cp_nonempty' -- KR.bs ../blib/arch/auto/Encode/KR/KR.bs 644
make[1]: Leaving directory '/data/data/com.termux/files/home/.cpanm/work/1721060698.1761/Encode-3.21/KR'
make[1]: Entering directory '/data/data/com.termux/files/home/.cpanm/work/1721060698.1761/Encode-3.21/Symbol'
"/data/data/com.termux/files/usr/bin/perl" -MExtUtils::Command::MM -e 'cp_nonempty' -- Symbol.bs ../blib/arch/auto/Encode/Symbol/Symbol.bs 644
make[1]: Leaving directory '/data/data/com.termux/files/home/.cpanm/work/1721060698.1761/Encode-3.21/Symbol'
make[1]: Entering directory '/data/data/com.termux/files/home/.cpanm/work/1721060698.1761/Encode-3.21/TW'
"/data/data/com.termux/files/usr/bin/perl" -MExtUtils::Command::MM -e 'cp_nonempty' -- TW.bs ../blib/arch/auto/Encode/TW/TW.bs 644
make[1]: Leaving directory '/data/data/com.termux/files/home/.cpanm/work/1721060698.1761/Encode-3.21/TW'
make[1]: Entering directory '/data/data/com.termux/files/home/.cpanm/work/1721060698.1761/Encode-3.21/Unicode'
"/data/data/com.termux/files/usr/bin/perl" -MExtUtils::Command::MM -e 'cp_nonempty' -- Unicode.bs ../blib/arch/auto/Encode/Unicode/Unicode.bs 644
make[1]: Leaving directory '/data/data/com.termux/files/home/.cpanm/work/1721060698.1761/Encode-3.21/Unicode'
make[1]: Entering directory '/data/data/com.termux/files/home/.cpanm/work/1721060698.1761/Encode-3.21/Byte'
"/data/data/com.termux/files/usr/bin/perl" -MExtUtils::Command::MM -e 'cp_nonempty' -- Byte.bs ../blib/arch/auto/Encode/Byte/Byte.bs 644
No tests defined for Encode::Byte extension.
make[1]: Leaving directory '/data/data/com.termux/files/home/.cpanm/work/1721060698.1761/Encode-3.21/Byte'
make[1]: Entering directory '/data/data/com.termux/files/home/.cpanm/work/1721060698.1761/Encode-3.21/CN'
"/data/data/com.termux/files/usr/bin/perl" -MExtUtils::Command::MM -e 'cp_nonempty' -- CN.bs ../blib/arch/auto/Encode/CN/CN.bs 644
No tests defined for Encode::CN extension.
make[1]: Leaving directory '/data/data/com.termux/files/home/.cpanm/work/1721060698.1761/Encode-3.21/CN'
make[1]: Entering directory '/data/data/com.termux/files/home/.cpanm/work/1721060698.1761/Encode-3.21/EBCDIC'
"/data/data/com.termux/files/usr/bin/perl" -MExtUtils::Command::MM -e 'cp_nonempty' -- EBCDIC.bs ../blib/arch/auto/Encode/EBCDIC/EBCDIC.bs 644
No tests defined for Encode::EBCDIC extension.
make[1]: Leaving directory '/data/data/com.termux/files/home/.cpanm/work/1721060698.1761/Encode-3.21/EBCDIC'
make[1]: Entering directory '/data/data/com.termux/files/home/.cpanm/work/1721060698.1761/Encode-3.21/JP'
"/data/data/com.termux/files/usr/bin/perl" -MExtUtils::Command::MM -e 'cp_nonempty' -- JP.bs ../blib/arch/auto/Encode/JP/JP.bs 644
No tests defined for Encode::JP extension.
make[1]: Leaving directory '/data/data/com.termux/files/home/.cpanm/work/1721060698.1761/Encode-3.21/JP'
make[1]: Entering directory '/data/data/com.termux/files/home/.cpanm/work/1721060698.1761/Encode-3.21/KR'
"/data/data/com.termux/files/usr/bin/perl" -MExtUtils::Command::MM -e 'cp_nonempty' -- KR.bs ../blib/arch/auto/Encode/KR/KR.bs 644
No tests defined for Encode::KR extension.
make[1]: Leaving directory '/data/data/com.termux/files/home/.cpanm/work/1721060698.1761/Encode-3.21/KR'
make[1]: Entering directory '/data/data/com.termux/files/home/.cpanm/work/1721060698.1761/Encode-3.21/Symbol'
"/data/data/com.termux/files/usr/bin/perl" -MExtUtils::Command::MM -e 'cp_nonempty' -- Symbol.bs ../blib/arch/auto/Encode/Symbol/Symbol.bs 644
No tests defined for Encode::Symbol extension.
make[1]: Leaving directory '/data/data/com.termux/files/home/.cpanm/work/1721060698.1761/Encode-3.21/Symbol'
make[1]: Entering directory '/data/data/com.termux/files/home/.cpanm/work/1721060698.1761/Encode-3.21/TW'
"/data/data/com.termux/files/usr/bin/perl" -MExtUtils::Command::MM -e 'cp_nonempty' -- TW.bs ../blib/arch/auto/Encode/TW/TW.bs 644
No tests defined for Encode::TW extension.
make[1]: Leaving directory '/data/data/com.termux/files/home/.cpanm/work/1721060698.1761/Encode-3.21/TW'
make[1]: Entering directory '/data/data/com.termux/files/home/.cpanm/work/1721060698.1761/Encode-3.21/Unicode'
"/data/data/com.termux/files/usr/bin/perl" -MExtUtils::Command::MM -e 'cp_nonempty' -- Unicode.bs ../blib/arch/auto/Encode/Unicode/Unicode.bs 644
No tests defined for Encode::Unicode extension.
make[1]: Leaving directory '/data/data/com.termux/files/home/.cpanm/work/1721060698.1761/Encode-3.21/Unicode'
PERL_DL_NONLAZY=1 "/data/data/com.termux/files/usr/bin/perl" "-MExtUtils::Command::MM" "-MTest::Harness" "-e" "undef *Test::Harness::Switches; test_harness(0, 'blib/lib', 'blib/arch')" t/*.t
t/Aliases.t ................ ok
t/at-cn.t .................. ok
t/at-tw.t .................. ok
t/CJKT.t ................... ok
t/cow.t .................... ok
t/decode.t ................. ok
t/enc_data.t ............... skipped: encoding pragma not supported in Perl 5.25 or later
t/enc_eucjp.t .............. skipped: Perl <=5.25.2 or cperl required
t/enc_module.t ............. skipped: encoding pragma not supported in Perl 5.25 or later
t/enc_utf8.t ............... skipped: Perl <=5.25.2 or cperl required
t/Encode.t ................. ok
t/Encoder.t ................ ok
t/encoding-locale.t ........ ok
t/encoding.t ............... skipped: encoding pragma not supported in Perl 5.25 or later
t/fallback.t ............... ok
t/from_to.t ................ ok
t/grow.t ................... ok
t/gsm0338.t ................ ok
t/guess.t .................. ok
t/isa.t .................... ok
t/jis7-fallback.t .......... ok
t/jperl.t .................. skipped: encoding pragma not supported in Perl 5.25 or later
t/magic.t .................. ok
t/mime-header.t ............ ok
t/mime-name.t .............. ok
t/mime_header_iso2022jp.t .. ok
t/perlio.t ................. ok
t/piconv.t ................. ok
t/rt113164.t ............... ok
t/rt65541.t ................ ok
t/rt76824.t ................ ok
t/rt85489.t ................ ok
t/rt86327.t ................ ok
t/taint.t .................. ok
t/truncated_utf8.t ......... ok
t/undef.t .................. ok
t/Unicode.t ................ ok
t/Unicode_trailing_nul.t ... ok
t/use-Encode-Alias.t ....... ok
t/utf32warnings.t .......... ok
t/utf8ref.t ................ ok
t/utf8strict.t ............. ok
t/utf8warnings.t ........... ok
t/whatwg-aliases.t ......... skipped: For maintainers only
t/xml.t .................... ok
All tests successful.
Files=45, Tests=7769, 17 wallclock secs ( 1.52 usr  0.24 sys + 12.59 cusr  3.64 csys = 17.99 CPU)
Result: PASS

------------------------------
PREREQUISITES
------------------------------

Prerequisite modules loaded:

runtime:

    Module              Need  Have 
    ------------------- ----- -----
    Exporter            5.57  5.78 
    parent              0.221 0.241
    Storable            0     3.32 

build:

    Module              Need  Have 
    ------------------- ----- -----
    ExtUtils::MakeMaker 0     7.70 

configure:

    Module              Need  Have 
    ------------------- ----- -----
    ExtUtils::MakeMaker 0     7.70 


------------------------------
ENVIRONMENT AND OTHER CONTEXT
------------------------------

Environment variables:

    CCFLAGS = -s -march=native -O3 -pipe -fno-plt -fexceptions -Wp,-D_FORTIFY_SOURCE=2 -Wformat -Werror=format-security
    LANG = en_US.UTF-8
    LDFLAGS = -Wl,-O1,--sort-common,--as-needed,-z,relro,-z,now
    PATH = /data/data/com.termux/files/usr/bin
    PERL_MM_OPT = OPTIMIZE="-s -march=native -O3 -pipe -fno-plt"
    PREFIX = /data/data/com.termux/files/usr
    SHELL = /data/data/com.termux/files/usr/bin/zsh
    TEMP = /tmp
    TERM = xterm-256color
    TMPDIR = /data/data/com.termux/files/usr/tmp

Perl special variables (and OS-specific diagnostics, for MSWin32):

    EGID = 10206 3003 9997 20206 50206
    EUID = 10206
    EXECUTABLE_NAME = /data/data/com.termux/files/usr/bin/perl
    GID = 10206 3003 9997 20206 50206
    UID = 10206

Perl module toolchain versions installed:

    Module              Have    
    ------------------- --------
    CPAN                2.36    
    CPAN::Meta          2.150010
    Cwd                 3.89    
    ExtUtils::CBuilder  0.280238
    ExtUtils::Command   7.70    
    ExtUtils::Install   2.22    
    ExtUtils::MakeMaker 7.70    
    ExtUtils::Manifest  1.75    
    ExtUtils::ParseXS   3.51    
    File::Spec          3.88    
    JSON                4.10    
    JSON::PP            4.16    
    Module::Build       0.4234  
    Module::Signature   0.88    
    Parse::CPAN::Meta   2.150010
    Test::Harness       3.48    
    Test::More          1.302199
    YAML                n/a     
    YAML::Syck          n/a     
    version             0.9932  


--

Summary of my perl5 (revision 5 version 38 subversion 2) configuration:
   
  Platform:
    osname=android
    osvers=current
    archname=aarch64-android
    uname=''
    config_args='--target=aarch64-linux-android --with-cc=aarch64-linux-android-clang --with-ranlib=llvm-ranlib -Dosname=android -Dsysroot=-I/data/data/com.termux/files -Dprefix=/data/data/com.termux/files/usr -Dsh=/data/data/com.termux/files/usr/bin/sh -Dld=aarch64-linux-android-clang -Wl,-rpath=/data/data/com.termux/files/usr/lib -Wl,--enable-new-dtags -Dar=llvm-ar -Duseshrplib -Duseithreads -Dusemultiplicity -Doptimize=-O2 --with-libs=-lm -L/data/data/com.termux/files/usr/lib -landroid-utimes --keeplog --mode=target --target=aarch64-linux-android --targetarch=aarch64-unknown-linux-android'
    hint=default
    useposix=true
    d_sigaction=define
    useithreads=define
    usemultiplicity=define
    use64bitint=undef
    use64bitall=undef
    uselongdouble=undef
    usemymalloc=n
    default_inc_excludes_dot=define
  Compiler:
    cc='aarch64-linux-android-clang'
    ccflags ='-I/data/data/com.termux/files/usr/include  -D__USE_BSD=1 -D_LARGEFILE_SOURCE -D_FILE_OFFSET_BITS=64'
    optimize='-O2'
    cppflags='-I/data/data/com.termux/files/usr/include'
    ccversion=''
    gccversion='0.0'
    gccosandvers=''
    intsize=4
    longsize=8
    ptrsize=8
    doublesize=8
    byteorder=12345678
    doublekind=3
    d_longlong=define
    longlongsize=8
    d_longdbl=define
    longdblsize=16
    longdblkind=0
    ivtype='long'
    ivsize=8
    nvtype='double'
    nvsize=8
    Off_t='off_t'
    lseeksize=8
    alignbytes=8
    prototype=define
  Linker and Libraries:
    ld='aarch64-linux-android-clang -Wl,-rpath=/data/data/com.termux/files/usr/lib -Wl,--enable-new-dtags'
    ldflags ='-I/data/data/com.termux/files/usr/include  -Wl,-rpath=/data/data/com.termux/files/usr/lib -L/data/data/com.termux/files/usr/lib -landroid-utimes -lm'
    libpth=/data/data/com.termux/files/usr/lib /data/data/com.termux/files/usr/local/lib
    libs=-lm -L/data/data/com.termux/files/usr/lib -landroid-utimes
    perllibs=-lm
    libc=
    so=so
    useshrplib=true
    libperl=libperl.so
    gnulibc_version=''
  Dynamic Linking:
    dlsrc=dl_dlopen.xs
    dlext=so
    d_dlsymun=undef
    ccdlflags='-Wl,-E'
    cccdlflags='-fPIC -Wno-unused-function'
    lddlflags='-I/data/data/com.termux/files/usr/include -shared -I/data/data/com.termux/files/usr/include  -Wl,-rpath=/data/data/com.termux/files/usr/lib -L/data/data/com.termux/files/usr/lib -landroid-utimes -lm'


Characteristics of this binary (from libperl): 
  Compile-time options:
    HAS_LONG_DOUBLE
    HAS_STRTOLD
    HAS_TIMES
    MULTIPLICITY
    PERLIO_LAYERS
    PERL_COPY_ON_WRITE
    PERL_DONT_CREATE_GVSV
    PERL_HASH_FUNC_SIPHASH13
    PERL_HASH_USE_SBOX32
    PERL_MALLOC_WRAP
    PERL_OP_PARENT
    PERL_PRESERVE_IVUV
    PERL_USE_SAFE_PUTENV
    USE_ITHREADS
    USE_LARGE_FILES
    USE_LOCALE
    USE_LOCALE_COLLATE
    USE_LOCALE_CTYPE
    USE_LOCALE_NUMERIC
    USE_LOCALE_TIME
    USE_PERLIO
    USE_PERL_ATOF
    USE_REENTRANT_API
    USE_THREAD_SAFE_LOCALE
  Built under android
  Compiled at May  6 2024 02:27:37
  %ENV:
    PERL_MM_OPT="OPTIMIZE="-s -march=native -O3 -pipe -fno-plt""
  @INC:
    /data/data/com.termux/files/usr/lib/perl5/site_perl/5.38.2/aarch64-android
    /data/data/com.termux/files/usr/lib/perl5/site_perl/5.38.2
    /data/data/com.termux/files/usr/lib/perl5/5.38.2/aarch64-android
    /data/data/com.termux/files/usr/lib/perl5/5.38.2