FunctionalPerl v0.72.66 Perl 5 v5.24.4 x86_64-linux

Status
Pass
From
Andreas J. König (ANDK)
Dist
FunctionalPerl v0.72.66
Platform
Perl 5 v5.24.4 x86_64-linux
Date
2022-03-16 19:49:37
ID
35ef4c66-a562-11ec-994d-041a51da1828
This distribution has been tested as part of the CPAN Testers
project, supporting the Perl programming language.  See
http://wiki.cpantesters.org/ for more information or email
questions to cpan-testers-discuss@perl.org


--
Dear Christian Jaeger,

This is a computer-generated report for FunctionalPerl-0.72.66
on perl 5.24.4, created by CPAN-Reporter-1.2018.

Thank you for uploading your work to CPAN.  Congratulations!
All tests were successful.

Sections of this report:

    * Tester comments
    * Program output
    * Prerequisites
    * Environment and other context

------------------------------
TESTER COMMENTS
------------------------------

Additional comments from tester:

none provided

------------------------------
PROGRAM OUTPUT
------------------------------

Output from '/usr/bin/make test':

PERL_DL_NONLAZY=1 "/home/sand/src/perl/repoperls/installed-perls/host/k93msid/v5.24.4/da1c/bin/perl" "-MExtUtils::Command::MM" "-MTest::Harness" "-e" "undef *Test::Harness::Switches; test_harness(0, 'blib/lib', 'blib/arch')" t/*.t
t/csv_to_xml.t ........................... ok
t/dbi.t .................................. ok
t/examples-csv-to-json.t ................. ok
times for fib: user = 0.08, system = 0, cuser = 0, csystem = 0
times for fibonacci: user = 0.05, system = 0, cuser = 0, csystem = 0
t/examples-fibs.t ........................ ok
t/examples-functional-classes.t .......... ok
not activating since running in test mode at examples//../lib/FP/Repl/Trap.pm line 47.
t/examples-hiring-without-whiteboards.t .. ok
not activating since running in test mode at examples//../lib/FP/Repl/Trap.pm line 47.
t/examples-logic.t ....................... ok
t/examples-perlweekly-111-1.t ............ skipped: Perl v5.32.1 required--this is only v5.24.4, stopped at (eval 74) line 2.
times: user = 0.01, system = 0, cuser = 0, csystem = 0
times: user = 0.03, system = 0.01, cuser = 0, csystem = 0
times: user = 0.03, system = 0, cuser = 0, csystem = 0
t/examples-perlweekly-113-1.t ............ ok
t/examples-perlweekly-113-2.t ............ ok
t/examples-primes.t ...................... ok
t/functional_XML-t-div.t ................. ok
t/functional_XML-test.t .................. ok
not activating since running in test mode at ../.htmlgen//../lib/FP/Repl/AutoTrap.pm line 64.
t/htmlgen.t .............................. ok
not activating since running in test mode at intro//../lib/FP/Repl/AutoTrap.pm line 64.
t/intro-basics.t ......................... ok
t/perl-goto-leak.t ....................... ok
t/perl-weaken-coderef-correctness.t ...... ok
t/perl-weaken-coderef.t .................. ok
Argument "1/8" isn't numeric in numeric eq (==) at lib/FP/Collection.pm line 104.
Argument "1/8" isn't numeric in numeric eq (==) at lib/FP/Collection.pm line 104.
Argument "2/8" isn't numeric in numeric eq (==) at lib/FP/Collection.pm line 104.
Argument "1/8" isn't numeric in numeric eq (==) at lib/FP/Collection.pm line 104.
Argument "2/8" isn't numeric in numeric eq (==) at lib/FP/Collection.pm line 104.
Argument "1/8" isn't numeric in numeric eq (==) at lib/FP/Collection.pm line 104.
t/pod_snippets.t ......................... ok
t/predicates.t ........................... ok
t/repl.t ................................. ok
not activating since running in test mode at lib/FP/Repl/AutoTrap.pm line 64.
not activating since running in test mode at lib/FP/Repl/Trap.pm line 47.
Reference is already weak at lib/FP/Stream.pm line 769.
t/require_and_run_tests.t ................ ok
t/skip-internal.t ........................ ok
t/skip-leak.t ............................ ok
t/skip.t ................................. ok
t/testlazy.t ............................. ok
t/testlazy10.t ........................... ok
times for T: user = 0.06, system = 0, cuser = 0, csystem = 0
times for TC: user = 0.05, system = 0, cuser = 0, csystem = 0
t/trampoline-fix.t ....................... ok
All tests successful.
Files=28, Tests=175, 33 wallclock secs ( 0.14 usr  0.15 sys + 11.73 cusr  4.04 csys = 16.06 CPU)
Result: PASS

------------------------------
PREREQUISITES
------------------------------

Prerequisite modules loaded:

requires:

    Module              Need     Have    
    ------------------- -------- --------
    autobox             0        v3.0.1  
    base                0        2.23_01 
    Digest              0        1.20    
    File::Path          0        2.18    
    Getopt::Long        0        2.51    
    Import::Into        0        1.002005
    Math::BigInt        0        1.999818
    NEXT                0        0.65    
    overload            0        1.26    
    perl                5.016004 5.024004
    PerlIO::utf8_strict 0        0.007   
    Safe::Isa           0        1.000010
    Scalar::Util        0        1.56    
    Symbol              0        1.07    
    Test::More          0.96     1.302190
    utf8                0        1.19    
    warnings            0        1.36    

build_requires:

    Module              Need     Have    
    ------------------- -------- --------
    BSD::Resource       0        1.2911  
    Capture::Tiny       0        0.48    
    DBD::CSV            0        0.59    
    DBI                 0        1.643   
    ExtUtils::MakeMaker 0        7.64    
    Sub::Util           0        1.56    
    Test::Pod::Snippets 0        0.07    
    Test::Requires      0        0.10    
    Text::CSV           0        2.01    
    URI                 0        1.76    

configure_requires:

    Module              Need     Have    
    ------------------- -------- --------
    ExtUtils::MakeMaker 0        7.64    


------------------------------
ENVIRONMENT AND OTHER CONTEXT
------------------------------

Environment variables:

    LANG = en_US.UTF-8
    PATH = /home/sand/bin:/usr/local/bin:/usr/bin:/bin:/usr/games:/usr/local/perl/bin:/usr/X11/bin:/sbin:/usr/sbin
    PERL = /home/sand/src/perl/repoperls/installed-perls/host/k93msid/v5.24.4/da1c/bin/perl
    PERL5LIB = /tmp/loop_over_bdir-bQg7EB/FCGI-Client-0.09-0/blib/arch:/tmp/loop_over_bdir-bQg7EB/FCGI-Client-0.09-0/blib/lib:/tmp/loop_over_bdir-bQg7EB/Test-DiagINC-0.008-0/blib/arch:/tmp/loop_over_bdir-bQg7EB/Test-DiagINC-0.008-0/blib/lib:/tmp/loop_over_bdir-bQg7EB/Module-Mask-0.06-0/blib/arch:/tmp/loop_over_bdir-bQg7EB/Module-Mask-0.06-0/blib/lib:/tmp/loop_over_bdir-bQg7EB/Inline-CPP-0.80-0/blib/arch:/tmp/loop_over_bdir-bQg7EB/Inline-CPP-0.80-0/blib/lib
    PERL5OPT = 
    PERL5_CPANPLUS_IS_RUNNING = 2213356
    PERL5_CPAN_IS_RUNNING = 2213356
    PERL_USE_UNSAFE_INC = 1
    SHELL = /usr/bin/zsh
    TERM = screen

Perl special variables (and OS-specific diagnostics, for MSWin32):

    $^X = /home/sand/src/perl/repoperls/installed-perls/host/k93msid/v5.24.4/da1c/bin/perl
    $UID/$EUID = 1005 / 1005
    $GID = 1005 1005
    $EGID = 1005 1005

Perl module toolchain versions installed:

    Module              Have    
    ------------------- --------
    CPAN                2.29    
    CPAN::Meta          2.150010
    Cwd                 3.75    
    ExtUtils::CBuilder  0.280236
    ExtUtils::Command   7.64    
    ExtUtils::Install   2.20    
    ExtUtils::MakeMaker 7.64    
    ExtUtils::Manifest  1.73    
    ExtUtils::ParseXS   3.44    
    File::Spec          3.75    
    JSON                4.05    
    JSON::PP            4.07    
    Module::Build       0.4229  
    Module::Signature   0.83    
    Parse::CPAN::Meta   2.150010
    Test::Harness       3.42    
    Test::More          1.302190
    YAML                1.29    
    YAML::Syck          1.31    
    version             0.9925  


--

Summary of my perl5 (revision 5 version 24 subversion 4) configuration:
  Derived from: 901dd848e31de6d0cacfb77c029b4e92c41a13ce
  Platform:
    osname=linux, osvers=5.3.0-2-amd64, archname=x86_64-linux
    uname='linux k93msid 5.3.0-2-amd64 #1 smp debian 5.3.9-3 (2019-11-19) x86_64 gnulinux '
    config_args='-Dprefix=/home/sand/src/perl/repoperls/installed-perls/host/k93msid/v5.24.4/da1c -Dmyhostname=k93msid -Dinstallusrbinperl=n -Uversiononly -Dusedevel -des -Ui_db -Dlibswanted=cl pthread socket inet nsl gdbm dbm malloc dl ld sun m crypt sec util c cposix posix ucb BSD gdbm_compat -Uuseithreads -Uuselongdouble -DEBUGGING=-g'
    hint=recommended, useposix=true, d_sigaction=define
    useithreads=undef, usemultiplicity=undef
    use64bitint=define, use64bitall=define, uselongdouble=undef
    usemymalloc=n, bincompat5005=undef
  Compiler:
    cc='cc', ccflags ='-fwrapv -fno-strict-aliasing -pipe -fstack-protector-strong -I/usr/local/include -D_LARGEFILE_SOURCE -D_FILE_OFFSET_BITS=64',
    optimize='-O2 -g',
    cppflags='-fwrapv -fno-strict-aliasing -pipe -fstack-protector-strong -I/usr/local/include'
    ccversion='', gccversion='9.2.1 20191109', gccosandvers=''
    intsize=4, longsize=8, ptrsize=8, doublesize=8, byteorder=12345678, doublekind=3
    d_longlong=define, longlongsize=8, d_longdbl=define, longdblsize=16, longdblkind=3
    ivtype='long', ivsize=8, nvtype='double', nvsize=8, Off_t='off_t', lseeksize=8
    alignbytes=8, prototype=define
  Linker and Libraries:
    ld='cc', ldflags =' -fstack-protector-strong -L/usr/local/lib'
    libpth=/usr/local/lib /usr/lib/gcc/x86_64-linux-gnu/9/include-fixed /usr/include/x86_64-linux-gnu /usr/lib /lib/x86_64-linux-gnu /lib/../lib /usr/lib/x86_64-linux-gnu /usr/lib/../lib /lib
    libs=-lpthread -lnsl -ldl -lm -lcrypt -lutil -lc
    perllibs=-lpthread -lnsl -ldl -lm -lcrypt -lutil -lc
    libc=libc-2.29.so, so=so, useshrplib=false, libperl=libperl.a
    gnulibc_version='2.29'
  Dynamic Linking:
    dlsrc=dl_dlopen.xs, dlext=so, d_dlsymun=undef, ccdlflags='-Wl,-E'
    cccdlflags='-fPIC', lddlflags='-shared -O2 -g -L/usr/local/lib -fstack-protector-strong'


Characteristics of this binary (from libperl): 
  Compile-time options: HAS_TIMES PERLIO_LAYERS PERL_COPY_ON_WRITE
                        PERL_DONT_CREATE_GVSV
                        PERL_HASH_FUNC_ONE_AT_A_TIME_HARD PERL_MALLOC_WRAP
                        PERL_PRESERVE_IVUV PERL_USE_DEVEL USE_64_BIT_ALL
                        USE_64_BIT_INT USE_LARGE_FILES USE_LOCALE
                        USE_LOCALE_COLLATE USE_LOCALE_CTYPE
                        USE_LOCALE_NUMERIC USE_LOCALE_TIME USE_PERLIO
                        USE_PERL_ATOF
  Locally applied patches:
	uncommitted-changes
  Built under linux
  Compiled at Nov 24 2019 19:04:36
  %ENV:
    PERL="/home/sand/src/perl/repoperls/installed-perls/host/k93msid/v5.24.4/da1c/bin/perl"
    PERL5LIB="/tmp/loop_over_bdir-bQg7EB/FCGI-Client-0.09-0/blib/arch:/tmp/loop_over_bdir-bQg7EB/FCGI-Client-0.09-0/blib/lib:/tmp/loop_over_bdir-bQg7EB/Test-DiagINC-0.008-0/blib/arch:/tmp/loop_over_bdir-bQg7EB/Test-DiagINC-0.008-0/blib/lib:/tmp/loop_over_bdir-bQg7EB/Module-Mask-0.06-0/blib/arch:/tmp/loop_over_bdir-bQg7EB/Module-Mask-0.06-0/blib/lib:/tmp/loop_over_bdir-bQg7EB/Inline-CPP-0.80-0/blib/arch:/tmp/loop_over_bdir-bQg7EB/Inline-CPP-0.80-0/blib/lib"
    PERL5OPT=""
    PERL5_CPANPLUS_IS_RUNNING="2213356"
    PERL5_CPAN_IS_RUNNING="2213356"
    PERL_USE_UNSAFE_INC="1"
  @INC:
    /tmp/loop_over_bdir-bQg7EB/FCGI-Client-0.09-0/blib/arch
    /tmp/loop_over_bdir-bQg7EB/FCGI-Client-0.09-0/blib/lib
    /tmp/loop_over_bdir-bQg7EB/Test-DiagINC-0.008-0/blib/arch
    /tmp/loop_over_bdir-bQg7EB/Test-DiagINC-0.008-0/blib/lib
    /tmp/loop_over_bdir-bQg7EB/Module-Mask-0.06-0/blib/arch
    /tmp/loop_over_bdir-bQg7EB/Module-Mask-0.06-0/blib/lib
    /tmp/loop_over_bdir-bQg7EB/Inline-CPP-0.80-0/blib/arch
    /tmp/loop_over_bdir-bQg7EB/Inline-CPP-0.80-0/blib/lib
    /home/sand/src/perl/repoperls/installed-perls/host/k93msid/v5.24.4/da1c/lib/site_perl/5.24.4/x86_64-linux
    /home/sand/src/perl/repoperls/installed-perls/host/k93msid/v5.24.4/da1c/lib/site_perl/5.24.4
    /home/sand/src/perl/repoperls/installed-perls/host/k93msid/v5.24.4/da1c/lib/5.24.4/x86_64-linux
    /home/sand/src/perl/repoperls/installed-perls/host/k93msid/v5.24.4/da1c/lib/5.24.4
    .