Text-Conceal v1.05 Perl 5 v5.16.3 amd64-freebsd-thread-multi
- Status
- Pass
- From
- Slaven Rezić
- Dist
-
Text-Conceal v1.05
- Platform
- Perl 5 v5.16.3 amd64-freebsd-thread-multi
- Date
- 2025-02-28 18:24:08
- ID
- 33486ca2-f601-11ef-8bda-64f26d8775ea
This distribution has been tested as part of the CPAN Testers
project, supporting the Perl programming language. See
http://wiki.cpantesters.org/ for more information or email
questions to cpan-testers-discuss@perl.org
--
Dear Kaz Utashiro,
This is a computer-generated report for Text-Conceal-1.05
on perl 5.16.3, created by CPAN-Reporter-1.2019.
Thank you for uploading your work to CPAN. Congratulations!
All tests were successful.
Sections of this report:
* Tester comments
* Program output
* Prerequisites
* Environment and other context
------------------------------
TESTER COMMENTS
------------------------------
Additional comments from tester:
none provided
------------------------------
PROGRAM OUTPUT
------------------------------
Output from './Build test':
t/00_compile.t ............. ok
t/VPrintf/01_simple.t ...... ok
t/VPrintf/02_multi.t ....... ok
t/VPrintf/03_special.t ..... ok
Unknown charname 'KATAKANA LETTER SMALL KI' at (eval 23) line 1.
Unknown charname 'KATAKANA LETTER SMALL KO' at (eval 29) line 1.
Unknown charname 'KATAKANA LETTER SMALL SA' at (eval 31) line 1.
Unknown charname 'KATAKANA LETTER SMALL SE' at (eval 37) line 1.
Unknown charname 'KATAKANA LETTER SMALL SO' at (eval 39) line 1.
Unknown charname 'KATAKANA LETTER SMALL TA' at (eval 41) line 1.
Unknown charname 'KATAKANA LETTER SMALL TI' at (eval 43) line 1.
Unknown charname 'KATAKANA LETTER SMALL TE' at (eval 47) line 1.
Unknown charname 'KATAKANA LETTER SMALL NA' at (eval 51) line 1.
Unknown charname 'KATAKANA LETTER SMALL NI' at (eval 53) line 1.
Unknown charname 'KATAKANA LETTER SMALL NE' at (eval 57) line 1.
Unknown charname 'KATAKANA LETTER SMALL NO' at (eval 59) line 1.
Unknown charname 'KATAKANA LETTER SMALL MA' at (eval 71) line 1.
Unknown charname 'KATAKANA LETTER SMALL MI' at (eval 73) line 1.
Unknown charname 'KATAKANA LETTER SMALL ME' at (eval 77) line 1.
Unknown charname 'KATAKANA LETTER SMALL MO' at (eval 79) line 1.
Unknown charname 'KATAKANA LETTER YI' at (eval 82) line 1.
Unknown charname 'KATAKANA LETTER SMALL YI' at (eval 83) line 1.
Unknown charname 'KATAKANA LETTER YE' at (eval 86) line 1.
Unknown charname 'KATAKANA LETTER SMALL YE' at (eval 87) line 1.
Unknown charname 'KATAKANA LETTER SMALL WI' at (eval 103) line 1.
Unknown charname 'KATAKANA LETTER WU' at (eval 104) line 1.
Unknown charname 'KATAKANA LETTER SMALL WU' at (eval 105) line 1.
Unknown charname 'KATAKANA LETTER SMALL WE' at (eval 107) line 1.
Unknown charname 'KATAKANA LETTER SMALL WO' at (eval 109) line 1.
Unknown charname 'KATAKANA LETTER SMALL GA' at (eval 111) line 1.
Unknown charname 'KATAKANA LETTER SMALL GI' at (eval 113) line 1.
Unknown charname 'KATAKANA LETTER SMALL GU' at (eval 115) line 1.
Unknown charname 'KATAKANA LETTER SMALL GE' at (eval 117) line 1.
Unknown charname 'KATAKANA LETTER SMALL GO' at (eval 119) line 1.
Unknown charname 'KATAKANA LETTER SMALL ZA' at (eval 121) line 1.
Unknown charname 'KATAKANA LETTER SMALL ZI' at (eval 123) line 1.
Unknown charname 'KATAKANA LETTER SMALL ZU' at (eval 125) line 1.
Unknown charname 'KATAKANA LETTER SMALL ZE' at (eval 127) line 1.
Unknown charname 'KATAKANA LETTER SMALL ZO' at (eval 129) line 1.
Unknown charname 'KATAKANA LETTER SMALL DA' at (eval 131) line 1.
Unknown charname 'KATAKANA LETTER SMALL DI' at (eval 133) line 1.
Unknown charname 'KATAKANA LETTER SMALL DU' at (eval 135) line 1.
Unknown charname 'KATAKANA LETTER SMALL DE' at (eval 137) line 1.
Unknown charname 'KATAKANA LETTER SMALL DO' at (eval 139) line 1.
Unknown charname 'KATAKANA LETTER SMALL BA' at (eval 141) line 1.
Unknown charname 'KATAKANA LETTER SMALL BI' at (eval 143) line 1.
Unknown charname 'KATAKANA LETTER SMALL BU' at (eval 145) line 1.
Unknown charname 'KATAKANA LETTER SMALL BE' at (eval 147) line 1.
Unknown charname 'KATAKANA LETTER SMALL BO' at (eval 149) line 1.
Unknown charname 'KATAKANA LETTER SMALL PA' at (eval 151) line 1.
Unknown charname 'KATAKANA LETTER SMALL PI' at (eval 153) line 1.
Unknown charname 'KATAKANA LETTER SMALL PU' at (eval 155) line 1.
Unknown charname 'KATAKANA LETTER SMALL PE' at (eval 157) line 1.
Unknown charname 'KATAKANA LETTER SMALL PO' at (eval 159) line 1.
Unknown charname 'HIRAGANA LETTER SMALL KI' at (eval 173) line 1.
Unknown charname 'HIRAGANA LETTER SMALL KU' at (eval 175) line 1.
Unknown charname 'HIRAGANA LETTER SMALL KO' at (eval 179) line 1.
Unknown charname 'HIRAGANA LETTER SMALL SA' at (eval 181) line 1.
Unknown charname 'HIRAGANA LETTER SMALL SI' at (eval 183) line 1.
Unknown charname 'HIRAGANA LETTER SMALL SU' at (eval 185) line 1.
Unknown charname 'HIRAGANA LETTER SMALL SE' at (eval 187) line 1.
Unknown charname 'HIRAGANA LETTER SMALL SO' at (eval 189) line 1.
Unknown charname 'HIRAGANA LETTER SMALL TA' at (eval 191) line 1.
Unknown charname 'HIRAGANA LETTER SMALL TI' at (eval 193) line 1.
Unknown charname 'HIRAGANA LETTER SMALL TE' at (eval 197) line 1.
Unknown charname 'HIRAGANA LETTER SMALL TO' at (eval 199) line 1.
Unknown charname 'HIRAGANA LETTER SMALL NA' at (eval 201) line 1.
Unknown charname 'HIRAGANA LETTER SMALL NI' at (eval 203) line 1.
Unknown charname 'HIRAGANA LETTER SMALL NU' at (eval 205) line 1.
Unknown charname 'HIRAGANA LETTER SMALL NE' at (eval 207) line 1.
Unknown charname 'HIRAGANA LETTER SMALL NO' at (eval 209) line 1.
Unknown charname 'HIRAGANA LETTER SMALL HA' at (eval 211) line 1.
Unknown charname 'HIRAGANA LETTER SMALL HI' at (eval 213) line 1.
Unknown charname 'HIRAGANA LETTER SMALL HU' at (eval 215) line 1.
Unknown charname 'HIRAGANA LETTER SMALL HE' at (eval 217) line 1.
Unknown charname 'HIRAGANA LETTER SMALL HO' at (eval 219) line 1.
Unknown charname 'HIRAGANA LETTER SMALL MA' at (eval 221) line 1.
Unknown charname 'HIRAGANA LETTER SMALL MI' at (eval 223) line 1.
Unknown charname 'HIRAGANA LETTER SMALL MU' at (eval 225) line 1.
Unknown charname 'HIRAGANA LETTER SMALL ME' at (eval 227) line 1.
Unknown charname 'HIRAGANA LETTER SMALL MO' at (eval 229) line 1.
Unknown charname 'HIRAGANA LETTER YI' at (eval 232) line 1.
Unknown charname 'HIRAGANA LETTER SMALL YI' at (eval 233) line 1.
Unknown charname 'HIRAGANA LETTER YE' at (eval 236) line 1.
Unknown charname 'HIRAGANA LETTER SMALL YE' at (eval 237) line 1.
Unknown charname 'HIRAGANA LETTER SMALL RA' at (eval 241) line 1.
Unknown charname 'HIRAGANA LETTER SMALL RI' at (eval 243) line 1.
Unknown charname 'HIRAGANA LETTER SMALL RU' at (eval 245) line 1.
Unknown charname 'HIRAGANA LETTER SMALL RE' at (eval 247) line 1.
Unknown charname 'HIRAGANA LETTER SMALL RO' at (eval 249) line 1.
Unknown charname 'HIRAGANA LETTER SMALL WI' at (eval 253) line 1.
Unknown charname 'HIRAGANA LETTER WU' at (eval 254) line 1.
Unknown charname 'HIRAGANA LETTER SMALL WU' at (eval 255) line 1.
Unknown charname 'HIRAGANA LETTER SMALL WE' at (eval 257) line 1.
Unknown charname 'HIRAGANA LETTER SMALL WO' at (eval 259) line 1.
Unknown charname 'HIRAGANA LETTER SMALL GA' at (eval 261) line 1.
Unknown charname 'HIRAGANA LETTER SMALL GI' at (eval 263) line 1.
Unknown charname 'HIRAGANA LETTER SMALL GU' at (eval 265) line 1.
Unknown charname 'HIRAGANA LETTER SMALL GE' at (eval 267) line 1.
Unknown charname 'HIRAGANA LETTER SMALL GO' at (eval 269) line 1.
Unknown charname 'HIRAGANA LETTER SMALL ZA' at (eval 271) line 1.
Unknown charname 'HIRAGANA LETTER SMALL ZI' at (eval 273) line 1.
Unknown charname 'HIRAGANA LETTER SMALL ZU' at (eval 275) line 1.
Unknown charname 'HIRAGANA LETTER SMALL ZE' at (eval 277) line 1.
Unknown charname 'HIRAGANA LETTER SMALL ZO' at (eval 279) line 1.
Unknown charname 'HIRAGANA LETTER SMALL DA' at (eval 281) line 1.
Unknown charname 'HIRAGANA LETTER SMALL DI' at (eval 283) line 1.
Unknown charname 'HIRAGANA LETTER SMALL DU' at (eval 285) line 1.
Unknown charname 'HIRAGANA LETTER SMALL DE' at (eval 287) line 1.
Unknown charname 'HIRAGANA LETTER SMALL DO' at (eval 289) line 1.
Unknown charname 'HIRAGANA LETTER SMALL BA' at (eval 291) line 1.
Unknown charname 'HIRAGANA LETTER SMALL BI' at (eval 293) line 1.
Unknown charname 'HIRAGANA LETTER SMALL BU' at (eval 295) line 1.
Unknown charname 'HIRAGANA LETTER SMALL BE' at (eval 297) line 1.
Unknown charname 'HIRAGANA LETTER SMALL BO' at (eval 299) line 1.
Unknown charname 'HIRAGANA LETTER SMALL PA' at (eval 301) line 1.
Unknown charname 'HIRAGANA LETTER SMALL PI' at (eval 303) line 1.
Unknown charname 'HIRAGANA LETTER SMALL PU' at (eval 305) line 1.
Unknown charname 'HIRAGANA LETTER SMALL PE' at (eval 307) line 1.
Unknown charname 'HIRAGANA LETTER SMALL PO' at (eval 309) line 1.
t/VPrintf/04_combined.t .... ok
t/VPrintf/05_filehandle.t .. ok
t/VPrintf/07_backspace.t ... ok
t/VPrintf/08_duplicate.t ... ok
t/VPrintf/09_zerowidth.t ... ok
All tests successful.
Files=9, Tests=587, 2 wallclock secs ( 0.05 usr 0.03 sys + 1.02 cusr 0.20 csys = 1.30 CPU)
Result: PASS
------------------------------
PREREQUISITES
------------------------------
Prerequisite modules loaded:
requires:
Module Need Have
--------------------- ------- --------
perl v5.14.0 5.016003
Text::ANSI::Fold 2.30 2.30
build_requires:
Module Need Have
--------------------- ------- --------
Test::More 0.98 1.302209
Text::VisualWidth::PP 0.08 0.08
configure_requires:
Module Need Have
--------------------- ------- --------
Module::Build::Tiny 0.035 0.051
------------------------------
ENVIRONMENT AND OTHER CONTEXT
------------------------------
Environment variables:
LC_ALL = de_DE.ISO8859-1
PATH = /usr/local/bin:/usr/bin:/bin:/usr/local/sbin:/usr/sbin:/sbin:/home/cpansand/bin/freebsd9.3:/home/cpansand/bin/sh:/home/cpansand/bin:/usr/games:/home/cpansand/devel:/usr/home/eserte/src/srezic-misc/scripts
PERL5LIB =
PERL5OPT =
PERL5_CPANPLUS_IS_RUNNING = 69135
PERL5_CPAN_IS_RUNNING = 69135
PERL5_CPAN_IS_RUNNING_IN_RECURSION = 61611,69135
PERLDOC = -MPod::Perldoc::ToTextOverstrike
PERL_BATCH = yes
PERL_CANARY_STABILITY_NOPROMPT = 1
PERL_CPAN_REPORTER_CONFIG = /var/tmp/cpansmoker-1023/2025022817/cpanreporter_000_config.ini
PERL_EXTUTILS_AUTOINSTALL = --defaultdeps
PERL_USE_UNSAFE_INC = 1
SHELL = /usr/local/bin/zsh
TERM = screen
TMPDIR = /var/tmp/cpansmoker-1023/2025022817
Perl special variables (and OS-specific diagnostics, for MSWin32):
$^X = /usr/perl5.16.3t/bin/perl
$UID/$EUID = 1023 / 1023
$GID = 1023 1023
$EGID = 1023 1023
Perl module toolchain versions installed:
Module Have
------------------- --------
CPAN 2.36
CPAN::Meta 2.150010
Cwd 3.75
ExtUtils::CBuilder 0.280236
ExtUtils::Command 7.70
ExtUtils::Install 2.22
ExtUtils::MakeMaker 7.70
ExtUtils::Manifest 1.75
ExtUtils::ParseXS 3.51
File::Spec 3.75
JSON 4.10
JSON::PP 4.16
Module::Build 0.4234
Module::Signature 0.89
Parse::CPAN::Meta 2.150010
Test2 1.302209
Test::Harness 3.50
Test::More 1.302209
YAML 1.30
YAML::Syck 1.34
version 0.9932
--
Summary of my perl5 (revision 5 version 16 subversion 3) configuration:
Platform:
osname=freebsd, osvers=9.2-release-p4, archname=amd64-freebsd-thread-multi
uname='freebsd cvrsnica-freebsd-92 9.2-release-p4 freebsd 9.2-release-p4 #0: tue apr 8 18:08:22 utc 2014 root@amd64-builder.daemonology.net:usrobjusrsrcsysgeneric amd64 '
config_args='-ds -e -Dprefix=/usr/perl5.16.3t -Dusethreads'
hint=recommended, useposix=true, d_sigaction=define
useithreads=define, usemultiplicity=define
useperlio=define, d_sfio=undef, uselargefiles=define, usesocks=undef
use64bitint=define, use64bitall=define, uselongdouble=undef
usemymalloc=n, bincompat5005=undef
Compiler:
cc='cc', ccflags ='-DHAS_FPSETMASK -DHAS_FLOATINGPOINT_H -fno-strict-aliasing -pipe -fstack-protector -I/usr/local/include',
optimize='-O',
cppflags='-DHAS_FPSETMASK -DHAS_FLOATINGPOINT_H -fno-strict-aliasing -pipe -fstack-protector -I/usr/local/include'
ccversion='', gccversion='4.2.1 20070831 patched [FreeBSD]', gccosandvers=''
intsize=4, longsize=8, ptrsize=8, doublesize=8, byteorder=12345678
d_longlong=define, longlongsize=8, d_longdbl=define, longdblsize=16
ivtype='long', ivsize=8, nvtype='double', nvsize=8, Off_t='off_t', lseeksize=8
alignbytes=8, prototype=define
Linker and Libraries:
ld='cc', ldflags ='-pthread -Wl,-E -fstack-protector -L/usr/local/lib'
libpth=/usr/lib /usr/local/lib
libs=-lgdbm -lm -lcrypt
perllibs=-lm -lcrypt
libc=, so=so, useshrplib=false, libperl=libperl.a
gnulibc_version=''
Dynamic Linking:
dlsrc=dl_dlopen.xs, dlext=so, d_dlsymun=undef, ccdlflags=' '
cccdlflags='-DPIC -fPIC', lddlflags='-shared -L/usr/local/lib -fstack-protector'
Characteristics of this binary (from libperl):
Compile-time options: HAS_TIMES MULTIPLICITY PERLIO_LAYERS
PERL_DONT_CREATE_GVSV PERL_IMPLICIT_CONTEXT
PERL_MALLOC_WRAP PERL_PRESERVE_IVUV USE_64_BIT_ALL
USE_64_BIT_INT USE_ITHREADS USE_LARGE_FILES
USE_LOCALE USE_LOCALE_COLLATE USE_LOCALE_CTYPE
USE_LOCALE_NUMERIC USE_PERLIO USE_PERL_ATOF
USE_REENTRANT_API
Built under freebsd
Compiled at May 16 2014 07:49:48
%ENV:
PERL5LIB=""
PERL5OPT=""
PERL5_CPANPLUS_IS_RUNNING="69135"
PERL5_CPAN_IS_RUNNING="69135"
PERL5_CPAN_IS_RUNNING_IN_RECURSION="61611,69135"
PERLDOC="-MPod::Perldoc::ToTextOverstrike"
PERL_BATCH="yes"
PERL_CANARY_STABILITY_NOPROMPT="1"
PERL_CPAN_REPORTER_CONFIG="/var/tmp/cpansmoker-1023/2025022817/cpanreporter_000_config.ini"
PERL_EXTUTILS_AUTOINSTALL="--defaultdeps"
PERL_USE_UNSAFE_INC="1"
@INC:
/usr/perl5.16.3t/lib/site_perl/5.16.3/amd64-freebsd-thread-multi
/usr/perl5.16.3t/lib/site_perl/5.16.3
/usr/perl5.16.3t/lib/5.16.3/amd64-freebsd-thread-multi
/usr/perl5.16.3t/lib/5.16.3
.