Net-IPAM-Tree v1.12 Perl 5 v5.20.1 MSWin32-x86-multi-thread-64int

Status
Pass
From
Alexandr Ciornii (CHORNY)
Dist
Net-IPAM-Tree v1.12
Platform
Perl 5 v5.20.1 MSWin32-x86-multi-thread-64int
Date
2020-07-17 20:28:40
ID
323d57e0-6bf6-1014-bf0f-fd9497768fa3
This distribution has been tested as part of the CPAN Testers
project, supporting the Perl programming language.  See
http://wiki.cpantesters.org/ for more information or email
questions to cpan-testers-discuss@perl.org


--
Dear Karl Gaissmaier,

This is a computer-generated report for Net-IPAM-Tree-1.12
on perl 5.20.1, created by CPAN-Reporter-1.2014.

Thank you for uploading your work to CPAN.  Congratulations!
All tests were successful.

Sections of this report:

    * Tester comments
    * Program output
    * Prerequisites
    * Environment and other context

------------------------------
TESTER COMMENTS
------------------------------

Additional comments from tester:

this report is from an automated smoke testing program
and was not reviewed by a human for accuracy

------------------------------
PROGRAM OUTPUT
------------------------------

Output from 'C:\Strawberry201\perl\bin\perl.exe ./Build test':

t\00-load.t ....... ok
t\01-new.t ........ ok
t\02-lookup.t ..... ok
t\03-remove.t ..... ok
t\04-to_string.t .. ok
t\05-errors.t ..... ok
t\06-walk.t ....... ok
t\manifest.t ...... skipped: Author tests not required for installation
t\pod-coverage.t .. skipped: Author tests not required for installation
t\pod.t ........... skipped: Author tests not required for installation
All tests successful.
Files=10, Tests=83,  3 wallclock secs ( 0.11 usr +  0.14 sys =  0.25 CPU)
Result: PASS

------------------------------
PREREQUISITES
------------------------------

Prerequisite modules loaded:

requires:

    Module           Need      Have    
    ---------------- --------- --------
    List::MoreUtils  0.420_001 0.428   
    Net::IPAM::Block 1.16      1.16    
    Net::IPAM::IP    1.23      1.23    
    perl             v5.10.0   5.020001
    Scalar::Util     1.39      1.55    

build_requires:

    Module           Need      Have    
    ---------------- --------- --------
    Test::More       0         1.001006

configure_requires:

    Module           Need      Have    
    ---------------- --------- --------
    Module::Build    0.4004    0.4211  


------------------------------
ENVIRONMENT AND OTHER CONTEXT
------------------------------

Environment variables:

    AUTOMATED_TESTING = 1
    COMSPEC = C:\WINDOWS\system32\cmd.exe
    NUMBER_OF_PROCESSORS = 1
    PATH = C:\WINDOWS\system32;C:\WINDOWS;C:\WINDOWS\System32\Wbem;C:\Strawberry201\c\bin;C:\Strawberry201\perl\site\bin;C:\Strawberry201\perl\bin;C:\Git\cmd
    PERL5LIB = C:\STRAWB~1\cpan\build\List-MoreUtils-0.428-xfD8hM/blib/arch;C:\STRAWB~1\cpan\build\List-MoreUtils-0.428-xfD8hM/blib/lib;C:\STRAWB~1\cpan\build\List-MoreUtils-XS-0.428-6x3ZLu/blib/arch;C:\STRAWB~1\cpan\build\List-MoreUtils-XS-0.428-6x3ZLu/blib/lib;C:\STRAWB~1\cpan\build\XSLoader-0.24-HhhNlg/blib/arch;C:\STRAWB~1\cpan\build\XSLoader-0.24-HhhNlg/blib/lib;C:\STRAWB~1\cpan\build\Net-IPAM-Block-1.16-3uPYL9/blib/arch;C:\STRAWB~1\cpan\build\Net-IPAM-Block-1.16-3uPYL9/blib/lib;C:\STRAWB~1\cpan\build\Scalar-List-Utils-1.55-nNU7Uc/blib/arch;C:\STRAWB~1\cpan\build\Scalar-List-Utils-1.55-nNU7Uc/blib/lib;C:\STRAWB~1\cpan\build\Net-IPAM-IP-1.23-8xxPqO/blib/arch;C:\STRAWB~1\cpan\build\Net-IPAM-IP-1.23-8xxPqO/blib/lib;C:\STRAWB~1\cpan\build\Socket-2.030-H8sySJ/blib/arch;C:\STRAWB~1\cpan\build\Socket-2.030-H8sySJ/blib/lib
    PERL5OPT = 
    PERL5_CPANPLUS_IS_RUNNING = 1284
    PERL5_CPAN_IS_RUNNING = 1284
    PERL5_CPAN_IS_RUNNING_IN_RECURSION = 1856,1284
    PERL_CR_SMOKER_CURRENT = Net-IPAM-Tree-1.12
    PERL_CR_SMOKER_RUNONCE = 1
    PERL_EXTUTILS_AUTOINSTALL = --defaultdeps
    PERL_MM_USE_DEFAULT = 1
    PROCESSOR_IDENTIFIER = x86 Family 16 Model 5 Stepping 3, AuthenticAMD
    TEMP = C:\DOCUME~1\c\LOCALS~1\Temp

Perl special variables (and OS-specific diagnostics, for MSWin32):

    $^X = C:\Strawberry201\perl\bin\perl.exe
    $UID/$EUID = 0 / 0
    $GID = 0
    $EGID = 0
    Win32::GetOSName = WinXP/.Net
    Win32::GetOSVersion = Service Pack 3, 5, 1, 2600, 2, 3, 0, 256, 1
    Win32::FsType = NTFS
    Win32::IsAdminUser = 1

Perl module toolchain versions installed:

    Module              Have    
    ------------------- --------
    CPAN                2.05    
    CPAN::Meta          2.142060
    Cwd                 3.48    
    ExtUtils::CBuilder  0.280219
    ExtUtils::Command   1.18    
    ExtUtils::Install   1.68    
    ExtUtils::MakeMaker 7.04    
    ExtUtils::Manifest  1.66    
    ExtUtils::ParseXS   3.24    
    File::Spec          3.48    
    JSON                2.90    
    JSON::PP            2.27203 
    Module::Build       0.4211  
    Module::Signature   0.78    
    Parse::CPAN::Meta   1.4414  
    Test::Harness       3.33    
    Test::More          1.001006
    YAML                1.15    
    YAML::Syck          1.29    
    version             0.9909  


--

Summary of my perl5 (revision 5 version 20 subversion 1) configuration:
   
  Platform:
    osname=MSWin32, osvers=6.3, archname=MSWin32-x86-multi-thread-64int
    uname='Win32 strawberry-perl 5.20.1.1 #1 Mon Sep 15 18:25:23 2014 i386'
    config_args='undef'
    hint=recommended, useposix=true, d_sigaction=undef
    useithreads=define, usemultiplicity=define
    use64bitint=define, use64bitall=undef, uselongdouble=undef
    usemymalloc=n, bincompat5005=undef
  Compiler:
    cc='gcc', ccflags =' -s -O2 -DWIN32  -DPERL_TEXTMODE_SCRIPTS -DPERL_IMPLICIT_CONTEXT -DPERL_IMPLICIT_SYS -DUSE_PERLIO -fwrapv -fno-strict-aliasing -mms-bitfields',
    optimize='-s -O2',
    cppflags='-DWIN32'
    ccversion='', gccversion='4.8.3', gccosandvers=''
    intsize=4, longsize=4, ptrsize=4, doublesize=8, byteorder=12345678
    d_longlong=define, longlongsize=8, d_longdbl=define, longdblsize=12
    ivtype='long long', ivsize=8, nvtype='double', nvsize=8, Off_t='long long', lseeksize=8
    alignbytes=8, prototype=define
  Linker and Libraries:
    ld='g++', ldflags ='-s -L"C:\STRAWB~1\perl\lib\CORE" -L"C:\STRAWB~1\c\lib"'
    libpth=C:\STRAWB~1\c\lib C:\STRAWB~1\c\i686-w64-mingw32\lib C:\STRAWB~1\c\lib\gcc\i686-w64-mingw32\4.8.3
    libs=-lmoldname -lkernel32 -luser32 -lgdi32 -lwinspool -lcomdlg32 -ladvapi32 -lshell32 -lole32 -loleaut32 -lnetapi32 -luuid -lws2_32 -lmpr -lwinmm -lversion -lodbc32 -lodbccp32 -lcomctl32
    perllibs=-lmoldname -lkernel32 -luser32 -lgdi32 -lwinspool -lcomdlg32 -ladvapi32 -lshell32 -lole32 -loleaut32 -lnetapi32 -luuid -lws2_32 -lmpr -lwinmm -lversion -lodbc32 -lodbccp32 -lcomctl32
    libc=, so=dll, useshrplib=true, libperl=libperl520.a
    gnulibc_version=''
  Dynamic Linking:
    dlsrc=dl_win32.xs, dlext=xs.dll, d_dlsymun=undef, ccdlflags=' '
    cccdlflags=' ', lddlflags='-mdll -s -L"C:\STRAWB~1\perl\lib\CORE" -L"C:\STRAWB~1\c\lib"'


Characteristics of this binary (from libperl): 
  Compile-time options: HAS_TIMES HAVE_INTERP_INTERN MULTIPLICITY
                        PERLIO_LAYERS PERL_DONT_CREATE_GVSV
                        PERL_HASH_FUNC_ONE_AT_A_TIME_HARD
                        PERL_IMPLICIT_CONTEXT PERL_IMPLICIT_SYS
                        PERL_MALLOC_WRAP PERL_NEW_COPY_ON_WRITE
                        PERL_PRESERVE_IVUV USE_64_BIT_INT USE_ITHREADS
                        USE_LARGE_FILES USE_LOCALE USE_LOCALE_COLLATE
                        USE_LOCALE_CTYPE USE_LOCALE_NUMERIC USE_PERLIO
                        USE_PERL_ATOF
  Built under MSWin32
  Compiled at Sep 15 2014 18:29:20
  %ENV:
    PERL5LIB="C:\STRAWB~1\cpan\build\List-MoreUtils-0.428-xfD8hM/blib/arch;C:\STRAWB~1\cpan\build\List-MoreUtils-0.428-xfD8hM/blib/lib;C:\STRAWB~1\cpan\build\List-MoreUtils-XS-0.428-6x3ZLu/blib/arch;C:\STRAWB~1\cpan\build\List-MoreUtils-XS-0.428-6x3ZLu/blib/lib;C:\STRAWB~1\cpan\build\XSLoader-0.24-HhhNlg/blib/arch;C:\STRAWB~1\cpan\build\XSLoader-0.24-HhhNlg/blib/lib;C:\STRAWB~1\cpan\build\Net-IPAM-Block-1.16-3uPYL9/blib/arch;C:\STRAWB~1\cpan\build\Net-IPAM-Block-1.16-3uPYL9/blib/lib;C:\STRAWB~1\cpan\build\Scalar-List-Utils-1.55-nNU7Uc/blib/arch;C:\STRAWB~1\cpan\build\Scalar-List-Utils-1.55-nNU7Uc/blib/lib;C:\STRAWB~1\cpan\build\Net-IPAM-IP-1.23-8xxPqO/blib/arch;C:\STRAWB~1\cpan\build\Net-IPAM-IP-1.23-8xxPqO/blib/lib;C:\STRAWB~1\cpan\build\Socket-2.030-H8sySJ/blib/arch;C:\STRAWB~1\cpan\build\Socket-2.030-H8sySJ/blib/lib"
    PERL5_CPANPLUS_IS_RUNNING="1284"
    PERL5_CPAN_IS_RUNNING="1284"
    PERL5_CPAN_IS_RUNNING_IN_RECURSION="1856,1284"
    PERL_CR_SMOKER_CURRENT="Net-IPAM-Tree-1.12"
    PERL_CR_SMOKER_RUNONCE="1"
    PERL_EXTUTILS_AUTOINSTALL="--defaultdeps"
    PERL_MM_USE_DEFAULT="1"
  @INC:
    C:\STRAWB~1\cpan\build\List-MoreUtils-0.428-xfD8hM/blib/arch
    C:\STRAWB~1\cpan\build\List-MoreUtils-0.428-xfD8hM/blib/lib
    C:\STRAWB~1\cpan\build\List-MoreUtils-XS-0.428-6x3ZLu/blib/arch
    C:\STRAWB~1\cpan\build\List-MoreUtils-XS-0.428-6x3ZLu/blib/lib
    C:\STRAWB~1\cpan\build\XSLoader-0.24-HhhNlg/blib/arch
    C:\STRAWB~1\cpan\build\XSLoader-0.24-HhhNlg/blib/lib
    C:\STRAWB~1\cpan\build\Net-IPAM-Block-1.16-3uPYL9/blib/arch
    C:\STRAWB~1\cpan\build\Net-IPAM-Block-1.16-3uPYL9/blib/lib
    C:\STRAWB~1\cpan\build\Scalar-List-Utils-1.55-nNU7Uc/blib/arch
    C:\STRAWB~1\cpan\build\Scalar-List-Utils-1.55-nNU7Uc/blib/lib
    C:\STRAWB~1\cpan\build\Net-IPAM-IP-1.23-8xxPqO/blib/arch
    C:\STRAWB~1\cpan\build\Net-IPAM-IP-1.23-8xxPqO/blib/lib
    C:\STRAWB~1\cpan\build\Socket-2.030-H8sySJ/blib/arch
    C:\STRAWB~1\cpan\build\Socket-2.030-H8sySJ/blib/lib
    C:/Strawberry201/perl/site/lib
    C:/Strawberry201/perl/vendor/lib
    C:/Strawberry201/perl/lib
    .