Tk-Zinc v3.306 Perl 5 v5.34.0 darwin-thread-multi-2level

Status
Pass
From
Gintautas Grigelionis
Dist
Tk-Zinc v3.306
Platform
Perl 5 v5.34.0 darwin-thread-multi-2level
Date
2021-07-27 20:56:59
ID
2f6066c4-ef1d-11eb-89a6-bdce2b5b7dd0
This distribution has been tested as part of the CPAN Testers
project, supporting the Perl programming language.  See
http://wiki.cpantesters.org/ for more information or email
questions to cpan-testers-discuss@perl.org


--
Dear Alexander Becker,

This is a computer-generated report for Tk-Zinc-3.306
on perl 5.34.0, created by CPAN-Reporter-1.2018.

Thank you for uploading your work to CPAN.  Congratulations!
All tests were successful.

Sections of this report:

    * Tester comments
    * Program output
    * Prerequisites
    * Environment and other context

------------------------------
TESTER COMMENTS
------------------------------

Additional comments from tester:

none provided

------------------------------
PROGRAM OUTPUT
------------------------------

Output from '/usr/bin/make test':

"/usr/local/Cellar/perl/5.34.0/bin/perl" -MExtUtils::Command::MM -e 'cp_nonempty' -- Zinc.bs blib/arch/auto/Tk/Zinc/Zinc.bs 644
Manifying 1 pod document
"/usr/local/Cellar/perl/5.34.0/bin/perl" "-MExtUtils::Command::MM" "-MTest::Harness" "-e" "undef *Test::Harness::Switches; test_harness(0, '../blib/lib', '../blib/arch')" t/*.t
t/no-test.t .. ok
All tests successful.
Files=1, Tests=1,  0 wallclock secs ( 0.02 usr +  0.01 sys =  0.03 CPU)
Result: PASS
"/usr/local/Cellar/perl/5.34.0/bin/perl" "-MExtUtils::Command::MM" "-MTest::Harness" "-e" "undef *Test::Harness::Switches; test_harness(0, 'blib/lib', 'blib/arch')" t/*.t
Fontconfig warning: "/usr/local/etc/fonts/fonts.conf", line 86: unknown element "blank"
Fontconfig warning: ignoring UTF-8: not a valid region tag
Fontconfig warning: ignoring UTF-8: not a valid region tag
GLX not available (need at least a 24 bits buffer with stencil)
t/AnimatedGradient.t .......... ok
Fontconfig warning: "/usr/local/etc/fonts/fonts.conf", line 86: unknown element "blank"
Fontconfig warning: ignoring UTF-8: not a valid region tag
Fontconfig warning: ignoring UTF-8: not a valid region tag
GLX not available (need at least a 24 bits buffer with stencil)
# ############## end of text test
t/Bbox-curve-multi-contour.t .. ok
Fontconfig warning: "/usr/local/etc/fonts/fonts.conf", line 86: unknown element "blank"
Fontconfig warning: ignoring UTF-8: not a valid region tag
Fontconfig warning: ignoring UTF-8: not a valid region tag
# ############## bbox test
t/Bbox.t ...................... ok
Fontconfig warning: "/usr/local/etc/fonts/fonts.conf", line 86: unknown element "blank"
Fontconfig warning: ignoring UTF-8: not a valid region tag
Fontconfig warning: ignoring UTF-8: not a valid region tag
# ############## coords test
t/Coords.t .................... ok
Fontconfig warning: "/usr/local/etc/fonts/fonts.conf", line 86: unknown element "blank"
Fontconfig warning: ignoring UTF-8: not a valid region tag
Fontconfig warning: ignoring UTF-8: not a valid region tag
# ############## Images test
t/find.t ...................... ok
Fontconfig warning: "/usr/local/etc/fonts/fonts.conf", line 86: unknown element "blank"
Fontconfig warning: ignoring UTF-8: not a valid region tag
Fontconfig warning: ignoring UTF-8: not a valid region tag
GLX not available (need at least a 24 bits buffer with stencil)
# ############## Images test
t/Images.t .................... ok
# ############## all imports
t/Import.t .................... ok
Fontconfig warning: "/usr/local/etc/fonts/fonts.conf", line 86: unknown element "blank"
Fontconfig warning: ignoring UTF-8: not a valid region tag
Fontconfig warning: ignoring UTF-8: not a valid region tag
t/Maps.t ...................... ok
Fontconfig warning: "/usr/local/etc/fonts/fonts.conf", line 86: unknown element "blank"
Fontconfig warning: ignoring UTF-8: not a valid region tag
Fontconfig warning: ignoring UTF-8: not a valid region tag
# ############## all known bugs
t/PreviousKnownBugs.t ......... ok
Fontconfig warning: "/usr/local/etc/fonts/fonts.conf", line 86: unknown element "blank"
Fontconfig warning: ignoring UTF-8: not a valid region tag
Fontconfig warning: ignoring UTF-8: not a valid region tag
# ############## Scale clipped group test
t/Scale_clipped_group.t ....... ok
Fontconfig warning: "/usr/local/etc/fonts/fonts.conf", line 86: unknown element "blank"
Fontconfig warning: ignoring UTF-8: not a valid region tag
Fontconfig warning: ignoring UTF-8: not a valid region tag
# ############## text items test
t/Text.t ...................... ok
Fontconfig warning: "/usr/local/etc/fonts/fonts.conf", line 86: unknown element "blank"
Fontconfig warning: ignoring UTF-8: not a valid region tag
Fontconfig warning: ignoring UTF-8: not a valid region tag
GLX not available (need at least a 24 bits buffer with stencil)
GLX not available (need at least a 24 bits buffer with stencil)
# ############## end of text test
t/Text2.t ..................... ok
# ############## Tk::Zinc::TraceUtils test
t/traceutils.t ................ ok
Fontconfig warning: "/usr/local/etc/fonts/fonts.conf", line 86: unknown element "blank"
Fontconfig warning: ignoring UTF-8: not a valid region tag
Fontconfig warning: ignoring UTF-8: not a valid region tag
# ############## transformations test
t/Transformations.t ........... ok
All tests successful.
Files=14, Tests=214, 43 wallclock secs ( 0.08 usr  0.05 sys + 13.68 cusr  1.18 csys = 14.99 CPU)
Result: PASS

------------------------------
PREREQUISITES
------------------------------

Prerequisite modules loaded:

requires:

    Module              Need    Have    
    ------------------- ------- --------
    ExtUtils::MakeMaker 6.98    7.62    
    perl                5.006   5.034000
    Tk                  800.004 804.036 

build_requires:

    Module              Need    Have    
    ------------------- ------- --------
    ExtUtils::MakeMaker 0       7.62    
    Test::More          0.98    1.302185

configure_requires:

    Module              Need    Have    
    ------------------- ------- --------
    ExtUtils::MakeMaker 0       7.62    
    Tk                  0       804.036 


------------------------------
ENVIRONMENT AND OTHER CONTEXT
------------------------------

Environment variables:

    LC_CTYPE = UTF-8
    NONINTERACTIVE_TESTING = 1
    PATH = /Users/gintas/Projects/perl5/bin:/usr/local/bin:/usr/bin:/bin:/usr/sbin:/sbin:/usr/local/MacGPG2/bin:/opt/X11/bin:/Library/Apple/usr/bin
    PERL5LIB = /Users/gintas/Projects/perl5/lib/perl5
    PERL5OPT = 
    PERL5_CPANPLUS_IS_RUNNING = 68124
    PERL5_CPAN_IS_RUNNING = 68124
    PERL_LOCAL_LIB_ROOT = /Users/gintas/Projects/perl5
    PERL_MB_OPT = --install_base "/Users/gintas/Projects/perl5"
    PERL_MM_OPT = INSTALL_BASE=/Users/gintas/Projects/perl5
    PERL_MM_USE_DEFAULT = 1
    PERL_USE_UNSAFE_INC = 1
    SHELL = /bin/bash
    TERM = xterm-256color
    TMPDIR = /var/folders/7j/gsygg6dj3yg5vj5ph2nk1x880000gn/T/

Perl special variables (and OS-specific diagnostics, for MSWin32):

    $^X = /usr/local/Cellar/perl/5.34.0/bin/perl
    $UID/$EUID = 501 / 501
    $GID = 20 20 701 12 61 79 80 81 98 703 702 33 100 204 250 395 398
    $EGID = 20 20 701 12 61 79 80 81 98 703 702 33 100 204 250 395 398

Perl module toolchain versions installed:

    Module              Have    
    ------------------- --------
    CPAN                2.28    
    CPAN::Meta          2.150010
    Cwd                 3.80    
    ExtUtils::CBuilder  0.280236
    ExtUtils::Command   7.62    
    ExtUtils::Install   2.20    
    ExtUtils::MakeMaker 7.62    
    ExtUtils::Manifest  1.73    
    File::Spec          3.80    
    JSON                4.03    
    JSON::PP            4.06    
    Module::Build       0.4231  
    Module::Signature   0.87    
    Parse::CPAN::Meta   2.150010
    Test::Harness       3.43    
    Test::More          1.302185
    YAML                1.30    
    version             0.9929  


--

Summary of my perl5 (revision 5 version 34 subversion 0) configuration:
   
  Platform:
    osname=darwin
    osvers=20.4.0
    archname=darwin-thread-multi-2level
    uname='darwin bigsur 20.4.0 darwin kernel version 20.4.0: thu apr 22 21:46:47 pdt 2021; root:xnu-7195.101.2~1release_x86_64 x86_64 '
    config_args='-des -Dprefix=/usr/local/Cellar/perl/5.34.0 -Dprivlib=/usr/local/Cellar/perl/5.34.0/lib/perl5/5.34.0 -Dsitelib=/usr/local/Cellar/perl/5.34.0/lib/perl5/site_perl/5.34.0 -Dotherlibdirs=/usr/local/lib/perl5/site_perl/5.34.0 -Dperlpath=/usr/local/opt/perl/bin/perl -Dstartperl=#!/usr/local/opt/perl/bin/perl -Dman1dir=/usr/local/Cellar/perl/5.34.0/share/man/man1 -Dman3dir=/usr/local/Cellar/perl/5.34.0/share/man/man3 -Duseshrplib -Duselargefiles -Dusethreads -Dsed=/usr/bin/sed'
    hint=recommended
    useposix=true
    d_sigaction=define
    useithreads=define
    usemultiplicity=define
    use64bitint=define
    use64bitall=define
    uselongdouble=undef
    usemymalloc=n
    default_inc_excludes_dot=define
  Compiler:
    cc='cc'
    ccflags ='-fno-common -DPERL_DARWIN -mmacosx-version-min=11.3 -fno-strict-aliasing -pipe -fstack-protector-strong -I/usr/local/include -DPERL_USE_SAFE_PUTENV'
    optimize='-O3'
    cppflags='-fno-common -DPERL_DARWIN -mmacosx-version-min=11.3 -fno-strict-aliasing -pipe -fstack-protector-strong -I/usr/local/include'
    ccversion=''
    gccversion='Apple LLVM 12.0.5 (clang-1205.0.22.9)'
    gccosandvers=''
    intsize=4
    longsize=8
    ptrsize=8
    doublesize=8
    byteorder=12345678
    doublekind=3
    d_longlong=define
    longlongsize=8
    d_longdbl=define
    longdblsize=16
    longdblkind=3
    ivtype='long'
    ivsize=8
    nvtype='double'
    nvsize=8
    Off_t='off_t'
    lseeksize=8
    alignbytes=8
    prototype=define
  Linker and Libraries:
    ld='cc'
    ldflags =' -mmacosx-version-min=11.3 -fstack-protector-strong -L/usr/local/lib'
    libpth=/usr/local/opt/openssl@1.1/lib /usr/local/lib /Applications/Xcode.app/Contents/Developer/Toolchains/XcodeDefault.xctoolchain/usr/lib/clang/12.0.5/lib /Library/Developer/CommandLineTools/SDKs/MacOSX.sdk/usr/lib /Applications/Xcode.app/Contents/Developer/Toolchains/XcodeDefault.xctoolchain/usr/lib /usr/lib
    libs=-lgdbm -ldb
    perllibs=
    libc=
    so=dylib
    useshrplib=true
    libperl=libperl.dylib
    gnulibc_version=''
  Dynamic Linking:
    dlsrc=dl_dlopen.xs
    dlext=bundle
    d_dlsymun=undef
    ccdlflags=' '
    cccdlflags=' '
    lddlflags=' -mmacosx-version-min=11.3 -bundle -undefined dynamic_lookup -L/usr/local/lib -fstack-protector-strong'


Characteristics of this binary (from libperl): 
  Compile-time options:
    HAS_TIMES
    MULTIPLICITY
    PERLIO_LAYERS
    PERL_COPY_ON_WRITE
    PERL_DONT_CREATE_GVSV
    PERL_IMPLICIT_CONTEXT
    PERL_MALLOC_WRAP
    PERL_OP_PARENT
    PERL_PRESERVE_IVUV
    PERL_USE_SAFE_PUTENV
    USE_64_BIT_ALL
    USE_64_BIT_INT
    USE_ITHREADS
    USE_LARGE_FILES
    USE_LOCALE
    USE_LOCALE_COLLATE
    USE_LOCALE_CTYPE
    USE_LOCALE_NUMERIC
    USE_LOCALE_TIME
    USE_PERLIO
    USE_PERL_ATOF
    USE_REENTRANT_API
    USE_THREAD_SAFE_LOCALE
  Built under darwin
  Compiled at May 22 2021 00:35:25
  %ENV:
    PERL5LIB="/Users/gintas/Projects/perl5/lib/perl5"
    PERL5OPT=""
    PERL5_CPANPLUS_IS_RUNNING="68124"
    PERL5_CPAN_IS_RUNNING="68124"
    PERL_LOCAL_LIB_ROOT="/Users/gintas/Projects/perl5"
    PERL_MB_OPT="--install_base "/Users/gintas/Projects/perl5""
    PERL_MM_OPT="INSTALL_BASE=/Users/gintas/Projects/perl5"
    PERL_MM_USE_DEFAULT="1"
    PERL_USE_UNSAFE_INC="1"
  @INC:
    /Users/gintas/Projects/perl5/lib/perl5/5.34.0/darwin-thread-multi-2level
    /Users/gintas/Projects/perl5/lib/perl5/5.34.0
    /Users/gintas/Projects/perl5/lib/perl5/darwin-thread-multi-2level
    /Users/gintas/Projects/perl5/lib/perl5
    /usr/local/Cellar/perl/5.34.0/lib/perl5/site_perl/5.34.0/darwin-thread-multi-2level
    /usr/local/Cellar/perl/5.34.0/lib/perl5/site_perl/5.34.0
    /usr/local/Cellar/perl/5.34.0/lib/perl5/5.34.0/darwin-thread-multi-2level
    /usr/local/Cellar/perl/5.34.0/lib/perl5/5.34.0
    /usr/local/lib/perl5/site_perl/5.34.0
    .