Dist-Zilla-PluginBundle-GitLab v1.0002 Perl 5 v5.36.3 amd64-openbsd

Status
Pass
From
Alceu Rodrigues de Freitas Junior
Dist
Dist-Zilla-PluginBundle-GitLab v1.0002
Platform
Perl 5 v5.36.3 amd64-openbsd
Date
2024-05-10 14:25:43
ID
2f2e0aa6-0ed9-11ef-abc3-f2abe9c7712c
This distribution has been tested as part of the CPAN Testers
project, supporting the Perl programming language.  See
http://wiki.cpantesters.org/ for more information or email
questions to cpan-testers-discuss@perl.org


--
Dear D Ruth Holloway,

This is a computer-generated report for Dist-Zilla-PluginBundle-GitLab-1.0002
on perl 5.36.3, created by CPAN-Reporter-1.2019.

Thank you for uploading your work to CPAN.  Congratulations!
All tests were successful.

Sections of this report:

    * Tester comments
    * Program output
    * Prerequisites
    * Environment and other context

------------------------------
TESTER COMMENTS
------------------------------

Additional comments from tester:

this report is from an automated smoke testing program
and was not reviewed by a human for accuracy

If you would like to try to reproduce this report results or even to work with
the same environment for a bug fix, please refer to
https://github.com/glasswalk3r/cpan-openbsd-smoker to see how to use the
prebuilt virtual machines available.

------------------------------
PROGRAM OUTPUT
------------------------------

Output from '/usr/bin/make test':

PERL_DL_NONLAZY=1 "/usr/bin/perl" "-MExtUtils::Command::MM" "-MTest::Harness" "-e" "undef *Test::Harness::Switches; test_harness(0, 'blib/lib', 'blib/arch')" t/*.t t/tests/dist/zilla/app/command/*.t t/tests/dist/zilla/plugin/gitlab/*.t t/tests/dist/zilla/pluginbundle/*.t
t/00-compile.t ............................. ok
# 
# Versions for all modules listed in MYMETA.json (including optional ones):
# 
# === Configure Requires ===
# 
#     Module              Want Have
#     ------------------- ---- ----
#     ExtUtils::MakeMaker  any 7.70
# 
# === Build Requires ===
# 
#     Module              Want Have
#     ------------------- ---- ----
#     ExtUtils::MakeMaker  any 7.70
# 
# === Test Requires ===
# 
#     Module                Want     Have
#     --------------------- ---- --------
#     ExtUtils::MakeMaker    any     7.70
#     File::Spec             any     3.84
#     FindBin                any     1.54
#     IO::Handle             any     1.55
#     IPC::Open3             any     1.22
#     Path::Tiny             any    0.144
#     Test2::Tools::Compare  any 0.000162
#     Test2::Tools::Explain  any     0.02
#     Test2::Tools::JSON     any     0.05
#     Test2::V0              any 0.000162
#     Test::DZil             any    6.031
#     Test::More             any 1.302199
#     lib                    any     0.65
#     strict                 any     1.12
#     warnings               any     1.58
# 
# === Test Recommends ===
# 
#     Module         Want     Have
#     ---------- -------- --------
#     CPAN::Meta 2.120900 2.150010
# 
# === Runtime Requires ===
# 
#     Module                                Want       Have
#     ------------------------------------- ---- ----------
#     Carp                                   any       1.52
#     Class::Load                            any       0.25
#     Cwd                                    any       3.84
#     Data::Dumper                           any      2.184
#     Dist::Zilla::App                       any      6.031
#     Dist::Zilla::Dist::Minter              any      6.031
#     Dist::Zilla::Role::AfterMint           any      6.031
#     Dist::Zilla::Role::AfterRelease        any      6.031
#     Dist::Zilla::Role::MetaProvider        any      6.031
#     Dist::Zilla::Role::PluginBundle::Easy  any      6.031
#     Dist::Zilla::Role::TextTemplate        any      6.031
#     File::Basename                         any       2.85
#     Git::Wrapper                           any      0.048
#     HTTP::Tiny                             any      0.088
#     JSON::MaybeXS                          any   1.004005
#     List::Util                             any       1.63
#     Modern::Perl                           any 1.20240120
#     Moose                                  any     2.2207
#     Try::Tiny                              any       0.31
#     URL::Encode                            any       0.03
# 
t/00-report-prereqs.t ...................... ok
t/tests/dist/zilla/app/command/gl.t ........ skipped: Tests for dzil gl commands not yet written.
t/tests/dist/zilla/plugin/gitlab/create.t .. skipped: Tests not yet written.
t/tests/dist/zilla/plugin/gitlab/meta.t .... skipped: Tests not yet written.
t/tests/dist/zilla/plugin/gitlab/update.t .. ok
t/tests/dist/zilla/pluginbundle/gitlab.t ... skipped: Tests not yet written.
All tests successful.
Files=7, Tests=8,  4 wallclock secs ( 0.02 usr  0.06 sys +  2.09 cusr  1.05 csys =  3.22 CPU)
Result: PASS

------------------------------
PREREQUISITES
------------------------------

Prerequisite modules loaded:

requires:

    Module                                Need     Have      
    ------------------------------------- -------- ----------
    Carp                                  0        1.52      
    Class::Load                           0        0.25      
    Cwd                                   0        3.84      
    Data::Dumper                          0        2.184     
    Dist::Zilla::App                      0        6.031     
    Dist::Zilla::Dist::Minter             0        6.031     
    Dist::Zilla::Role::AfterMint          0        6.031     
    Dist::Zilla::Role::AfterRelease       0        6.031     
    Dist::Zilla::Role::MetaProvider       0        6.031     
    Dist::Zilla::Role::PluginBundle::Easy 0        6.031     
    Dist::Zilla::Role::TextTemplate       0        6.031     
    File::Basename                        0        2.85      
    Git::Wrapper                          0        0.048     
    HTTP::Tiny                            0        0.088     
    JSON::MaybeXS                         0        1.004005  
    List::Util                            0        1.63      
    Modern::Perl                          0        1.20240120
    Moose                                 0        2.2207    
    perl                                  5.008    5.036003  
    Try::Tiny                             0        0.31      
    URL::Encode                           0        0.03      

build_requires:

    Module                                Need     Have      
    ------------------------------------- -------- ----------
    ExtUtils::MakeMaker                   0        7.70      
    File::Spec                            0        3.84      
    FindBin                               0        1.54      
    IO::Handle                            0        1.55      
    IPC::Open3                            0        1.22      
    lib                                   0        0.65      
    Path::Tiny                            0        0.144     
    strict                                0        1.12      
    Test2::Tools::Compare                 0        0.000162  
    Test2::Tools::Explain                 0        0.02      
    Test2::Tools::JSON                    0        0.05      
    Test2::V0                             0        0.000162  
    Test::DZil                            0        6.031     
    Test::More                            0        1.302199  
    warnings                              0        1.58      

configure_requires:

    Module                                Need     Have      
    ------------------------------------- -------- ----------
    ExtUtils::MakeMaker                   0        7.70      

opt_build_requires:

    Module                                Need     Have      
    ------------------------------------- -------- ----------
    CPAN::Meta                            2.120900 2.150010  


------------------------------
ENVIRONMENT AND OTHER CONTEXT
------------------------------

Environment variables:

    AUTOMATED_TESTING = 1
    PATH = /home/goku/perl5/bin:/usr/bin:/bin:/usr/sbin:/sbin:/usr/X11R6/bin:/usr/local/bin:/usr/local/sbin
    PERL5LIB = /home/goku/perl5/lib/perl5
    PERL5OPT = 
    PERL5_CPANPLUS_IS_RUNNING = 68929
    PERL5_CPAN_IS_RUNNING = 68929
    PERL5_CPAN_IS_RUNNING_IN_RECURSION = 64756,68929
    PERL_CR_SMOKER_CURRENT = Dist-Zilla-PluginBundle-GitLab-1.0002
    PERL_EXTUTILS_AUTOINSTALL = --defaultdeps
    PERL_LOCAL_LIB_ROOT = /home/goku/perl5
    PERL_MB_OPT = --install_base "/home/goku/perl5"
    PERL_MM_OPT = INSTALL_BASE=/home/goku/perl5
    PERL_MM_USE_DEFAULT = 1
    PERL_USE_UNSAFE_INC = 1
    SHELL = /bin/ksh
    TERM = xterm-256color

Perl special variables (and OS-specific diagnostics, for MSWin32):

    $^X = /usr/bin/perl
    $UID/$EUID = 1001 / 1001
    $GID = 1002 1002 1001
    $EGID = 1002 1002 1001

Perl module toolchain versions installed:

    Module              Have    
    ------------------- --------
    CPAN                2.36    
    CPAN::Meta          2.150010
    Cwd                 3.84    
    ExtUtils::CBuilder  0.280236
    ExtUtils::Command   7.70    
    ExtUtils::Install   2.20    
    ExtUtils::MakeMaker 7.70    
    ExtUtils::Manifest  1.75    
    ExtUtils::ParseXS   3.51    
    File::Spec          3.84    
    JSON                4.10    
    JSON::PP            4.17_01 
    Module::Build       0.4234  
    Module::Signature   n/a     
    Parse::CPAN::Meta   2.150010
    Test2               1.302199
    Test::Harness       3.49_01 
    Test::More          1.302199
    YAML                1.31    
    YAML::Syck          1.34    
    version             0.9932  


--

Summary of my perl5 (revision 5 version 36 subversion 3) configuration:
   
  Platform:
    osname=openbsd
    osvers=7.5
    archname=amd64-openbsd
    uname='openbsd'
    config_args='-dse -Dopenbsd_distribution=defined -Dmksymlinks'
    hint=recommended
    useposix=true
    d_sigaction=define
    useithreads=undef
    usemultiplicity=undef
    use64bitint=define
    use64bitall=define
    uselongdouble=undef
    usemymalloc=n
    default_inc_excludes_dot=define
  Compiler:
    cc='cc'
    ccflags ='-DNO_LOCALE_NUMERIC -DNO_LOCALE_COLLATE -fno-strict-aliasing -fno-delete-null-pointer-checks -pipe -fstack-protector-strong -I/usr/local/include'
    optimize='-O2'
    cppflags='-DBIG_TIME -DNO_LOCALE_NUMERIC -DNO_LOCALE_COLLATE -fno-strict-aliasing -fno-delete-null-pointer-checks -pipe -fstack-protector-strong -I/usr/local/include'
    ccversion=''
    gccversion='OpenBSD Clang 16.0.6'
    gccosandvers=''
    intsize=4
    longsize=8
    ptrsize=8
    doublesize=8
    byteorder=12345678
    doublekind=3
    d_longlong=define
    longlongsize=8
    d_longdbl=define
    longdblsize=16
    longdblkind=3
    ivtype='long'
    ivsize=8
    nvtype='double'
    nvsize=8
    Off_t='off_t'
    lseeksize=8
    alignbytes=8
    prototype=define
  Linker and Libraries:
    ld='cc'
    ldflags ='-Wl,-E  -fstack-protector-strong -L/usr/local/lib'
    libpth=/usr/lib /usr/lib/clang/16/lib
    libs=-lm -lc
    perllibs=-lm -lc
    libc=/usr/lib/libc.so.99.0
    so=so
    useshrplib=true
    libperl=libperl.so.23.0
    gnulibc_version=''
  Dynamic Linking:
    dlsrc=dl_dlopen.xs
    dlext=so
    d_dlsymun=undef
    ccdlflags='-Wl,-R/usr/libdata/perl5/amd64-openbsd/CORE'
    cccdlflags='-DPIC -fpic '
    lddlflags='-shared -fpic  -fstack-protector-strong -L/usr/local/lib'


Characteristics of this binary (from libperl): 
  Compile-time options:
    HAS_TIMES
    PERLIO_LAYERS
    PERL_COPY_ON_WRITE
    PERL_DONT_CREATE_GVSV
    PERL_MALLOC_WRAP
    PERL_OP_PARENT
    PERL_PRESERVE_IVUV
    USE_64_BIT_ALL
    USE_64_BIT_INT
    USE_LARGE_FILES
    USE_LOCALE
    USE_LOCALE_CTYPE
    USE_LOCALE_TIME
    USE_PERLIO
    USE_PERL_ATOF
  Built under openbsd
  %ENV:
    PERL5LIB="/home/goku/perl5/lib/perl5"
    PERL5OPT=""
    PERL5_CPANPLUS_IS_RUNNING="68929"
    PERL5_CPAN_IS_RUNNING="68929"
    PERL5_CPAN_IS_RUNNING_IN_RECURSION="64756,68929"
    PERL_CR_SMOKER_CURRENT="Dist-Zilla-PluginBundle-GitLab-1.0002"
    PERL_EXTUTILS_AUTOINSTALL="--defaultdeps"
    PERL_LOCAL_LIB_ROOT="/home/goku/perl5"
    PERL_MB_OPT="--install_base "/home/goku/perl5""
    PERL_MM_OPT="INSTALL_BASE=/home/goku/perl5"
    PERL_MM_USE_DEFAULT="1"
    PERL_USE_UNSAFE_INC="1"
  @INC:
    /home/goku/perl5/lib/perl5/amd64-openbsd
    /home/goku/perl5/lib/perl5
    /usr/local/libdata/perl5/site_perl/amd64-openbsd
    /usr/local/libdata/perl5/site_perl
    /usr/libdata/perl5/amd64-openbsd
    /usr/libdata/perl5
    .