FFI-Platypus v2.08 Perl 5 v5.36.0 x86_64-linux-gnu-thread-multi
- Status
- Pass
- From
- Peter J. Mello
- Dist
-
FFI-Platypus v2.08
- Platform
- Perl 5 v5.36.0 x86_64-linux-gnu-thread-multi
- Date
- 2023-05-19 01:33:38
- ID
- 2e0235fc-f5e5-11ed-9fc2-96b7f2621b49
This distribution has been tested as part of the CPAN Testers
project, supporting the Perl programming language. See
http://wiki.cpantesters.org/ for more information or email
questions to cpan-testers-discuss@perl.org
--
Dear Graham Ollis,
This is a computer-generated report for FFI-Platypus-2.08
on perl 5.36.0, created by CPAN-Reporter-1.2019.
Thank you for uploading your work to CPAN. Congratulations!
All tests were successful.
Sections of this report:
* Tester comments
* Program output
* Prerequisites
* Environment and other context
------------------------------
TESTER COMMENTS
------------------------------
Additional comments from tester:
none provided
------------------------------
PROGRAM OUTPUT
------------------------------
Output from '/usr/bin/make test':
"/usr/bin/perl" -MExtUtils::Command::MM -e 'cp_nonempty' -- lib/FFI/Platypus.bs blib/arch/auto/FFI/Platypus/Platypus.bs 644
CC t/ffi/align.c
CC t/ffi/align_array.c
CC t/ffi/align_fixed.c
CC t/ffi/align_string.c
CC t/ffi/basic.c
CC t/ffi/closure.c
CC t/ffi/color.c
CC t/ffi/complex_double.c
CC t/ffi/complex_float.c
CC t/ffi/double.c
CC t/ffi/float.c
CC t/ffi/gh117.c
CC t/ffi/gh174.c
CC t/ffi/longdouble.c
CC t/ffi/memcmp4.c
CC t/ffi/meta.c
CC t/ffi/pointer.c
CC t/ffi/record.c
CC t/ffi/sint16.c
CC t/ffi/sint32.c
CC t/ffi/sint64.c
CC t/ffi/sint8.c
CC t/ffi/string.c
CC t/ffi/string_array.c
CC t/ffi/uint16.c
CC t/ffi/uint32.c
CC t/ffi/uint64.c
CC t/ffi/uint8.c
CC t/ffi/variadic.c
LD t/ffi/libtest.so
PERL_DL_NONLAZY=1 "/usr/bin/perl" "-MExtUtils::Command::MM" "-MTest::Harness" "-e" "undef *Test::Harness::Switches; test_harness(0, 'blib/lib', 'blib/arch')" t/*.t
#
#
#
# HARNESS_ACTIVE=1
# HARNESS_VERSION=3.44
# LANG=en_US.UTF-8
# LC_ADDRESS=en_US.UTF-8
# LC_COLLATE=C.UTF-8
# LC_CTYPE=en_US.UTF-8
# LC_IDENTIFICATION=en_US.UTF-8
# LC_MEASUREMENT=en_US.UTF-8
# LC_MESSAGES=en_US.UTF-8
# LC_MONETARY=en_US.UTF-8
# LC_NAME=en_SE.UTF-8
# LC_NUMERIC=en_US.UTF-8
# LC_PAPER=en_US.UTF-8
# LC_TELEPHONE=en_US.UTF-8
# LC_TIME=en_SE.UTF-8
# PERL5LIB=/root/.cache/CPAN/build/FFI-Platypus-2.08-0/blib/lib:/root/.cache/CPAN/build/FFI-Platypus-2.08-0/blib/arch:
# PERL5OPT=
# PERL5_CPANPLUS_IS_RUNNING=32565
# PERL5_CPAN_IS_RUNNING=32565
# PERL6LIB=/root/.zef,/root/.perl6,/opt/rakudo-pkg/share/perl6/site,/opt/rakudo-pkg/share/perl6/vendor,/opt/rakudo-pkg/share/perl6/core
# PERL_DL_NONLAZY=1
# PERL_USE_UNSAFE_INC=1
# SHELL=/usr/bin/zsh
#
#
#
# PERL5LIB path
# /root/.cache/CPAN/build/FFI-Platypus-2.08-0/blib/lib
# /root/.cache/CPAN/build/FFI-Platypus-2.08-0/blib/arch
#
#
#
# perl 5.036000 linux x86_64-linux-gnu-thread-multi
# Alien::Base 2.80
# Alien::FFI -
# Capture::Tiny 0.48
# Devel::Hide 0.0015
# ExtUtils::CBuilder 0.280236
# ExtUtils::MakeMaker 7.64
# ExtUtils::ParseXS 3.45
# FFI::CheckLib 0.31
# File::Spec::Functions 3.84
# IPC::Cmd 1.04
# JSON::PP 4.07
# List::Util 1.63
# Math::LongDouble -
# PkgConfig -
# Test2::API 1.302190
# Test2::V0 0.000155
# autodie 2.36
# constant 1.33
# forks -
# parent 0.241
#
#
#
# mode : system
# Alien::FFI::pkgconfig->VERSION =
# Alien::FFI::pkgconfig->install_type = system
# Alien::FFI::pkgconfig->cflags =
# Alien::FFI::pkgconfig->libs = -lffi
# Alien::FFI::pkgconfig->version = 3.4.4
#
#
#
# ffi.platypus.memory.strdup_impl =libc
# ffi.platypus.memory.strndup_impl=libc
#
#
#
# Types:
# double : double, float complex
# float : float
# longdouble : double complex, long double, long double complex
# sint16 : int16_t, short, signed short
# sint32 : int, int32_t, senum, signed int, wchar_t
# sint64 : blkcnt_t, blksize_t, int64_t, intmax_t, intptr_t, long, long long, off_t, ptrdiff_t, signed long, signed long long, ssize_t, time_t
# sint8 : char, int8_t, signed char
# uint16 : uint16_t, unsigned short, ushort
# uint32 : enum, gid_t, mode_t, uid_t, uint, uint32_t, unsigned int, wint_t
# uint64 : dev_t, ino_t, nlink_t, size_t, uint64_t, uintmax_t, uintptr_t, ulong, unsigned long, unsigned long long
# uint8 : bool, uchar, uint8_t, unsigned char
#
#
#
# ABIs:
# default_abi 2
# efi64 3
# gnuw64 4
# unix64 2
# win64 3
#
#
#
# Probes:
# recordvalue 1
# bigendian 0
# complex 1
# strnlen 1
# abi 1
# variadic 1
# longdouble 1
# bigendian64 0
# alloca 1
#
#
#
# CPU Info:
# model name : Intel(R) Xeon(R) CPU E5-1620 v4 @ 3.50GHz
# flags : fpu vme de pse tsc msr pae mce cx8 apic sep mtrr pge mca cmov pat pse36 clflush dts acpi mmx fxsr sse sse2 ss ht tm pbe syscall nx pdpe1gb rdtscp lm constant_tsc arch_perfmon pebs bts rep_good nopl xtopology nonstop_tsc cpuid aperfmperf pni pclmulqdq dtes64 monitor ds_cpl vmx smx est tm2 ssse3 sdbg fma cx16 xtpr pdcm pcid dca sse4_1 sse4_2 x2apic movbe popcnt tsc_deadline_timer aes xsave avx f16c rdrand lahf_lm abm 3dnowprefetch cpuid_fault epb cat_l3 cdp_l3 invpcid_single pti intel_ppin ssbd ibrs ibpb stibp tpr_shadow vnmi flexpriority ept vpid ept_ad fsgsbase tsc_adjust bmi1 hle avx2 smep bmi2 erms invpcid rtm cqm rdt_a rdseed adx smap intel_pt xsaveopt cqm_llc cqm_occup_llc cqm_mbm_total cqm_mbm_local dtherm ida arat pln pts hwp md_clear flush_l1d
# address sizes : 46 bits physical, 48 bits virtual
#
#
#
# Distributor ID: Ubuntu
# Description: Ubuntu 23.04
# Release: 23.04
# Codename: lunar
#
#
#
# [PLATFORM]
# osname : linux
# cc : x86_64-linux-gnu-gcc
# cxx : x86_64-linux-gnu-g++
# cxxld : x86_64-linux-gnu-g++
# for : x86_64-linux-gnu-gfortran
# ld : x86_64-linux-gnu-gcc
# ccflags : -fPIC -D_REENTRANT -D_GNU_SOURCE -DDEBIAN -fwrapv -fno-strict-aliasing -pipe -I/usr/local/include -D_LARGEFILE_SOURCE -D_FILE_OFFSET_BITS=64 -O2 -g -I/root/.cache/CPAN/build/FFI-Platypus-2.08-0/blib/lib/auto/share/dist/FFI-Platypus/include
# ldflags : -shared -L/usr/local/lib -fstack-protector-strong
# object suffix : .o
# library prefix : lib
# library suffix : .so
# cc mm works : -MM
#
#
#
t/00_diag.t .............................. ok
t/ffi_build.t ............................ ok
t/ffi_build_file_base.t .................. ok
t/ffi_build_file_c.t ..................... ok
t/ffi_build_file_cxx.t ................... ok
t/ffi_build_file_library.t ............... ok
t/ffi_build_file_object.t ................ ok
t/ffi_build_mm.t ......................... ok
t/ffi_build_platform.t ................... ok
t/ffi_build_plugin.t ..................... ok
t/ffi_build_plugindata.t ................. ok
t/ffi_platypus.t ......................... ok
t/ffi_platypus_api.t ..................... ok
t/ffi_platypus_buffer.t .................. ok
t/ffi_platypus_bundle.t .................. ok
t/ffi_platypus_closure.t ................. ok
t/ffi_platypus_constant.t ................ ok
t/ffi_platypus_dl.t ...................... ok
t/ffi_platypus_function.t ................ ok
t/ffi_platypus_function_wrapper.t ........ ok
t/ffi_platypus_internal.t ................ ok
t/ffi_platypus_lang.t .................... ok
t/ffi_platypus_lang_asm.t ................ ok
t/ffi_platypus_lang_c.t .................. ok
t/ffi_platypus_lang_win32.t .............. ok
t/ffi_platypus_legacy.t .................. ok
t/ffi_platypus_memory.t .................. ok
t/ffi_platypus_record.t .................. ok
t/ffi_platypus_record_meta.t ............. ok
t/ffi_platypus_record_tiearray.t ......... ok
t/ffi_platypus_shareconfig.t ............. ok
t/ffi_platypus_type.t .................... ok
t/ffi_platypus_type_pointersizebuffer.t .. ok
t/ffi_platypus_type_stringarray.t ........ ok
t/ffi_platypus_type_stringpointer.t ...... ok
t/ffi_platypus_type_widestring.t ......... ok
t/ffi_platypus_typeparser.t .............. ok
t/ffi_platypus_typeparser_version0.t ..... ok
t/ffi_platypus_typeparser_version1.t ..... ok
t/ffi_platypus_typeparser_version2.t ..... ok
t/ffi_probe.t ............................ ok
t/ffi_probe_runner.t ..................... ok
t/ffi_probe_runner_builder.t ............. ok
t/ffi_probe_runner_result.t .............. ok
t/ffi_temp.t ............................. ok
t/forks.t ................................ skipped: Test requires forks
t/gh117.t ................................ ok
t/gh129.t ................................ ok
t/gh323.t ................................ ok
t/memory.t ............................... skipped: tested only in CI
t/threads.t .............................. ok
t/type_complex_double.t .................. ok
t/type_complex_float.t ................... ok
t/type_custom.t .......................... ok
t/type_double.t .......................... ok
t/type_float.t ........................... ok
t/type_longdouble.t ...................... ok
t/type_longdouble__array.t ............... ok
t/type_longdouble__hide.t ................ ok
t/type_longdouble__ptr.t ................. ok
t/type_opaque.t .......................... ok
t/type_record.t .......................... ok
t/type_record_value.t .................... ok
t/type_sint16.t .......................... ok
t/type_sint32.t .......................... ok
t/type_sint64.t .......................... ok
t/type_sint8.t ........................... ok
t/type_string.t .......................... ok
t/type_uint16.t .......................... ok
t/type_uint32.t .......................... ok
t/type_uint64.t .......................... ok
t/type_uint8.t ........................... ok
All tests successful.
Files=72, Tests=322, 14 wallclock secs ( 0.45 usr 0.12 sys + 11.80 cusr 1.79 csys = 14.16 CPU)
Result: PASS
------------------------------
PREREQUISITES
------------------------------
Prerequisite modules loaded:
requires:
Module Need Have
--------------------- -------- --------
autodie 0 2.36
Capture::Tiny 0 0.48
constant 1.32 1.33
ExtUtils::MakeMaker 7.12 7.64
FFI::CheckLib 0.05 0.31
File::Spec::Functions 0 3.84
IPC::Cmd 0 1.04
JSON::PP 0 4.07
List::Util 1.45 1.63
parent 0 0.241
perl 5.008004 5.036000
build_requires:
Module Need Have
--------------------- -------- --------
Capture::Tiny 0 0.48
ExtUtils::CBuilder 0 0.280236
Test2::API 1.302015 1.302190
Test2::V0 0.000121 0.000155
configure_requires:
Module Need Have
--------------------- -------- --------
Capture::Tiny 0 0.48
ExtUtils::MakeMaker 7.12 7.64
ExtUtils::ParseXS 3.30 3.45
IPC::Cmd 0 1.04
JSON::PP 0 4.07
parent 0 0.241
perl 5.006 5.036000
------------------------------
ENVIRONMENT AND OTHER CONTEXT
------------------------------
Environment variables:
LANG = en_US.UTF-8
LANGUAGE = en_US
LC_ADDRESS = en_US.UTF-8
LC_COLLATE = C.UTF-8
LC_CTYPE = en_US.UTF-8
LC_IDENTIFICATION = en_US.UTF-8
LC_MEASUREMENT = en_US.UTF-8
LC_MESSAGES = en_US.UTF-8
LC_MONETARY = en_US.UTF-8
LC_NAME = en_SE.UTF-8
LC_NUMERIC = en_US.UTF-8
LC_PAPER = en_US.UTF-8
LC_TELEPHONE = en_US.UTF-8
LC_TIME = en_SE.UTF-8
PATH = /root/.nix-profile/bin:/nix/var/nix/profiles/default/bin:/usr/local/sbin:/usr/local/bin:/usr/local/games:/usr/sbin:/usr/bin:/usr/games:/sbin:/bin:/snap/bin:/usr/lib/qt5/bin:/usr/lib/jvm/default-java/bin:/usr/lib/jvm/default-java/db/bin:/usr/lib/go-1.20/bin:/opt/Applications:/opt/go/bin:/opt/rakudo-pkg/bin:/opt/rakudo-pkg/share/perl6/site/bin:/opt/puppetlabs/bin:/opt/rakudo-pkg/share/perl6/bin:/root/.local/bin:/root/bin:/root/go/bin
PERL5LIB =
PERL5OPT =
PERL5_CPANPLUS_IS_RUNNING = 32565
PERL5_CPAN_IS_RUNNING = 32565
PERL6LIB = /root/.zef,/root/.perl6,/opt/rakudo-pkg/share/perl6/site,/opt/rakudo-pkg/share/perl6/vendor,/opt/rakudo-pkg/share/perl6/core
PERL_USE_UNSAFE_INC = 1
SHELL = /usr/bin/zsh
TERM = linux
Perl special variables (and OS-specific diagnostics, for MSWin32):
$^X = /usr/bin/perl
$UID/$EUID = 0 / 0
$GID = 0 0 138 991
$EGID = 0 0 138 991
Perl module toolchain versions installed:
Module Have
------------------- --------
CPAN 2.35
CPAN::Meta 2.150010
Cwd 3.84
ExtUtils::CBuilder 0.280236
ExtUtils::Command 7.64
ExtUtils::Install 2.20
ExtUtils::MakeMaker 7.64
ExtUtils::Manifest 1.73
ExtUtils::ParseXS 3.45
File::Spec 3.84
JSON 4.10
JSON::PP 4.07
Module::Build 0.4232
Module::Signature 0.88
Parse::CPAN::Meta 2.150010
Test2 1.302190
Test::Harness 3.44
Test::More 1.302190
YAML 1.30
YAML::Syck n/a
version 0.9929
--
Summary of my perl5 (revision 5 version 36 subversion 0) configuration:
Platform:
osname=linux
osvers=4.19.0
archname=x86_64-linux-gnu-thread-multi
uname='linux localhost 4.19.0 #1 smp debian 4.19.0 x86_64 gnulinux '
config_args='-Dmksymlinks -Dusethreads -Duselargefiles -Dcc=x86_64-linux-gnu-gcc -Dcpp=x86_64-linux-gnu-cpp -Dld=x86_64-linux-gnu-gcc -Dccflags=-DDEBIAN -Wdate-time -D_FORTIFY_SOURCE=2 -g -O2 -ffile-prefix-map=/dummy/build/dir=. -fdebug-prefix-map=/dummy/build/dir=/usr/src/perl-5.36.0-7 -flto=auto -ffat-lto-objects -fstack-protector-strong -Wformat -Werror=format-security -Dldflags= -Wl,-Bsymbolic-functions -flto=auto -ffat-lto-objects -Wl,-z,relro -Dlddlflags=-shared -Wl,-Bsymbolic-functions -flto=auto -ffat-lto-objects -Wl,-z,relro -Dcccdlflags=-fPIC -Darchname=x86_64-linux-gnu -Dprefix=/usr -Dprivlib=/usr/share/perl/5.36 -Darchlib=/usr/lib/x86_64-linux-gnu/perl/5.36 -Dvendorprefix=/usr -Dvendorlib=/usr/share/perl5 -Dvendorarch=/usr/lib/x86_64-linux-gnu/perl5/5.36 -Dsiteprefix=/usr/local -Dsitelib=/usr/local/share/perl/5.36.0 -Dsitearch=/usr/local/lib/x86_64-linux-gnu/perl/5.36.0 -Dman1dir=/usr/share/man/man1 -Dman3dir=/usr/share/man/man3 -Dsiteman1dir=/usr/local/man/man1 -Dsiteman3dir=/usr/local/man/man3 -Duse64bitint -Dman1ext=1 -Dman3ext=3perl -Dpager=/usr/bin/sensible-pager -Uafs -Ud_csh -Ud_ualarm -Uusesfio -Uusenm -Ui_libutil -Ui_xlocale -Uversiononly -DDEBUGGING=-g -Doptimize=-O2 -dEs -Duseshrplib -Dlibperl=libperl.so.5.36.0'
hint=recommended
useposix=true
d_sigaction=define
useithreads=define
usemultiplicity=define
use64bitint=define
use64bitall=define
uselongdouble=undef
usemymalloc=n
default_inc_excludes_dot=define
Compiler:
cc='x86_64-linux-gnu-gcc'
ccflags ='-D_REENTRANT -D_GNU_SOURCE -DDEBIAN -fwrapv -fno-strict-aliasing -pipe -I/usr/local/include -D_LARGEFILE_SOURCE -D_FILE_OFFSET_BITS=64'
optimize='-O2 -g'
cppflags='-D_REENTRANT -D_GNU_SOURCE -DDEBIAN -fwrapv -fno-strict-aliasing -pipe -I/usr/local/include'
ccversion=''
gccversion='12.2.0'
gccosandvers=''
intsize=4
longsize=8
ptrsize=8
doublesize=8
byteorder=12345678
doublekind=3
d_longlong=define
longlongsize=8
d_longdbl=define
longdblsize=16
longdblkind=3
ivtype='long'
ivsize=8
nvtype='double'
nvsize=8
Off_t='off_t'
lseeksize=8
alignbytes=8
prototype=define
Linker and Libraries:
ld='x86_64-linux-gnu-gcc'
ldflags =' -fstack-protector-strong -L/usr/local/lib'
libpth=/usr/local/lib /usr/lib/x86_64-linux-gnu /usr/lib /lib/x86_64-linux-gnu /lib
libs=-lgdbm -lgdbm_compat -ldb -ldl -lm -lpthread -lc -lcrypt
perllibs=-ldl -lm -lpthread -lc -lcrypt
libc=/lib/x86_64-linux-gnu/libc.so.6
so=so
useshrplib=true
libperl=libperl.so.5.36
gnulibc_version='2.36'
Dynamic Linking:
dlsrc=dl_dlopen.xs
dlext=so
d_dlsymun=undef
ccdlflags='-Wl,-E'
cccdlflags='-fPIC'
lddlflags='-shared -L/usr/local/lib -fstack-protector-strong'
Characteristics of this binary (from libperl):
Compile-time options:
HAS_TIMES
MULTIPLICITY
PERLIO_LAYERS
PERL_COPY_ON_WRITE
PERL_DONT_CREATE_GVSV
PERL_MALLOC_WRAP
PERL_OP_PARENT
PERL_PRESERVE_IVUV
USE_64_BIT_ALL
USE_64_BIT_INT
USE_ITHREADS
USE_LARGE_FILES
USE_LOCALE
USE_LOCALE_COLLATE
USE_LOCALE_CTYPE
USE_LOCALE_NUMERIC
USE_LOCALE_TIME
USE_PERLIO
USE_PERL_ATOF
USE_REENTRANT_API
USE_THREAD_SAFE_LOCALE
Locally applied patches:
DEBPKG:debian/cpan_definstalldirs - Provide a sensible INSTALLDIRS default for modules installed from CPAN.
DEBPKG:debian/db_file_ver - https://bugs.debian.org/340047 Remove overly restrictive DB_File version check.
DEBPKG:debian/doc_info - Replace generic man(1) instructions with Debian-specific information.
DEBPKG:debian/enc2xs_inc - https://bugs.debian.org/290336 Tweak enc2xs to follow symlinks and ignore missing @INC directories.
DEBPKG:debian/errno_ver - https://bugs.debian.org/343351 Remove Errno version check due to upgrade problems with long-running processes.
DEBPKG:debian/libperl_embed_doc - https://bugs.debian.org/186778 Note that libperl-dev package is required for embedded linking
DEBPKG:fixes/respect_umask - Respect umask during installation
DEBPKG:debian/writable_site_dirs - Set umask approproately for site install directories
DEBPKG:debian/extutils_set_libperl_path - EU:MM: set location of libperl.a under /usr/lib
DEBPKG:debian/no_packlist_perllocal - Don't install .packlist or perllocal.pod for perl or vendor
DEBPKG:debian/fakeroot - Postpone LD_LIBRARY_PATH evaluation to the binary targets.
DEBPKG:debian/instmodsh_doc - Debian policy doesn't install .packlist files for core or vendor.
DEBPKG:debian/ld_run_path - Remove standard libs from LD_RUN_PATH as per Debian policy.
DEBPKG:debian/libnet_config_path - Set location of libnet.cfg to /etc/perl/Net as /usr may not be writable.
DEBPKG:debian/perlivp - https://bugs.debian.org/510895 Make perlivp skip include directories in /usr/local
DEBPKG:debian/squelch-locale-warnings - https://bugs.debian.org/508764 Squelch locale warnings in Debian package maintainer scripts
DEBPKG:debian/patchlevel - https://bugs.debian.org/567489 List packaged patches for 5.36.0-7 in patchlevel.h
DEBPKG:fixes/document_makemaker_ccflags - https://bugs.debian.org/628522 [rt.cpan.org #68613] Document that CCFLAGS should include $Config{ccflags}
DEBPKG:debian/find_html2text - https://bugs.debian.org/640479 Configure CPAN::Distribution with correct name of html2text
DEBPKG:debian/perl5db-x-terminal-emulator.patch - https://bugs.debian.org/668490 Invoke x-terminal-emulator rather than xterm in perl5db.pl
DEBPKG:debian/cpan-missing-site-dirs - https://bugs.debian.org/688842 Fix CPAN::FirstTime defaults with nonexisting site dirs if a parent is writable
DEBPKG:fixes/memoize_storable_nstore - [rt.cpan.org #77790] https://bugs.debian.org/587650 Memoize::Storable: respect 'nstore' option not respected
DEBPKG:debian/makemaker-pasthru - https://bugs.debian.org/758471 Pass LD settings through to subdirectories
DEBPKG:debian/makemaker-manext - https://bugs.debian.org/247370 Make EU::MakeMaker honour MANnEXT settings in generated manpage headers
DEBPKG:debian/kfreebsd-softupdates - https://bugs.debian.org/796798 Work around Debian Bug#796798
DEBPKG:fixes/memoize-pod - [rt.cpan.org #89441] Fix POD errors in Memoize
DEBPKG:debian/hurd-softupdates - https://bugs.debian.org/822735 Fix t/op/stat.t failures on hurd
DEBPKG:fixes/math_complex_doc_great_circle - https://bugs.debian.org/697567 [rt.cpan.org #114104] Math::Trig: clarify definition of great_circle_midpoint
DEBPKG:fixes/math_complex_doc_see_also - https://bugs.debian.org/697568 [rt.cpan.org #114105] Math::Trig: add missing SEE ALSO
DEBPKG:fixes/math_complex_doc_angle_units - https://bugs.debian.org/731505 [rt.cpan.org #114106] Math::Trig: document angle units
DEBPKG:fixes/cpan_web_link - https://bugs.debian.org/367291 CPAN: Add link to main CPAN web site
DEBPKG:debian/hppa_op_optimize_workaround - https://bugs.debian.org/838613 Temporarily lower the optimization of op.c on hppa due to gcc-6 problems
DEBPKG:debian/installman-utf8 - https://bugs.debian.org/840211 Generate man pages with UTF-8 characters
DEBPKG:debian/hppa_opmini_optimize_workaround - https://bugs.debian.org/869122 Lower the optimization level of opmini.c on hppa
DEBPKG:debian/sh4_op_optimize_workaround - https://bugs.debian.org/869373 Also lower the optimization level of op.c and opmini.c on sh4
DEBPKG:debian/perldoc-pager - https://bugs.debian.org/870340 [rt.cpan.org #120229] Fix perldoc terminal escapes when sensible-pager is less
DEBPKG:debian/prune_libs - https://bugs.debian.org/128355 Prune the list of libraries wanted to what we actually need.
DEBPKG:debian/mod_paths - Tweak @INC ordering for Debian
DEBPKG:debian/deprecate-with-apt - https://bugs.debian.org/747628 Point users to Debian packages of deprecated core modules
DEBPKG:debian/disable-stack-check - https://bugs.debian.org/902779 [GH #16607] Disable debugperl stack extension checks for binary compatibility with perl
DEBPKG:debian/perlbug-editor - https://bugs.debian.org/922609 Use "editor" as the default perlbug editor, as per Debian policy
DEBPKG:debian/eu-mm-perl-base - https://bugs.debian.org/962138 Suppress an ExtUtils::MakeMaker warning about our non-default @INC
DEBPKG:fixes/io_socket_ip_ipv6 - Disable getaddrinfo(3) AI_ADDRCONFIG for localhost and IPv4 numeric addresses
DEBPKG:debian/usrmerge-lib64 - https://bugs.debian.org/914128 Configure / libpth.U: Do not adjust glibpth when /usr/lib64 is present.
DEBPKG:debian/usrmerge-realpath - https://bugs.debian.org/914128 Configure / libpth.U: use realpath --no-symlinks on Debian
DEBPKG:debian/configure-regen - https://bugs.debian.org/762638 Regenerate Configure et al. after probe unit changes
DEBPKG:fixes/x32-io-msg-skip - https://bugs.debian.org/922609 Skip io/msg.t on x32 due to broken System V message queues
DEBPKG:debian/hurd-eumm-workaround - https://bugs.debian.org/1018289 Work around a MakeMaker regression breaking GNU/Hurd hint files
DEBPKG:fixes/json-pp-warnings - https://bugs.debian.org/1019757 Call unimport first to silence warnings
DEBPKG:fixes/readline-stream-errors - [80c1f1e] [GH #6799] https://bugs.debian.org/1016369 only clear the stream error state in readline() for glob()
DEBPKG:fixes/readline-stream-errors-test - [0b60216] [GH #6799] https://bugs.debian.org/1016369 test that <> doesn't clear the stream error state
DEBPKG:fixes/lto-test-fix - [69b4fa3] [GH #20518] https://bugs.debian.org/1015579 skip checking categorization of libperl symbols for LTO builds
Built under linux
Compiled at Jan 8 2023 21:28:47
%ENV:
PERL5LIB=""
PERL5OPT=""
PERL5_CPANPLUS_IS_RUNNING="32565"
PERL5_CPAN_IS_RUNNING="32565"
PERL6LIB="/root/.zef,/root/.perl6,/opt/rakudo-pkg/share/perl6/site,/opt/rakudo-pkg/share/perl6/vendor,/opt/rakudo-pkg/share/perl6/core"
PERL_USE_UNSAFE_INC="1"
@INC:
/etc/perl
/usr/local/lib/x86_64-linux-gnu/perl/5.36.0
/usr/local/share/perl/5.36.0
/usr/lib/x86_64-linux-gnu/perl5/5.36
/usr/share/perl5
/usr/lib/x86_64-linux-gnu/perl-base
/usr/lib/x86_64-linux-gnu/perl/5.36
/usr/share/perl/5.36
/usr/local/lib/site_perl
.