FFI-Platypus v1.10 Perl 5 v5.30.2 x86_64-linux-thread-multi

Status
Pass
From
Slaven Rezić (SREZIC)
Dist
FFI-Platypus v1.10
Platform
Perl 5 v5.30.2 x86_64-linux-thread-multi
Date
2020-04-09 22:26:37
ID
2d4e78a8-7ab1-11ea-8110-2a381f24ea8f
This distribution has been tested as part of the CPAN Testers
project, supporting the Perl programming language.  See
http://wiki.cpantesters.org/ for more information or email
questions to cpan-testers-discuss@perl.org


--
Dear Graham Ollis,

This is a computer-generated report for FFI-Platypus-1.10
on perl 5.30.2, created by CPAN-Reporter-1.2018.

Thank you for uploading your work to CPAN.  Congratulations!
All tests were successful.

Sections of this report:

    * Tester comments
    * Program output
    * Prerequisites
    * Environment and other context

------------------------------
TESTER COMMENTS
------------------------------

Additional comments from tester:

none provided

------------------------------
PROGRAM OUTPUT
------------------------------

Output from '/usr/bin/make test':

"/usr/bin/perl" -MExtUtils::Command::MM -e 'cp_nonempty' -- lib/FFI/Platypus.bs blib/arch/auto/FFI/Platypus/Platypus.bs 644
CC t/ffi/align.c
CC t/ffi/align_array.c
CC t/ffi/align_fixed.c
CC t/ffi/align_string.c
CC t/ffi/basic.c
CC t/ffi/closure.c
CC t/ffi/color.c
CC t/ffi/complex_double.c
CC t/ffi/complex_float.c
CC t/ffi/double.c
CC t/ffi/float.c
CC t/ffi/gh117.c
CC t/ffi/gh174.c
CC t/ffi/longdouble.c
CC t/ffi/memcmp4.c
CC t/ffi/meta.c
CC t/ffi/pointer.c
CC t/ffi/record.c
CC t/ffi/sint16.c
CC t/ffi/sint32.c
CC t/ffi/sint64.c
CC t/ffi/sint8.c
CC t/ffi/string.c
CC t/ffi/string_array.c
CC t/ffi/uint16.c
CC t/ffi/uint32.c
CC t/ffi/uint64.c
CC t/ffi/uint8.c
CC t/ffi/variadic.c
LD t/ffi/libtest.so
PERL_DL_NONLAZY=1 "/usr/bin/perl" "-MExtUtils::Command::MM" "-MTest::Harness" "-e" "undef *Test::Harness::Switches; test_harness(0, 'blib/lib', 'blib/arch')" t/*.t
# 
# 
# 
# HARNESS_ACTIVE=1
# HARNESS_VERSION=3.42
# LANG=en_US.UTF-8
# PERL5LIB=/home/cpansand/.cpan/build/2020040923/FFI-Platypus-1.10-0/blib/lib:/home/cpansand/.cpan/build/2020040923/FFI-Platypus-1.10-0/blib/arch:/home/cpansand/.cpan/build/2020040923/Alien-Build-2.19-1/blib/arch:/home/cpansand/.cpan/build/2020040923/Alien-Build-2.19-1/blib/lib:/home/cpansand/.cpan/build/2020040923/Path-Tiny-0.112-1/blib/arch:/home/cpansand/.cpan/build/2020040923/Path-Tiny-0.112-1/blib/lib:/home/cpansand/.cpan/build/2020040923/File-chdir-0.1010-1/blib/arch:/home/cpansand/.cpan/build/2020040923/File-chdir-0.1010-1/blib/lib:/home/cpansand/.cpan/build/2020040923/FFI-CheckLib-0.26-1/blib/arch:/home/cpansand/.cpan/build/2020040923/FFI-CheckLib-0.26-1/blib/lib:/home/cpansand/.cpan/build/2020040923/Test2-Suite-0.000129-1/blib/arch:/home/cpansand/.cpan/build/2020040923/Test2-Suite-0.000129-1/blib/lib:/home/cpansand/.cpan/build/2020040923/Sub-Info-0.002-1/blib/arch:/home/cpansand/.cpan/build/2020040923/Sub-Info-0.002-1/blib/lib:/home/cpansand/.cpan/build/2020040923/Scope-Guard-0.21-1/blib/arch:/home/cpansand/.cpan/build/2020040923/Scope-Guard-0.21-1/blib/lib:/home/cpansand/.cpan/build/2020040923/Module-Pluggable-5.2-1/blib/arch:/home/cpansand/.cpan/build/2020040923/Module-Pluggable-5.2-1/blib/lib:/home/cpansand/.cpan/build/2020040923/Alien-Build-2.19-1/blib/arch:/home/cpansand/.cpan/build/2020040923/Alien-Build-2.19-1/blib/lib:/home/cpansand/.cpan/build/2020040923/Path-Tiny-0.112-1/blib/arch:/home/cpansand/.cpan/build/2020040923/Path-Tiny-0.112-1/blib/lib:/home/cpansand/.cpan/build/2020040923/File-chdir-0.1010-1/blib/arch:/home/cpansand/.cpan/build/2020040923/File-chdir-0.1010-1/blib/lib:/home/cpansand/.cpan/build/2020040923/FFI-CheckLib-0.26-1/blib/arch:/home/cpansand/.cpan/build/2020040923/FFI-CheckLib-0.26-1/blib/lib:/home/cpansand/.cpan/build/2020040923/Test2-Suite-0.000129-1/blib/arch:/home/cpansand/.cpan/build/2020040923/Test2-Suite-0.000129-1/blib/lib:/home/cpansand/.cpan/build/2020040923/Sub-Info-0.002-1/blib/arch:/home/cpansand/.cpan/build/2020040923/Sub-Info-0.002-1/blib/lib:/home/cpansand/.cpan/build/2020040923/Scope-Guard-0.21-1/blib/arch:/home/cpansand/.cpan/build/2020040923/Scope-Guard-0.21-1/blib/lib:/home/cpansand/.cpan/build/2020040923/Module-Pluggable-5.2-1/blib/arch:/home/cpansand/.cpan/build/2020040923/Module-Pluggable-5.2-1/blib/lib
# PERL5OPT=
# PERL5_CPANPLUS_IS_RUNNING=2488761
# PERL5_CPAN_IS_RUNNING=2488761
# PERL5_CPAN_IS_RUNNING_IN_RECURSION=2391195,2488761
# PERLDOC=-MPod::Perldoc::ToTextOverstrike
# PERL_BATCH=yes
# PERL_CANARY_STABILITY_NOPROMPT=1
# PERL_CPAN_REPORTER_CONFIG=/var/tmp/cpansmoker-1023/2020040921/cpanreporter_000_config.ini
# PERL_DL_NONLAZY=1
# PERL_EXTUTILS_AUTOINSTALL=--defaultdeps
# PERL_USE_UNSAFE_INC=1
# SHELL=/usr/bin/zsh
# 
# 
# 
# PERL5LIB path
# /home/cpansand/.cpan/build/2020040923/FFI-Platypus-1.10-0/blib/lib
# /home/cpansand/.cpan/build/2020040923/FFI-Platypus-1.10-0/blib/arch
# /home/cpansand/.cpan/build/2020040923/Alien-Build-2.19-1/blib/arch
# /home/cpansand/.cpan/build/2020040923/Alien-Build-2.19-1/blib/lib
# /home/cpansand/.cpan/build/2020040923/Path-Tiny-0.112-1/blib/arch
# /home/cpansand/.cpan/build/2020040923/Path-Tiny-0.112-1/blib/lib
# /home/cpansand/.cpan/build/2020040923/File-chdir-0.1010-1/blib/arch
# /home/cpansand/.cpan/build/2020040923/File-chdir-0.1010-1/blib/lib
# /home/cpansand/.cpan/build/2020040923/FFI-CheckLib-0.26-1/blib/arch
# /home/cpansand/.cpan/build/2020040923/FFI-CheckLib-0.26-1/blib/lib
# /home/cpansand/.cpan/build/2020040923/Test2-Suite-0.000129-1/blib/arch
# /home/cpansand/.cpan/build/2020040923/Test2-Suite-0.000129-1/blib/lib
# /home/cpansand/.cpan/build/2020040923/Sub-Info-0.002-1/blib/arch
# /home/cpansand/.cpan/build/2020040923/Sub-Info-0.002-1/blib/lib
# /home/cpansand/.cpan/build/2020040923/Scope-Guard-0.21-1/blib/arch
# /home/cpansand/.cpan/build/2020040923/Scope-Guard-0.21-1/blib/lib
# /home/cpansand/.cpan/build/2020040923/Module-Pluggable-5.2-1/blib/arch
# /home/cpansand/.cpan/build/2020040923/Module-Pluggable-5.2-1/blib/lib
# /home/cpansand/.cpan/build/2020040923/Alien-Build-2.19-1/blib/arch
# /home/cpansand/.cpan/build/2020040923/Alien-Build-2.19-1/blib/lib
# /home/cpansand/.cpan/build/2020040923/Path-Tiny-0.112-1/blib/arch
# /home/cpansand/.cpan/build/2020040923/Path-Tiny-0.112-1/blib/lib
# /home/cpansand/.cpan/build/2020040923/File-chdir-0.1010-1/blib/arch
# /home/cpansand/.cpan/build/2020040923/File-chdir-0.1010-1/blib/lib
# /home/cpansand/.cpan/build/2020040923/FFI-CheckLib-0.26-1/blib/arch
# /home/cpansand/.cpan/build/2020040923/FFI-CheckLib-0.26-1/blib/lib
# /home/cpansand/.cpan/build/2020040923/Test2-Suite-0.000129-1/blib/arch
# /home/cpansand/.cpan/build/2020040923/Test2-Suite-0.000129-1/blib/lib
# /home/cpansand/.cpan/build/2020040923/Sub-Info-0.002-1/blib/arch
# /home/cpansand/.cpan/build/2020040923/Sub-Info-0.002-1/blib/lib
# /home/cpansand/.cpan/build/2020040923/Scope-Guard-0.21-1/blib/arch
# /home/cpansand/.cpan/build/2020040923/Scope-Guard-0.21-1/blib/lib
# /home/cpansand/.cpan/build/2020040923/Module-Pluggable-5.2-1/blib/arch
# /home/cpansand/.cpan/build/2020040923/Module-Pluggable-5.2-1/blib/lib
# 
# 
# 
# perl                5.030002
# Alien::Base         2.19
# Capture::Tiny       0.48
# Devel::Hide         -
# ExtUtils::CBuilder  0.280234
# ExtUtils::MakeMaker 7.44
# ExtUtils::ParseXS   3.40
# FFI::CheckLib       0.26
# IPC::Cmd            1.04
# JSON::PP            4.04
# List::Util          1.53
# Math::LongDouble    -
# PkgConfig           -
# Test::More          1.302168
# constant            1.33
# forks               -
# 
# 
# 
# mode : system
# Alien::FFI::pkgconfig->VERSION      = undef
# Alien::FFI::pkgconfig->install_type = system
# Alien::FFI::pkgconfig->cflags       = 
# Alien::FFI::pkgconfig->libs         = -lffi 
# Alien::FFI::pkgconfig->version      = 3.1
# 
# 
# 
# ffi.platypus.memory.strdup_impl =libc
# ffi.platypus.memory.strndup_impl=libc
# 
# 
# 
# Types:
#   double   : double, float complex
#   float    : float
#   longdouble : double complex, long double, long double complex
#   sint16   : int16_t, short, signed short
#   sint32   : int, int32_t, senum, signed int, wchar_t
#   sint64   : blkcnt_t, blksize_t, int64_t, intptr_t, long, long long, off_t, ptrdiff_t, signed long, signed long long, ssize_t, time_t
#   sint8    : char, int8_t, signed char
#   uint16   : uint16_t, unsigned short, ushort
#   uint32   : enum, gid_t, mode_t, uid_t, uint, uint32_t, unsigned int, wint_t
#   uint64   : dev_t, ino_t, nlink_t, size_t, uint64_t, uintptr_t, ulong, unsigned long, unsigned long long
#   uint8    : bool, uchar, uint8_t, unsigned char
# 
# 
# 
# ABIs:
#   default_abi          2
#   fastcall             4
#   stdcall              5
#   sysv                 1
#   thiscall             3
#   unix64               2
# 
# 
# 
# Probes:
#   recordvalue          1
#   variadic             1
#   abi                  1
#   longdouble           1
#   bigendian            0
#   bigendian64          0
#   alloca               1
# 
# 
# 
# CPU Info:
#   model name	: Intel Xeon Processor (Skylake, IBRS)
#   flags		: fpu vme de pse tsc msr pae mce cx8 apic sep mtrr pge mca cmov pat pse36 clflush mmx fxsr sse sse2 ht syscall nx pdpe1gb rdtscp lm constant_tsc rep_good nopl xtopology cpuid tsc_known_freq pni pclmulqdq ssse3 fma cx16 pcid sse4_1 sse4_2 x2apic movbe popcnt tsc_deadline_timer aes xsave avx f16c rdrand hypervisor lahf_lm abm 3dnowprefetch cpuid_fault invpcid_single pti ssbd ibrs ibpb fsgsbase bmi1 hle avx2 smep bmi2 erms invpcid rtm mpx avx512f avx512dq rdseed adx smap clwb avx512cd avx512bw avx512vl xsaveopt xsavec xgetbv1 arat md_clear
#   address sizes	: 40 bits physical, 48 bits virtual
# 
# 
# 
# LSB Version:	:core-4.1-amd64:core-4.1-noarch
# Distributor ID:	Fedora
# Description:	Fedora release 31 (Thirty One)
# Release:	31
# Codename:	ThirtyOne
# 
# 
# 
# [PLATFORM]
# osname            : linux
# cc                : gcc
# cxx               : g++
# for               : gfortran
# ld                : gcc
# ccflags           : -fPIC -D_REENTRANT -D_GNU_SOURCE -O2 -g -pipe -Wall -Werror=format-security -Wp,-D_FORTIFY_SOURCE=2 -Wp,-D_GLIBCXX_ASSERTIONS -fexceptions -fstack-protector-strong -grecord-gcc-switches -specs=/usr/lib/rpm/redhat/redhat-hardened-cc1 -specs=/usr/lib/rpm/redhat/redhat-annobin-cc1 -m64 -mtune=generic -fasynchronous-unwind-tables -fstack-clash-protection -fcf-protection -fwrapv -fno-strict-aliasing -I/usr/local/include -D_LARGEFILE_SOURCE -D_FILE_OFFSET_BITS=64 -g -I/home/cpansand/.cpan/build/2020040923/FFI-Platypus-1.10-0/blib/lib/auto/share/dist/FFI-Platypus/include
# ldflags           : -lpthread -shared -Wl,-z,relro -Wl,--as-needed -Wl,-z,now -specs=/usr/lib/rpm/redhat/redhat-hardened-ld -L/usr/local/lib -fstack-protector-strong
# object suffix     : .o
# library prefix    : lib
# library suffix    : .so
# cc mm works       : -MM
# 
# 
# 
t/00_diag.t .............................. ok
t/01_use.t ............................... ok
t/ffi_build.t ............................ ok
t/ffi_build_file_base.t .................. ok
t/ffi_build_file_c.t ..................... ok
t/ffi_build_file_cxx.t ................... ok
t/ffi_build_file_library.t ............... ok
t/ffi_build_file_object.t ................ ok
t/ffi_build_mm.t ......................... ok
t/ffi_build_platform.t ................... ok
t/ffi_platypus.t ......................... ok
t/ffi_platypus_api.t ..................... ok
t/ffi_platypus_buffer.t .................. ok
t/ffi_platypus_bundle.t .................. ok
t/ffi_platypus_closure.t ................. ok
t/ffi_platypus_constant.t ................ ok
t/ffi_platypus_declare.t ................. ok
t/ffi_platypus_dl.t ...................... ok
t/ffi_platypus_function.t ................ ok
t/ffi_platypus_function_wrapper.t ........ ok
t/ffi_platypus_internal.t ................ ok
t/ffi_platypus_lang.t .................... ok
t/ffi_platypus_lang_asm.t ................ ok
t/ffi_platypus_lang_c.t .................. ok
t/ffi_platypus_lang_win32.t .............. ok
t/ffi_platypus_legacy.t .................. ok
t/ffi_platypus_memory.t .................. ok
t/ffi_platypus_record.t .................. ok
t/ffi_platypus_record_meta.t ............. ok
t/ffi_platypus_record_tiearray.t ......... ok
t/ffi_platypus_shareconfig.t ............. ok
t/ffi_platypus_type.t .................... ok
t/ffi_platypus_type_pointersizebuffer.t .. ok
t/ffi_platypus_type_stringarray.t ........ ok
t/ffi_platypus_type_stringpointer.t ...... ok
t/ffi_platypus_typeparser.t .............. ok
t/ffi_platypus_typeparser_version0.t ..... ok
t/ffi_platypus_typeparser_version1.t ..... ok
t/ffi_probe.t ............................ ok
t/ffi_probe_runner.t ..................... ok
t/ffi_probe_runner_builder.t ............. ok
t/ffi_probe_runner_result.t .............. ok
t/ffi_temp.t ............................. ok
t/forks.t ................................ skipped: Test requires forks
t/gh117.t ................................ ok
t/gh129.t ................................ ok
t/memory.t ............................... skipped: tested only in CI
t/threads.t .............................. ok
t/type_complex_double.t .................. skipped: Test requires support for double complex
t/type_complex_float.t ................... skipped: Test requires support for float complex
t/type_custom.t .......................... ok
t/type_double.t .......................... ok
t/type_float.t ........................... ok
t/type_longdouble.t ...................... ok
t/type_longdouble__array.t ............... ok
t/type_longdouble__hide.t ................ skipped: test requires Devel::Hide 0.0010
t/type_longdouble__ptr.t ................. ok
t/type_opaque.t .......................... ok
t/type_record.t .......................... ok
t/type_record_value.t .................... ok
t/type_sint16.t .......................... ok
t/type_sint32.t .......................... ok
t/type_sint64.t .......................... ok
t/type_sint8.t ........................... ok
t/type_string.t .......................... ok
t/type_uint16.t .......................... ok
t/type_uint32.t .......................... ok
t/type_uint64.t .......................... ok
t/type_uint8.t ........................... ok
All tests successful.
Files=69, Tests=340, 17 wallclock secs ( 0.77 usr  0.18 sys + 13.79 cusr  2.86 csys = 17.60 CPU)
Result: PASS

------------------------------
PREREQUISITES
------------------------------

Prerequisite modules loaded:

requires:

    Module              Need     Have    
    ------------------- -------- --------
    Capture::Tiny       0        0.48    
    constant            1.32     1.33    
    ExtUtils::MakeMaker 7.12     7.44    
    FFI::CheckLib       0.05     0.26    
    IPC::Cmd            0        1.04    
    JSON::PP            0        4.04    
    List::Util          1.45     1.53    
    perl                5.008001 5.030002

build_requires:

    Module              Need     Have    
    ------------------- -------- --------
    Capture::Tiny       0        0.48    
    ExtUtils::CBuilder  0        0.280234
    Test::More          0.98     1.302168

configure_requires:

    Module              Need     Have    
    ------------------- -------- --------
    Capture::Tiny       0        0.48    
    ExtUtils::MakeMaker 7.12     7.44    
    ExtUtils::ParseXS   3.30     3.40    
    IPC::Cmd            0        1.04    
    perl                5.006    5.030002


------------------------------
ENVIRONMENT AND OTHER CONTEXT
------------------------------

Environment variables:

    LANG = en_US.UTF-8
    PATH = /usr/local/bin:/usr/bin:/bin:/usr/local/sbin:/usr/sbin:/sbin:/home/cpansand/bin/linux-gnu:/home/cpansand/bin/sh:/home/cpansand/bin:/usr/games:/home/cpansand/devel:/home/eserte/src/srezic-misc/scripts
    PERL5LIB = /home/cpansand/.cpan/build/2020040923/Alien-Build-2.19-1/blib/arch:/home/cpansand/.cpan/build/2020040923/Alien-Build-2.19-1/blib/lib:/home/cpansand/.cpan/build/2020040923/Path-Tiny-0.112-1/blib/arch:/home/cpansand/.cpan/build/2020040923/Path-Tiny-0.112-1/blib/lib:/home/cpansand/.cpan/build/2020040923/File-chdir-0.1010-1/blib/arch:/home/cpansand/.cpan/build/2020040923/File-chdir-0.1010-1/blib/lib:/home/cpansand/.cpan/build/2020040923/FFI-CheckLib-0.26-1/blib/arch:/home/cpansand/.cpan/build/2020040923/FFI-CheckLib-0.26-1/blib/lib:/home/cpansand/.cpan/build/2020040923/Test2-Suite-0.000129-1/blib/arch:/home/cpansand/.cpan/build/2020040923/Test2-Suite-0.000129-1/blib/lib:/home/cpansand/.cpan/build/2020040923/Sub-Info-0.002-1/blib/arch:/home/cpansand/.cpan/build/2020040923/Sub-Info-0.002-1/blib/lib:/home/cpansand/.cpan/build/2020040923/Scope-Guard-0.21-1/blib/arch:/home/cpansand/.cpan/build/2020040923/Scope-Guard-0.21-1/blib/lib:/home/cpansand/.cpan/build/2020040923/Module-Pluggable-5.2-1/blib/arch:/home/cpansand/.cpan/build/2020040923/Module-Pluggable-5.2-1/blib/lib
    PERL5OPT = 
    PERL5_CPANPLUS_IS_RUNNING = 2488761
    PERL5_CPAN_IS_RUNNING = 2488761
    PERL5_CPAN_IS_RUNNING_IN_RECURSION = 2391195,2488761
    PERLDOC = -MPod::Perldoc::ToTextOverstrike
    PERL_BATCH = yes
    PERL_CANARY_STABILITY_NOPROMPT = 1
    PERL_CPAN_REPORTER_CONFIG = /var/tmp/cpansmoker-1023/2020040921/cpanreporter_000_config.ini
    PERL_EXTUTILS_AUTOINSTALL = --defaultdeps
    PERL_USE_UNSAFE_INC = 1
    SHELL = /usr/bin/zsh
    TERM = screen
    TMPDIR = /var/tmp/cpansmoker-1023/2020040921

Perl special variables (and OS-specific diagnostics, for MSWin32):

    $^X = /usr/bin/perl
    $UID/$EUID = 1023 / 1023
    $GID = 1023 1023
    $EGID = 1023 1023

Perl module toolchain versions installed:

    Module              Have    
    ------------------- --------
    CPAN                2.27    
    CPAN::Meta          2.150010
    Cwd                 3.78    
    ExtUtils::CBuilder  0.280234
    ExtUtils::Command   7.44    
    ExtUtils::Install   2.14    
    ExtUtils::MakeMaker 7.44    
    ExtUtils::Manifest  1.72    
    ExtUtils::ParseXS   3.40    
    File::Spec          3.78    
    JSON                n/a     
    JSON::PP            4.04    
    Module::Build       0.4229  
    Module::Signature   n/a     
    Parse::CPAN::Meta   2.150010
    Test::Harness       3.42    
    Test::More          1.302168
    YAML                n/a     
    YAML::Syck          1.31    
    version             0.9924  


--

Summary of my perl5 (revision 5 version 30 subversion 2) configuration:
   
  Platform:
    osname=linux
    osvers=5.4.8-200.fc31.x86_64
    archname=x86_64-linux-thread-multi
    uname='linux buildvm-22.phx2.fedoraproject.org 5.4.8-200.fc31.x86_64 #1 smp mon jan 6 16:44:18 utc 2020 x86_64 x86_64 x86_64 gnulinux '
    config_args='-des -Doptimize=none -Dccflags=-O2 -g -pipe -Wall -Werror=format-security -Wp,-D_FORTIFY_SOURCE=2 -Wp,-D_GLIBCXX_ASSERTIONS -fexceptions -fstack-protector-strong -grecord-gcc-switches -specs=/usr/lib/rpm/redhat/redhat-hardened-cc1 -specs=/usr/lib/rpm/redhat/redhat-annobin-cc1 -m64 -mtune=generic -fasynchronous-unwind-tables -fstack-clash-protection -fcf-protection -Dldflags=-Wl,-z,relro -Wl,--as-needed  -Wl,-z,now -specs=/usr/lib/rpm/redhat/redhat-hardened-ld -Dccdlflags=-Wl,--enable-new-dtags -Wl,-z,relro -Wl,--as-needed  -Wl,-z,now -specs=/usr/lib/rpm/redhat/redhat-hardened-ld -Dlddlflags=-shared -Wl,-z,relro -Wl,--as-needed  -Wl,-z,now -specs=/usr/lib/rpm/redhat/redhat-hardened-ld -Dshrpdir=/usr/lib64 -DDEBUGGING=-g -Dversion=5.30.2 -Dmyhostname=localhost -Dperladmin=root@localhost -Dcc=gcc -Dcf_by=Red Hat, Inc. -Dprefix=/usr -Dvendorprefix=/usr -Dsiteprefix=/usr/local -Dsitelib=/usr/local/share/perl5/5.30 -Dsitearch=/usr/local/lib64/perl5/5.30 -Dprivlib=/usr/share/perl5 -Dvendorlib=/usr/share/perl5/vendor_perl -Darchlib=/usr/lib64/perl5 -Dvendorarch=/usr/lib64/perl5/vendor_perl -Darchname=x86_64-linux-thread-multi -Dlibpth=/usr/local/lib64 /lib64 /usr/lib64 -Duseshrplib -Dusethreads -Duseithreads -Dusedtrace=/usr/bin/dtrace -Duselargefiles -Dd_semctl_semun -Di_db -Ui_ndbm -Di_gdbm -Di_shadow -Di_syslog -Dman3ext=3pm -Duseperlio -Dinstallusrbinperl=n -Ubincompat5005 -Uversiononly -Dpager=/usr/bin/less -isr -Dd_gethostent_r_proto -Ud_endhostent_r_proto -Ud_sethostent_r_proto -Ud_endprotoent_r_proto -Ud_setprotoent_r_proto -Ud_endservent_r_proto -Ud_setservent_r_proto -Dscriptdir=/usr/bin -Dusesitecustomize -Duse64bitint'
    hint=recommended
    useposix=true
    d_sigaction=define
    useithreads=define
    usemultiplicity=define
    use64bitint=define
    use64bitall=define
    uselongdouble=undef
    usemymalloc=n
    default_inc_excludes_dot=define
    bincompat5005=undef
  Compiler:
    cc='gcc'
    ccflags ='-D_REENTRANT -D_GNU_SOURCE -O2 -g -pipe -Wall -Werror=format-security -Wp,-D_FORTIFY_SOURCE=2 -Wp,-D_GLIBCXX_ASSERTIONS -fexceptions -fstack-protector-strong -grecord-gcc-switches -specs=/usr/lib/rpm/redhat/redhat-hardened-cc1 -specs=/usr/lib/rpm/redhat/redhat-annobin-cc1 -m64 -mtune=generic -fasynchronous-unwind-tables -fstack-clash-protection -fcf-protection -fwrapv -fno-strict-aliasing -I/usr/local/include -D_LARGEFILE_SOURCE -D_FILE_OFFSET_BITS=64'
    optimize='  -g'
    cppflags='-D_REENTRANT -D_GNU_SOURCE -O2 -g -pipe -Wall -Werror=format-security -Wp,-D_FORTIFY_SOURCE=2 -Wp,-D_GLIBCXX_ASSERTIONS -fexceptions -fstack-protector-strong -grecord-gcc-switches -specs=/usr/lib/rpm/redhat/redhat-hardened-cc1 -specs=/usr/lib/rpm/redhat/redhat-annobin-cc1 -m64 -mtune=generic -fasynchronous-unwind-tables -fstack-clash-protection -fcf-protection -fwrapv -fno-strict-aliasing -I/usr/local/include'
    ccversion=''
    gccversion='9.2.1 20190827 (Red Hat 9.2.1-1)'
    gccosandvers=''
    intsize=4
    longsize=8
    ptrsize=8
    doublesize=8
    byteorder=12345678
    doublekind=3
    d_longlong=define
    longlongsize=8
    d_longdbl=define
    longdblsize=16
    longdblkind=3
    ivtype='long'
    ivsize=8
    nvtype='double'
    nvsize=8
    Off_t='off_t'
    lseeksize=8
    alignbytes=8
    prototype=define
  Linker and Libraries:
    ld='gcc'
    ldflags ='-Wl,-z,relro -Wl,--as-needed -Wl,-z,now -specs=/usr/lib/rpm/redhat/redhat-hardened-ld -fstack-protector-strong -L/usr/local/lib'
    libpth=/usr/local/lib64 /lib64 /usr/lib64 /usr/local/lib /usr/lib /lib/../lib64 /usr/lib/../lib64 /lib
    libs=-lpthread -lresolv -lgdbm -ldb -ldl -lm -lcrypt -lutil -lc -lgdbm_compat
    perllibs=-lpthread -lresolv -ldl -lm -lcrypt -lutil -lc
    libc=libc-2.30.so
    so=so
    useshrplib=true
    libperl=libperl.so
    gnulibc_version='2.30'
  Dynamic Linking:
    dlsrc=dl_dlopen.xs
    dlext=so
    d_dlsymun=undef
    ccdlflags='-Wl,--enable-new-dtags -Wl,-z,relro -Wl,--as-needed -Wl,-z,now -specs=/usr/lib/rpm/redhat/redhat-hardened-ld'
    cccdlflags='-fPIC'
    lddlflags='-lpthread -shared -Wl,-z,relro -Wl,--as-needed -Wl,-z,now -specs=/usr/lib/rpm/redhat/redhat-hardened-ld -L/usr/local/lib -fstack-protector-strong'


Characteristics of this binary (from libperl): 
  Compile-time options:
    HAS_TIMES
    MULTIPLICITY
    PERLIO_LAYERS
    PERL_COPY_ON_WRITE
    PERL_DONT_CREATE_GVSV
    PERL_IMPLICIT_CONTEXT
    PERL_MALLOC_WRAP
    PERL_OP_PARENT
    PERL_PRESERVE_IVUV
    USE_64_BIT_ALL
    USE_64_BIT_INT
    USE_ITHREADS
    USE_LARGE_FILES
    USE_LOCALE
    USE_LOCALE_COLLATE
    USE_LOCALE_CTYPE
    USE_LOCALE_NUMERIC
    USE_LOCALE_TIME
    USE_PERLIO
    USE_PERL_ATOF
    USE_REENTRANT_API
    USE_SITECUSTOMIZE
    USE_THREAD_SAFE_LOCALE
  Locally applied patches:
    Fedora Patch1: Removes date check, Fedora/RHEL specific
    Fedora Patch2: support for libdir64
    Fedora Patch3: use libresolv instead of libbind
    Fedora Patch4: USE_MM_LD_RUN_PATH
    Fedora Patch5: Provide MM::maybe_command independently (bug #1129443)
    Fedora Patch6: Dont run one io test due to random builder failures
    Fedora Patch8: Define SONAME for libperl.so
    Fedora Patch9: Install libperl.so to -Dshrpdir value
    Fedora Patch10: Make *DBM_File desctructors thread-safe (RT#61912)
    Fedora Patch11: Replace EU::MakeMaker dependency with EU::MM::Utils in IPC::Cmd (bug #1129443)
    Fedora Patch12: Link XS modules to pthread library to fix linking with -z defs
    Fedora Patch13: Pass the correct CFLAGS to dtrace
    Fedora Patch16: Fix memory handling when parsing string literals
    Fedora Patch17: Fix an undefined behavior in shifting IV variables
    Fedora Patch18: Fix an undefined behavior in shifting IV variables
    Fedora Patch19: Fix an undefined behavior in shifting IV variables
    Fedora Patch20: Fix stacking file test operators (CPAN RT#127073)
    Fedora Patch21: Fix a crash in SIGALARM handler when waiting on a child process to be closed (RT#122112)
    Fedora Patch22: Fix a crash in SIGALARM handler when waiting on a child process to be closed (RT#122112)
    Fedora Patch23: Fix a crash in SIGALARM handler when waiting on a child process to be closed (RT#122112)
    Fedora Patch25: Fix a crash with a negative precision in sprintf function (RT#134008)
    Fedora Patch27: Prevent from wrapping a width in a numeric format string (RT#133913)
    Fedora Patch28: Fix subroutine protypes to track reference aliases (RT#134072)
    Fedora Patch30: Fix changing packet destination sent from a UDP IO::Socket object (RT#133936)
    Fedora Patch31: Fix changing packet destination sent from a UDP IO::Socket object (RT#133936)
    Fedora Patch32: Fix changing packet destination sent from a UDP IO::Socket object (RT#133936)
    Fedora Patch37: Fix %{^CAPTURE_ALL} to be an alias for %- variable (RT#131867)
    Fedora Patch38: Fix %{^CAPTURE} value when used after @{^CAPTURE} (RT#134193)
    Fedora Patch39: Fix %{^CAPTURE} value when used after @{^CAPTURE} (RT#134193)
    Fedora Patch40: Fix a test for a crash in SIGALARM handler when waiting on a child process to be closed (RT#122112)
    Fedora Patch41: Fix a crash on an uninitialized warning when processing a multideref node (RT#134275)
    Fedora Patch42: Preserve append mode when opening anonymous files (RT#134221)
    Fedora Patch43: Preserve append mode when opening anonymous files (RT#134221)
    Fedora Patch44: Preserve append mode when opening anonymous files (RT#134221)
    Fedora Patch45: Fix propagating non-string variables in an exception value (RT#134291)
    Fedora Patch46: Include trailing zero in scalars holding trie data (RT#134207)
    Fedora Patch48: Fix a use after free in debugging output of a collation
    Fedora Patch49: Fix a NULL pointer dereference in PerlIOVia_pushed()
    Fedora Patch50: Fix a crash when setting $@ on unwinding a call stack (RT#134266)
    Fedora Patch51: Fix parsing a denominator when parsing a Unicode property name
    Fedora Patch52: Fix a documentation about a future API change
    Fedora Patch53: Do not run File-Find tests in parallel
    Fedora Patch54: Fix parsing a Unicode property name when compiling a regular expression
    Fedora Patch56: Do not interpret 0x and 0b prefixes when numifying strings (RT#134230)
    Fedora Patch59: Correct a misspelling in perlrebackslash documentation (RT#134395)
    Fedora Patch61: Fix a detection for futimes (RT#134432)
    Fedora Patch62: Fix a detection for futimes (RT#134432)
    Fedora Patch63: Fix overloading for binary and octal floats (RT#125557)
    Fedora Patch64: Fix handling undefined array members in Dumpvalue (RT#134441)
    Fedora Patch65: Fix taint mode documentation regarding @INC
    Fedora Patch66: Fix taint mode documentation regarding @INC
    Fedora Patch67: Fix handling a layer argument in Tie::StdHandle::BINMODE() (RT#132475)
    Fedora Patch68: Fix an unintended upgrade to UTF-8 in the middle of a transliteration
    Fedora Patch69: Fix an unintended upgrade to UTF-8 in the middle of a transliteration
    Fedora Patch70: Fix a race in File::stat() tests (GH#17234)
    Fedora Patch71: Fix a buffer overread when parsing a number (GH#17279)
    Fedora Patch200: Link XS modules to libperl.so with EU::CBuilder on Linux
    Fedora Patch201: Link XS modules to libperl.so with EU::MM on Linux
  Built under linux
  Compiled at Mar 16 2020 00:00:00
  %ENV:
    PERL5LIB="/home/cpansand/.cpan/build/2020040923/Alien-Build-2.19-1/blib/arch:/home/cpansand/.cpan/build/2020040923/Alien-Build-2.19-1/blib/lib:/home/cpansand/.cpan/build/2020040923/Path-Tiny-0.112-1/blib/arch:/home/cpansand/.cpan/build/2020040923/Path-Tiny-0.112-1/blib/lib:/home/cpansand/.cpan/build/2020040923/File-chdir-0.1010-1/blib/arch:/home/cpansand/.cpan/build/2020040923/File-chdir-0.1010-1/blib/lib:/home/cpansand/.cpan/build/2020040923/FFI-CheckLib-0.26-1/blib/arch:/home/cpansand/.cpan/build/2020040923/FFI-CheckLib-0.26-1/blib/lib:/home/cpansand/.cpan/build/2020040923/Test2-Suite-0.000129-1/blib/arch:/home/cpansand/.cpan/build/2020040923/Test2-Suite-0.000129-1/blib/lib:/home/cpansand/.cpan/build/2020040923/Sub-Info-0.002-1/blib/arch:/home/cpansand/.cpan/build/2020040923/Sub-Info-0.002-1/blib/lib:/home/cpansand/.cpan/build/2020040923/Scope-Guard-0.21-1/blib/arch:/home/cpansand/.cpan/build/2020040923/Scope-Guard-0.21-1/blib/lib:/home/cpansand/.cpan/build/2020040923/Module-Pluggable-5.2-1/blib/arch:/home/cpansand/.cpan/build/2020040923/Module-Pluggable-5.2-1/blib/lib"
    PERL5OPT=""
    PERL5_CPANPLUS_IS_RUNNING="2488761"
    PERL5_CPAN_IS_RUNNING="2488761"
    PERL5_CPAN_IS_RUNNING_IN_RECURSION="2391195,2488761"
    PERLDOC="-MPod::Perldoc::ToTextOverstrike"
    PERL_BATCH="yes"
    PERL_CANARY_STABILITY_NOPROMPT="1"
    PERL_CPAN_REPORTER_CONFIG="/var/tmp/cpansmoker-1023/2020040921/cpanreporter_000_config.ini"
    PERL_EXTUTILS_AUTOINSTALL="--defaultdeps"
    PERL_USE_UNSAFE_INC="1"
  @INC:
    /home/cpansand/.cpan/build/2020040923/Alien-Build-2.19-1/blib/arch
    /home/cpansand/.cpan/build/2020040923/Alien-Build-2.19-1/blib/lib
    /home/cpansand/.cpan/build/2020040923/Path-Tiny-0.112-1/blib/arch
    /home/cpansand/.cpan/build/2020040923/Path-Tiny-0.112-1/blib/lib
    /home/cpansand/.cpan/build/2020040923/File-chdir-0.1010-1/blib/arch
    /home/cpansand/.cpan/build/2020040923/File-chdir-0.1010-1/blib/lib
    /home/cpansand/.cpan/build/2020040923/FFI-CheckLib-0.26-1/blib/arch
    /home/cpansand/.cpan/build/2020040923/FFI-CheckLib-0.26-1/blib/lib
    /home/cpansand/.cpan/build/2020040923/Test2-Suite-0.000129-1/blib/arch
    /home/cpansand/.cpan/build/2020040923/Test2-Suite-0.000129-1/blib/lib
    /home/cpansand/.cpan/build/2020040923/Sub-Info-0.002-1/blib/arch
    /home/cpansand/.cpan/build/2020040923/Sub-Info-0.002-1/blib/lib
    /home/cpansand/.cpan/build/2020040923/Scope-Guard-0.21-1/blib/arch
    /home/cpansand/.cpan/build/2020040923/Scope-Guard-0.21-1/blib/lib
    /home/cpansand/.cpan/build/2020040923/Module-Pluggable-5.2-1/blib/arch
    /home/cpansand/.cpan/build/2020040923/Module-Pluggable-5.2-1/blib/lib
    /usr/local/lib64/perl5/5.30
    /usr/local/share/perl5/5.30
    /usr/lib64/perl5/vendor_perl
    /usr/share/perl5/vendor_perl
    /usr/lib64/perl5
    /usr/share/perl5
    .