Catmandu-MARC v1.253 Perl 5 v5.31.4 amd64-freebsd
- Status
- Pass
- From
- Slaven Rezić (SREZIC)
- Dist
-
Catmandu-MARC v1.253
- Platform
- Perl 5 v5.31.4 amd64-freebsd
- Date
- 2019-10-18 19:33:35
- ID
- 2d3ff226-f1de-11e9-9b6b-1b1c1f24ea8f
This distribution has been tested as part of the CPAN Testers
project, supporting the Perl programming language. See
http://wiki.cpantesters.org/ for more information or email
questions to cpan-testers-discuss@perl.org
--
Dear Patrick Hochstenbach,
This is a computer-generated report for Catmandu-MARC-1.253
on perl 5.31.4, created by CPAN-Reporter-1.2018.
Thank you for uploading your work to CPAN. Congratulations!
All tests were successful.
Sections of this report:
* Tester comments
* Program output
* Prerequisites
* Environment and other context
------------------------------
TESTER COMMENTS
------------------------------
Additional comments from tester:
none provided
------------------------------
PROGRAM OUTPUT
------------------------------
Output from './Build test':
t/Catmandu/Exporter/MARC.t ..................... ok
t/Catmandu/Exporter/MARC/ALEPHSEQ.t ............ ok
t/Catmandu/Exporter/MARC/Base.t ................ ok
t/Catmandu/Exporter/MARC/ISO.t ................. ok
t/Catmandu/Exporter/MARC/MARCMaker.t ........... ok
t/Catmandu/Exporter/MARC/MiJ.t ................. ok
t/Catmandu/Exporter/MARC/XML.t ................. ok
t/Catmandu/Fix/Bind/marc_each.t ................ ok
t/Catmandu/Fix/Condition/marc_all_match.t ...... ok
t/Catmandu/Fix/Condition/marc_any_match.t ...... ok
t/Catmandu/Fix/Condition/marc_has.t ............ ok
t/Catmandu/Fix/Condition/marc_has_many.t ....... ok
t/Catmandu/Fix/Condition/marc_match.t .......... ok
t/Catmandu/Fix/Condition/marc_spec_has.t ....... ok
t/Catmandu/Fix/Inline/marc_add.t ............... ok
t/Catmandu/Fix/Inline/marc_map.t ............... ok
t/Catmandu/Fix/Inline/marc_remove.t ............ ok
t/Catmandu/Fix/Inline/marc_set.t ............... ok
t/Catmandu/Fix/marc_add.t ...................... ok
t/Catmandu/Fix/marc_append.t ................... ok
t/Catmandu/Fix/marc_copy.t ..................... ok
t/Catmandu/Fix/marc_cut.t ...................... ok
t/Catmandu/Fix/marc_decode_dollar_subfields.t .. ok
t/Catmandu/Fix/marc_in_json.t .................. ok
t/Catmandu/Fix/marc_map.t ...................... ok
t/Catmandu/Fix/marc_paste.t .................... ok
t/Catmandu/Fix/marc_remove.t ................... ok
t/Catmandu/Fix/marc_replace_all.t .............. ok
t/Catmandu/Fix/marc_set.t ...................... ok
t/Catmandu/Fix/marc_sort.t ..................... ok
t/Catmandu/Fix/marc_spec.t ..................... ok
t/Catmandu/Fix/marc_xml.t ...................... ok
t/Catmandu/Importer/MARC.t ..................... ok
t/Catmandu/Importer/MARC/ALEPHSEQ.t ............ ok
t/Catmandu/Importer/MARC/Decoder.t ............. ok
t/Catmandu/Importer/MARC/ISO.t ................. ok
t/Catmandu/Importer/MARC/Lint.t ................ ok
t/Catmandu/Importer/MARC/MARCMaker.t ........... ok
t/Catmandu/Importer/MARC/MiJ.t ................. ok
t/Catmandu/Importer/MARC/MicroLIF.t ............ ok
t/Catmandu/Importer/MARC/RAW.t ................. ok
t/Catmandu/Importer/MARC/Record.t .............. ok
t/Catmandu/Importer/MARC/XML.t ................. ok
t/Catmandu/MARC.t .............................. ok
t/Catmandu/Validator/MARC.t .................... ok
t/author-pod-syntax.t .......................... skipped: these tests are for testing by the author
t/deprecate.t .................................. ok
t/inline-fix.t ................................. ok
t/inlineable.t ................................. ok
t/mapping_rules.t .............................. ok
t/mapping_rules_spec.t ......................... ok
t/marc-spec-subspecs.t ......................... ok
t/marc_spec2.t ................................. ok
t/old-new-internal-syntax.t .................... ok
All tests successful.
Files=54, Tests=537, 62 wallclock secs ( 0.27 usr 0.12 sys + 20.28 cusr 3.15 csys = 23.81 CPU)
Result: PASS
------------------------------
PREREQUISITES
------------------------------
Prerequisite modules loaded:
requires:
Module Need Have
--------------------- -------- --------
Carp 0 1.50
Catmandu 1.0602 1.2007
JSON::XS 2.3 4.02
List::Util 0 1.52
MARC::File::MARCMaker 0.05 0.05
MARC::File::MiJ 0.04 0.04
MARC::File::XML v1.0.5 1.0.5
MARC::Lint 0 1.52
MARC::Parser::RAW 0 0.06
MARC::Record v2.0.6 2.0.7
MARC::Schema 0.07 0.09
MARC::Spec v2.0.3 2.0.3
Memoize 0 1.03_01
Module::Build 0.4229 0.4229
Moo 1.0 2.003004
MooX::Singleton 0 1.20
namespace::clean 0 0.27
perl v5.10.1 5.031004
YAML::XS 0.34 0.80
build_requires:
Module Need Have
--------------------- -------- --------
Module::Build 0.4229 0.4229
Pod::Simple::HTML 3.23 3.39
Test::Deep 0 1.128
Test::Exception 0 0.43
Test::More 1.001003 1.302168
Test::Pod 0 1.52
Test::Simple 1.001003 1.302168
Test::Warn 0 0.36
Test::Warnings 0 0.026
XML::XPath 1.13 1.44
configure_requires:
Module Need Have
--------------------- -------- --------
Module::Build 0.28 0.4229
------------------------------
ENVIRONMENT AND OTHER CONTEXT
------------------------------
Environment variables:
PATH = /usr/local/bin:/usr/bin:/bin:/usr/local/sbin:/usr/sbin:/sbin:/home/cpansand/bin/sh:/home/cpansand/bin:/usr/games:/home/cpansand/devel:/usr/home/eserte/src/srezic-misc/scripts
PERL5LIB =
PERL5OPT =
PERL5_CPANPLUS_IS_RUNNING = 42343
PERL5_CPAN_IS_RUNNING = 42343
PERL5_CPAN_IS_RUNNING_IN_RECURSION = 17700,42343
PERL_BATCH = yes
PERL_CANARY_STABILITY_NOPROMPT = 1
PERL_CPAN_REPORTER_CONFIG = /var/tmp/cpansmoker-1023/2019101110/cpanreporter_000_config.ini
PERL_EXTUTILS_AUTOINSTALL = --defaultdeps
PERL_USE_UNSAFE_INC = 1
SHELL = /bin/sh
TMPDIR = /var/tmp/cpansmoker-1023/2019101110
Perl special variables (and OS-specific diagnostics, for MSWin32):
$^X = /usr/perl5.31.4p/bin/perl5.31.4
$UID/$EUID = 1023 / 1023
$GID = 1023 1023
$EGID = 1023 1023
Perl module toolchain versions installed:
Module Have
------------------- --------
CPAN 2.27
CPAN::Meta 2.150010
Cwd 3.78
ExtUtils::CBuilder 0.280232
ExtUtils::Command 7.38
ExtUtils::Install 2.14
ExtUtils::MakeMaker 7.38
ExtUtils::Manifest 1.72
ExtUtils::ParseXS 3.40
File::Spec 3.78
JSON 4.02
JSON::PP 4.04
Module::Build 0.4229
Module::Signature n/a
Parse::CPAN::Meta 2.150010
Test::Harness 3.42
Test::More 1.302168
YAML 1.29
YAML::Syck 1.31
version 0.9924
--
Summary of my perl5 (revision 5 version 31 subversion 4) configuration:
Platform:
osname=freebsd
osvers=12.1-prerelease
archname=amd64-freebsd
uname='freebsd cloud1.bbbike.org 12.1-prerelease freebsd 12.1-prerelease 94fee6e185b(stable12) generic amd64 '
config_args='-ds -e -Dprefix=/usr/perl5.31.4p -Dusedevel -Dusemallocwrap=no -Dcf_email=srezic@cpan.org -Doptimize=-O2 -pipe'
hint=recommended
useposix=true
d_sigaction=define
useithreads=undef
usemultiplicity=undef
use64bitint=define
use64bitall=define
uselongdouble=undef
usemymalloc=n
default_inc_excludes_dot=define
bincompat5005=undef
Compiler:
cc='cc'
ccflags ='-DHAS_FPSETMASK -DHAS_FLOATINGPOINT_H -fno-strict-aliasing -pipe -fstack-protector-strong -I/usr/local/include -D_FORTIFY_SOURCE=2'
optimize='-O2 -pipe'
cppflags='-DHAS_FPSETMASK -DHAS_FLOATINGPOINT_H -fno-strict-aliasing -pipe -fstack-protector-strong -I/usr/local/include'
ccversion=''
gccversion='4.2.1 Compatible FreeBSD Clang 8.0.1 (tags/RELEASE_801/final 366581)'
gccosandvers=''
intsize=4
longsize=8
ptrsize=8
doublesize=8
byteorder=12345678
doublekind=3
d_longlong=define
longlongsize=8
d_longdbl=define
longdblsize=16
longdblkind=3
ivtype='long'
ivsize=8
nvtype='double'
nvsize=8
Off_t='off_t'
lseeksize=8
alignbytes=8
prototype=define
Linker and Libraries:
ld='cc'
ldflags ='-pthread -Wl,-E -fstack-protector-strong -L/usr/local/lib'
libpth=/usr/lib /usr/local/lib /usr/lib/clang/8.0.1/lib /usr/lib
libs=-lpthread -lgdbm -ldl -lm -lcrypt -lutil -lc
perllibs=-lpthread -ldl -lm -lcrypt -lutil -lc
libc=
so=so
useshrplib=false
libperl=libperl.a
gnulibc_version=''
Dynamic Linking:
dlsrc=dl_dlopen.xs
dlext=so
d_dlsymun=undef
ccdlflags=' '
cccdlflags='-DPIC -fPIC'
lddlflags='-shared -L/usr/local/lib -fstack-protector-strong'
Characteristics of this binary (from libperl):
Compile-time options:
HAS_TIMES
PERLIO_LAYERS
PERL_COPY_ON_WRITE
PERL_DONT_CREATE_GVSV
PERL_OP_PARENT
PERL_PRESERVE_IVUV
PERL_USE_DEVEL
USE_64_BIT_ALL
USE_64_BIT_INT
USE_LARGE_FILES
USE_LOCALE
USE_LOCALE_COLLATE
USE_LOCALE_CTYPE
USE_LOCALE_NUMERIC
USE_LOCALE_TIME
USE_PERLIO
USE_PERL_ATOF
Built under freebsd
Compiled at Sep 21 2019 06:31:05
%ENV:
PERL5LIB=""
PERL5OPT=""
PERL5_CPANPLUS_IS_RUNNING="42343"
PERL5_CPAN_IS_RUNNING="42343"
PERL5_CPAN_IS_RUNNING_IN_RECURSION="17700,42343"
PERL_BATCH="yes"
PERL_CANARY_STABILITY_NOPROMPT="1"
PERL_CPAN_REPORTER_CONFIG="/var/tmp/cpansmoker-1023/2019101110/cpanreporter_000_config.ini"
PERL_EXTUTILS_AUTOINSTALL="--defaultdeps"
PERL_USE_UNSAFE_INC="1"
@INC:
/usr/perl5.31.4p/lib/site_perl/5.31.4/amd64-freebsd
/usr/perl5.31.4p/lib/site_perl/5.31.4
/usr/perl5.31.4p/lib/5.31.4/amd64-freebsd
/usr/perl5.31.4p/lib/5.31.4
.