Text-Conceal v1.01 Perl 5 v5.16.3 x86_64-linux

Status
Pass
From
David Cantrell (DCANTRELL)
Dist
Text-Conceal v1.01
Platform
Perl 5 v5.16.3 x86_64-linux
Date
2023-08-31 04:30:54
ID
2c6c344e-47b7-11ee-863e-ef6a9a9136ee
This distribution has been tested as part of the CPAN Testers
project, supporting the Perl programming language.  See
http://wiki.cpantesters.org/ for more information or email
questions to cpan-testers-discuss@perl.org


--
Dear Kaz Utashiro,

This is a computer-generated report for Text-Conceal-1.01
on perl 5.16.3, created by CPAN-Reporter-1.2019.

Thank you for uploading your work to CPAN.  Congratulations!
All tests were successful.

Sections of this report:

    * Tester comments
    * Program output
    * Prerequisites
    * Environment and other context

------------------------------
TESTER COMMENTS
------------------------------

Additional comments from tester:

this report is from an automated smoke testing program
and was not reviewed by a human for accuracy

------------------------------
PROGRAM OUTPUT
------------------------------

Output from './Build test':

t/00_compile.t ............. ok
t/VPrintf/01_simple.t ...... ok
t/VPrintf/02_multi.t ....... ok
t/VPrintf/03_special.t ..... ok
Unknown charname 'KATAKANA LETTER SMALL KI' at (eval 22) line 1.
Unknown charname 'KATAKANA LETTER SMALL KO' at (eval 28) line 1.
Unknown charname 'KATAKANA LETTER SMALL SA' at (eval 30) line 1.
Unknown charname 'KATAKANA LETTER SMALL SE' at (eval 36) line 1.
Unknown charname 'KATAKANA LETTER SMALL SO' at (eval 38) line 1.
Unknown charname 'KATAKANA LETTER SMALL TA' at (eval 40) line 1.
Unknown charname 'KATAKANA LETTER SMALL TI' at (eval 42) line 1.
Unknown charname 'KATAKANA LETTER SMALL TE' at (eval 46) line 1.
Unknown charname 'KATAKANA LETTER SMALL NA' at (eval 50) line 1.
Unknown charname 'KATAKANA LETTER SMALL NI' at (eval 52) line 1.
Unknown charname 'KATAKANA LETTER SMALL NE' at (eval 56) line 1.
Unknown charname 'KATAKANA LETTER SMALL NO' at (eval 58) line 1.
Unknown charname 'KATAKANA LETTER SMALL MA' at (eval 70) line 1.
Unknown charname 'KATAKANA LETTER SMALL MI' at (eval 72) line 1.
Unknown charname 'KATAKANA LETTER SMALL ME' at (eval 76) line 1.
Unknown charname 'KATAKANA LETTER SMALL MO' at (eval 78) line 1.
Unknown charname 'KATAKANA LETTER YI' at (eval 81) line 1.
Unknown charname 'KATAKANA LETTER SMALL YI' at (eval 82) line 1.
Unknown charname 'KATAKANA LETTER YE' at (eval 85) line 1.
Unknown charname 'KATAKANA LETTER SMALL YE' at (eval 86) line 1.
Unknown charname 'KATAKANA LETTER SMALL WI' at (eval 102) line 1.
Unknown charname 'KATAKANA LETTER WU' at (eval 103) line 1.
Unknown charname 'KATAKANA LETTER SMALL WU' at (eval 104) line 1.
Unknown charname 'KATAKANA LETTER SMALL WE' at (eval 106) line 1.
Unknown charname 'KATAKANA LETTER SMALL WO' at (eval 108) line 1.
Unknown charname 'KATAKANA LETTER SMALL GA' at (eval 110) line 1.
Unknown charname 'KATAKANA LETTER SMALL GI' at (eval 112) line 1.
Unknown charname 'KATAKANA LETTER SMALL GU' at (eval 114) line 1.
Unknown charname 'KATAKANA LETTER SMALL GE' at (eval 116) line 1.
Unknown charname 'KATAKANA LETTER SMALL GO' at (eval 118) line 1.
Unknown charname 'KATAKANA LETTER SMALL ZA' at (eval 120) line 1.
Unknown charname 'KATAKANA LETTER SMALL ZI' at (eval 122) line 1.
Unknown charname 'KATAKANA LETTER SMALL ZU' at (eval 124) line 1.
Unknown charname 'KATAKANA LETTER SMALL ZE' at (eval 126) line 1.
Unknown charname 'KATAKANA LETTER SMALL ZO' at (eval 128) line 1.
Unknown charname 'KATAKANA LETTER SMALL DA' at (eval 130) line 1.
Unknown charname 'KATAKANA LETTER SMALL DI' at (eval 132) line 1.
Unknown charname 'KATAKANA LETTER SMALL DU' at (eval 134) line 1.
Unknown charname 'KATAKANA LETTER SMALL DE' at (eval 136) line 1.
Unknown charname 'KATAKANA LETTER SMALL DO' at (eval 138) line 1.
Unknown charname 'KATAKANA LETTER SMALL BA' at (eval 140) line 1.
Unknown charname 'KATAKANA LETTER SMALL BI' at (eval 142) line 1.
Unknown charname 'KATAKANA LETTER SMALL BU' at (eval 144) line 1.
Unknown charname 'KATAKANA LETTER SMALL BE' at (eval 146) line 1.
Unknown charname 'KATAKANA LETTER SMALL BO' at (eval 148) line 1.
Unknown charname 'KATAKANA LETTER SMALL PA' at (eval 150) line 1.
Unknown charname 'KATAKANA LETTER SMALL PI' at (eval 152) line 1.
Unknown charname 'KATAKANA LETTER SMALL PU' at (eval 154) line 1.
Unknown charname 'KATAKANA LETTER SMALL PE' at (eval 156) line 1.
Unknown charname 'KATAKANA LETTER SMALL PO' at (eval 158) line 1.
Unknown charname 'HIRAGANA LETTER SMALL KI' at (eval 172) line 1.
Unknown charname 'HIRAGANA LETTER SMALL KU' at (eval 174) line 1.
Unknown charname 'HIRAGANA LETTER SMALL KO' at (eval 178) line 1.
Unknown charname 'HIRAGANA LETTER SMALL SA' at (eval 180) line 1.
Unknown charname 'HIRAGANA LETTER SMALL SI' at (eval 182) line 1.
Unknown charname 'HIRAGANA LETTER SMALL SU' at (eval 184) line 1.
Unknown charname 'HIRAGANA LETTER SMALL SE' at (eval 186) line 1.
Unknown charname 'HIRAGANA LETTER SMALL SO' at (eval 188) line 1.
Unknown charname 'HIRAGANA LETTER SMALL TA' at (eval 190) line 1.
Unknown charname 'HIRAGANA LETTER SMALL TI' at (eval 192) line 1.
Unknown charname 'HIRAGANA LETTER SMALL TE' at (eval 196) line 1.
Unknown charname 'HIRAGANA LETTER SMALL TO' at (eval 198) line 1.
Unknown charname 'HIRAGANA LETTER SMALL NA' at (eval 200) line 1.
Unknown charname 'HIRAGANA LETTER SMALL NI' at (eval 202) line 1.
Unknown charname 'HIRAGANA LETTER SMALL NU' at (eval 204) line 1.
Unknown charname 'HIRAGANA LETTER SMALL NE' at (eval 206) line 1.
Unknown charname 'HIRAGANA LETTER SMALL NO' at (eval 208) line 1.
Unknown charname 'HIRAGANA LETTER SMALL HA' at (eval 210) line 1.
Unknown charname 'HIRAGANA LETTER SMALL HI' at (eval 212) line 1.
Unknown charname 'HIRAGANA LETTER SMALL HU' at (eval 214) line 1.
Unknown charname 'HIRAGANA LETTER SMALL HE' at (eval 216) line 1.
Unknown charname 'HIRAGANA LETTER SMALL HO' at (eval 218) line 1.
Unknown charname 'HIRAGANA LETTER SMALL MA' at (eval 220) line 1.
Unknown charname 'HIRAGANA LETTER SMALL MI' at (eval 222) line 1.
Unknown charname 'HIRAGANA LETTER SMALL MU' at (eval 224) line 1.
Unknown charname 'HIRAGANA LETTER SMALL ME' at (eval 226) line 1.
Unknown charname 'HIRAGANA LETTER SMALL MO' at (eval 228) line 1.
Unknown charname 'HIRAGANA LETTER YI' at (eval 231) line 1.
Unknown charname 'HIRAGANA LETTER SMALL YI' at (eval 232) line 1.
Unknown charname 'HIRAGANA LETTER YE' at (eval 235) line 1.
Unknown charname 'HIRAGANA LETTER SMALL YE' at (eval 236) line 1.
Unknown charname 'HIRAGANA LETTER SMALL RA' at (eval 240) line 1.
Unknown charname 'HIRAGANA LETTER SMALL RI' at (eval 242) line 1.
Unknown charname 'HIRAGANA LETTER SMALL RU' at (eval 244) line 1.
Unknown charname 'HIRAGANA LETTER SMALL RE' at (eval 246) line 1.
Unknown charname 'HIRAGANA LETTER SMALL RO' at (eval 248) line 1.
Unknown charname 'HIRAGANA LETTER SMALL WI' at (eval 252) line 1.
Unknown charname 'HIRAGANA LETTER WU' at (eval 253) line 1.
Unknown charname 'HIRAGANA LETTER SMALL WU' at (eval 254) line 1.
Unknown charname 'HIRAGANA LETTER SMALL WE' at (eval 256) line 1.
Unknown charname 'HIRAGANA LETTER SMALL WO' at (eval 258) line 1.
Unknown charname 'HIRAGANA LETTER SMALL GA' at (eval 260) line 1.
Unknown charname 'HIRAGANA LETTER SMALL GI' at (eval 262) line 1.
Unknown charname 'HIRAGANA LETTER SMALL GU' at (eval 264) line 1.
Unknown charname 'HIRAGANA LETTER SMALL GE' at (eval 266) line 1.
Unknown charname 'HIRAGANA LETTER SMALL GO' at (eval 268) line 1.
Unknown charname 'HIRAGANA LETTER SMALL ZA' at (eval 270) line 1.
Unknown charname 'HIRAGANA LETTER SMALL ZI' at (eval 272) line 1.
Unknown charname 'HIRAGANA LETTER SMALL ZU' at (eval 274) line 1.
Unknown charname 'HIRAGANA LETTER SMALL ZE' at (eval 276) line 1.
Unknown charname 'HIRAGANA LETTER SMALL ZO' at (eval 278) line 1.
Unknown charname 'HIRAGANA LETTER SMALL DA' at (eval 280) line 1.
Unknown charname 'HIRAGANA LETTER SMALL DI' at (eval 282) line 1.
Unknown charname 'HIRAGANA LETTER SMALL DU' at (eval 284) line 1.
Unknown charname 'HIRAGANA LETTER SMALL DE' at (eval 286) line 1.
Unknown charname 'HIRAGANA LETTER SMALL DO' at (eval 288) line 1.
Unknown charname 'HIRAGANA LETTER SMALL BA' at (eval 290) line 1.
Unknown charname 'HIRAGANA LETTER SMALL BI' at (eval 292) line 1.
Unknown charname 'HIRAGANA LETTER SMALL BU' at (eval 294) line 1.
Unknown charname 'HIRAGANA LETTER SMALL BE' at (eval 296) line 1.
Unknown charname 'HIRAGANA LETTER SMALL BO' at (eval 298) line 1.
Unknown charname 'HIRAGANA LETTER SMALL PA' at (eval 300) line 1.
Unknown charname 'HIRAGANA LETTER SMALL PI' at (eval 302) line 1.
Unknown charname 'HIRAGANA LETTER SMALL PU' at (eval 304) line 1.
Unknown charname 'HIRAGANA LETTER SMALL PE' at (eval 306) line 1.
Unknown charname 'HIRAGANA LETTER SMALL PO' at (eval 308) line 1.
t/VPrintf/04_combined.t .... ok
t/VPrintf/05_filehandle.t .. ok
t/VPrintf/07_backspace.t ... ok
All tests successful.
Files=7, Tests=577,  8 wallclock secs ( 0.09 usr  0.02 sys +  0.96 cusr  0.11 csys =  1.18 CPU)
Result: PASS

------------------------------
PREREQUISITES
------------------------------

Prerequisite modules loaded:

requires:

    Module              Need    Have    
    ------------------- ------- --------
    perl                v5.14.0 5.016003
    Text::ANSI::Fold    2.1301  2.2102  

build_requires:

    Module              Need    Have    
    ------------------- ------- --------
    Test::More          0.98    1.302195

configure_requires:

    Module              Need    Have    
    ------------------- ------- --------
    Module::Build::Tiny 0.035   0.046   


------------------------------
ENVIRONMENT AND OTHER CONTEXT
------------------------------

Environment variables:

    AUTOMATED_TESTING = 1
    LANG = en_GB.UTF-8
    LANGUAGE = en_GB:en
    LC_TERMINAL = iTerm2
    LC_TERMINAL_VERSION = 3.4.20
    NONINTERACTIVE_TESTING = 1
    PATH = /home/david/.nvm/versions/node/v18.17.0/bin:/home/david/.cargo/bin:/home/david/perl5/perlbrew/bin:/home/david/perl5/perlbrew/perls/perl-5.30.2/bin:/home/david/bin:/usr/local/bin:/usr/bin:/bin:/usr/local/games:/usr/games
    PERL = 5.16.3
    PERL5LIB = 
    PERL5OPT = 
    PERL5_CPANPLUS_IS_RUNNING = 3501310
    PERL5_CPAN_IS_RUNNING = 3501310
    PERLBREW_HOME = /home/david/.perlbrew
    PERLBREW_MANPATH = /home/david/perl5/perlbrew/perls/perl-5.30.2/man
    PERLBREW_PATH = /home/david/perl5/perlbrew/bin:/home/david/perl5/perlbrew/perls/perl-5.30.2/bin
    PERLBREW_PERL = perl-5.30.2
    PERLBREW_ROOT = /home/david/perl5/perlbrew
    PERLBREW_SHELLRC_VERSION = 0.89
    PERLBREW_VERSION = 0.89
    PERLVER = 5.16.3
    PERL_INLINE_DIRECTORY = /home/david/.Inline-5.16.3
    PERL_MM_USE_DEFAULT = 1
    PERL_USE_UNSAFE_INC = 0
    SHELL = /bin/bash
    TERM = screen

Perl special variables (and OS-specific diagnostics, for MSWin32):

    $^X = /home/david/cpantesting/perl-5.16.3/bin/perl
    $UID/$EUID = 1000 / 1000
    $GID = 1000 24 25 27 29 30 44 46 109 1000
    $EGID = 1000 24 25 27 29 30 44 46 109 1000

Perl module toolchain versions installed:

    Module              Have    
    ------------------- --------
    CPAN                1.9800  
    CPAN::Meta          2.150010
    Cwd                 3.75    
    ExtUtils::CBuilder  0.280236
    ExtUtils::Command   7.70    
    ExtUtils::Install   2.22    
    ExtUtils::MakeMaker 7.70    
    ExtUtils::Manifest  1.75    
    ExtUtils::ParseXS   3.44    
    File::Spec          3.75    
    JSON                4.10    
    JSON::PP            4.16    
    Module::Build       0.4234  
    Module::Signature   n/a     
    Parse::CPAN::Meta   2.150010
    Test2               1.302195
    Test::Harness       3.44    
    Test::More          1.302195
    YAML                1.30    
    YAML::Syck          n/a     
    version             0.9929  


--

Summary of my perl5 (revision 5 version 16 subversion 3) configuration:
   
  Platform:
    osname=linux, osvers=5.10.0-11-amd64, archname=x86_64-linux
    uname='linux cpantesting-linux 5.10.0-11-amd64 #1 smp debian 5.10.92-1 (2022-01-18) x86_64 gnulinux '
    config_args='-de -Dprefix=/home/david/cpantesting/perl-5.16.3'
    hint=recommended, useposix=true, d_sigaction=define
    useithreads=undef, usemultiplicity=undef
    useperlio=define, d_sfio=undef, uselargefiles=define, usesocks=undef
    use64bitint=define, use64bitall=define, uselongdouble=undef
    usemymalloc=n, bincompat5005=undef
  Compiler:
    cc='cc', ccflags ='-fwrapv -fno-strict-aliasing -pipe -fstack-protector -I/usr/local/include -D_LARGEFILE_SOURCE -D_FILE_OFFSET_BITS=64',
    optimize='-O2',
    cppflags='-fwrapv -fno-strict-aliasing -pipe -fstack-protector -I/usr/local/include'
    ccversion='', gccversion='10.2.1 20210110', gccosandvers=''
    intsize=4, longsize=8, ptrsize=8, doublesize=8, byteorder=12345678
    d_longlong=define, longlongsize=8, d_longdbl=define, longdblsize=16
    ivtype='long', ivsize=8, nvtype='double', nvsize=8, Off_t='off_t', lseeksize=8
    alignbytes=8, prototype=define
  Linker and Libraries:
    ld='cc', ldflags =' -fstack-protector -L/usr/local/lib'
    libpth=/usr/local/lib /lib/x86_64-linux-gnu /lib/../lib /usr/lib/x86_64-linux-gnu /usr/lib/../lib /lib /usr/lib /lib64 /usr/lib64
    libs=-lnsl -ldl -lm -lcrypt -lutil -lc
    perllibs=-lnsl -ldl -lm -lcrypt -lutil -lc
    libc=libc-2.31.so, so=so, useshrplib=false, libperl=libperl.a
    gnulibc_version='2.31'
  Dynamic Linking:
    dlsrc=dl_dlopen.xs, dlext=so, d_dlsymun=undef, ccdlflags='-Wl,-E'
    cccdlflags='-fPIC', lddlflags='-shared -O2 -L/usr/local/lib -fstack-protector'


Characteristics of this binary (from libperl): 
  Compile-time options: HAS_TIMES PERLIO_LAYERS PERL_DONT_CREATE_GVSV
                        PERL_MALLOC_WRAP PERL_PRESERVE_IVUV USE_64_BIT_ALL
                        USE_64_BIT_INT USE_LARGE_FILES USE_LOCALE
                        USE_LOCALE_COLLATE USE_LOCALE_CTYPE
                        USE_LOCALE_NUMERIC USE_PERLIO USE_PERL_ATOF
  Locally applied patches:
	Devel::PatchPerl 2.08
  Built under linux
  Compiled at Jul  5 2023 22:37:37
  %ENV:
    PERL="5.16.3"
    PERL5LIB=""
    PERL5OPT=""
    PERL5_CPANPLUS_IS_RUNNING="3501310"
    PERL5_CPAN_IS_RUNNING="3501310"
    PERLBREW_HOME="/home/david/.perlbrew"
    PERLBREW_MANPATH="/home/david/perl5/perlbrew/perls/perl-5.30.2/man"
    PERLBREW_PATH="/home/david/perl5/perlbrew/bin:/home/david/perl5/perlbrew/perls/perl-5.30.2/bin"
    PERLBREW_PERL="perl-5.30.2"
    PERLBREW_ROOT="/home/david/perl5/perlbrew"
    PERLBREW_SHELLRC_VERSION="0.89"
    PERLBREW_VERSION="0.89"
    PERLVER="5.16.3"
    PERL_INLINE_DIRECTORY="/home/david/.Inline-5.16.3"
    PERL_MM_USE_DEFAULT="1"
    PERL_USE_UNSAFE_INC="0"
  @INC:
    /home/david/cpantesting/perl-5.16.3/lib/site_perl/5.16.3/x86_64-linux
    /home/david/cpantesting/perl-5.16.3/lib/site_perl/5.16.3
    /home/david/cpantesting/perl-5.16.3/lib/5.16.3/x86_64-linux
    /home/david/cpantesting/perl-5.16.3/lib/5.16.3
    .