App-perlimports v0.000048 Perl 5 v5.36.0 x86_64-linux

Status
Pass
From
Ioan Rogers
Dist
App-perlimports v0.000048
Platform
Perl 5 v5.36.0 x86_64-linux
Date
2022-10-11 17:28:50
ID
2b8abc8e-498a-11ed-9d86-68f7fd2d2298
This distribution has been tested as part of the CPAN Testers
project, supporting the Perl programming language.  See
http://wiki.cpantesters.org/ for more information or email
questions to cpan-testers-discuss@perl.org


--
Dear OALDERS,

This is a computer-generated report for App-perlimports-0.000048
on perl 5.36.0, created by App::cpanminus::reporter 0.17 (1.7046).

Thank you for uploading your work to CPAN.  Congratulations!
All tests were successful.

Sections of this report:

    * Tester comments
    * Program output
    * Prerequisites
    * Environment and other context

------------------------------
TESTER COMMENTS
------------------------------

Additional comments from tester:

none provided

------------------------------
PROGRAM OUTPUT
------------------------------

Output from '':

Building and testing App-perlimports-0.000048
cp lib/App/perlimports/Include.pm blib/lib/App/perlimports/Include.pm
cp lib/App/perlimports/Sandbox.pm blib/lib/App/perlimports/Sandbox.pm
cp lib/App/perlimports/Document.pm blib/lib/App/perlimports/Document.pm
cp lib/App/perlimports.pm blib/lib/App/perlimports.pm
cp lib/App/perlimports/CLI.pm blib/lib/App/perlimports/CLI.pm
cp lib/App/perlimports/Config.pm blib/lib/App/perlimports/Config.pm
cp lib/App/perlimports/Role/Logger.pm blib/lib/App/perlimports/Role/Logger.pm
cp lib/App/perlimports/Annotations.pm blib/lib/App/perlimports/Annotations.pm
cp lib/App/perlimports/ExportInspector.pm blib/lib/App/perlimports/ExportInspector.pm
cp script/dump-perl-exports blib/script/dump-perl-exports
cp script/perlimports blib/script/perlimports
"/home/ioan/.plenv/versions/mm-perl-5.36.0/bin/perl5.36.0" -MExtUtils::MY -e 'MY->fixin(shift)' -- blib/script/dump-perl-exports
"/home/ioan/.plenv/versions/mm-perl-5.36.0/bin/perl5.36.0" -MExtUtils::MY -e 'MY->fixin(shift)' -- blib/script/perlimports
PERL_DL_NONLAZY=1 "/home/ioan/.plenv/versions/mm-perl-5.36.0/bin/perl5.36.0" "-MExtUtils::Command::MM" "-MTest::Harness" "-e" "undef *Test::Harness::Switches; test_harness(0, 'blib/lib', 'blib/arch')" t/*.t t/ExportInspector/*.t t/cpan-modules/*.t
# 
# Versions for all modules listed in MYMETA.json (including optional ones):
# 
# === Configure Requires ===
# 
#     Module              Want Have
#     ------------------- ---- ----
#     ExtUtils::MakeMaker  any 7.64
# 
# === Build Requires ===
# 
#     Module              Want Have
#     ------------------- ---- ----
#     ExtUtils::MakeMaker  any 7.64
# 
# === Test Requires ===
# 
#     Module                 Want     Have
#     ---------------------- ---- --------
#     DDP                     any    undef
#     ExtUtils::MakeMaker     any     7.64
#     File::Spec              any     3.84
#     File::pushd             any    1.016
#     Log::Dispatch::Array    any    1.003
#     PPI::Dumper             any    1.276
#     Sub::Exporter           any    0.988
#     Test::Differences       any     0.69
#     Test::Fatal             any    0.016
#     Test::More              any 1.302191
#     Test::Needs             any 0.002009
#     Test::RequiresInternet  any     0.05
#     Test::Script           1.29     1.29
#     Test::Warnings          any    0.031
#     lib                     any     0.65
# 
# === Test Recommends ===
# 
#     Module         Want     Have
#     ---------- -------- --------
#     CPAN::Meta 2.120900 2.150010
# 
# === Runtime Requires ===
# 
#     Module                           Want     Have
#     ---------------------------- -------- --------
#     Capture::Tiny                     any     0.48
#     Class::Inspector                 1.36     1.36
#     Data::Dumper                      any    2.183
#     Data::UUID                        any    1.226
#     File::Basename                    any     2.85
#     File::XDG                        1.01     1.02
#     Getopt::Long::Descriptive         any    0.110
#     List::Util                        any     1.63
#     Log::Dispatch                    2.70     2.70
#     Memoize                           any  1.03_01
#     Module::Runtime                   any    0.016
#     Moo                               any 2.005004
#     Moo::Role                         any 2.005004
#     MooX::StrictConstructor           any    0.011
#     PPI                             1.276    1.276
#     PPI::Document                     any    1.276
#     PPIx::Utils::Classification       any    0.003
#     Path::Iterator::Rule              any    1.015
#     Path::Tiny                        any    0.124
#     Perl::Tidy                   20220613 20220613
#     Pod::Usage                        any     2.01
#     Ref::Util                         any    0.204
#     Sereal::Decoder                   any    5.001
#     Sereal::Encoder                   any    5.001
#     Sub::HandlesVia                   any    0.037
#     Symbol::Get                      0.10     0.10
#     TOML::Tiny                        any     0.15
#     Text::Diff                        any     1.45
#     Text::SimpleTable::AutoWidth      any     0.09
#     Try::Tiny                         any     0.31
#     Types::Standard                   any 2.000001
#     feature                           any     1.72
#     strict                            any     1.12
#     utf8                              any     1.24
#     warnings                          any     1.58
# 
t/00-report-prereqs.t ............ ok
t/builtin.t ...................... ok
t/carp.t ......................... ok
t/after.t ........................ ok
t/annotations.t .................. ok
t/args-in-import.t ............... ok
t/cast.t ......................... ok
t/config-in-import.t ............. ok
t/cast-in-regex.t ................ ok
t/cli-args.t ..................... ok
t/Config.t ....................... ok
t/cpan-modules/test2-v0.t ........ ok
t/do-block.t ..................... ok
t/cpan-modules/pithub.t .......... ok
t/Document.t ..................... ok
t/datetime.t ..................... ok
t/dupes.t ........................ ok
t/english.t ...................... ok
t/cli.t .......................... ok
t/exported-variables.t ........... ok
t/export-tags.t .................. ok
t/explodes.t ..................... ok
t/ExportInspector/load.t ......... ok
t/ExportInspector/SubExporter.t .. skipped: Need MetaCPAN::Moose
t/func-in-var.t .................. ok
t/find-bin.t ..................... ok
t/fully-qualified.t .............. ok
t/geo-ip.t ....................... ok
t/func-in-use.t .................. ok
t/hash-in-regex.t ................ ok
t/hash-key.t ..................... ok
t/ignored-modules.t .............. ok
t/import-error.t ................. ok
t/heredoc.t ...................... ok
t/interpolation.t ................ ok
t/is-ignored.t ................... ok
t/lookalike-words.t .............. ok
t/memoize.t ...................... skipped: Need MooseX::Types::UUID
t/meta.t ......................... ok
t/missing-semicolon-in-import.t .. ok
t/method.t ....................... ok
t/module-with-inner-packages.t ... ok
t/moo.t .......................... ok
t/moosex-types-moose.t ........... ok
t/nested-quotes.t ................ ok
t/original-imports.t ............. ok
t/moose-types.t .................. ok
t/moose.t ........................ ok
t/never-exports.t ................ ok
t/perl-imports.t ................. ok
t/padding.t ...................... ok
t/perl.t ......................... ok
t/preserve-some-padding.t ........ ok
t/pragma.t ....................... ok
t/preserve-spaces.t .............. ok
t/qualified-bareword.t ........... ok
t/quoted-var.t ................... ok
t/dump-perl-exports.t ............ ok
t/re-export-via-sub-exporter.t ... ok
t/respace-include.t .............. ok
t/regex-replacement.t ............ ok
t/Sandbox.t ...................... ok
t/skip-all.t ..................... skipped: Test is broken
t/script-with-inner-packages.t ... ok
t/require.t ...................... ok
t/socket.t ....................... ok
t/sort-imports.t ................. ok
t/signatures.t ................... ok
t/switches-in-import.t ........... ok
t/symbol-as-method-call.t ........ skipped: Need HTML::TableExtract
t/test-most.t .................... ok
t/test-builder.t ................. skipped: Need Test::HTML::Lint
t/symbol-in-export.t ............. ok
t/typeglob.t ..................... ok
t/unnest-quotes.t ................ ok
t/use-and-require.t .............. ok
t/variable.t ..................... ok
t/var-in-regex.t ................. ok
t/var-in-hash-key.t .............. ok
t/warning.t ...................... ok
t/with-version.t ................. ok
t/perlimports.t .................. ok
All tests successful.
Files=82, Tests=193, 18 wallclock secs ( 0.35 usr  0.10 sys + 70.41 cusr  6.45 csys = 77.31 CPU)
Result: PASS

------------------------------
PREREQUISITES
------------------------------

Prerequisite modules loaded:

    No requirements found

------------------------------
ENVIRONMENT AND OTHER CONTEXT
------------------------------

Environment variables:

    HARNESS_OPTIONS = j8
    LANG = en_GB.UTF-8
    LANGUAGE = en_GB:en_CA:en_US:en
    LC_ADDRESS = en_GB.UTF-8
    LC_ALL = en_GB.UTF-8
    LC_IDENTIFICATION = en_GB.UTF-8
    LC_MEASUREMENT = en_GB.UTF-8
    LC_MONETARY = en_GB.UTF-8
    LC_NAME = en_GB.UTF-8
    LC_NUMERIC = en_GB.UTF-8
    LC_PAPER = en_GB.UTF-8
    LC_TELEPHONE = en_GB.UTF-8
    LC_TIME = en_GB.UTF-8
    PATH = /home/ioan/.plenv/versions/mm-perl-5.36.0/bin:/home/ioan/.plenv/libexec:/home/ioan/.plenv/plugins/perl-build/bin:/home/ioan/go/bin:/usr/local/go/bin:/home/ioan/.raku/bin:/home/ioan/.plenv/shims:/snap/bin::/home/ioan/.local/bin:/usr/local/bin:/usr/bin:/bin:/usr/local/sbin:/sbin:/usr/sbin:/usr/games
    PERL5LIB = /home/ioan/Projects/github.maxmind.com/maxmind/mm_website/lib
    PERL_CPANM_OPT = --prompt --no-man-pages --verify --mirror https://cpan.metacpan.org
    SHELL = /bin/zsh
    TERM = xterm-256color

Perl special variables (and OS-specific diagnostics, for MSWin32):

    EGID = 1001 4 20 24 27 30 46 119 130 131 134 138 1001
    EUID = 1001
    EXECUTABLE_NAME = /home/ioan/.plenv/versions/mm-perl-5.36.0/bin/perl5.36.0
    GID = 1001 4 20 24 27 30 46 119 130 131 134 138 1001
    UID = 1001

Perl module toolchain versions installed:

    Module              Have    
    ------------------- --------
    CPAN                2.34    
    CPAN::Meta          2.150010
    Cwd                 3.84    
    ExtUtils::CBuilder  0.280236
    ExtUtils::Command   7.64    
    ExtUtils::Install   2.20    
    ExtUtils::MakeMaker 7.64    
    ExtUtils::Manifest  1.73    
    ExtUtils::ParseXS   3.45    
    File::Spec          3.84    
    JSON                4.10    
    JSON::PP            4.12    
    Module::Build       0.4231  
    Module::Signature   0.88    
    Parse::CPAN::Meta   2.150010
    Test::Harness       3.44    
    Test::More          1.302191
    YAML                1.30    
    YAML::Syck          1.34    
    version             0.9929  


--

Summary of my perl5 (revision 5 version 36 subversion 0) configuration:
   
  Platform:
    osname=linux
    osvers=5.15.0-41-generic
    archname=x86_64-linux
    uname='linux impatience 5.15.0-41-generic #44-ubuntu smp wed jun 22 14:20:53 utc 2022 x86_64 x86_64 x86_64 gnulinux '
    config_args='-Dprefix=/home/ioan/.plenv/versions/mm-perl-5.36.0 -de -Dversiononly -Dcc=clang -Doptimize=-O3 -Dccflags-march=native  -Dman1dir=none -Dman3dir=none -A'eval:scriptdir=/home/ioan/.plenv/versions/mm-perl-5.36.0/bin''
    hint=recommended
    useposix=true
    d_sigaction=define
    useithreads=undef
    usemultiplicity=undef
    use64bitint=define
    use64bitall=define
    uselongdouble=undef
    usemymalloc=n
    default_inc_excludes_dot=define
  Compiler:
    cc='clang'
    ccflags ='-fno-strict-aliasing -pipe -fstack-protector-strong -I/usr/local/include -D_LARGEFILE_SOURCE -D_FILE_OFFSET_BITS=64'
    optimize='-O3'
    cppflags='-fno-strict-aliasing -pipe -fstack-protector-strong -I/usr/local/include'
    ccversion=''
    gccversion='Ubuntu Clang 14.0.0'
    gccosandvers=''
    intsize=4
    longsize=8
    ptrsize=8
    doublesize=8
    byteorder=12345678
    doublekind=3
    d_longlong=define
    longlongsize=8
    d_longdbl=define
    longdblsize=16
    longdblkind=3
    ivtype='long'
    ivsize=8
    nvtype='double'
    nvsize=8
    Off_t='off_t'
    lseeksize=8
    alignbytes=8
    prototype=define
  Linker and Libraries:
    ld='clang'
    ldflags =' -fstack-protector-strong -L/usr/local/lib'
    libpth=/usr/lib/llvm-14/lib/clang/14.0.0/lib /usr/local/lib /usr/lib/x86_64-linux-gnu /usr/lib /usr/lib64
    libs=-lpthread -lnsl -ldb -ldl -lm -lcrypt -lutil -lc
    perllibs=-lpthread -lnsl -ldl -lm -lcrypt -lutil -lc
    libc=/lib/x86_64-linux-gnu/libc.so.6
    so=so
    useshrplib=false
    libperl=libperl.a
    gnulibc_version='2.35'
  Dynamic Linking:
    dlsrc=dl_dlopen.xs
    dlext=so
    d_dlsymun=undef
    ccdlflags='-Wl,-E'
    cccdlflags='-fPIC'
    lddlflags='-shared -O3 -L/usr/local/lib -fstack-protector-strong'


Characteristics of this binary (from libperl): 
  Compile-time options:
    HAS_TIMES
    PERLIO_LAYERS
    PERL_COPY_ON_WRITE
    PERL_DONT_CREATE_GVSV
    PERL_MALLOC_WRAP
    PERL_OP_PARENT
    PERL_PRESERVE_IVUV
    USE_64_BIT_ALL
    USE_64_BIT_INT
    USE_LARGE_FILES
    USE_LOCALE
    USE_LOCALE_COLLATE
    USE_LOCALE_CTYPE
    USE_LOCALE_NUMERIC
    USE_LOCALE_TIME
    USE_PERLIO
    USE_PERL_ATOF
  Built under linux
  Compiled at Jul 20 2022 11:19:10
  %ENV:
    PERL5LIB="/home/ioan/Projects/github.maxmind.com/maxmind/mm_website/lib"
    PERL_CPANM_OPT="--prompt --no-man-pages --verify --mirror https://cpan.metacpan.org"
  @INC:
    /home/ioan/Projects/github.maxmind.com/maxmind/mm_website/lib
    /home/ioan/.plenv/versions/mm-perl-5.36.0/lib/site_perl/5.36.0/x86_64-linux
    /home/ioan/.plenv/versions/mm-perl-5.36.0/lib/site_perl/5.36.0
    /home/ioan/.plenv/versions/mm-perl-5.36.0/lib/5.36.0/x86_64-linux
    /home/ioan/.plenv/versions/mm-perl-5.36.0/lib/5.36.0