urpmi vv8.128.1 Perl 5 v5.34.1 x86_64-linux

Status
Pass
From
Slaven Rezić
Dist
urpmi vv8.128.1
Platform
Perl 5 v5.34.1 x86_64-linux
Date
2022-12-10 17:00:37
ID
2b1776ba-78ac-11ed-900b-a8246e8775ea
This distribution has been tested as part of the CPAN Testers
project, supporting the Perl programming language.  See
http://wiki.cpantesters.org/ for more information or email
questions to cpan-testers-discuss@perl.org


--
Dear Thierry Vignaud,

This is a computer-generated report for urpmi-v8.128.1
on perl 5.34.1, created by CPAN-Reporter-1.2018.

Thank you for uploading your work to CPAN.  Congratulations!
All tests were successful.

Sections of this report:

    * Tester comments
    * Program output
    * Prerequisites
    * Environment and other context

------------------------------
TESTER COMMENTS
------------------------------

Additional comments from tester:

none provided

------------------------------
PROGRAM OUTPUT
------------------------------

Output from '/usr/bin/make test':

Skip blib/lib/urpm/cfg.pm (unchanged)
Skip blib/lib/gurpm/RPMProgressDialog.pm (unchanged)
Skip blib/lib/urpm/media.pm (unchanged)
Skip blib/lib/urpm/xml_info_pkg.pm (unchanged)
Skip blib/lib/urpm/ldap.pm (unchanged)
Skip blib/lib/urpm/util.pm (unchanged)
Skip blib/lib/urpm/get_pkgs.pm (unchanged)
Skip blib/lib/urpm/parallel_ssh.pm (unchanged)
Skip blib/lib/urpm/select.pm (unchanged)
Skip blib/lib/urpm/parallel_ka_run.pm (unchanged)
Skip blib/lib/urpm/removable.pm (unchanged)
Skip blib/lib/urpm/sys.pm (unchanged)
Skip blib/lib/urpm/prompt.pm (unchanged)
Skip blib/lib/urpm/mirrors.pm (unchanged)
Skip blib/lib/urpm/signature.pm (unchanged)
Skip blib/lib/urpm/orphans.pm (unchanged)
Skip blib/lib/urpm/msg.pm (unchanged)
Skip blib/lib/urpm/README.ka-run (unchanged)
Skip blib/lib/urpm/main_loop.pm (unchanged)
Skip blib/lib/urpm/cdrom.pm (unchanged)
Skip blib/lib/urpm/args.pm (unchanged)
Skip blib/lib/urpm/xml_info.pm (unchanged)
Skip blib/lib/urpm/lock.pm (unchanged)
Skip blib/lib/urpm/md5sum.pm (unchanged)
Skip blib/lib/urpm/README.ssh (unchanged)
Skip blib/lib/urpm/bug_report.pm (unchanged)
Skip blib/lib/urpm/install.pm (unchanged)
Skip blib/lib/urpm.pm (unchanged)
Skip blib/lib/urpm/parallel.pm (unchanged)
Skip blib/lib/urpm/download.pm (unchanged)
Skip blib/lib/urpmi.pm (unchanged)
PERL_DL_NONLAZY=1 "/opt/perl-5.34.1/bin/perl" "-MExtUtils::Command::MM" "-MTest::Harness" "-e" "undef *Test::Harness::Switches; test_harness(0, 'blib/lib', 'blib/arch')" t/*.t
t/01compile.t ................................................... ok
>> RPM version is: RPM version 4.17.0

	not a dynamic executable
0 blocks
warning: line 7: It's not recommended to have unversioned Obsoletes: Obsoletes: bb
t/02create_pkgs.t ............................................... ok
t/03kwality.t ................................................... skipped: These tests are for authors only!
Use of uninitialized value $substitutions{"RELEASE"} in substitution iterator at /home/cpansand/.cpan/build/2022121013/urpmi-v8.128.1-0/blib/lib/urpm/cfg.pm line 93.
Use of uninitialized value $substitutions{"RELEASE"} in substitution iterator at /home/cpansand/.cpan/build/2022121013/urpmi-v8.128.1-0/blib/lib/urpm/cfg.pm line 93.
t/cfg.t ......................................................... ok
t/pod.t ......................................................... ok
t/superuser--addmedia.t ......................................... ok
t/superuser--arch_to_noarch.t ................................... ok
t/superuser--backtrack-promotion.t .............................. ok
t/superuser--best-versioned-provide.t ........................... ok
t/superuser--buggy-rpms.t ....................................... ok
t/superuser--dropped-provides.t ................................. ok
t/superuser--epochless-conflict-with-promotion.t ................ ok
t/superuser--exclude.t .......................................... ok
t/superuser--failing-promotion.t ................................ ok
t/superuser--failing-scriptlets.t ............................... ok
t/superuser--file-conflicts.t ................................... ok
t/superuser--handle-conflict-deps.t ............................. ok
t/superuser--handle-conflict-deps2.t ............................ ok
t/superuser--http.t ............................................. ok
t/superuser--media_info_dir.t ................................... ok
t/superuser--mirrorlist.t ....................................... skipped: Needs a Mageia specific patch that introduces Time::ZoneInfo->current_zone() as well as a mirrorlist API server
t/superuser--obsolete-and-conflict.t ............................ ok
t/superuser--ordering-scriptlets.t .............................. ok
t/superuser--orphans-kernels.t .................................. ok
t/superuser--orphans.t .......................................... ok
t/superuser--prefer.t ........................................... ok
t/superuser--prefer2.t .......................................... ok
t/superuser--priority-upgrade.t ................................. ok
t/superuser--provide-and-no-obsolete.t .......................... ok
t/superuser--README-urpmi.t ..................................... ok
t/superuser--rpm.t .............................................. ok
t/superuser--rpmnew.t ........................................... ok
t/superuser--should-restart.t ................................... ok
t/superuser--specify-media.t .................................... ok
t/superuser--split-transactions--conflict.t ..................... ok
t/superuser--split-transactions--promote.t ...................... ok
t/superuser--split-transactions--strict-require-and-obsolete.t .. ok
t/superuser--split-transactions--strict-require.t ............... ok
t/superuser--split-transactions.t ............................... ok
t/superuser--srpm-bootstrapping.t ............................... ok
t/superuser--suggests.t ......................................... ok
t/superuser--urpmi_update.t ..................................... ok
All tests successful.
Files=42, Tests=758, 13 wallclock secs ( 0.19 usr  0.04 sys + 11.66 cusr  3.09 csys = 14.98 CPU)
Result: PASS

------------------------------
PREREQUISITES
------------------------------

Prerequisite modules loaded:

requires:

    Module              Need     Have    
    ------------------- -------- --------
    Filesys::Df         0        0.92    
    Getopt::Long        0        2.52    
    Locale::gettext     1.01     1.07    
    MDV::Distribconf    4.100    4.101   
    Net::LDAP           0        0.68    
    perl                5.010000 5.034001
    Time::ZoneInfo      0        0.3     
    URPM                v5.28.0  v5.221  
    XML::LibXML         0        2.0207  
    XML::LibXML::Reader 0        2.0207  

build_requires:

    Module              Need     Have    
    ------------------- -------- --------
    Expect              0        1.21    
    ExtUtils::MakeMaker 0        7.64    
    File::Slurp         0        9999.32 
    Net::Server         0        2.010   
    rpmtools            7.12     7.12    
    Test::More          1.302    1.302191
    Test::Pod           0        1.52    
    Test::Pod::Coverage 0        1.10    

configure_requires:

    Module              Need     Have    
    ------------------- -------- --------
    ExtUtils::MakeMaker 6.64     7.64    


------------------------------
ENVIRONMENT AND OTHER CONTEXT
------------------------------

Environment variables:

    LANG = en_US.UTF-8
    PATH = /usr/local/bin:/usr/bin:/bin:/usr/local/sbin:/usr/sbin:/sbin:/home/cpansand/bin/linux-gnu:/home/cpansand/bin/sh:/home/cpansand/bin:/usr/games:/home/cpansand/devel:/home/eserte/src/srezic-misc/scripts
    PERL5LIB = /home/cpansand/.local/share/.cpan/build/2022121013/rpmtools-7.12-0/blib/arch:/home/cpansand/.local/share/.cpan/build/2022121013/rpmtools-7.12-0/blib/lib:/home/cpansand/.local/share/.cpan/build/2022121013/Time-ZoneInfo-0.3-0/blib/arch:/home/cpansand/.local/share/.cpan/build/2022121013/Time-ZoneInfo-0.3-0/blib/lib:/home/cpansand/.local/share/.cpan/build/2022121013/MDV-Distribconf-4.101-0/blib/arch:/home/cpansand/.local/share/.cpan/build/2022121013/MDV-Distribconf-4.101-0/blib/lib:/home/cpansand/.local/share/.cpan/build/2022121013/Locale-gettext-1.07-0/blib/arch:/home/cpansand/.local/share/.cpan/build/2022121013/Locale-gettext-1.07-0/blib/lib:/home/cpansand/.local/share/.cpan/build/2022121013/Filesys-Df-0.92-0/blib/arch:/home/cpansand/.local/share/.cpan/build/2022121013/Filesys-Df-0.92-0/blib/lib
    PERL5OPT = 
    PERL5_CPANPLUS_IS_RUNNING = 4161468
    PERL5_CPAN_IS_RUNNING = 4161468
    PERL5_CPAN_IS_RUNNING_IN_RECURSION = 4161363,4161468
    PERLDOC = -MPod::Perldoc::ToTextOverstrike
    PERL_BATCH = yes
    PERL_CANARY_STABILITY_NOPROMPT = 1
    PERL_CPAN_REPORTER_CONFIG = /var/tmp/cpansmoker-1023/2022121013/cpanreporter_000_config.ini
    PERL_EXTUTILS_AUTOINSTALL = --defaultdeps
    PERL_USE_UNSAFE_INC = 1
    SHELL = /usr/bin/zsh
    TERM = screen
    TMPDIR = /var/tmp/cpansmoker-1023/2022121013

Perl special variables (and OS-specific diagnostics, for MSWin32):

    $^X = /opt/perl-5.34.1/bin/perl
    $UID/$EUID = 1023 / 1023
    $GID = 1023 1023
    $EGID = 1023 1023

Perl module toolchain versions installed:

    Module              Have    
    ------------------- --------
    CPAN                2.34    
    CPAN::Meta          2.150010
    Cwd                 3.80    
    ExtUtils::CBuilder  0.280236
    ExtUtils::Command   7.64    
    ExtUtils::Install   2.20    
    ExtUtils::MakeMaker 7.64    
    ExtUtils::Manifest  1.73    
    ExtUtils::ParseXS   3.43    
    File::Spec          3.80    
    JSON                4.10    
    JSON::PP            4.12    
    Module::Build       0.4231  
    Module::Signature   0.88    
    Parse::CPAN::Meta   2.150010
    Test::Harness       3.44    
    Test::More          1.302191
    YAML                1.30    
    YAML::Syck          1.34    
    version             0.9929  


--

Summary of my perl5 (revision 5 version 34 subversion 1) configuration:
   
  Platform:
    osname=linux
    osvers=5.15.0-25-generic
    archname=x86_64-linux
    uname='linux cloud14.bbbike.org 5.15.0-25-generic #25-ubuntu smp wed mar 30 15:54:22 utc 2022 x86_64 x86_64 x86_64 gnulinux '
    config_args='-ds -e -Dprefix=/opt/perl-5.34.1 -Dcf_email=srezic@cpan.org'
    hint=recommended
    useposix=true
    d_sigaction=define
    useithreads=undef
    usemultiplicity=undef
    use64bitint=define
    use64bitall=define
    uselongdouble=undef
    usemymalloc=n
    default_inc_excludes_dot=define
  Compiler:
    cc='cc'
    ccflags ='-fwrapv -fno-strict-aliasing -pipe -fstack-protector-strong -I/usr/local/include -D_LARGEFILE_SOURCE -D_FILE_OFFSET_BITS=64'
    optimize='-O2'
    cppflags='-fwrapv -fno-strict-aliasing -pipe -fstack-protector-strong -I/usr/local/include'
    ccversion=''
    gccversion='11.2.0'
    gccosandvers=''
    intsize=4
    longsize=8
    ptrsize=8
    doublesize=8
    byteorder=12345678
    doublekind=3
    d_longlong=define
    longlongsize=8
    d_longdbl=define
    longdblsize=16
    longdblkind=3
    ivtype='long'
    ivsize=8
    nvtype='double'
    nvsize=8
    Off_t='off_t'
    lseeksize=8
    alignbytes=8
    prototype=define
  Linker and Libraries:
    ld='cc'
    ldflags =' -fstack-protector-strong -L/usr/local/lib'
    libpth=/usr/local/lib /usr/lib/x86_64-linux-gnu /usr/lib /usr/lib64
    libs=-lpthread -lnsl -lgdbm -ldb -ldl -lm -lcrypt -lutil -lc
    perllibs=-lpthread -lnsl -ldl -lm -lcrypt -lutil -lc
    libc=/lib/x86_64-linux-gnu/libc.so.6
    so=so
    useshrplib=false
    libperl=libperl.a
    gnulibc_version='2.35'
  Dynamic Linking:
    dlsrc=dl_dlopen.xs
    dlext=so
    d_dlsymun=undef
    ccdlflags='-Wl,-E'
    cccdlflags='-fPIC'
    lddlflags='-shared -O2 -L/usr/local/lib -fstack-protector-strong'


Characteristics of this binary (from libperl): 
  Compile-time options:
    HAS_TIMES
    PERLIO_LAYERS
    PERL_COPY_ON_WRITE
    PERL_DONT_CREATE_GVSV
    PERL_MALLOC_WRAP
    PERL_OP_PARENT
    PERL_PRESERVE_IVUV
    USE_64_BIT_ALL
    USE_64_BIT_INT
    USE_LARGE_FILES
    USE_LOCALE
    USE_LOCALE_COLLATE
    USE_LOCALE_CTYPE
    USE_LOCALE_NUMERIC
    USE_LOCALE_TIME
    USE_PERLIO
    USE_PERL_ATOF
  Built under linux
  Compiled at Apr 25 2022 17:58:01
  %ENV:
    PERL5LIB="/home/cpansand/.local/share/.cpan/build/2022121013/rpmtools-7.12-0/blib/arch:/home/cpansand/.local/share/.cpan/build/2022121013/rpmtools-7.12-0/blib/lib:/home/cpansand/.local/share/.cpan/build/2022121013/Time-ZoneInfo-0.3-0/blib/arch:/home/cpansand/.local/share/.cpan/build/2022121013/Time-ZoneInfo-0.3-0/blib/lib:/home/cpansand/.local/share/.cpan/build/2022121013/MDV-Distribconf-4.101-0/blib/arch:/home/cpansand/.local/share/.cpan/build/2022121013/MDV-Distribconf-4.101-0/blib/lib:/home/cpansand/.local/share/.cpan/build/2022121013/Locale-gettext-1.07-0/blib/arch:/home/cpansand/.local/share/.cpan/build/2022121013/Locale-gettext-1.07-0/blib/lib:/home/cpansand/.local/share/.cpan/build/2022121013/Filesys-Df-0.92-0/blib/arch:/home/cpansand/.local/share/.cpan/build/2022121013/Filesys-Df-0.92-0/blib/lib"
    PERL5OPT=""
    PERL5_CPANPLUS_IS_RUNNING="4161468"
    PERL5_CPAN_IS_RUNNING="4161468"
    PERL5_CPAN_IS_RUNNING_IN_RECURSION="4161363,4161468"
    PERLDOC="-MPod::Perldoc::ToTextOverstrike"
    PERL_BATCH="yes"
    PERL_CANARY_STABILITY_NOPROMPT="1"
    PERL_CPAN_REPORTER_CONFIG="/var/tmp/cpansmoker-1023/2022121013/cpanreporter_000_config.ini"
    PERL_EXTUTILS_AUTOINSTALL="--defaultdeps"
    PERL_USE_UNSAFE_INC="1"
  @INC:
    /home/cpansand/.local/share/.cpan/build/2022121013/rpmtools-7.12-0/blib/arch
    /home/cpansand/.local/share/.cpan/build/2022121013/rpmtools-7.12-0/blib/lib
    /home/cpansand/.local/share/.cpan/build/2022121013/Time-ZoneInfo-0.3-0/blib/arch
    /home/cpansand/.local/share/.cpan/build/2022121013/Time-ZoneInfo-0.3-0/blib/lib
    /home/cpansand/.local/share/.cpan/build/2022121013/MDV-Distribconf-4.101-0/blib/arch
    /home/cpansand/.local/share/.cpan/build/2022121013/MDV-Distribconf-4.101-0/blib/lib
    /home/cpansand/.local/share/.cpan/build/2022121013/Locale-gettext-1.07-0/blib/arch
    /home/cpansand/.local/share/.cpan/build/2022121013/Locale-gettext-1.07-0/blib/lib
    /home/cpansand/.local/share/.cpan/build/2022121013/Filesys-Df-0.92-0/blib/arch
    /home/cpansand/.local/share/.cpan/build/2022121013/Filesys-Df-0.92-0/blib/lib
    /opt/perl-5.34.1/lib/site_perl/5.34.1/x86_64-linux
    /opt/perl-5.34.1/lib/site_perl/5.34.1
    /opt/perl-5.34.1/lib/5.34.1/x86_64-linux
    /opt/perl-5.34.1/lib/5.34.1
    .