CHI v0.61 Perl 5 v5.20.1 amd64-freebsd-ld
- Status
- Pass
- From
- Slaven Rezić
- Dist
-
CHI v0.61
- Platform
- Perl 5 v5.20.1 amd64-freebsd-ld
- Date
- 2021-10-13 14:59:30
- ID
- 2aeb4518-2c36-11ec-80e2-70581f24ea8f
This distribution has been tested as part of the CPAN Testers
project, supporting the Perl programming language. See
http://wiki.cpantesters.org/ for more information or email
questions to cpan-testers-discuss@perl.org
--
Dear Alexander Becker,
This is a computer-generated report for CHI-0.61
on perl 5.20.1, created by CPAN-Reporter-1.2018.
Thank you for uploading your work to CPAN. Congratulations!
All tests were successful.
Sections of this report:
* Tester comments
* Program output
* Prerequisites
* Environment and other context
------------------------------
TESTER COMMENTS
------------------------------
Additional comments from tester:
none provided
------------------------------
PROGRAM OUTPUT
------------------------------
Output from '/usr/bin/make test':
PERL_DL_NONLAZY=1 "/usr/perl5.20.1Dp/bin/perl" "-MExtUtils::Command::MM" "-MTest::Harness" "-e" "undef *Test::Harness::Switches; test_harness(0, 'blib/lib', 'blib/arch')" t/*.t
# Testing CHI 0.61, Perl 5.020001, /usr/perl5.20.1Dp/bin/perl
t/00-load.t ............................. ok
t/author-03-pod.t ....................... skipped: these tests are for testing by the author
t/author-file-driver.t .................. skipped: these tests are for testing by the author
t/author-no-data-serializer.t ........... skipped: these tests are for testing by the author
t/author-RequiredModules.t .............. skipped: these tests are for testing by the author
t/Bugs.t ................................ ok
t/Config.t .............................. ok
t/Constants.t ........................... ok
t/Driver-Memory.t ....................... ok
t/Driver-RawMemory.t .................... ok
t/GetError.t ............................ ok
t/Initialize.t .......................... ok
t/release-dependent.t ................... skipped: these tests are for release candidate testing
t/Sanity.t .............................. ok
t/SetError.t ............................ ok
t/smoke-Driver-CacheCache.t ............. skipped: these tests are for "smoke bot" testing
t/smoke-Driver-FastMmap.t ............... skipped: these tests are for "smoke bot" testing
t/smoke-Driver-File-DepthZero.t ......... skipped: these tests are for "smoke bot" testing
t/smoke-Driver-File.t ................... skipped: these tests are for "smoke bot" testing
t/smoke-Driver-NonMoose.t ............... skipped: these tests are for "smoke bot" testing
t/smoke-Driver-Subcache-l1_cache.t ...... skipped: these tests are for "smoke bot" testing
t/smoke-Driver-Subcache-mirror_cache.t .. skipped: these tests are for "smoke bot" testing
t/smoke-Null.t .......................... skipped: these tests are for "smoke bot" testing
t/Subcache.t ............................ ok
t/Subclass.t ............................ ok
t/Util.t ................................ ok
All tests successful.
Files=26, Tests=1924, 3 wallclock secs ( 0.06 usr 0.20 sys + 0.44 cusr 2.63 csys = 3.33 CPU)
Result: PASS
------------------------------
PREREQUISITES
------------------------------
Prerequisite modules loaded:
requires:
Module Need Have
------------------------------- -------- --------
Carp::Assert 0.20 0.21
Class::Load 0 0.22
Data::UUID 0 1.220
Digest::JHash 0 0.10
Digest::MD5 0 2.54
File::Spec 0.80 3.48
Hash::MoreUtils 0 0.06
JSON::MaybeXS 1.003003 1.003003
List::MoreUtils 0.13 0.404
Log::Any 0.08 1.03
Moo 1.003 1.007000
MooX::Types::MooseLike 0.23 0.28
MooX::Types::MooseLike::Base 0 0.28
MooX::Types::MooseLike::Numeric 0 1.03
Storable 0 2.51
String::RewritePrefix 0 0.007
Task::Weaken 0 1.04
Time::Duration 1.06 1.1
Time::Duration::Parse 0.03 0.11
Time::HiRes 1.30 1.9726
Try::Tiny 0.05 0.22
build_requires:
Module Need Have
------------------------------- -------- --------
Cache::FileCache 0 0
Date::Parse 0 2.30
ExtUtils::MakeMaker 0 7.58
Module::Mask 0 0.06
Test::Builder 0 1.302183
Test::Class 0 0.50
Test::Deep 0 0.117
Test::Exception 0 0.36
Test::More 0 1.302183
Test::Warn 0 0.30
configure_requires:
Module Need Have
------------------------------- -------- --------
ExtUtils::MakeMaker 0 7.58
------------------------------
ENVIRONMENT AND OTHER CONTEXT
------------------------------
Environment variables:
LC_ALL = de_DE.ISO8859-1
PATH = /usr/local/bin:/usr/bin:/bin:/usr/local/sbin:/usr/sbin:/sbin:/home/cpansand/bin/freebsd10.3:/home/cpansand/bin/sh:/home/cpansand/bin:/usr/games:/home/cpansand/devel:/home/eserte/src/srezic-misc/scripts
PERL5LIB = /home/cpansand/.cpan/build/2021101316/Digest-JHash-0.10-9ZmvrY/blib/arch:/home/cpansand/.cpan/build/2021101316/Digest-JHash-0.10-9ZmvrY/blib/lib:/home/cpansand/.cpan/build/2021101316/Hash-MoreUtils-0.06-E8YgRG/blib/arch:/home/cpansand/.cpan/build/2021101316/Hash-MoreUtils-0.06-E8YgRG/blib/lib:/home/cpansand/.cpan/build/2021101316/Module-Mask-0.06-DXjKoa/blib/arch:/home/cpansand/.cpan/build/2021101316/Module-Mask-0.06-DXjKoa/blib/lib:/home/cpansand/.cpan/build/2021101316/MooX-Types-MooseLike-Numeric-1.03-g0bAhv/blib/arch:/home/cpansand/.cpan/build/2021101316/MooX-Types-MooseLike-Numeric-1.03-g0bAhv/blib/lib
PERL5OPT =
PERL5_CPANPLUS_IS_RUNNING = 784
PERL5_CPAN_IS_RUNNING = 784
PERL5_CPAN_IS_RUNNING_IN_RECURSION = 710,784
PERLDOC = -MPod::Perldoc::ToTextOverstrike
PERL_BATCH = yes
PERL_CANARY_STABILITY_NOPROMPT = 1
PERL_CPAN_REPORTER_CONFIG = /var/tmp/cpansmoker-1023/2021101316/cpanreporter_000_config.ini
PERL_EXTUTILS_AUTOINSTALL = --defaultdeps
SHELL = /usr/local/bin/zsh
TERM = screen
TMPDIR = /var/tmp/cpansmoker-1023/2021101316
Perl special variables (and OS-specific diagnostics, for MSWin32):
$^X = /usr/perl5.20.1Dp/bin/perl
$UID/$EUID = 1023 / 1023
$GID = 1023 1023
$EGID = 1023 1023
Perl module toolchain versions installed:
Module Have
------------------- --------
CPAN 2.05
CPAN::Meta 2.143240
Cwd 3.48
ExtUtils::CBuilder 0.280217
ExtUtils::Command 7.58
ExtUtils::Install 2.06
ExtUtils::MakeMaker 7.58
ExtUtils::Manifest 1.70
ExtUtils::ParseXS 3.35
File::Spec 3.48
JSON 2.90
JSON::PP 2.27400
Module::Build 0.4211
Module::Signature n/a
Parse::CPAN::Meta 1.4422
Test::Harness 3.30
Test::More 1.302183
YAML 1.14
YAML::Syck 1.29
version 0.9909
--
Summary of my perl5 (revision 5 version 20 subversion 1) configuration:
Platform:
osname=freebsd, osvers=10.1-release, archname=amd64-freebsd-ld
uname='freebsd cvrsnica-freebsd-101.herceg.de 10.1-release freebsd 10.1-release #0 r274401: tue nov 11 21:02:49 utc 2014 root@releng1.nyi.freebsd.org:usrobjusrsrcsysgeneric amd64 '
config_args='-ds -e -Dprefix=/usr/perl5.20.1Dp -Duselongdouble'
hint=recommended, useposix=true, d_sigaction=define
useithreads=undef, usemultiplicity=undef
use64bitint=define, use64bitall=define, uselongdouble=define
usemymalloc=n, bincompat5005=undef
Compiler:
cc='cc', ccflags ='-DHAS_FPSETMASK -DHAS_FLOATINGPOINT_H -fno-strict-aliasing -pipe -fstack-protector -I/usr/local/include',
optimize='-O',
cppflags='-DHAS_FPSETMASK -DHAS_FLOATINGPOINT_H -fno-strict-aliasing -pipe -fstack-protector -I/usr/local/include'
ccversion='', gccversion='4.2.1 Compatible FreeBSD Clang 3.4.1 (tags/RELEASE_34/dot1-final 208032)', gccosandvers=''
intsize=4, longsize=8, ptrsize=8, doublesize=8, byteorder=12345678
d_longlong=define, longlongsize=8, d_longdbl=define, longdblsize=16
ivtype='long', ivsize=8, nvtype='long double', nvsize=16, Off_t='off_t', lseeksize=8
alignbytes=16, prototype=define
Linker and Libraries:
ld='cc', ldflags ='-pthread -Wl,-E -fstack-protector -L/usr/local/lib'
libpth=/usr/lib /usr/local/lib /usr/include/clang/3.4.1 /usr/lib
libs=-lgdbm -lm -lcrypt -lutil -lc
perllibs=-lm -lcrypt -lutil -lc
libc=, so=so, useshrplib=false, libperl=libperl.a
gnulibc_version=''
Dynamic Linking:
dlsrc=dl_dlopen.xs, dlext=so, d_dlsymun=undef, ccdlflags=' '
cccdlflags='-DPIC -fPIC', lddlflags='-shared -L/usr/local/lib -fstack-protector'
Characteristics of this binary (from libperl):
Compile-time options: HAS_TIMES PERLIO_LAYERS PERL_DONT_CREATE_GVSV
PERL_HASH_FUNC_ONE_AT_A_TIME_HARD PERL_MALLOC_WRAP
PERL_NEW_COPY_ON_WRITE PERL_PRESERVE_IVUV
USE_64_BIT_ALL USE_64_BIT_INT USE_LARGE_FILES
USE_LOCALE USE_LOCALE_COLLATE USE_LOCALE_CTYPE
USE_LOCALE_NUMERIC USE_LONG_DOUBLE USE_PERLIO
USE_PERL_ATOF
Built under freebsd
Compiled at Feb 13 2015 08:17:27
%ENV:
PERL5LIB="/home/cpansand/.cpan/build/2021101316/Digest-JHash-0.10-9ZmvrY/blib/arch:/home/cpansand/.cpan/build/2021101316/Digest-JHash-0.10-9ZmvrY/blib/lib:/home/cpansand/.cpan/build/2021101316/Hash-MoreUtils-0.06-E8YgRG/blib/arch:/home/cpansand/.cpan/build/2021101316/Hash-MoreUtils-0.06-E8YgRG/blib/lib:/home/cpansand/.cpan/build/2021101316/Module-Mask-0.06-DXjKoa/blib/arch:/home/cpansand/.cpan/build/2021101316/Module-Mask-0.06-DXjKoa/blib/lib:/home/cpansand/.cpan/build/2021101316/MooX-Types-MooseLike-Numeric-1.03-g0bAhv/blib/arch:/home/cpansand/.cpan/build/2021101316/MooX-Types-MooseLike-Numeric-1.03-g0bAhv/blib/lib"
PERL5OPT=""
PERL5_CPANPLUS_IS_RUNNING="784"
PERL5_CPAN_IS_RUNNING="784"
PERL5_CPAN_IS_RUNNING_IN_RECURSION="710,784"
PERLDOC="-MPod::Perldoc::ToTextOverstrike"
PERL_BATCH="yes"
PERL_CANARY_STABILITY_NOPROMPT="1"
PERL_CPAN_REPORTER_CONFIG="/var/tmp/cpansmoker-1023/2021101316/cpanreporter_000_config.ini"
PERL_EXTUTILS_AUTOINSTALL="--defaultdeps"
@INC:
/home/cpansand/.cpan/build/2021101316/Digest-JHash-0.10-9ZmvrY/blib/arch
/home/cpansand/.cpan/build/2021101316/Digest-JHash-0.10-9ZmvrY/blib/lib
/home/cpansand/.cpan/build/2021101316/Hash-MoreUtils-0.06-E8YgRG/blib/arch
/home/cpansand/.cpan/build/2021101316/Hash-MoreUtils-0.06-E8YgRG/blib/lib
/home/cpansand/.cpan/build/2021101316/Module-Mask-0.06-DXjKoa/blib/arch
/home/cpansand/.cpan/build/2021101316/Module-Mask-0.06-DXjKoa/blib/lib
/home/cpansand/.cpan/build/2021101316/MooX-Types-MooseLike-Numeric-1.03-g0bAhv/blib/arch
/home/cpansand/.cpan/build/2021101316/MooX-Types-MooseLike-Numeric-1.03-g0bAhv/blib/lib
/usr/perl5.20.1Dp/lib/site_perl/5.20.1/amd64-freebsd-ld
/usr/perl5.20.1Dp/lib/site_perl/5.20.1
/usr/perl5.20.1Dp/lib/5.20.1/amd64-freebsd-ld
/usr/perl5.20.1Dp/lib/5.20.1
.