JSON-Schema-Draft201909 v0.023 Perl 5 v5.26.3 darwin-2level

Status
Pass
From
Dist
JSON-Schema-Draft201909 v0.023
Platform
Perl 5 v5.26.3 darwin-2level
Date
2021-02-25 17:09:06
ID
2ab9cfa6-778c-11eb-950c-078eae6a1230
This distribution has been tested as part of the CPAN Testers
project, supporting the Perl programming language.  See
http://wiki.cpantesters.org/ for more information or email
questions to cpan-testers-discuss@perl.org


--
Dear ETHER,

This is a computer-generated report for JSON-Schema-Draft201909-0.023
on perl 5.26.3, created by App::cpanminus::reporter 0.17 (1.7044).

Thank you for uploading your work to CPAN.  Congratulations!
All tests were successful.

Sections of this report:

    * Tester comments
    * Program output
    * Prerequisites
    * Environment and other context

------------------------------
TESTER COMMENTS
------------------------------

Additional comments from tester:

none provided

------------------------------
PROGRAM OUTPUT
------------------------------

Output from '':

Building and testing JSON-Schema-Draft201909-0.023
# 
# Versions for all modules listed in MYMETA.json (including optional ones):
# 
# === Configure Requires ===
# 
#     Module                   Want  Have
#     ----------------------- ----- -----
#     ExtUtils::MakeMaker       any  7.48
#     File::ShareDir::Install  0.06  0.13
#     Module::Build::Tiny     0.034 0.039
# 
# === Test Requires ===
# 
#     Module                          Want     Have
#     ------------------------------ ----- --------
#     File::Spec                       any     3.75
#     Module::Metadata                 any 1.000037
#     Scalar::Util                     any     1.55
#     Test::Deep                       any    1.130
#     Test::Deep::UnorderedPairs       any    0.006
#     Test::Fatal                      any    0.016
#     Test::File::ShareDir             any 1.001002
#     Test::JSON::Schema::Acceptance 1.000    1.003
#     Test::Memory::Cycle              any     1.06
#     Test::More                      0.96 1.302183
#     lib                              any     0.64
#     open                             any     1.11
#     utf8                             any     1.19
# 
# === Test Recommends ===
# 
#     Module         Want     Have
#     ---------- -------- --------
#     CPAN::Meta 2.120900 2.150010
# 
# === Runtime Requires ===
# 
#     Module                   Want     Have
#     -------------------- -------- --------
#     B                         any     1.68
#     Carp                      any     1.50
#     Exporter                  any     5.73
#     Feature::Compat::Try      any     0.02
#     File::ShareDir            any    1.116
#     JSON::MaybeXS        1.004001 1.004003
#     JSON::PP                  any     4.04
#     List::Util               1.55     1.55
#     Module::Runtime           any    0.016
#     Mojo::JSON::Pointer       any    undef
#     Mojo::URL                 any    undef
#     Mojolicious              7.23     9.01
#     Moo                       any 2.004004
#     Moo::Object               any    undef
#     Moo::Role                 any 2.004004
#     MooX::HandlesVia          any 0.001008
#     MooX::TypeTiny       0.002002 0.002003
#     Path::Tiny                any    0.114
#     Ref::Util               0.100    0.204
#     Safe::Isa                 any 1.000010
#     Storable                  any     3.15
#     Types::Standard      1.010002 1.012000
#     constant                  any     1.33
#     if                        any   0.0606
#     namespace::clean          any     0.27
#     overload                  any     1.28
#     strict                    any     1.11
#     strictures                  2 2.000006
#     warnings                  any     1.37
# 
# === Runtime Suggests ===
# 
#     Module                 Want  Have
#     ---------------------- ---- -----
#     Class::XSAccessor       any  1.19
#     Data::Validate::Domain  any  0.14
#     Email::Address::XS     1.01  1.04
#     Net::IDN::Encode        any 2.500
#     Time::Moment            any  0.44
#     Type::Tiny::XS          any 0.022
# 
# === Other Modules ===
# 
#     Module              Have
#     ---------------- -------
#     Cpanel::JSON::XS    4.21
#     Encode              3.07
#     File::Temp        0.2311
#     JSON::PP            4.04
#     JSON::XS         missing
#     Module::Runtime    0.016
#     Mojolicious         9.01
#     Pod::Coverage       0.23
#     Sub::Name           0.26
#     YAML                1.30
#     autodie             2.29
# 
t/00-report-prereqs.t ..... ok
t/booleans.t .............. ok
t/annotations.t ........... ok
t/cached-metaschemas.t .... ok
t/add-schema.t ............ ok
t/equality.t .............. ok
t/dialects.t .............. ok
t/document.t .............. ok
t/evaluate_json_string.t .. ok
t/errors.t ................ ok
t/find-identifiers.t ...... ok
t/formats.t ............... ok
t/max_traversal_depth.t ... ok
t/output_format.t ......... ok
t/pattern.t ............... ok
t/zzz-acceptance.t ........ skipped: These tests may fail if the test suite continues to evolve! They should only be run with AUTHOR_TESTING=1, AUTOMATED_TESTING=1 or EXTENDED_TESTING=1
t/type.t .................. ok
t/traverse.t .............. ok
t/ref.t ................... ok
# 
# 
# Results using Test::JSON::Schema::Acceptance 1.003
# using custom test directory: /Users/ether/.cpanm/work/1614272911.65546/JSON-Schema-Draft201909-0.023/t/additional-tests
# optional tests included: no
# 
# filename                           pass  todo-fail  fail
# --------------------------------------------------------
# anchor.json                           2          0     0
# badRef.json                           3          0     0
# faux-buggy-schemas.json               2          0     0
# format-duration.json                  5          0     0
# format-relative-json-pointer.json     7          0     0
# future-keywords-draft2019-09.json    10          0     0
# id.json                               2          0     0
# invalid-input.json                    2          0     0
# keyword-independence.json           688          0     0
# loose-types-const-enum.json           8          0     0
# not-an-anchor.json                    2          0     0
# not-an-id.json                        2          0     0
# recursive-dynamic.json                2          0     0
# recursiveRef.json                    27          0     0
# ref-and-id.json                       4          0     0
# ref.json                              6          0     0
# short-circuit.json                   20          0     0
# unicode.json                          4          0     0
# --------------------------------------------------------
# TOTAL                               796          0     0
# 
t/additional-tests.t ...... ok
All tests successful.
Files=20, Tests=923,  4 wallclock secs ( 0.62 usr  0.14 sys + 10.92 cusr  1.03 csys = 12.71 CPU)
Result: PASS

------------------------------
PREREQUISITES
------------------------------

Prerequisite modules loaded:

    No requirements found

------------------------------
ENVIRONMENT AND OTHER CONTEXT
------------------------------

Environment variables:

    HARNESS_OPTIONS = j6:c
    LANG = en_CA.UTF-8
    NO_NETWORK_TESTING = 1
    PATH = /Users/ether/bin:/Users/ether/git/misc/install/aquavit/bin:/Users/ether/git/misc/install/generic/bin:/Users/ether/.perlbrew/libs/26.3@std/bin:/Users/ether/perl5/perlbrew/bin:/Users/ether/perl5/perlbrew/perls/26.3/bin:/opt/local/bin:/opt/local/sbin:/Users/ether/git/git-hub/lib:/Users/ether/go/bin:/usr/local/bin:/usr/bin:/bin:/usr/sbin:/sbin:/opt/pkg/sbin:/opt/pkg/bin:/opt/local/Library/Frameworks/Python.framework/Versions/2.7/bin:/opt/local/lib/postgresql10/bin:/opt/local/share/git-core/contrib/workdir:/Users/ether/.gem/ruby/2.3.0/bin:/opt/local/share/git-core/contrib/workdir
    PERL5LIB = /Users/ether/.perlbrew/libs/26.3@std/lib/perl5
    PERLBREW_HOME = /Users/ether/.perlbrew
    PERLBREW_LIB = std
    PERLBREW_MANPATH = /Users/ether/.perlbrew/libs/26.3@std/man:/Users/ether/perl5/perlbrew/perls/26.3/man
    PERLBREW_PATH = /Users/ether/.perlbrew/libs/26.3@std/bin:/Users/ether/perl5/perlbrew/bin:/Users/ether/perl5/perlbrew/perls/26.3/bin
    PERLBREW_PERL = 26.3
    PERLBREW_ROOT = /Users/ether/perl5/perlbrew
    PERLBREW_SHELLRC_VERSION = 0.87
    PERLBREW_VERSION = 0.87
    PERLDOC = -oman
    PERLDOC_PAGER = less -sicMr
    PERL_AUTOINSTALL_PREFER_CPAN = 1
    PERL_INSTALL_QUIET = 1
    PERL_LOCAL_LIB_ROOT = /Users/ether/.perlbrew/libs/26.3@std
    PERL_MB_OPT = --install_base /Users/ether/.perlbrew/libs/26.3@std
    PERL_MM_OPT = INSTALL_BASE=/Users/ether/.perlbrew/libs/26.3@std
    PERL_USE_UNSAFE_INC = 0
    SHELL = /bin/bash
    TERM = xterm-color
    TMPDIR = /var/folders/86/sx0991yd4tz09kr0lvyzjpp80000gn/T/

Perl special variables (and OS-specific diagnostics, for MSWin32):

    EGID = 20 20 12 61 79 80 81 98 703 702 33 100 204 250 395 398 399
    EUID = 501
    EXECUTABLE_NAME = /Users/ether/perl5/perlbrew/perls/26.3/bin/perl
    GID = 20 20 12 61 79 80 81 98 703 702 33 100 204 250 395 398 399
    UID = 501

Perl module toolchain versions installed:

    Module              Have    
    ------------------- --------
    CPAN                2.18    
    CPAN::Meta          2.150010
    Cwd                 3.75    
    ExtUtils::CBuilder  0.280225
    ExtUtils::Command   7.48    
    ExtUtils::Install   2.06    
    ExtUtils::MakeMaker 7.48    
    ExtUtils::Manifest  1.72    
    ExtUtils::ParseXS   3.34    
    File::Spec          3.75    
    JSON                4.02    
    JSON::PP            4.04    
    Module::Build       0.4231  
    Module::Signature   n/a     
    Parse::CPAN::Meta   2.150010
    Test::Harness       3.38    
    Test::More          1.302183
    YAML                1.30    
    YAML::Syck          1.31    
    version             0.9917  


--

Summary of my perl5 (revision 5 version 26 subversion 3) configuration:
   
  Platform:
    osname=darwin
    osvers=17.7.0
    archname=darwin-2level
    uname='darwin aquavit 17.7.0 darwin kernel version 17.7.0: wed oct 10 23:06:14 pdt 2018; root:xnu-4570.71.13~1release_x86_64 x86_64 '
    config_args='-de -Dprefix=/Users/ether/perl5/perlbrew/perls/26.3 -Dman1dir=none -Dman3dir=none -Aeval:scriptdir=/Users/ether/perl5/perlbrew/perls/26.3/bin'
    hint=recommended
    useposix=true
    d_sigaction=define
    useithreads=undef
    usemultiplicity=undef
    use64bitint=define
    use64bitall=define
    uselongdouble=undef
    usemymalloc=n
    default_inc_excludes_dot=define
    bincompat5005=undef
  Compiler:
    cc='cc'
    ccflags ='-fno-common -DPERL_DARWIN -mmacosx-version-min=10.13 -fno-strict-aliasing -pipe -fstack-protector-strong -I/usr/local/include -I/opt/local/include -DPERL_USE_SAFE_PUTENV'
    optimize='-O3'
    cppflags='-fno-common -DPERL_DARWIN -mmacosx-version-min=10.13 -fno-strict-aliasing -pipe -fstack-protector-strong -I/usr/local/include -I/opt/local/include'
    ccversion=''
    gccversion='4.2.1 Compatible Apple LLVM 10.0.0 (clang-1000.11.45.5)'
    gccosandvers=''
    intsize=4
    longsize=8
    ptrsize=8
    doublesize=8
    byteorder=12345678
    doublekind=3
    d_longlong=define
    longlongsize=8
    d_longdbl=define
    longdblsize=16
    longdblkind=3
    ivtype='long'
    ivsize=8
    nvtype='double'
    nvsize=8
    Off_t='off_t'
    lseeksize=8
    alignbytes=8
    prototype=define
  Linker and Libraries:
    ld='cc'
    ldflags =' -mmacosx-version-min=10.13 -fstack-protector-strong -L/usr/local/lib -L/opt/local/lib'
    libpth=/usr/local/lib /Applications/Xcode.app/Contents/Developer/Toolchains/XcodeDefault.xctoolchain/usr/lib/clang/10.0.0/lib /Applications/Xcode.app/Contents/Developer/Toolchains/XcodeDefault.xctoolchain/usr/lib /usr/lib /opt/local/lib
    libs=-lpthread -lgdbm -ldbm -ldl -lm -lutil -lc
    perllibs=-lpthread -ldl -lm -lutil -lc
    libc=
    so=dylib
    useshrplib=false
    libperl=libperl.a
    gnulibc_version=''
  Dynamic Linking:
    dlsrc=dl_dlopen.xs
    dlext=bundle
    d_dlsymun=undef
    ccdlflags=' '
    cccdlflags=' '
    lddlflags=' -mmacosx-version-min=10.13 -bundle -undefined dynamic_lookup -L/usr/local/lib -L/opt/local/lib -fstack-protector-strong'


Characteristics of this binary (from libperl): 
  Compile-time options:
    HAS_TIMES
    PERLIO_LAYERS
    PERL_COPY_ON_WRITE
    PERL_DONT_CREATE_GVSV
    PERL_MALLOC_WRAP
    PERL_OP_PARENT
    PERL_PRESERVE_IVUV
    PERL_USE_SAFE_PUTENV
    USE_64_BIT_ALL
    USE_64_BIT_INT
    USE_LARGE_FILES
    USE_LOCALE
    USE_LOCALE_COLLATE
    USE_LOCALE_CTYPE
    USE_LOCALE_NUMERIC
    USE_LOCALE_TIME
    USE_PERLIO
    USE_PERL_ATOF
  Locally applied patches:
    Devel::PatchPerl 1.52
  Built under darwin
  Compiled at Nov 30 2018 08:59:28
  %ENV:
    PERL5LIB="/Users/ether/.perlbrew/libs/26.3@std/lib/perl5"
    PERLBREW_HOME="/Users/ether/.perlbrew"
    PERLBREW_LIB="std"
    PERLBREW_MANPATH="/Users/ether/.perlbrew/libs/26.3@std/man:/Users/ether/perl5/perlbrew/perls/26.3/man"
    PERLBREW_PATH="/Users/ether/.perlbrew/libs/26.3@std/bin:/Users/ether/perl5/perlbrew/bin:/Users/ether/perl5/perlbrew/perls/26.3/bin"
    PERLBREW_PERL="26.3"
    PERLBREW_ROOT="/Users/ether/perl5/perlbrew"
    PERLBREW_SHELLRC_VERSION="0.87"
    PERLBREW_VERSION="0.87"
    PERLDOC="-oman"
    PERLDOC_PAGER="less -sicMr"
    PERL_AUTOINSTALL_PREFER_CPAN="1"
    PERL_INSTALL_QUIET="1"
    PERL_LOCAL_LIB_ROOT="/Users/ether/.perlbrew/libs/26.3@std"
    PERL_MB_OPT="--install_base /Users/ether/.perlbrew/libs/26.3@std"
    PERL_MM_OPT="INSTALL_BASE=/Users/ether/.perlbrew/libs/26.3@std"
    PERL_USE_UNSAFE_INC="0"
  @INC:
    /Users/ether/.perlbrew/libs/26.3@std/lib/perl5/5.26.3
    /Users/ether/.perlbrew/libs/26.3@std/lib/perl5/darwin-2level
    /Users/ether/.perlbrew/libs/26.3@std/lib/perl5
    /Users/ether/perl5/perlbrew/perls/26.3/lib/site_perl/5.26.3/darwin-2level
    /Users/ether/perl5/perlbrew/perls/26.3/lib/site_perl/5.26.3
    /Users/ether/perl5/perlbrew/perls/26.3/lib/5.26.3/darwin-2level
    /Users/ether/perl5/perlbrew/perls/26.3/lib/5.26.3