Encode v3.16 Perl 5 v5.10.1 darwin-2level
- Status
- Pass
- From
- Stanislaw Pusep
- Dist
-
Encode v3.16
- Platform
- Perl 5 v5.10.1 darwin-2level
- Date
- 2021-10-14 07:05:50
- ID
- 29a61ad4-2cbd-11ec-bf3c-43f7ca878257
This distribution has been tested as part of the CPAN Testers
project, supporting the Perl programming language. See
http://wiki.cpantesters.org/ for more information or email
questions to cpan-testers-discuss@perl.org
--
Dear DANKOGAI,
This is a computer-generated report for Encode-3.16
on perl 5.10.1, created by App::cpanminus::reporter 0.17 (1.7044).
Thank you for uploading your work to CPAN. Congratulations!
All tests were successful.
Sections of this report:
* Tester comments
* Program output
* Prerequisites
* Environment and other context
------------------------------
TESTER COMMENTS
------------------------------
Additional comments from tester:
none provided
------------------------------
PROGRAM OUTPUT
------------------------------
Output from '':
Building and testing Encode-3.16
cp lib/Encode/JP/H2Z.pm blib/lib/Encode/JP/H2Z.pm
cp lib/Encode/JP/JIS7.pm blib/lib/Encode/JP/JIS7.pm
cp lib/Encode/Alias.pm blib/lib/Encode/Alias.pm
cp Encode/README.e2x blib/lib/Encode/README.e2x
cp lib/Encode/Unicode/UTF7.pm blib/lib/Encode/Unicode/UTF7.pm
cp lib/Encode/MIME/Header/ISO_2022_JP.pm blib/lib/Encode/MIME/Header/ISO_2022_JP.pm
cp lib/Encode/PerlIO.pod blib/lib/Encode/PerlIO.pod
cp lib/Encode/GSM0338.pm blib/lib/Encode/GSM0338.pm
cp Encode.pm blib/lib/Encode.pm
cp Encode/Makefile_PL.e2x blib/lib/Encode/Makefile_PL.e2x
cp Encode/Changes.e2x blib/lib/Encode/Changes.e2x
cp lib/Encode/Encoding.pm blib/lib/Encode/Encoding.pm
cp Encode/ConfigLocal_PM.e2x blib/lib/Encode/ConfigLocal_PM.e2x
cp Encode/encode.h blib/lib/Encode/encode.h
cp lib/Encode/KR/2022_KR.pm blib/lib/Encode/KR/2022_KR.pm
cp lib/Encode/Guess.pm blib/lib/Encode/Guess.pm
cp encoding.pm blib/lib/encoding.pm
cp lib/Encode/MIME/Name.pm blib/lib/Encode/MIME/Name.pm
cp Encode/_T.e2x blib/lib/Encode/_T.e2x
cp lib/Encode/Supported.pod blib/lib/Encode/Supported.pod
cp lib/Encode/Config.pm blib/lib/Encode/Config.pm
cp lib/Encode/Encoder.pm blib/lib/Encode/Encoder.pm
cp lib/Encode/MIME/Header.pm blib/lib/Encode/MIME/Header.pm
cp Encode/_PM.e2x blib/lib/Encode/_PM.e2x
cp lib/Encode/CN/HZ.pm blib/lib/Encode/CN/HZ.pm
cp lib/Encode/CJKConstants.pm blib/lib/Encode/CJKConstants.pm
cp Byte.pm ../blib/lib/Encode/Byte.pm
Running Mkbootstrap for Byte ()
chmod 644 "Byte.bs"
"/Users/stan/perl5/perlbrew/perls/perl-5.10.1/bin/perl" -MExtUtils::Command::MM -e 'cp_nonempty' -- Byte.bs ../blib/arch/auto/Encode/Byte/Byte.bs 644
"/Users/stan/perl5/perlbrew/perls/perl-5.10.1/bin/perl" ../bin/enc2xs -"Q" -"O" -o byte_t.c -f byte_t.fnm
Reading iso-8859-2 (iso-8859-2)
Reading iso-8859-3 (iso-8859-3)
Reading iso-8859-4 (iso-8859-4)
Reading iso-8859-5 (iso-8859-5)
Reading iso-8859-6 (iso-8859-6)
Reading iso-8859-7 (iso-8859-7)
Reading iso-8859-8 (iso-8859-8)
Reading iso-8859-9 (iso-8859-9)
Reading iso-8859-10 (iso-8859-10)
Reading iso-8859-11 (iso-8859-11)
Reading iso-8859-13 (iso-8859-13)
Reading iso-8859-14 (iso-8859-14)
Reading iso-8859-15 (iso-8859-15)
Reading iso-8859-16 (iso-8859-16)
Reading AdobeStandardEncoding (AdobeStandardEncoding)
Reading cp1006 (cp1006)
Reading cp1250 (cp1250)
Reading cp1251 (cp1251)
Reading cp1253 (cp1253)
Reading cp1254 (cp1254)
Reading cp1255 (cp1255)
Reading cp1256 (cp1256)
Reading cp1257 (cp1257)
Reading cp1258 (cp1258)
Reading cp424 (cp424)
Reading cp437 (cp437)
Reading cp737 (cp737)
Reading cp775 (cp775)
Reading cp850 (cp850)
Reading cp852 (cp852)
Reading cp855 (cp855)
Reading cp856 (cp856)
Reading cp857 (cp857)
Reading cp858 (cp858)
Reading cp860 (cp860)
Reading cp861 (cp861)
Reading cp862 (cp862)
Reading cp863 (cp863)
Reading cp864 (cp864)
Reading cp865 (cp865)
Reading cp866 (cp866)
Reading cp869 (cp869)
Reading cp874 (cp874)
Reading hp-roman8 (hp-roman8)
Reading koi8-f (koi8-f)
Reading koi8-r (koi8-r)
Reading koi8-u (koi8-u)
Reading MacArabic (MacArabic)
Reading MacCentralEurRoman (MacCentralEurRoman)
Reading MacCroatian (MacCroatian)
Reading MacCyrillic (MacCyrillic)
Reading MacFarsi (MacFarsi)
Reading MacGreek (MacGreek)
Reading MacHebrew (MacHebrew)
Reading MacIcelandic (MacIcelandic)
Reading MacRomanian (MacRomanian)
Reading MacRumanian (MacRumanian)
Reading MacRoman (MacRoman)
Reading MacSami (MacSami)
Reading MacThai (MacThai)
Reading MacTurkish (MacTurkish)
Reading MacUkrainian (MacUkrainian)
Reading nextstep (nextstep)
Reading viscii (viscii)
"/Users/stan/perl5/perlbrew/perls/perl-5.10.1/bin/perl" "/Users/stan/perl5/perlbrew/perls/perl-5.10.1/lib/5.10.1/ExtUtils/xsubpp" -nolinenumbers -typemap '/Users/stan/perl5/perlbrew/perls/perl-5.10.1/lib/5.10.1/ExtUtils/typemap' Byte.xs > Byte.xsc
mv Byte.xsc Byte.c
cc -c -I./Encode -I../Encode -fno-common -DPERL_DARWIN -mmacosx-version-min=11.3 -fno-strict-aliasing -pipe -fstack-protector -I/usr/local/include -DPERL_USE_SAFE_PUTENV -Wno-error=implicit-function-declaration -O3 -DVERSION=\"2.04\" -DXS_VERSION=\"2.04\" "-I/Users/stan/perl5/perlbrew/perls/perl-5.10.1/lib/5.10.1/darwin-2level/CORE" Byte.c
cc -c -I./Encode -I../Encode -fno-common -DPERL_DARWIN -mmacosx-version-min=11.3 -fno-strict-aliasing -pipe -fstack-protector -I/usr/local/include -DPERL_USE_SAFE_PUTENV -Wno-error=implicit-function-declaration -O3 -DVERSION=\"2.04\" -DXS_VERSION=\"2.04\" "-I/Users/stan/perl5/perlbrew/perls/perl-5.10.1/lib/5.10.1/darwin-2level/CORE" byte_t.c
rm -f ../blib/arch/auto/Encode/Byte/Byte.bundle
cc -mmacosx-version-min=11.3 -bundle -undefined dynamic_lookup -L/usr/local/lib -fstack-protector Byte.o byte_t.o -o ../blib/arch/auto/Encode/Byte/Byte.bundle \
\
chmod 755 ../blib/arch/auto/Encode/Byte/Byte.bundle
cp CN.pm ../blib/lib/Encode/CN.pm
Running Mkbootstrap for CN ()
chmod 644 "CN.bs"
"/Users/stan/perl5/perlbrew/perls/perl-5.10.1/bin/perl" -MExtUtils::Command::MM -e 'cp_nonempty' -- CN.bs ../blib/arch/auto/Encode/CN/CN.bs 644
"/Users/stan/perl5/perlbrew/perls/perl-5.10.1/bin/perl" ../bin/enc2xs -"Q" -o cp_00_t.c -f cp_00_t.fnm
Reading cp936 (cp936)
"/Users/stan/perl5/perlbrew/perls/perl-5.10.1/bin/perl" ../bin/enc2xs -"Q" -o eu_01_t.c -f eu_01_t.fnm
Reading euc-cn (euc-cn)
"/Users/stan/perl5/perlbrew/perls/perl-5.10.1/bin/perl" ../bin/enc2xs -"Q" -o gb_02_t.c -f gb_02_t.fnm
Reading gb12345-raw (gb12345-raw)
"/Users/stan/perl5/perlbrew/perls/perl-5.10.1/bin/perl" ../bin/enc2xs -"Q" -o gb_03_t.c -f gb_03_t.fnm
Reading gb2312-raw (gb2312-raw)
"/Users/stan/perl5/perlbrew/perls/perl-5.10.1/bin/perl" ../bin/enc2xs -"Q" -o ir_04_t.c -f ir_04_t.fnm
Reading iso-ir-165 (iso-ir-165)
"/Users/stan/perl5/perlbrew/perls/perl-5.10.1/bin/perl" ../bin/enc2xs -"Q" -o ma_05_t.c -f ma_05_t.fnm
Reading MacChineseSimp (MacChineseSimp)
"/Users/stan/perl5/perlbrew/perls/perl-5.10.1/bin/perl" "/Users/stan/perl5/perlbrew/perls/perl-5.10.1/lib/5.10.1/ExtUtils/xsubpp" -noprototypes -nolinenumbers -typemap '/Users/stan/perl5/perlbrew/perls/perl-5.10.1/lib/5.10.1/ExtUtils/typemap' CN.xs > CN.xsc
mv CN.xsc CN.c
cc -c -I./Encode -I../Encode -fno-common -DPERL_DARWIN -mmacosx-version-min=11.3 -fno-strict-aliasing -pipe -fstack-protector -I/usr/local/include -DPERL_USE_SAFE_PUTENV -Wno-error=implicit-function-declaration -O3 -DVERSION=\"2.03\" -DXS_VERSION=\"2.03\" "-I/Users/stan/perl5/perlbrew/perls/perl-5.10.1/lib/5.10.1/darwin-2level/CORE" CN.c
cc -c -I./Encode -I../Encode -fno-common -DPERL_DARWIN -mmacosx-version-min=11.3 -fno-strict-aliasing -pipe -fstack-protector -I/usr/local/include -DPERL_USE_SAFE_PUTENV -Wno-error=implicit-function-declaration -O3 -DVERSION=\"2.03\" -DXS_VERSION=\"2.03\" "-I/Users/stan/perl5/perlbrew/perls/perl-5.10.1/lib/5.10.1/darwin-2level/CORE" cp_00_t.c
cc -c -I./Encode -I../Encode -fno-common -DPERL_DARWIN -mmacosx-version-min=11.3 -fno-strict-aliasing -pipe -fstack-protector -I/usr/local/include -DPERL_USE_SAFE_PUTENV -Wno-error=implicit-function-declaration -O3 -DVERSION=\"2.03\" -DXS_VERSION=\"2.03\" "-I/Users/stan/perl5/perlbrew/perls/perl-5.10.1/lib/5.10.1/darwin-2level/CORE" eu_01_t.c
cc -c -I./Encode -I../Encode -fno-common -DPERL_DARWIN -mmacosx-version-min=11.3 -fno-strict-aliasing -pipe -fstack-protector -I/usr/local/include -DPERL_USE_SAFE_PUTENV -Wno-error=implicit-function-declaration -O3 -DVERSION=\"2.03\" -DXS_VERSION=\"2.03\" "-I/Users/stan/perl5/perlbrew/perls/perl-5.10.1/lib/5.10.1/darwin-2level/CORE" gb_02_t.c
cc -c -I./Encode -I../Encode -fno-common -DPERL_DARWIN -mmacosx-version-min=11.3 -fno-strict-aliasing -pipe -fstack-protector -I/usr/local/include -DPERL_USE_SAFE_PUTENV -Wno-error=implicit-function-declaration -O3 -DVERSION=\"2.03\" -DXS_VERSION=\"2.03\" "-I/Users/stan/perl5/perlbrew/perls/perl-5.10.1/lib/5.10.1/darwin-2level/CORE" gb_03_t.c
cc -c -I./Encode -I../Encode -fno-common -DPERL_DARWIN -mmacosx-version-min=11.3 -fno-strict-aliasing -pipe -fstack-protector -I/usr/local/include -DPERL_USE_SAFE_PUTENV -Wno-error=implicit-function-declaration -O3 -DVERSION=\"2.03\" -DXS_VERSION=\"2.03\" "-I/Users/stan/perl5/perlbrew/perls/perl-5.10.1/lib/5.10.1/darwin-2level/CORE" ir_04_t.c
cc -c -I./Encode -I../Encode -fno-common -DPERL_DARWIN -mmacosx-version-min=11.3 -fno-strict-aliasing -pipe -fstack-protector -I/usr/local/include -DPERL_USE_SAFE_PUTENV -Wno-error=implicit-function-declaration -O3 -DVERSION=\"2.03\" -DXS_VERSION=\"2.03\" "-I/Users/stan/perl5/perlbrew/perls/perl-5.10.1/lib/5.10.1/darwin-2level/CORE" ma_05_t.c
rm -f ../blib/arch/auto/Encode/CN/CN.bundle
cc -mmacosx-version-min=11.3 -bundle -undefined dynamic_lookup -L/usr/local/lib -fstack-protector CN.o cp_00_t.o eu_01_t.o gb_02_t.o gb_03_t.o ir_04_t.o ma_05_t.o -o ../blib/arch/auto/Encode/CN/CN.bundle \
\
chmod 755 ../blib/arch/auto/Encode/CN/CN.bundle
cp EBCDIC.pm ../blib/lib/Encode/EBCDIC.pm
Running Mkbootstrap for EBCDIC ()
chmod 644 "EBCDIC.bs"
"/Users/stan/perl5/perlbrew/perls/perl-5.10.1/bin/perl" -MExtUtils::Command::MM -e 'cp_nonempty' -- EBCDIC.bs ../blib/arch/auto/Encode/EBCDIC/EBCDIC.bs 644
"/Users/stan/perl5/perlbrew/perls/perl-5.10.1/bin/perl" ../bin/enc2xs -"Q" -"O" -o ebcdic_t.c -f ebcdic_t.fnm
Reading cp37 (cp37)
Reading cp1026 (cp1026)
Reading cp1047 (cp1047)
Reading cp500 (cp500)
Reading cp875 (cp875)
Reading posix-bc (posix-bc)
"/Users/stan/perl5/perlbrew/perls/perl-5.10.1/bin/perl" "/Users/stan/perl5/perlbrew/perls/perl-5.10.1/lib/5.10.1/ExtUtils/xsubpp" -nolinenumbers -typemap '/Users/stan/perl5/perlbrew/perls/perl-5.10.1/lib/5.10.1/ExtUtils/typemap' EBCDIC.xs > EBCDIC.xsc
mv EBCDIC.xsc EBCDIC.c
cc -c -I./Encode -I../Encode -fno-common -DPERL_DARWIN -mmacosx-version-min=11.3 -fno-strict-aliasing -pipe -fstack-protector -I/usr/local/include -DPERL_USE_SAFE_PUTENV -Wno-error=implicit-function-declaration -O3 -DVERSION=\"2.02\" -DXS_VERSION=\"2.02\" "-I/Users/stan/perl5/perlbrew/perls/perl-5.10.1/lib/5.10.1/darwin-2level/CORE" EBCDIC.c
cc -c -I./Encode -I../Encode -fno-common -DPERL_DARWIN -mmacosx-version-min=11.3 -fno-strict-aliasing -pipe -fstack-protector -I/usr/local/include -DPERL_USE_SAFE_PUTENV -Wno-error=implicit-function-declaration -O3 -DVERSION=\"2.02\" -DXS_VERSION=\"2.02\" "-I/Users/stan/perl5/perlbrew/perls/perl-5.10.1/lib/5.10.1/darwin-2level/CORE" ebcdic_t.c
rm -f ../blib/arch/auto/Encode/EBCDIC/EBCDIC.bundle
cc -mmacosx-version-min=11.3 -bundle -undefined dynamic_lookup -L/usr/local/lib -fstack-protector EBCDIC.o ebcdic_t.o -o ../blib/arch/auto/Encode/EBCDIC/EBCDIC.bundle \
\
chmod 755 ../blib/arch/auto/Encode/EBCDIC/EBCDIC.bundle
cp JP.pm ../blib/lib/Encode/JP.pm
Running Mkbootstrap for JP ()
chmod 644 "JP.bs"
"/Users/stan/perl5/perlbrew/perls/perl-5.10.1/bin/perl" -MExtUtils::Command::MM -e 'cp_nonempty' -- JP.bs ../blib/arch/auto/Encode/JP/JP.bs 644
"/Users/stan/perl5/perlbrew/perls/perl-5.10.1/bin/perl" ../bin/enc2xs -"Q" -o cp_00_t.c -f cp_00_t.fnm
Reading cp932 (cp932)
"/Users/stan/perl5/perlbrew/perls/perl-5.10.1/bin/perl" ../bin/enc2xs -"Q" -o eu_01_t.c -f eu_01_t.fnm
Reading euc-jp (euc-jp)
"/Users/stan/perl5/perlbrew/perls/perl-5.10.1/bin/perl" ../bin/enc2xs -"Q" -o ji_02_t.c -f ji_02_t.fnm
Reading jis0201-raw (jis0201-raw)
"/Users/stan/perl5/perlbrew/perls/perl-5.10.1/bin/perl" ../bin/enc2xs -"Q" -o ji_03_t.c -f ji_03_t.fnm
Reading jis0208-raw (jis0208-raw)
"/Users/stan/perl5/perlbrew/perls/perl-5.10.1/bin/perl" ../bin/enc2xs -"Q" -o ji_04_t.c -f ji_04_t.fnm
Reading jis0212-raw (jis0212-raw)
"/Users/stan/perl5/perlbrew/perls/perl-5.10.1/bin/perl" ../bin/enc2xs -"Q" -o ma_05_t.c -f ma_05_t.fnm
Reading MacJapanese (MacJapanese)
"/Users/stan/perl5/perlbrew/perls/perl-5.10.1/bin/perl" ../bin/enc2xs -"Q" -o sh_06_t.c -f sh_06_t.fnm
Reading shiftjis (shiftjis)
"/Users/stan/perl5/perlbrew/perls/perl-5.10.1/bin/perl" "/Users/stan/perl5/perlbrew/perls/perl-5.10.1/lib/5.10.1/ExtUtils/xsubpp" -nolinenumbers -typemap '/Users/stan/perl5/perlbrew/perls/perl-5.10.1/lib/5.10.1/ExtUtils/typemap' JP.xs > JP.xsc
mv JP.xsc JP.c
cc -c -I./Encode -I../Encode -fno-common -DPERL_DARWIN -mmacosx-version-min=11.3 -fno-strict-aliasing -pipe -fstack-protector -I/usr/local/include -DPERL_USE_SAFE_PUTENV -Wno-error=implicit-function-declaration -O3 -DVERSION=\"2.05\" -DXS_VERSION=\"2.05\" "-I/Users/stan/perl5/perlbrew/perls/perl-5.10.1/lib/5.10.1/darwin-2level/CORE" JP.c
cc -c -I./Encode -I../Encode -fno-common -DPERL_DARWIN -mmacosx-version-min=11.3 -fno-strict-aliasing -pipe -fstack-protector -I/usr/local/include -DPERL_USE_SAFE_PUTENV -Wno-error=implicit-function-declaration -O3 -DVERSION=\"2.05\" -DXS_VERSION=\"2.05\" "-I/Users/stan/perl5/perlbrew/perls/perl-5.10.1/lib/5.10.1/darwin-2level/CORE" cp_00_t.c
cc -c -I./Encode -I../Encode -fno-common -DPERL_DARWIN -mmacosx-version-min=11.3 -fno-strict-aliasing -pipe -fstack-protector -I/usr/local/include -DPERL_USE_SAFE_PUTENV -Wno-error=implicit-function-declaration -O3 -DVERSION=\"2.05\" -DXS_VERSION=\"2.05\" "-I/Users/stan/perl5/perlbrew/perls/perl-5.10.1/lib/5.10.1/darwin-2level/CORE" eu_01_t.c
cc -c -I./Encode -I../Encode -fno-common -DPERL_DARWIN -mmacosx-version-min=11.3 -fno-strict-aliasing -pipe -fstack-protector -I/usr/local/include -DPERL_USE_SAFE_PUTENV -Wno-error=implicit-function-declaration -O3 -DVERSION=\"2.05\" -DXS_VERSION=\"2.05\" "-I/Users/stan/perl5/perlbrew/perls/perl-5.10.1/lib/5.10.1/darwin-2level/CORE" ji_02_t.c
cc -c -I./Encode -I../Encode -fno-common -DPERL_DARWIN -mmacosx-version-min=11.3 -fno-strict-aliasing -pipe -fstack-protector -I/usr/local/include -DPERL_USE_SAFE_PUTENV -Wno-error=implicit-function-declaration -O3 -DVERSION=\"2.05\" -DXS_VERSION=\"2.05\" "-I/Users/stan/perl5/perlbrew/perls/perl-5.10.1/lib/5.10.1/darwin-2level/CORE" ji_03_t.c
cc -c -I./Encode -I../Encode -fno-common -DPERL_DARWIN -mmacosx-version-min=11.3 -fno-strict-aliasing -pipe -fstack-protector -I/usr/local/include -DPERL_USE_SAFE_PUTENV -Wno-error=implicit-function-declaration -O3 -DVERSION=\"2.05\" -DXS_VERSION=\"2.05\" "-I/Users/stan/perl5/perlbrew/perls/perl-5.10.1/lib/5.10.1/darwin-2level/CORE" ji_04_t.c
cc -c -I./Encode -I../Encode -fno-common -DPERL_DARWIN -mmacosx-version-min=11.3 -fno-strict-aliasing -pipe -fstack-protector -I/usr/local/include -DPERL_USE_SAFE_PUTENV -Wno-error=implicit-function-declaration -O3 -DVERSION=\"2.05\" -DXS_VERSION=\"2.05\" "-I/Users/stan/perl5/perlbrew/perls/perl-5.10.1/lib/5.10.1/darwin-2level/CORE" ma_05_t.c
cc -c -I./Encode -I../Encode -fno-common -DPERL_DARWIN -mmacosx-version-min=11.3 -fno-strict-aliasing -pipe -fstack-protector -I/usr/local/include -DPERL_USE_SAFE_PUTENV -Wno-error=implicit-function-declaration -O3 -DVERSION=\"2.05\" -DXS_VERSION=\"2.05\" "-I/Users/stan/perl5/perlbrew/perls/perl-5.10.1/lib/5.10.1/darwin-2level/CORE" sh_06_t.c
rm -f ../blib/arch/auto/Encode/JP/JP.bundle
cc -mmacosx-version-min=11.3 -bundle -undefined dynamic_lookup -L/usr/local/lib -fstack-protector JP.o cp_00_t.o eu_01_t.o ji_02_t.o ji_03_t.o ji_04_t.o ma_05_t.o sh_06_t.o -o ../blib/arch/auto/Encode/JP/JP.bundle \
\
chmod 755 ../blib/arch/auto/Encode/JP/JP.bundle
cp KR.pm ../blib/lib/Encode/KR.pm
Running Mkbootstrap for KR ()
chmod 644 "KR.bs"
"/Users/stan/perl5/perlbrew/perls/perl-5.10.1/bin/perl" -MExtUtils::Command::MM -e 'cp_nonempty' -- KR.bs ../blib/arch/auto/Encode/KR/KR.bs 644
"/Users/stan/perl5/perlbrew/perls/perl-5.10.1/bin/perl" ../bin/enc2xs -"Q" -o cp_00_t.c -f cp_00_t.fnm
Reading cp949 (cp949)
"/Users/stan/perl5/perlbrew/perls/perl-5.10.1/bin/perl" ../bin/enc2xs -"Q" -o eu_01_t.c -f eu_01_t.fnm
Reading euc-kr (euc-kr)
"/Users/stan/perl5/perlbrew/perls/perl-5.10.1/bin/perl" ../bin/enc2xs -"Q" -o jo_02_t.c -f jo_02_t.fnm
Reading johab (johab)
"/Users/stan/perl5/perlbrew/perls/perl-5.10.1/bin/perl" ../bin/enc2xs -"Q" -o ks_03_t.c -f ks_03_t.fnm
Reading ksc5601-raw (ksc5601-raw)
"/Users/stan/perl5/perlbrew/perls/perl-5.10.1/bin/perl" ../bin/enc2xs -"Q" -o ma_04_t.c -f ma_04_t.fnm
Reading MacKorean (MacKorean)
"/Users/stan/perl5/perlbrew/perls/perl-5.10.1/bin/perl" "/Users/stan/perl5/perlbrew/perls/perl-5.10.1/lib/5.10.1/ExtUtils/xsubpp" -nolinenumbers -typemap '/Users/stan/perl5/perlbrew/perls/perl-5.10.1/lib/5.10.1/ExtUtils/typemap' KR.xs > KR.xsc
mv KR.xsc KR.c
cc -c -I./Encode -I../Encode -fno-common -DPERL_DARWIN -mmacosx-version-min=11.3 -fno-strict-aliasing -pipe -fstack-protector -I/usr/local/include -DPERL_USE_SAFE_PUTENV -Wno-error=implicit-function-declaration -O3 -DVERSION=\"2.03\" -DXS_VERSION=\"2.03\" "-I/Users/stan/perl5/perlbrew/perls/perl-5.10.1/lib/5.10.1/darwin-2level/CORE" KR.c
cc -c -I./Encode -I../Encode -fno-common -DPERL_DARWIN -mmacosx-version-min=11.3 -fno-strict-aliasing -pipe -fstack-protector -I/usr/local/include -DPERL_USE_SAFE_PUTENV -Wno-error=implicit-function-declaration -O3 -DVERSION=\"2.03\" -DXS_VERSION=\"2.03\" "-I/Users/stan/perl5/perlbrew/perls/perl-5.10.1/lib/5.10.1/darwin-2level/CORE" cp_00_t.c
cc -c -I./Encode -I../Encode -fno-common -DPERL_DARWIN -mmacosx-version-min=11.3 -fno-strict-aliasing -pipe -fstack-protector -I/usr/local/include -DPERL_USE_SAFE_PUTENV -Wno-error=implicit-function-declaration -O3 -DVERSION=\"2.03\" -DXS_VERSION=\"2.03\" "-I/Users/stan/perl5/perlbrew/perls/perl-5.10.1/lib/5.10.1/darwin-2level/CORE" eu_01_t.c
cc -c -I./Encode -I../Encode -fno-common -DPERL_DARWIN -mmacosx-version-min=11.3 -fno-strict-aliasing -pipe -fstack-protector -I/usr/local/include -DPERL_USE_SAFE_PUTENV -Wno-error=implicit-function-declaration -O3 -DVERSION=\"2.03\" -DXS_VERSION=\"2.03\" "-I/Users/stan/perl5/perlbrew/perls/perl-5.10.1/lib/5.10.1/darwin-2level/CORE" jo_02_t.c
cc -c -I./Encode -I../Encode -fno-common -DPERL_DARWIN -mmacosx-version-min=11.3 -fno-strict-aliasing -pipe -fstack-protector -I/usr/local/include -DPERL_USE_SAFE_PUTENV -Wno-error=implicit-function-declaration -O3 -DVERSION=\"2.03\" -DXS_VERSION=\"2.03\" "-I/Users/stan/perl5/perlbrew/perls/perl-5.10.1/lib/5.10.1/darwin-2level/CORE" ks_03_t.c
cc -c -I./Encode -I../Encode -fno-common -DPERL_DARWIN -mmacosx-version-min=11.3 -fno-strict-aliasing -pipe -fstack-protector -I/usr/local/include -DPERL_USE_SAFE_PUTENV -Wno-error=implicit-function-declaration -O3 -DVERSION=\"2.03\" -DXS_VERSION=\"2.03\" "-I/Users/stan/perl5/perlbrew/perls/perl-5.10.1/lib/5.10.1/darwin-2level/CORE" ma_04_t.c
rm -f ../blib/arch/auto/Encode/KR/KR.bundle
cc -mmacosx-version-min=11.3 -bundle -undefined dynamic_lookup -L/usr/local/lib -fstack-protector KR.o cp_00_t.o eu_01_t.o jo_02_t.o ks_03_t.o ma_04_t.o -o ../blib/arch/auto/Encode/KR/KR.bundle \
\
chmod 755 ../blib/arch/auto/Encode/KR/KR.bundle
cp Symbol.pm ../blib/lib/Encode/Symbol.pm
Running Mkbootstrap for Symbol ()
chmod 644 "Symbol.bs"
"/Users/stan/perl5/perlbrew/perls/perl-5.10.1/bin/perl" -MExtUtils::Command::MM -e 'cp_nonempty' -- Symbol.bs ../blib/arch/auto/Encode/Symbol/Symbol.bs 644
"/Users/stan/perl5/perlbrew/perls/perl-5.10.1/bin/perl" ../bin/enc2xs -"Q" -"O" -o symbol_t.c -f symbol_t.fnm
Reading AdobeSymbol (AdobeSymbol)
Reading AdobeZdingbat (AdobeZdingbat)
Reading dingbats (dingbats)
Reading MacDingbats (MacDingbats)
Reading MacSymbol (MacSymbol)
Reading symbol (symbol)
"/Users/stan/perl5/perlbrew/perls/perl-5.10.1/bin/perl" "/Users/stan/perl5/perlbrew/perls/perl-5.10.1/lib/5.10.1/ExtUtils/xsubpp" -nolinenumbers -typemap '/Users/stan/perl5/perlbrew/perls/perl-5.10.1/lib/5.10.1/ExtUtils/typemap' Symbol.xs > Symbol.xsc
mv Symbol.xsc Symbol.c
cc -c -I./Encode -I../Encode -fno-common -DPERL_DARWIN -mmacosx-version-min=11.3 -fno-strict-aliasing -pipe -fstack-protector -I/usr/local/include -DPERL_USE_SAFE_PUTENV -Wno-error=implicit-function-declaration -O3 -DVERSION=\"2.02\" -DXS_VERSION=\"2.02\" "-I/Users/stan/perl5/perlbrew/perls/perl-5.10.1/lib/5.10.1/darwin-2level/CORE" Symbol.c
cc -c -I./Encode -I../Encode -fno-common -DPERL_DARWIN -mmacosx-version-min=11.3 -fno-strict-aliasing -pipe -fstack-protector -I/usr/local/include -DPERL_USE_SAFE_PUTENV -Wno-error=implicit-function-declaration -O3 -DVERSION=\"2.02\" -DXS_VERSION=\"2.02\" "-I/Users/stan/perl5/perlbrew/perls/perl-5.10.1/lib/5.10.1/darwin-2level/CORE" symbol_t.c
rm -f ../blib/arch/auto/Encode/Symbol/Symbol.bundle
cc -mmacosx-version-min=11.3 -bundle -undefined dynamic_lookup -L/usr/local/lib -fstack-protector Symbol.o symbol_t.o -o ../blib/arch/auto/Encode/Symbol/Symbol.bundle \
\
chmod 755 ../blib/arch/auto/Encode/Symbol/Symbol.bundle
cp TW.pm ../blib/lib/Encode/TW.pm
Running Mkbootstrap for TW ()
chmod 644 "TW.bs"
"/Users/stan/perl5/perlbrew/perls/perl-5.10.1/bin/perl" -MExtUtils::Command::MM -e 'cp_nonempty' -- TW.bs ../blib/arch/auto/Encode/TW/TW.bs 644
"/Users/stan/perl5/perlbrew/perls/perl-5.10.1/bin/perl" ../bin/enc2xs -"Q" -o bi_00_t.c -f bi_00_t.fnm
Reading big5-eten (big5-eten)
"/Users/stan/perl5/perlbrew/perls/perl-5.10.1/bin/perl" ../bin/enc2xs -"Q" -o bi_01_t.c -f bi_01_t.fnm
Reading big5-hkscs (big5-hkscs)
"/Users/stan/perl5/perlbrew/perls/perl-5.10.1/bin/perl" ../bin/enc2xs -"Q" -o cp_02_t.c -f cp_02_t.fnm
Reading cp950 (cp950)
"/Users/stan/perl5/perlbrew/perls/perl-5.10.1/bin/perl" ../bin/enc2xs -"Q" -o ma_03_t.c -f ma_03_t.fnm
Reading MacChineseTrad (MacChineseTrad)
"/Users/stan/perl5/perlbrew/perls/perl-5.10.1/bin/perl" "/Users/stan/perl5/perlbrew/perls/perl-5.10.1/lib/5.10.1/ExtUtils/xsubpp" -nolinenumbers -typemap '/Users/stan/perl5/perlbrew/perls/perl-5.10.1/lib/5.10.1/ExtUtils/typemap' TW.xs > TW.xsc
mv TW.xsc TW.c
cc -c -I./Encode -I../Encode -fno-common -DPERL_DARWIN -mmacosx-version-min=11.3 -fno-strict-aliasing -pipe -fstack-protector -I/usr/local/include -DPERL_USE_SAFE_PUTENV -Wno-error=implicit-function-declaration -O3 -DVERSION=\"2.03\" -DXS_VERSION=\"2.03\" "-I/Users/stan/perl5/perlbrew/perls/perl-5.10.1/lib/5.10.1/darwin-2level/CORE" TW.c
cc -c -I./Encode -I../Encode -fno-common -DPERL_DARWIN -mmacosx-version-min=11.3 -fno-strict-aliasing -pipe -fstack-protector -I/usr/local/include -DPERL_USE_SAFE_PUTENV -Wno-error=implicit-function-declaration -O3 -DVERSION=\"2.03\" -DXS_VERSION=\"2.03\" "-I/Users/stan/perl5/perlbrew/perls/perl-5.10.1/lib/5.10.1/darwin-2level/CORE" bi_00_t.c
cc -c -I./Encode -I../Encode -fno-common -DPERL_DARWIN -mmacosx-version-min=11.3 -fno-strict-aliasing -pipe -fstack-protector -I/usr/local/include -DPERL_USE_SAFE_PUTENV -Wno-error=implicit-function-declaration -O3 -DVERSION=\"2.03\" -DXS_VERSION=\"2.03\" "-I/Users/stan/perl5/perlbrew/perls/perl-5.10.1/lib/5.10.1/darwin-2level/CORE" bi_01_t.c
cc -c -I./Encode -I../Encode -fno-common -DPERL_DARWIN -mmacosx-version-min=11.3 -fno-strict-aliasing -pipe -fstack-protector -I/usr/local/include -DPERL_USE_SAFE_PUTENV -Wno-error=implicit-function-declaration -O3 -DVERSION=\"2.03\" -DXS_VERSION=\"2.03\" "-I/Users/stan/perl5/perlbrew/perls/perl-5.10.1/lib/5.10.1/darwin-2level/CORE" cp_02_t.c
cc -c -I./Encode -I../Encode -fno-common -DPERL_DARWIN -mmacosx-version-min=11.3 -fno-strict-aliasing -pipe -fstack-protector -I/usr/local/include -DPERL_USE_SAFE_PUTENV -Wno-error=implicit-function-declaration -O3 -DVERSION=\"2.03\" -DXS_VERSION=\"2.03\" "-I/Users/stan/perl5/perlbrew/perls/perl-5.10.1/lib/5.10.1/darwin-2level/CORE" ma_03_t.c
rm -f ../blib/arch/auto/Encode/TW/TW.bundle
cc -mmacosx-version-min=11.3 -bundle -undefined dynamic_lookup -L/usr/local/lib -fstack-protector TW.o bi_00_t.o bi_01_t.o cp_02_t.o ma_03_t.o -o ../blib/arch/auto/Encode/TW/TW.bundle \
\
chmod 755 ../blib/arch/auto/Encode/TW/TW.bundle
cp Unicode.pm ../blib/lib/Encode/Unicode.pm
Running Mkbootstrap for Unicode ()
chmod 644 "Unicode.bs"
"/Users/stan/perl5/perlbrew/perls/perl-5.10.1/bin/perl" -MExtUtils::Command::MM -e 'cp_nonempty' -- Unicode.bs ../blib/arch/auto/Encode/Unicode/Unicode.bs 644
"/Users/stan/perl5/perlbrew/perls/perl-5.10.1/bin/perl" "/Users/stan/perl5/perlbrew/perls/perl-5.10.1/lib/5.10.1/ExtUtils/xsubpp" -typemap '/Users/stan/perl5/perlbrew/perls/perl-5.10.1/lib/5.10.1/ExtUtils/typemap' Unicode.xs > Unicode.xsc
mv Unicode.xsc Unicode.c
cc -c -I./Encode -I../Encode -fno-common -DPERL_DARWIN -mmacosx-version-min=11.3 -fno-strict-aliasing -pipe -fstack-protector -I/usr/local/include -DPERL_USE_SAFE_PUTENV -Wno-error=implicit-function-declaration -O3 -DVERSION=\"2.19\" -DXS_VERSION=\"2.19\" "-I/Users/stan/perl5/perlbrew/perls/perl-5.10.1/lib/5.10.1/darwin-2level/CORE" Unicode.c
rm -f ../blib/arch/auto/Encode/Unicode/Unicode.bundle
cc -mmacosx-version-min=11.3 -bundle -undefined dynamic_lookup -L/usr/local/lib -fstack-protector Unicode.o -o ../blib/arch/auto/Encode/Unicode/Unicode.bundle \
\
chmod 755 ../blib/arch/auto/Encode/Unicode/Unicode.bundle
Running Mkbootstrap for Encode ()
chmod 644 "Encode.bs"
"/Users/stan/perl5/perlbrew/perls/perl-5.10.1/bin/perl" -MExtUtils::Command::MM -e 'cp_nonempty' -- Encode.bs blib/arch/auto/Encode/Encode.bs 644
"/Users/stan/perl5/perlbrew/perls/perl-5.10.1/bin/perl" "/Users/stan/perl5/perlbrew/perls/perl-5.10.1/lib/5.10.1/ExtUtils/xsubpp" -typemap '/Users/stan/perl5/perlbrew/perls/perl-5.10.1/lib/5.10.1/ExtUtils/typemap' Encode.xs > Encode.xsc
mv Encode.xsc Encode.c
"/Users/stan/perl5/perlbrew/perls/perl-5.10.1/bin/perl" bin/enc2xs -"Q" -"O" -o def_t.c -f def_t.fnm
Reading iso-8859-1 (iso-8859-1)
Reading ascii (ascii)
Reading cp1252 (cp1252)
Reading ascii-ctrl (ascii-ctrl)
Reading null (null)
cc -c -I./Encode -fno-common -DPERL_DARWIN -mmacosx-version-min=11.3 -fno-strict-aliasing -pipe -fstack-protector -I/usr/local/include -DPERL_USE_SAFE_PUTENV -Wno-error=implicit-function-declaration -O3 -DVERSION=\"3.16\" -DXS_VERSION=\"3.16\" "-I/Users/stan/perl5/perlbrew/perls/perl-5.10.1/lib/5.10.1/darwin-2level/CORE" Encode.c
cc -c -I./Encode -fno-common -DPERL_DARWIN -mmacosx-version-min=11.3 -fno-strict-aliasing -pipe -fstack-protector -I/usr/local/include -DPERL_USE_SAFE_PUTENV -Wno-error=implicit-function-declaration -O3 -DVERSION=\"3.16\" -DXS_VERSION=\"3.16\" "-I/Users/stan/perl5/perlbrew/perls/perl-5.10.1/lib/5.10.1/darwin-2level/CORE" def_t.c
cc -c -I./Encode -fno-common -DPERL_DARWIN -mmacosx-version-min=11.3 -fno-strict-aliasing -pipe -fstack-protector -I/usr/local/include -DPERL_USE_SAFE_PUTENV -Wno-error=implicit-function-declaration -O3 -DVERSION=\"3.16\" -DXS_VERSION=\"3.16\" "-I/Users/stan/perl5/perlbrew/perls/perl-5.10.1/lib/5.10.1/darwin-2level/CORE" encengine.c
rm -f blib/arch/auto/Encode/Encode.bundle
cc -mmacosx-version-min=11.3 -bundle -undefined dynamic_lookup -L/usr/local/lib -fstack-protector Encode.o def_t.o encengine.o -o blib/arch/auto/Encode/Encode.bundle \
\
chmod 755 blib/arch/auto/Encode/Encode.bundle
cp bin/enc2xs blib/script/enc2xs
"/Users/stan/perl5/perlbrew/perls/perl-5.10.1/bin/perl" -MExtUtils::MY -e 'MY->fixin(shift)' -- blib/script/enc2xs
cp bin/encguess blib/script/encguess
"/Users/stan/perl5/perlbrew/perls/perl-5.10.1/bin/perl" -MExtUtils::MY -e 'MY->fixin(shift)' -- blib/script/encguess
cp bin/piconv blib/script/piconv
"/Users/stan/perl5/perlbrew/perls/perl-5.10.1/bin/perl" -MExtUtils::MY -e 'MY->fixin(shift)' -- blib/script/piconv
Manifying 3 pod documents
Manifying 18 pod documents
"/Users/stan/perl5/perlbrew/perls/perl-5.10.1/bin/perl" -MExtUtils::Command::MM -e 'cp_nonempty' -- Encode.bs blib/arch/auto/Encode/Encode.bs 644
"/Users/stan/perl5/perlbrew/perls/perl-5.10.1/bin/perl" -MExtUtils::Command::MM -e 'cp_nonempty' -- Byte.bs ../blib/arch/auto/Encode/Byte/Byte.bs 644
"/Users/stan/perl5/perlbrew/perls/perl-5.10.1/bin/perl" -MExtUtils::Command::MM -e 'cp_nonempty' -- CN.bs ../blib/arch/auto/Encode/CN/CN.bs 644
"/Users/stan/perl5/perlbrew/perls/perl-5.10.1/bin/perl" -MExtUtils::Command::MM -e 'cp_nonempty' -- EBCDIC.bs ../blib/arch/auto/Encode/EBCDIC/EBCDIC.bs 644
"/Users/stan/perl5/perlbrew/perls/perl-5.10.1/bin/perl" -MExtUtils::Command::MM -e 'cp_nonempty' -- JP.bs ../blib/arch/auto/Encode/JP/JP.bs 644
"/Users/stan/perl5/perlbrew/perls/perl-5.10.1/bin/perl" -MExtUtils::Command::MM -e 'cp_nonempty' -- KR.bs ../blib/arch/auto/Encode/KR/KR.bs 644
"/Users/stan/perl5/perlbrew/perls/perl-5.10.1/bin/perl" -MExtUtils::Command::MM -e 'cp_nonempty' -- Symbol.bs ../blib/arch/auto/Encode/Symbol/Symbol.bs 644
"/Users/stan/perl5/perlbrew/perls/perl-5.10.1/bin/perl" -MExtUtils::Command::MM -e 'cp_nonempty' -- TW.bs ../blib/arch/auto/Encode/TW/TW.bs 644
"/Users/stan/perl5/perlbrew/perls/perl-5.10.1/bin/perl" -MExtUtils::Command::MM -e 'cp_nonempty' -- Unicode.bs ../blib/arch/auto/Encode/Unicode/Unicode.bs 644
"/Users/stan/perl5/perlbrew/perls/perl-5.10.1/bin/perl" -MExtUtils::Command::MM -e 'cp_nonempty' -- Byte.bs ../blib/arch/auto/Encode/Byte/Byte.bs 644
No tests defined for Encode::Byte extension.
"/Users/stan/perl5/perlbrew/perls/perl-5.10.1/bin/perl" -MExtUtils::Command::MM -e 'cp_nonempty' -- CN.bs ../blib/arch/auto/Encode/CN/CN.bs 644
No tests defined for Encode::CN extension.
"/Users/stan/perl5/perlbrew/perls/perl-5.10.1/bin/perl" -MExtUtils::Command::MM -e 'cp_nonempty' -- EBCDIC.bs ../blib/arch/auto/Encode/EBCDIC/EBCDIC.bs 644
No tests defined for Encode::EBCDIC extension.
"/Users/stan/perl5/perlbrew/perls/perl-5.10.1/bin/perl" -MExtUtils::Command::MM -e 'cp_nonempty' -- JP.bs ../blib/arch/auto/Encode/JP/JP.bs 644
No tests defined for Encode::JP extension.
"/Users/stan/perl5/perlbrew/perls/perl-5.10.1/bin/perl" -MExtUtils::Command::MM -e 'cp_nonempty' -- KR.bs ../blib/arch/auto/Encode/KR/KR.bs 644
No tests defined for Encode::KR extension.
"/Users/stan/perl5/perlbrew/perls/perl-5.10.1/bin/perl" -MExtUtils::Command::MM -e 'cp_nonempty' -- Symbol.bs ../blib/arch/auto/Encode/Symbol/Symbol.bs 644
No tests defined for Encode::Symbol extension.
"/Users/stan/perl5/perlbrew/perls/perl-5.10.1/bin/perl" -MExtUtils::Command::MM -e 'cp_nonempty' -- TW.bs ../blib/arch/auto/Encode/TW/TW.bs 644
No tests defined for Encode::TW extension.
"/Users/stan/perl5/perlbrew/perls/perl-5.10.1/bin/perl" -MExtUtils::Command::MM -e 'cp_nonempty' -- Unicode.bs ../blib/arch/auto/Encode/Unicode/Unicode.bs 644
No tests defined for Encode::Unicode extension.
PERL_DL_NONLAZY=1 "/Users/stan/perl5/perlbrew/perls/perl-5.10.1/bin/perl" "-MExtUtils::Command::MM" "-MTest::Harness" "-e" "undef *Test::Harness::Switches; test_harness(0, 'blib/lib', 'blib/arch')" t/*.t
t/Aliases.t ................ ok
t/at-cn.t .................. ok
t/at-tw.t .................. ok
t/CJKT.t ................... ok
t/cow.t .................... ok
t/decode.t ................. ok
t/enc_data.t ............... ok
t/enc_eucjp.t .............. ok
t/enc_module.t ............. ok
t/enc_utf8.t ............... ok
t/Encode.t ................. ok
t/Encoder.t ................ ok
t/encoding-locale.t ........ ok
t/encoding.t ............... ok
t/fallback.t ............... ok
t/from_to.t ................ ok
t/grow.t ................... ok
t/gsm0338.t ................ ok
t/guess.t .................. ok
t/isa.t .................... ok
t/jis7-fallback.t .......... ok
t/jperl.t .................. ok
t/magic.t .................. ok
t/mime-header.t ............ ok
t/mime-name.t .............. ok
t/mime_header_iso2022jp.t .. ok
t/perlio.t ................. ok
t/piconv.t ................. ok
t/rt113164.t ............... ok
t/rt65541.t ................ ok
t/rt76824.t ................ ok
t/rt85489.t ................ ok
t/rt86327.t ................ ok
t/taint.t .................. ok
t/truncated_utf8.t ......... ok
t/undef.t .................. ok
t/Unicode.t ................ ok
# temp file: /var/folders/tk/hx6fvpsj3yzbyd1k1br945mc0000gn/T/7fCbKW6aZ8
t/Unicode_trailing_nul.t ... ok
t/use-Encode-Alias.t ....... ok
t/utf8ref.t ................ ok
t/utf8strict.t ............. ok
t/utf8warnings.t ........... ok
t/whatwg-aliases.t ......... skipped: For maintainers only
t/xml.t .................... ok
All tests successful.
Test Summary Report
-------------------
t/truncated_utf8.t (Wstat: 0 Tests: 9 Failed: 0)
TODO passed: 9
Files=44, Tests=7778, 6 wallclock secs ( 0.49 usr 0.12 sys + 5.12 cusr 0.52 csys = 6.25 CPU)
Result: PASS
------------------------------
PREREQUISITES
------------------------------
Prerequisite modules loaded:
No requirements found
------------------------------
ENVIRONMENT AND OTHER CONTEXT
------------------------------
Environment variables:
LANG = en_US.UTF-8
LC_ALL = en_US.UTF-8
LC_CTYPE = UTF-8
LC_TERMINAL = iTerm2
LC_TERMINAL_VERSION = 3.4.10
LDFLAGS = -L/usr/local/opt/curl/lib
PATH = /Users/stan/perl5/perlbrew/bin:/Users/stan/perl5/perlbrew/perls/perl-5.10.1/bin:/usr/local/Caskroom/google-cloud-sdk/latest/google-cloud-sdk/bin:/usr/local/opt/curl/bin:/Users/stan/perl5/perlbrew/bin:/Users/stan/perl5/perlbrew/perls/perl-5.34.0/bin:/usr/local/bin:/usr/bin:/bin:/usr/sbin:/sbin:/Users/stan/.vim/bin:/Users/stan/bin:/Users/stan/node_modules/.bin:/usr/local/sbin:/usr/local/Caskroom/google-cloud-sdk/latest/google-cloud-sdk/bin:/usr/local/opt/curl/bin
PERL5LIB =
PERLBREW_HOME = /Users/stan/.perlbrew
PERLBREW_LIB =
PERLBREW_MANPATH = /Users/stan/perl5/perlbrew/perls/perl-5.10.1/man
PERLBREW_PATH = /Users/stan/perl5/perlbrew/bin:/Users/stan/perl5/perlbrew/perls/perl-5.10.1/bin
PERLBREW_PERL = perl-5.10.1
PERLBREW_ROOT = /Users/stan/perl5/perlbrew
PERLBREW_SHELLRC_VERSION = 0.92
PERLBREW_VERSION = 0.92
PERL_LOCAL_LIB_ROOT =
PERL_MM_USE_DEFAULT = 1
SHELL = /usr/local/bin/zsh
TERM = screen
TMPDIR = /var/folders/tk/hx6fvpsj3yzbyd1k1br945mc0000gn/T/
Perl special variables (and OS-specific diagnostics, for MSWin32):
EGID = 20 20 12 61 79 80 81 98 701 33 100 204 250 395 398 101 400
EUID = 501
EXECUTABLE_NAME = /Users/stan/perl5/perlbrew/perls/perl-5.10.1/bin/perl
GID = 20 20 12 61 79 80 81 98 701 33 100 204 250 395 398 101 400
UID = 501
Perl module toolchain versions installed:
Module Have
------------------- --------
CPAN 2.28
CPAN::Meta 2.150010
Cwd 3.75
ExtUtils::CBuilder 0.280236
ExtUtils::Command 7.62
ExtUtils::Install 2.20
ExtUtils::MakeMaker 7.62
ExtUtils::Manifest 1.73
ExtUtils::ParseXS 3.35
File::Spec 3.75
JSON 4.03
JSON::PP 4.06
Module::Build 0.4231
Module::Signature n/a
Parse::CPAN::Meta 2.150010
Test::Harness 3.42
Test::More 1.302188
YAML 1.30
YAML::Syck n/a
version 0.9929
--
Summary of my perl5 (revision 5 version 10 subversion 1) configuration:
Platform:
osname=darwin, osvers=20.4.0, archname=darwin-2level
uname='darwin imac.fritz.box 20.4.0 darwin kernel version 20.4.0: thu apr 22 21:46:47 pdt 2021; root:xnu-7195.101.2~1release_x86_64 x86_64 '
config_args='-de -Dprefix=/Users/stan/perl5/perlbrew/perls/perl-5.10.1 -Aeval:scriptdir=/Users/stan/perl5/perlbrew/perls/perl-5.10.1/bin'
hint=recommended, useposix=true, d_sigaction=define
useithreads=undef, usemultiplicity=undef
useperlio=define, d_sfio=undef, uselargefiles=define, usesocks=undef
use64bitint=define, use64bitall=define, uselongdouble=undef
usemymalloc=n, bincompat5005=undef
Compiler:
cc='cc', ccflags ='-fno-common -DPERL_DARWIN -mmacosx-version-min=11.3 -fno-strict-aliasing -pipe -fstack-protector -I/usr/local/include -DPERL_USE_SAFE_PUTENV',
optimize='-O3',
cppflags='-fno-common -DPERL_DARWIN -mmacosx-version-min=11.3 -fno-strict-aliasing -pipe -fstack-protector -I/usr/local/include'
ccversion='', gccversion='Apple LLVM 12.0.5 (clang-1205.0.22.9)', gccosandvers=''
intsize=4, longsize=8, ptrsize=8, doublesize=8, byteorder=12345678
d_longlong=define, longlongsize=8, d_longdbl=define, longdblsize=16
ivtype='long', ivsize=8, nvtype='double', nvsize=8, Off_t='off_t', lseeksize=8
alignbytes=8, prototype=define
Linker and Libraries:
ld='cc', ldflags =' -mmacosx-version-min=11.3 -fstack-protector -L/usr/local/lib'
libpth=/usr/local/lib /usr/lib
libs=-lgdbm -ldb
perllibs=
libc=, so=dylib, useshrplib=false, libperl=libperl.a
gnulibc_version=''
Dynamic Linking:
dlsrc=dl_dlopen.xs, dlext=bundle, d_dlsymun=undef, ccdlflags=' '
cccdlflags=' ', lddlflags=' -mmacosx-version-min=11.3 -bundle -undefined dynamic_lookup -L/usr/local/lib -fstack-protector'
Characteristics of this binary (from libperl):
Compile-time options: PERL_DONT_CREATE_GVSV PERL_MALLOC_WRAP
PERL_USE_SAFE_PUTENV USE_64_BIT_ALL USE_64_BIT_INT
USE_LARGE_FILES USE_PERLIO
Locally applied patches:
Devel::PatchPerl 2.08
Built under darwin
Compiled at Jun 13 2021 16:49:18
%ENV:
PERL5LIB=""
PERLBREW_HOME="/Users/stan/.perlbrew"
PERLBREW_LIB=""
PERLBREW_MANPATH="/Users/stan/perl5/perlbrew/perls/perl-5.10.1/man"
PERLBREW_PATH="/Users/stan/perl5/perlbrew/bin:/Users/stan/perl5/perlbrew/perls/perl-5.10.1/bin"
PERLBREW_PERL="perl-5.10.1"
PERLBREW_ROOT="/Users/stan/perl5/perlbrew"
PERLBREW_SHELLRC_VERSION="0.92"
PERLBREW_VERSION="0.92"
PERL_LOCAL_LIB_ROOT=""
PERL_MM_USE_DEFAULT="1"
@INC:
/Users/stan/perl5/perlbrew/perls/perl-5.10.1/lib/5.10.1/darwin-2level
/Users/stan/perl5/perlbrew/perls/perl-5.10.1/lib/5.10.1
/Users/stan/perl5/perlbrew/perls/perl-5.10.1/lib/site_perl/5.10.1/darwin-2level
/Users/stan/perl5/perlbrew/perls/perl-5.10.1/lib/site_perl/5.10.1
.