FFI-Platypus v2.08 Perl 5 v5.8.9 amd64-freebsd

Status
Pass
From
David Cantrell (DCANTRELL)
Dist
FFI-Platypus v2.08
Platform
Perl 5 v5.8.9 amd64-freebsd
Date
2023-05-07 02:16:21
ID
28c4bc70-ec7d-11ed-babc-ccdc2fa947ff
This distribution has been tested as part of the CPAN Testers
project, supporting the Perl programming language.  See
http://wiki.cpantesters.org/ for more information or email
questions to cpan-testers-discuss@perl.org


--
Dear Graham Ollis,

This is a computer-generated report for FFI-Platypus-2.08
on perl 5.8.9, created by CPAN-Reporter-1.2018.

Thank you for uploading your work to CPAN.  Congratulations!
All tests were successful.

Sections of this report:

    * Tester comments
    * Program output
    * Prerequisites
    * Environment and other context

------------------------------
TESTER COMMENTS
------------------------------

Additional comments from tester:

this report is from an automated smoke testing program
and was not reviewed by a human for accuracy

------------------------------
PROGRAM OUTPUT
------------------------------

Output from '/usr/bin/make test':

"/home/david/cpantesting/perl-5.8.9/bin/perl" -MExtUtils::Command::MM -e 'cp_nonempty' -- lib/FFI/Platypus.bs blib/arch/auto/FFI/Platypus/Platypus.bs 644
CC t/ffi/align.c
CC t/ffi/align_array.c
CC t/ffi/align_fixed.c
CC t/ffi/align_string.c
CC t/ffi/basic.c
CC t/ffi/closure.c
CC t/ffi/color.c
CC t/ffi/complex_double.c
CC t/ffi/complex_float.c
CC t/ffi/double.c
CC t/ffi/float.c
CC t/ffi/gh117.c
CC t/ffi/gh174.c
CC t/ffi/longdouble.c
CC t/ffi/memcmp4.c
CC t/ffi/meta.c
CC t/ffi/pointer.c
CC t/ffi/record.c
CC t/ffi/sint16.c
CC t/ffi/sint32.c
CC t/ffi/sint64.c
CC t/ffi/sint8.c
CC t/ffi/string.c
CC t/ffi/string_array.c
CC t/ffi/uint16.c
CC t/ffi/uint32.c
CC t/ffi/uint64.c
CC t/ffi/uint8.c
CC t/ffi/variadic.c
LD t/ffi/libtest.so
PERL_DL_NONLAZY=1 "/home/david/cpantesting/perl-5.8.9/bin/perl" "-MExtUtils::Command::MM" "-MTest::Harness" "-e" "undef *Test::Harness::Switches; test_harness(0, 'blib/lib', 'blib/arch')" t/*.t
t/00_diag................................# 
# 
# 
# HARNESS_ACTIVE=1
# HARNESS_VERSION=2.64
# LANG=en_GB.UTF-8
# PERL=5.8.9
# PERL5LIB=/usr/home/david/cpantesting/perl-5.8.9/.cpan/build/FFI-Platypus-2.08-GGNcbM/blib/lib:/usr/home/david/cpantesting/perl-5.8.9/.cpan/build/FFI-Platypus-2.08-GGNcbM/blib/arch:/home/david/cpantesting/perl-5.8.9/lib/5.8.9/amd64-freebsd:/home/david/cpantesting/perl-5.8.9/lib/5.8.9:/home/david/cpantesting/perl-5.8.9/lib/site_perl/5.8.9/amd64-freebsd:/home/david/cpantesting/perl-5.8.9/lib/site_perl/5.8.9:.
# PERL5OPT=
# PERL5_CPANPLUS_IS_RUNNING=89344
# PERL5_CPAN_IS_RUNNING=89344
# PERLBREW_HOME=/home/david/.perlbrew
# PERLBREW_MANPATH=/home/david/perl5/perlbrew/perls/perl-5.30.2/man
# PERLBREW_PATH=/home/david/perl5/perlbrew/bin:/home/david/perl5/perlbrew/perls/perl-5.30.2/bin
# PERLBREW_PERL=perl-5.30.2
# PERLBREW_ROOT=/home/david/perl5/perlbrew
# PERLBREW_SHELLRC_VERSION=0.89
# PERLBREW_VERSION=0.89
# PERLVER=5.8.9
# PERL_DL_NONLAZY=1
# PERL_INLINE_DIRECTORY=/home/david/.Inline-5.8.9
# PERL_MM_USE_DEFAULT=1
# PERL_USE_UNSAFE_INC=0
# SHELL=/usr/local/bin/bash
# 
# 
# 
# PERL5LIB path
# /usr/home/david/cpantesting/perl-5.8.9/.cpan/build/FFI-Platypus-2.08-GGNcbM/blib/lib
# /usr/home/david/cpantesting/perl-5.8.9/.cpan/build/FFI-Platypus-2.08-GGNcbM/blib/arch
# /home/david/cpantesting/perl-5.8.9/lib/5.8.9/amd64-freebsd
# /home/david/cpantesting/perl-5.8.9/lib/5.8.9
# /home/david/cpantesting/perl-5.8.9/lib/site_perl/5.8.9/amd64-freebsd
# /home/david/cpantesting/perl-5.8.9/lib/site_perl/5.8.9
# .
# 
# 
# 
# perl                  5.008009 freebsd amd64-freebsd
# Alien::Base           2.79
# Alien::FFI            0.27
# Capture::Tiny         0.48
# Devel::Hide           0.0015
# ExtUtils::CBuilder    0.280236
# ExtUtils::MakeMaker   7.64
# ExtUtils::ParseXS     3.44
# FFI::CheckLib         0.31
# File::Spec::Functions 3.75
# IPC::Cmd              1.04
# JSON::PP              4.07
# List::Util            1.63
# Math::LongDouble      -
# PkgConfig             0.25026
# Test2::API            1.302188
# Test2::V0             0.000155
# autodie               2.36
# constant              1.33
# forks                 -
# parent                0.238
# 
# 
# 
# mode : fallback
# Alien::FFI->VERSION      = 0.27
# Alien::FFI->install_type = system
# Alien::FFI->cflags       =  
# Alien::FFI->libs         = -lffi 
# Alien::FFI->version      = 3.4.4
# 
# 
# 
# ffi.platypus.memory.strdup_impl =libc
# ffi.platypus.memory.strndup_impl=libc
# 
# 
# 
# Types:
#   double   : double, float complex
#   float    : float
#   longdouble : double complex, long double, long double complex
#   sint16   : int16_t, short, signed short
#   sint32   : blksize_t, int, int32_t, senum, signed int, wchar_t, wint_t
#   sint64   : blkcnt_t, int64_t, intmax_t, intptr_t, long, long long, off_t, ptrdiff_t, signed long, signed long long, ssize_t, time_t
#   sint8    : char, int8_t, signed char
#   uint16   : mode_t, uint16_t, unsigned short, ushort
#   uint32   : enum, gid_t, uid_t, uint, uint32_t, unsigned int
#   uint64   : dev_t, ino_t, nlink_t, size_t, uint64_t, uintmax_t, uintptr_t, ulong, unsigned long, unsigned long long
#   uint8    : bool, uchar, uint8_t, unsigned char
# 
# 
# 
# ABIs:
#   default_abi          2
#   efi64                3
#   gnuw64               4
#   unix64               2
#   win64                3
# 
# 
# 
# Probes:
#   bigendian64          0
#   recordvalue          1
#   longdouble           1
#   complex              1
#   abi                  1
#   bigendian            0
#   alloca               1
#   variadic             1
#   strnlen              1
# 
# 
# 
# [PLATFORM]
# osname            : freebsd
# cc                : cc
# cxx               : c++
# cxxld             : c++
# for               : ---
# ld                : cc
# ccflags           : -DPIC -fPIC -DHAS_FPSETMASK -DHAS_FLOATINGPOINT_H -fno-strict-aliasing -pipe -I/usr/local/include -O2 -I/usr/home/david/cpantesting/perl-5.8.9/.cpan/build/FFI-Platypus-2.08-GGNcbM/blib/lib/auto/share/dist/FFI-Platypus/include
# ldflags           : -shared -L/usr/local/lib
# object suffix     : .o
# library prefix    : lib
# library suffix    : .so
# cc mm works       : -MM
# 
# 
# 
ok
t/ffi_build..............................ok
t/ffi_build_file_base....................ok
t/ffi_build_file_c.......................ok
t/ffi_build_file_cxx.....................ok
t/ffi_build_file_library.................ok
t/ffi_build_file_object..................ok
t/ffi_build_mm...........................ok
t/ffi_build_platform.....................ok
t/ffi_build_plugin.......................ok
t/ffi_build_plugindata...................ok
t/ffi_platypus...........................ok
t/ffi_platypus_api.......................ok
t/ffi_platypus_buffer....................ok
t/ffi_platypus_bundle....................ok
t/ffi_platypus_closure...................ok
t/ffi_platypus_constant..................ok
t/ffi_platypus_dl........................ok
t/ffi_platypus_function..................ok
t/ffi_platypus_function_wrapper..........ok
t/ffi_platypus_internal..................ok
t/ffi_platypus_lang......................ok
t/ffi_platypus_lang_asm..................ok
t/ffi_platypus_lang_c....................ok
t/ffi_platypus_lang_win32................ok
t/ffi_platypus_legacy....................ok
t/ffi_platypus_memory....................ok
t/ffi_platypus_record....................ok
t/ffi_platypus_record_meta...............ok
t/ffi_platypus_record_tiearray...........ok
t/ffi_platypus_shareconfig...............ok
t/ffi_platypus_type......................ok
t/ffi_platypus_type_pointersizebuffer....ok
t/ffi_platypus_type_stringarray..........ok
t/ffi_platypus_type_stringpointer........ok
t/ffi_platypus_type_widestring...........ok
t/ffi_platypus_typeparser................ok
t/ffi_platypus_typeparser_version0.......ok
t/ffi_platypus_typeparser_version1.......ok
t/ffi_platypus_typeparser_version2.......ok
t/ffi_probe..............................ok
t/ffi_probe_runner.......................ok
t/ffi_probe_runner_builder...............ok
t/ffi_probe_runner_result................ok
t/ffi_temp...............................ok
t/forks..................................skipped
        all skipped: Test requires forks
t/gh117..................................ok
t/gh129..................................ok
t/gh323..................................ok
t/memory.................................skipped
        all skipped: tested only in CI
t/threads................................skipped
        all skipped: Test requires a threading Perl
t/type_complex_double....................ok
t/type_complex_float.....................ok
t/type_custom............................ok
t/type_double............................ok
t/type_float.............................ok
t/type_longdouble........................ok
t/type_longdouble__array.................ok
t/type_longdouble__hide..................ok
t/type_longdouble__ptr...................ok
t/type_opaque............................ok
t/type_record............................ok
t/type_record_value......................ok
t/type_sint16............................ok
t/type_sint32............................ok
t/type_sint64............................ok
t/type_sint8.............................ok
t/type_string............................ok
t/type_uint16............................ok
t/type_uint32............................ok
t/type_uint64............................ok
t/type_uint8.............................ok
All tests successful, 3 tests skipped.
Files=72, Tests=319, 105 wallclock secs (33.84 cusr +  7.45 csys = 41.30 CPU)

------------------------------
PREREQUISITES
------------------------------

Prerequisite modules loaded:

requires:

    Module                Need     Have    
    --------------------- -------- --------
    autodie               0        2.36    
    Capture::Tiny         0        0.48    
    constant              1.32     1.33    
    ExtUtils::MakeMaker   7.12     7.64    
    FFI::CheckLib         0.05     0.31    
    File::Spec::Functions 0        3.75    
    IPC::Cmd              0        1.04    
    JSON::PP              0        4.07    
    List::Util            1.45     1.63    
    parent                0        0.238   
    perl                  5.008004 5.008009

build_requires:

    Module                Need     Have    
    --------------------- -------- --------
    Alien::FFI            0.20     0.27    
    Capture::Tiny         0        0.48    
    ExtUtils::CBuilder    0        0.280236
    Test2::API            1.302015 1.302188
    Test2::V0             0.000121 0.000155

configure_requires:

    Module                Need     Have    
    --------------------- -------- --------
    Capture::Tiny         0        0.48    
    ExtUtils::MakeMaker   7.12     7.64    
    ExtUtils::ParseXS     3.30     3.44    
    IPC::Cmd              0        1.04    
    JSON::PP              0        4.07    
    parent                0        0.238   
    perl                  5.006    5.008009


------------------------------
ENVIRONMENT AND OTHER CONTEXT
------------------------------

Environment variables:

    AUTOMATED_TESTING = 1
    LANG = en_GB.UTF-8
    NONINTERACTIVE_TESTING = 1
    PATH = /home/david/perl5/perlbrew/bin:/home/david/perl5/perlbrew/perls/perl-5.30.2/bin:/home/david/.cargo/bin:/sbin:/bin:/usr/sbin:/usr/bin:/usr/local/sbin:/usr/local/bin:/home/david/bin
    PERL = 5.8.9
    PERL5LIB = 
    PERL5OPT = 
    PERL5_CPANPLUS_IS_RUNNING = 89344
    PERL5_CPAN_IS_RUNNING = 89344
    PERLBREW_HOME = /home/david/.perlbrew
    PERLBREW_MANPATH = /home/david/perl5/perlbrew/perls/perl-5.30.2/man
    PERLBREW_PATH = /home/david/perl5/perlbrew/bin:/home/david/perl5/perlbrew/perls/perl-5.30.2/bin
    PERLBREW_PERL = perl-5.30.2
    PERLBREW_ROOT = /home/david/perl5/perlbrew
    PERLBREW_SHELLRC_VERSION = 0.89
    PERLBREW_VERSION = 0.89
    PERLVER = 5.8.9
    PERL_INLINE_DIRECTORY = /home/david/.Inline-5.8.9
    PERL_MM_USE_DEFAULT = 1
    PERL_USE_UNSAFE_INC = 0
    SHELL = /usr/local/bin/bash
    TERM = screen

Perl special variables (and OS-specific diagnostics, for MSWin32):

    $^X = /home/david/cpantesting/perl-5.8.9/bin/perl
    $UID/$EUID = 1001 / 1001
    $GID = 1001 1001 0
    $EGID = 1001 1001 0

Perl module toolchain versions installed:

    Module              Have    
    ------------------- --------
    CPAN                1.94    
    CPAN::Meta          2.143240
    Cwd                 3.75    
    ExtUtils::CBuilder  0.280236
    ExtUtils::Command   7.64    
    ExtUtils::Install   2.06    
    ExtUtils::MakeMaker 7.64    
    ExtUtils::Manifest  1.70    
    ExtUtils::ParseXS   3.44    
    File::Spec          3.75    
    JSON                n/a     
    JSON::PP            4.07    
    Module::Build       n/a     
    Module::Signature   n/a     
    Parse::CPAN::Meta   1.4414  
    Test::Harness       2.64    
    Test::More          1.302188
    YAML                1.30    
    YAML::Syck          n/a     
    version             0.9929  


--

Summary of my perl5 (revision 5 version 8 subversion 9) configuration:
  Platform:
    osname=freebsd, osvers=13.0-release-p7, archname=amd64-freebsd
    uname='freebsd cpantesting-freebsd-utm.local 13.0-release-p7 freebsd 13.0-release-p7 #0: mon jan 31 18:24:03 utc 2022 root@amd64-builder.daemonology.net:usrobjusrsrcamd64.amd64sysgeneric amd64 '
    config_args='-de -Dprefix=/home/david/cpantesting/perl-5.8.9'
    hint=recommended, useposix=true, d_sigaction=define
    usethreads=undef use5005threads=undef useithreads=undef usemultiplicity=undef
    useperlio=define d_sfio=undef uselargefiles=define usesocks=undef
    use64bitint=define use64bitall=define uselongdouble=undef
    usemymalloc=n, bincompat5005=undef
  Compiler:
    cc='cc', ccflags ='-DHAS_FPSETMASK -DHAS_FLOATINGPOINT_H -fno-strict-aliasing -pipe -I/usr/local/include',
    optimize='-O2',
    cppflags='-DHAS_FPSETMASK -DHAS_FLOATINGPOINT_H -fno-strict-aliasing -pipe -I/usr/local/include'
    ccversion='', gccversion='FreeBSD Clang 11.0.1 (git@github.com:llvm/llvm-project.git llvmorg-11.0.1-0-g43ff75f2c3fe)', gccosandvers=''
    intsize=4, longsize=8, ptrsize=8, doublesize=8, byteorder=12345678
    d_longlong=define, longlongsize=8, d_longdbl=define, longdblsize=16
    ivtype='long', ivsize=8, nvtype='double', nvsize=8, Off_t='off_t', lseeksize=8
    alignbytes=8, prototype=define
  Linker and Libraries:
    ld='cc', ldflags ='-Wl,-E  -L/usr/local/lib'
    libpth=/usr/lib /usr/local/lib
    libs=-lgdbm -ldl -lm -lcrypt -lutil -lc
    perllibs=-ldl -lm -lcrypt -lutil -lc
    libc=, so=so, useshrplib=false, libperl=libperl.a
    gnulibc_version=''
  Dynamic Linking:
    dlsrc=dl_dlopen.xs, dlext=so, d_dlsymun=undef, ccdlflags=' '
    cccdlflags='-DPIC -fPIC', lddlflags='-shared  -L/usr/local/lib'


Characteristics of this binary (from libperl): 
  Compile-time options: PERL_MALLOC_WRAP USE_64_BIT_ALL USE_64_BIT_INT
                        USE_FAST_STDIO USE_LARGE_FILES USE_PERLIO
  Locally applied patches:
	Devel::PatchPerl 2.08
  Built under freebsd
  Compiled at Feb  3 2022 12:51:08
  %ENV:
    PERL="5.8.9"
    PERL5LIB=""
    PERL5OPT=""
    PERL5_CPANPLUS_IS_RUNNING="89344"
    PERL5_CPAN_IS_RUNNING="89344"
    PERLBREW_HOME="/home/david/.perlbrew"
    PERLBREW_MANPATH="/home/david/perl5/perlbrew/perls/perl-5.30.2/man"
    PERLBREW_PATH="/home/david/perl5/perlbrew/bin:/home/david/perl5/perlbrew/perls/perl-5.30.2/bin"
    PERLBREW_PERL="perl-5.30.2"
    PERLBREW_ROOT="/home/david/perl5/perlbrew"
    PERLBREW_SHELLRC_VERSION="0.89"
    PERLBREW_VERSION="0.89"
    PERLVER="5.8.9"
    PERL_INLINE_DIRECTORY="/home/david/.Inline-5.8.9"
    PERL_MM_USE_DEFAULT="1"
    PERL_USE_UNSAFE_INC="0"
  @INC:
    /home/david/cpantesting/perl-5.8.9/lib/5.8.9/amd64-freebsd
    /home/david/cpantesting/perl-5.8.9/lib/5.8.9
    /home/david/cpantesting/perl-5.8.9/lib/site_perl/5.8.9/amd64-freebsd
    /home/david/cpantesting/perl-5.8.9/lib/site_perl/5.8.9
    .