Org-Parser v0.558 Perl 5 v5.37.11 amd64-freebsd
- Status
- Pass
- From
- Slaven Rezić
- Dist
-
Org-Parser v0.558
- Platform
- Perl 5 v5.37.11 amd64-freebsd
- Date
- 2023-05-31 06:05:35
- ID
- 28454620-ff79-11ed-bd45-a6e06d8775ea
This distribution has been tested as part of the CPAN Testers
project, supporting the Perl programming language. See
http://wiki.cpantesters.org/ for more information or email
questions to cpan-testers-discuss@perl.org
--
Dear perlancar,
This is a computer-generated report for Org-Parser-0.558
on perl 5.37.11, created by CPAN-Reporter-1.2019.
Thank you for uploading your work to CPAN. Congratulations!
All tests were successful.
Sections of this report:
* Tester comments
* Program output
* Prerequisites
* Environment and other context
------------------------------
TESTER COMMENTS
------------------------------
Additional comments from tester:
none provided
------------------------------
PROGRAM OUTPUT
------------------------------
Output from '/usr/bin/make test':
PERL_DL_NONLAZY=1 "/usr/perl5.37.11p/bin/perl5.37.11" "-MExtUtils::Command::MM" "-MTest::Harness" "-e" "undef *Test::Harness::Switches; test_harness(0, 'blib/lib', 'blib/arch')" t/*.t
Smartmatch is deprecated at /usr/home/cpansand/.cpan/build/2023053100/Org-Parser-0.558-0/blib/lib/Org/Document.pm line 271.
Smartmatch is deprecated at /usr/home/cpansand/.cpan/build/2023053100/Org-Parser-0.558-0/blib/lib/Org/Document.pm line 408.
Smartmatch is deprecated at /usr/home/cpansand/.cpan/build/2023053100/Org-Parser-0.558-0/blib/lib/Org/Element/Block.pm line 30.
Smartmatch is deprecated at /usr/home/cpansand/.cpan/build/2023053100/Org-Parser-0.558-0/blib/lib/Org/Element/Drawer.pm line 26.
Smartmatch is deprecated at /usr/home/cpansand/.cpan/build/2023053100/Org-Parser-0.558-0/blib/lib/Org/Element/Headline.pm line 63.
Smartmatch is deprecated at /usr/home/cpansand/.cpan/build/2023053100/Org-Parser-0.558-0/blib/lib/Org/Element/Headline.pm line 69.
Smartmatch is deprecated at /usr/home/cpansand/.cpan/build/2023053100/Org-Parser-0.558-0/blib/lib/Org/Element/Setting.pm line 129.
Smartmatch is deprecated at /usr/home/cpansand/.cpan/build/2023053100/Org-Parser-0.558-0/blib/lib/Org/Element/Setting.pm line 140.
Smartmatch is deprecated at /usr/home/cpansand/.cpan/build/2023053100/Org-Parser-0.558-0/blib/lib/Org/Element/Setting.pm line 163.
Smartmatch is deprecated at /usr/home/cpansand/.cpan/build/2023053100/Org-Parser-0.558-0/blib/lib/Org/Element/Setting.pm line 168.
Smartmatch is deprecated at /usr/home/cpansand/.cpan/build/2023053100/Org-Parser-0.558-0/blib/lib/Org/Document.pm line 271.
Smartmatch is deprecated at /usr/home/cpansand/.cpan/build/2023053100/Org-Parser-0.558-0/blib/lib/Org/Document.pm line 408.
t/00-compile.t ............... ok
Smartmatch is deprecated at /usr/home/cpansand/.cpan/build/2023053100/Org-Parser-0.558-0/blib/lib/Org/Document.pm line 271.
Smartmatch is deprecated at /usr/home/cpansand/.cpan/build/2023053100/Org-Parser-0.558-0/blib/lib/Org/Document.pm line 408.
Smartmatch is deprecated at /usr/home/cpansand/.cpan/build/2023053100/Org-Parser-0.558-0/blib/lib/Org/Element/Setting.pm line 129.
Smartmatch is deprecated at /usr/home/cpansand/.cpan/build/2023053100/Org-Parser-0.558-0/blib/lib/Org/Element/Setting.pm line 140.
Smartmatch is deprecated at /usr/home/cpansand/.cpan/build/2023053100/Org-Parser-0.558-0/blib/lib/Org/Element/Setting.pm line 163.
Smartmatch is deprecated at /usr/home/cpansand/.cpan/build/2023053100/Org-Parser-0.558-0/blib/lib/Org/Element/Setting.pm line 168.
Smartmatch is deprecated at /usr/home/cpansand/.cpan/build/2023053100/Org-Parser-0.558-0/blib/lib/Org/Element/Headline.pm line 63.
Smartmatch is deprecated at /usr/home/cpansand/.cpan/build/2023053100/Org-Parser-0.558-0/blib/lib/Org/Element/Headline.pm line 69.
Smartmatch is deprecated at /usr/home/cpansand/.cpan/build/2023053100/Org-Parser-0.558-0/blib/lib/Org/Element/Drawer.pm line 26.
Smartmatch is deprecated at /usr/home/cpansand/.cpan/build/2023053100/Org-Parser-0.558-0/blib/lib/Org/Element/Block.pm line 30.
t/01-basics.t ................ ok
t/author-critic.t ............ skipped: these tests are for testing by the author
t/author-pod-coverage.t ...... skipped: these tests are for testing by the author
t/author-pod-syntax.t ........ skipped: these tests are for testing by the author
Smartmatch is deprecated at /usr/home/cpansand/.cpan/build/2023053100/Org-Parser-0.558-0/blib/lib/Org/Document.pm line 271.
Smartmatch is deprecated at /usr/home/cpansand/.cpan/build/2023053100/Org-Parser-0.558-0/blib/lib/Org/Document.pm line 408.
Smartmatch is deprecated at /usr/home/cpansand/.cpan/build/2023053100/Org-Parser-0.558-0/blib/lib/Org/Element/Headline.pm line 63.
Smartmatch is deprecated at /usr/home/cpansand/.cpan/build/2023053100/Org-Parser-0.558-0/blib/lib/Org/Element/Headline.pm line 69.
Smartmatch is deprecated at /usr/home/cpansand/.cpan/build/2023053100/Org-Parser-0.558-0/blib/lib/Org/Element/Drawer.pm line 26.
t/base_element-field_name.t .. ok
Smartmatch is deprecated at /usr/home/cpansand/.cpan/build/2023053100/Org-Parser-0.558-0/blib/lib/Org/Document.pm line 271.
Smartmatch is deprecated at /usr/home/cpansand/.cpan/build/2023053100/Org-Parser-0.558-0/blib/lib/Org/Document.pm line 408.
Smartmatch is deprecated at /usr/home/cpansand/.cpan/build/2023053100/Org-Parser-0.558-0/blib/lib/Org/Element/Headline.pm line 63.
Smartmatch is deprecated at /usr/home/cpansand/.cpan/build/2023053100/Org-Parser-0.558-0/blib/lib/Org/Element/Headline.pm line 69.
t/base_element.t ............. ok
Smartmatch is deprecated at /usr/home/cpansand/.cpan/build/2023053100/Org-Parser-0.558-0/blib/lib/Org/Document.pm line 271.
Smartmatch is deprecated at /usr/home/cpansand/.cpan/build/2023053100/Org-Parser-0.558-0/blib/lib/Org/Document.pm line 408.
Smartmatch is deprecated at /usr/home/cpansand/.cpan/build/2023053100/Org-Parser-0.558-0/blib/lib/Org/Element/Block.pm line 30.
t/block.t .................... ok
Smartmatch is deprecated at /usr/home/cpansand/.cpan/build/2023053100/Org-Parser-0.558-0/blib/lib/Org/Document.pm line 271.
Smartmatch is deprecated at /usr/home/cpansand/.cpan/build/2023053100/Org-Parser-0.558-0/blib/lib/Org/Document.pm line 408.
t/comment.t .................. ok
Smartmatch is deprecated at /usr/home/cpansand/.cpan/build/2023053100/Org-Parser-0.558-0/blib/lib/Org/Document.pm line 271.
Smartmatch is deprecated at /usr/home/cpansand/.cpan/build/2023053100/Org-Parser-0.558-0/blib/lib/Org/Document.pm line 408.
Smartmatch is deprecated at /usr/home/cpansand/.cpan/build/2023053100/Org-Parser-0.558-0/blib/lib/Org/Element/Setting.pm line 129.
Smartmatch is deprecated at /usr/home/cpansand/.cpan/build/2023053100/Org-Parser-0.558-0/blib/lib/Org/Element/Setting.pm line 140.
Smartmatch is deprecated at /usr/home/cpansand/.cpan/build/2023053100/Org-Parser-0.558-0/blib/lib/Org/Element/Setting.pm line 163.
Smartmatch is deprecated at /usr/home/cpansand/.cpan/build/2023053100/Org-Parser-0.558-0/blib/lib/Org/Element/Setting.pm line 168.
Smartmatch is deprecated at /usr/home/cpansand/.cpan/build/2023053100/Org-Parser-0.558-0/blib/lib/Org/Element/Drawer.pm line 26.
Smartmatch is deprecated at /usr/home/cpansand/.cpan/build/2023053100/Org-Parser-0.558-0/blib/lib/Org/Element/Headline.pm line 63.
Smartmatch is deprecated at /usr/home/cpansand/.cpan/build/2023053100/Org-Parser-0.558-0/blib/lib/Org/Element/Headline.pm line 69.
Smartmatch is deprecated at /usr/home/cpansand/.cpan/build/2023053100/Org-Parser-0.558-0/blib/lib/Org/Element/Block.pm line 30.
t/document.t ................. ok
Smartmatch is deprecated at /usr/home/cpansand/.cpan/build/2023053100/Org-Parser-0.558-0/blib/lib/Org/Document.pm line 271.
Smartmatch is deprecated at /usr/home/cpansand/.cpan/build/2023053100/Org-Parser-0.558-0/blib/lib/Org/Document.pm line 408.
Smartmatch is deprecated at /usr/home/cpansand/.cpan/build/2023053100/Org-Parser-0.558-0/blib/lib/Org/Element/Headline.pm line 63.
Smartmatch is deprecated at /usr/home/cpansand/.cpan/build/2023053100/Org-Parser-0.558-0/blib/lib/Org/Element/Headline.pm line 69.
Smartmatch is deprecated at /usr/home/cpansand/.cpan/build/2023053100/Org-Parser-0.558-0/blib/lib/Org/Element/Drawer.pm line 26.
t/drawer.t ................... ok
Smartmatch is deprecated at /usr/home/cpansand/.cpan/build/2023053100/Org-Parser-0.558-0/blib/lib/Org/Document.pm line 271.
Smartmatch is deprecated at /usr/home/cpansand/.cpan/build/2023053100/Org-Parser-0.558-0/blib/lib/Org/Document.pm line 408.
t/fixed_width_section.t ...... ok
Smartmatch is deprecated at /usr/home/cpansand/.cpan/build/2023053100/Org-Parser-0.558-0/blib/lib/Org/Document.pm line 271.
Smartmatch is deprecated at /usr/home/cpansand/.cpan/build/2023053100/Org-Parser-0.558-0/blib/lib/Org/Document.pm line 408.
t/footnote.t ................. ok
Smartmatch is deprecated at /usr/home/cpansand/.cpan/build/2023053100/Org-Parser-0.558-0/blib/lib/Org/Document.pm line 271.
Smartmatch is deprecated at /usr/home/cpansand/.cpan/build/2023053100/Org-Parser-0.558-0/blib/lib/Org/Document.pm line 408.
Smartmatch is deprecated at /usr/home/cpansand/.cpan/build/2023053100/Org-Parser-0.558-0/blib/lib/Org/Element/Setting.pm line 129.
Smartmatch is deprecated at /usr/home/cpansand/.cpan/build/2023053100/Org-Parser-0.558-0/blib/lib/Org/Element/Setting.pm line 140.
Smartmatch is deprecated at /usr/home/cpansand/.cpan/build/2023053100/Org-Parser-0.558-0/blib/lib/Org/Element/Setting.pm line 163.
Smartmatch is deprecated at /usr/home/cpansand/.cpan/build/2023053100/Org-Parser-0.558-0/blib/lib/Org/Element/Setting.pm line 168.
Smartmatch is deprecated at /usr/home/cpansand/.cpan/build/2023053100/Org-Parser-0.558-0/blib/lib/Org/Element/Headline.pm line 63.
Smartmatch is deprecated at /usr/home/cpansand/.cpan/build/2023053100/Org-Parser-0.558-0/blib/lib/Org/Element/Headline.pm line 69.
Smartmatch is deprecated at /usr/home/cpansand/.cpan/build/2023053100/Org-Parser-0.558-0/blib/lib/Org/Element/Drawer.pm line 26.
t/headline-get_property.t .... ok
Smartmatch is deprecated at /usr/home/cpansand/.cpan/build/2023053100/Org-Parser-0.558-0/blib/lib/Org/Document.pm line 271.
Smartmatch is deprecated at /usr/home/cpansand/.cpan/build/2023053100/Org-Parser-0.558-0/blib/lib/Org/Document.pm line 408.
Smartmatch is deprecated at /usr/home/cpansand/.cpan/build/2023053100/Org-Parser-0.558-0/blib/lib/Org/Element/Headline.pm line 63.
Smartmatch is deprecated at /usr/home/cpansand/.cpan/build/2023053100/Org-Parser-0.558-0/blib/lib/Org/Element/Headline.pm line 69.
Smartmatch is deprecated at /usr/home/cpansand/.cpan/build/2023053100/Org-Parser-0.558-0/blib/lib/Org/Element/Setting.pm line 129.
Smartmatch is deprecated at /usr/home/cpansand/.cpan/build/2023053100/Org-Parser-0.558-0/blib/lib/Org/Element/Setting.pm line 140.
Smartmatch is deprecated at /usr/home/cpansand/.cpan/build/2023053100/Org-Parser-0.558-0/blib/lib/Org/Element/Setting.pm line 163.
Smartmatch is deprecated at /usr/home/cpansand/.cpan/build/2023053100/Org-Parser-0.558-0/blib/lib/Org/Element/Setting.pm line 168.
t/headline.t ................. ok
Smartmatch is deprecated at /usr/home/cpansand/.cpan/build/2023053100/Org-Parser-0.558-0/blib/lib/Org/Document.pm line 271.
Smartmatch is deprecated at /usr/home/cpansand/.cpan/build/2023053100/Org-Parser-0.558-0/blib/lib/Org/Document.pm line 408.
t/link_and_target.t .......... ok
Smartmatch is deprecated at /usr/home/cpansand/.cpan/build/2023053100/Org-Parser-0.558-0/blib/lib/Org/Document.pm line 271.
Smartmatch is deprecated at /usr/home/cpansand/.cpan/build/2023053100/Org-Parser-0.558-0/blib/lib/Org/Document.pm line 408.
Smartmatch is deprecated at /usr/home/cpansand/.cpan/build/2023053100/Org-Parser-0.558-0/blib/lib/Org/Element/Setting.pm line 129.
Smartmatch is deprecated at /usr/home/cpansand/.cpan/build/2023053100/Org-Parser-0.558-0/blib/lib/Org/Element/Setting.pm line 140.
Smartmatch is deprecated at /usr/home/cpansand/.cpan/build/2023053100/Org-Parser-0.558-0/blib/lib/Org/Element/Setting.pm line 163.
Smartmatch is deprecated at /usr/home/cpansand/.cpan/build/2023053100/Org-Parser-0.558-0/blib/lib/Org/Element/Setting.pm line 168.
Smartmatch is deprecated at /usr/home/cpansand/.cpan/build/2023053100/Org-Parser-0.558-0/blib/lib/Org/Element/Headline.pm line 63.
Smartmatch is deprecated at /usr/home/cpansand/.cpan/build/2023053100/Org-Parser-0.558-0/blib/lib/Org/Element/Headline.pm line 69.
Smartmatch is deprecated at /usr/home/cpansand/.cpan/build/2023053100/Org-Parser-0.558-0/blib/lib/Org/Element/Drawer.pm line 26.
t/list.t ..................... ok
Smartmatch is deprecated at /usr/home/cpansand/.cpan/build/2023053100/Org-Parser-0.558-0/blib/lib/Org/Document.pm line 271.
Smartmatch is deprecated at /usr/home/cpansand/.cpan/build/2023053100/Org-Parser-0.558-0/blib/lib/Org/Document.pm line 408.
t/radio_target.t ............. ok
Smartmatch is deprecated at /usr/home/cpansand/.cpan/build/2023053100/Org-Parser-0.558-0/blib/lib/Org/Document.pm line 271.
Smartmatch is deprecated at /usr/home/cpansand/.cpan/build/2023053100/Org-Parser-0.558-0/blib/lib/Org/Document.pm line 408.
Smartmatch is deprecated at /usr/home/cpansand/.cpan/build/2023053100/Org-Parser-0.558-0/blib/lib/Org/Element/Headline.pm line 63.
Smartmatch is deprecated at /usr/home/cpansand/.cpan/build/2023053100/Org-Parser-0.558-0/blib/lib/Org/Element/Headline.pm line 69.
t/regression-rt68443.t ....... ok
Smartmatch is deprecated at /usr/home/cpansand/.cpan/build/2023053100/Org-Parser-0.558-0/blib/lib/Org/Document.pm line 271.
Smartmatch is deprecated at /usr/home/cpansand/.cpan/build/2023053100/Org-Parser-0.558-0/blib/lib/Org/Document.pm line 408.
Smartmatch is deprecated at /usr/home/cpansand/.cpan/build/2023053100/Org-Parser-0.558-0/blib/lib/Org/Element/Setting.pm line 129.
Smartmatch is deprecated at /usr/home/cpansand/.cpan/build/2023053100/Org-Parser-0.558-0/blib/lib/Org/Element/Setting.pm line 140.
Smartmatch is deprecated at /usr/home/cpansand/.cpan/build/2023053100/Org-Parser-0.558-0/blib/lib/Org/Element/Setting.pm line 163.
Smartmatch is deprecated at /usr/home/cpansand/.cpan/build/2023053100/Org-Parser-0.558-0/blib/lib/Org/Element/Setting.pm line 168.
Smartmatch is deprecated at /usr/home/cpansand/.cpan/build/2023053100/Org-Parser-0.558-0/blib/lib/Org/Element/Headline.pm line 63.
Smartmatch is deprecated at /usr/home/cpansand/.cpan/build/2023053100/Org-Parser-0.558-0/blib/lib/Org/Element/Headline.pm line 69.
t/rt98375.t .................. ok
Smartmatch is deprecated at /usr/home/cpansand/.cpan/build/2023053100/Org-Parser-0.558-0/blib/lib/Org/Document.pm line 271.
Smartmatch is deprecated at /usr/home/cpansand/.cpan/build/2023053100/Org-Parser-0.558-0/blib/lib/Org/Document.pm line 408.
Smartmatch is deprecated at /usr/home/cpansand/.cpan/build/2023053100/Org-Parser-0.558-0/blib/lib/Org/Element/Setting.pm line 129.
Smartmatch is deprecated at /usr/home/cpansand/.cpan/build/2023053100/Org-Parser-0.558-0/blib/lib/Org/Element/Setting.pm line 140.
Smartmatch is deprecated at /usr/home/cpansand/.cpan/build/2023053100/Org-Parser-0.558-0/blib/lib/Org/Element/Setting.pm line 163.
Smartmatch is deprecated at /usr/home/cpansand/.cpan/build/2023053100/Org-Parser-0.558-0/blib/lib/Org/Element/Setting.pm line 168.
Smartmatch is deprecated at /usr/home/cpansand/.cpan/build/2023053100/Org-Parser-0.558-0/blib/lib/Org/Element/Headline.pm line 63.
Smartmatch is deprecated at /usr/home/cpansand/.cpan/build/2023053100/Org-Parser-0.558-0/blib/lib/Org/Element/Headline.pm line 69.
t/setting-todo.t ............. ok
Smartmatch is deprecated at /usr/home/cpansand/.cpan/build/2023053100/Org-Parser-0.558-0/blib/lib/Org/Document.pm line 271.
Smartmatch is deprecated at /usr/home/cpansand/.cpan/build/2023053100/Org-Parser-0.558-0/blib/lib/Org/Document.pm line 408.
Smartmatch is deprecated at t/setting.t line 108.
Smartmatch is deprecated at t/setting.t line 110.
Smartmatch is deprecated at t/setting.t line 112.
Smartmatch is deprecated at /usr/home/cpansand/.cpan/build/2023053100/Org-Parser-0.558-0/blib/lib/Org/Element/Setting.pm line 129.
Smartmatch is deprecated at /usr/home/cpansand/.cpan/build/2023053100/Org-Parser-0.558-0/blib/lib/Org/Element/Setting.pm line 140.
Smartmatch is deprecated at /usr/home/cpansand/.cpan/build/2023053100/Org-Parser-0.558-0/blib/lib/Org/Element/Setting.pm line 163.
Smartmatch is deprecated at /usr/home/cpansand/.cpan/build/2023053100/Org-Parser-0.558-0/blib/lib/Org/Element/Setting.pm line 168.
t/setting.t .................. ok
Smartmatch is deprecated at /usr/home/cpansand/.cpan/build/2023053100/Org-Parser-0.558-0/blib/lib/Org/Document.pm line 271.
Smartmatch is deprecated at /usr/home/cpansand/.cpan/build/2023053100/Org-Parser-0.558-0/blib/lib/Org/Document.pm line 408.
Smartmatch is deprecated at /usr/home/cpansand/.cpan/build/2023053100/Org-Parser-0.558-0/blib/lib/Org/Element/Setting.pm line 129.
Smartmatch is deprecated at /usr/home/cpansand/.cpan/build/2023053100/Org-Parser-0.558-0/blib/lib/Org/Element/Setting.pm line 140.
Smartmatch is deprecated at /usr/home/cpansand/.cpan/build/2023053100/Org-Parser-0.558-0/blib/lib/Org/Element/Setting.pm line 163.
Smartmatch is deprecated at /usr/home/cpansand/.cpan/build/2023053100/Org-Parser-0.558-0/blib/lib/Org/Element/Setting.pm line 168.
t/table.t .................... ok
Smartmatch is deprecated at /usr/home/cpansand/.cpan/build/2023053100/Org-Parser-0.558-0/blib/lib/Org/Document.pm line 271.
Smartmatch is deprecated at /usr/home/cpansand/.cpan/build/2023053100/Org-Parser-0.558-0/blib/lib/Org/Document.pm line 408.
Smartmatch is deprecated at /usr/home/cpansand/.cpan/build/2023053100/Org-Parser-0.558-0/blib/lib/Org/Element/Headline.pm line 63.
Smartmatch is deprecated at /usr/home/cpansand/.cpan/build/2023053100/Org-Parser-0.558-0/blib/lib/Org/Element/Headline.pm line 69.
t/text.t ..................... ok
Smartmatch is deprecated at /usr/home/cpansand/.cpan/build/2023053100/Org-Parser-0.558-0/blib/lib/Org/Document.pm line 271.
Smartmatch is deprecated at /usr/home/cpansand/.cpan/build/2023053100/Org-Parser-0.558-0/blib/lib/Org/Document.pm line 408.
Smartmatch is deprecated at /usr/home/cpansand/.cpan/build/2023053100/Org-Parser-0.558-0/blib/lib/Org/Element/Headline.pm line 63.
Smartmatch is deprecated at /usr/home/cpansand/.cpan/build/2023053100/Org-Parser-0.558-0/blib/lib/Org/Element/Headline.pm line 69.
t/timerange.t ................ ok
Smartmatch is deprecated at /usr/home/cpansand/.cpan/build/2023053100/Org-Parser-0.558-0/blib/lib/Org/Document.pm line 271.
Smartmatch is deprecated at /usr/home/cpansand/.cpan/build/2023053100/Org-Parser-0.558-0/blib/lib/Org/Document.pm line 408.
Smartmatch is deprecated at /usr/home/cpansand/.cpan/build/2023053100/Org-Parser-0.558-0/blib/lib/Org/Element/Headline.pm line 63.
Smartmatch is deprecated at /usr/home/cpansand/.cpan/build/2023053100/Org-Parser-0.558-0/blib/lib/Org/Element/Headline.pm line 69.
t/timestamp.t ................ ok
Smartmatch is deprecated at /usr/home/cpansand/.cpan/build/2023053100/Org-Parser-0.558-0/blib/lib/Org/Document.pm line 271.
Smartmatch is deprecated at /usr/home/cpansand/.cpan/build/2023053100/Org-Parser-0.558-0/blib/lib/Org/Document.pm line 408.
Smartmatch is deprecated at /usr/home/cpansand/.cpan/build/2023053100/Org-Parser-0.558-0/blib/lib/Org/Element/Headline.pm line 63.
Smartmatch is deprecated at /usr/home/cpansand/.cpan/build/2023053100/Org-Parser-0.558-0/blib/lib/Org/Element/Headline.pm line 69.
t/unicode.t .................. ok
Smartmatch is deprecated at /usr/home/cpansand/.cpan/build/2023053100/Org-Parser-0.558-0/blib/lib/Org/Document.pm line 271.
Smartmatch is deprecated at /usr/home/cpansand/.cpan/build/2023053100/Org-Parser-0.558-0/blib/lib/Org/Document.pm line 408.
Smartmatch is deprecated at /usr/home/cpansand/.cpan/build/2023053100/Org-Parser-0.558-0/blib/lib/Org/Element/Headline.pm line 63.
Smartmatch is deprecated at /usr/home/cpansand/.cpan/build/2023053100/Org-Parser-0.558-0/blib/lib/Org/Element/Headline.pm line 69.
Smartmatch is deprecated at /usr/home/cpansand/.cpan/build/2023053100/Org-Parser-0.558-0/blib/lib/Org/Element/Drawer.pm line 26.
t/various.t .................. ok
All tests successful.
Files=28, Tests=120, 11 wallclock secs ( 0.22 usr 0.05 sys + 5.80 cusr 1.56 csys = 7.63 CPU)
Result: PASS
------------------------------
PREREQUISITES
------------------------------
Prerequisite modules loaded:
requires:
Module Need Have
--------------------------- ------ --------
Cwd 0 3.89
DateTime 0 1.59
DateTime::Event::Recurrence 0 0.19
Digest::MD5 0 2.58
experimental 0 0.031
File::Slurper 0 0.014
if 0 0.0610
List::MoreUtils 0 0.430
locale 0 1.10
Log::ger 0.038 0.040
Module::List 0 0.004
Module::Load 0 0.36
Moo 0 2.005005
Moo::Role 0 2.005005
perl 5.014 5.037011
Scalar::Util 0 1.63
Storable 3.08 3.31
strict 0 1.12
Time::HiRes 0 1.9774
utf8 0 1.25
warnings 0 1.64
build_requires:
Module Need Have
--------------------------- ------ --------
ExtUtils::MakeMaker 0 7.70
File::Spec 0 3.88
File::Temp 0.2307 0.2311
FindBin 0 1.53
IO::Handle 0 1.51
IPC::Open3 0 1.22
lib 0 0.65
Module::Loaded 0 0.08
Org::Dump 0.551 0.552
Test::Exception 0 0.43
Test::More 0.98 1.302195
configure_requires:
Module Need Have
--------------------------- ------ --------
ExtUtils::MakeMaker 0 7.70
------------------------------
ENVIRONMENT AND OTHER CONTEXT
------------------------------
Environment variables:
PATH = /usr/local/bin:/usr/bin:/bin:/usr/local/sbin:/usr/sbin:/sbin:/home/cpansand/bin/sh:/home/cpansand/bin:/usr/games:/home/cpansand/devel:/usr/home/eserte/src/srezic-misc/scripts
PERL5LIB = /home/cpansand/.cpan/build/2023053100/Org-Dump-0.552-0/blib/arch:/home/cpansand/.cpan/build/2023053100/Org-Dump-0.552-0/blib/lib:/home/cpansand/.cpan/build/2023053100/String-Escape-2010.002-0/blib/arch:/home/cpansand/.cpan/build/2023053100/String-Escape-2010.002-0/blib/lib:/home/cpansand/.cpan/build/2023053100/DateTime-Event-Recurrence-0.19-0/blib/arch:/home/cpansand/.cpan/build/2023053100/DateTime-Event-Recurrence-0.19-0/blib/lib:/home/cpansand/.cpan/build/2023053100/Data-Sah-Filter-perl-Str-replace_dashes_with_underscores-0.004-0/blib/arch:/home/cpansand/.cpan/build/2023053100/Data-Sah-Filter-perl-Str-replace_dashes_with_underscores-0.004-0/blib/lib
PERL5OPT =
PERL5_CPANPLUS_IS_RUNNING = 46673
PERL5_CPAN_IS_RUNNING = 46673
PERL5_CPAN_IS_RUNNING_IN_RECURSION = 46632,46673
PERL_BATCH = yes
PERL_CANARY_STABILITY_NOPROMPT = 1
PERL_CPAN_REPORTER_CONFIG = /var/tmp/cpansmoker-1023/2023053100/cpanreporter_000_config.ini
PERL_EXTUTILS_AUTOINSTALL = --defaultdeps
PERL_USE_UNSAFE_INC = 1
SHELL = /bin/sh
TMPDIR = /var/tmp/cpansmoker-1023/2023053100
Perl special variables (and OS-specific diagnostics, for MSWin32):
$^X = /usr/perl5.37.11p/bin/perl5.37.11
$UID/$EUID = 1023 / 1023
$GID = 1023 1023
$EGID = 1023 1023
Perl module toolchain versions installed:
Module Have
------------------- --------
CPAN 2.36
CPAN::Meta 2.150010
Cwd 3.89
ExtUtils::CBuilder 0.280238
ExtUtils::Command 7.70
ExtUtils::Install 2.22
ExtUtils::MakeMaker 7.70
ExtUtils::Manifest 1.75
ExtUtils::ParseXS 3.50
File::Spec 3.88
JSON 4.10
JSON::PP 4.16
Module::Build 0.4234
Module::Signature n/a
Parse::CPAN::Meta 2.150010
Test2 1.302195
Test::Harness 3.44
Test::More 1.302195
YAML 1.30
YAML::Syck 1.34
version 0.9929
--
Summary of my perl5 (revision 5 version 37 subversion 11) configuration:
Platform:
osname=freebsd
osvers=12.4-stable
archname=amd64-freebsd
uname='freebsd cloud1.bbbike.org 12.4-stable freebsd 12.4-stable stable12-dffde5aa0 generic amd64 '
config_args='-ds -e -Dprefix=/usr/perl5.37.11p -Dusedevel -Dusemallocwrap=no -Dcf_email=srezic@cpan.org -Doptimize=-O2 -pipe'
hint=recommended
useposix=true
d_sigaction=define
useithreads=undef
usemultiplicity=undef
use64bitint=define
use64bitall=define
uselongdouble=undef
usemymalloc=n
default_inc_excludes_dot=define
Compiler:
cc='cc'
ccflags ='-DHAS_FPSETMASK -DHAS_FLOATINGPOINT_H -fno-strict-aliasing -pipe -fstack-protector-strong -I/usr/local/include'
optimize='-O2 -pipe'
cppflags='-DHAS_FPSETMASK -DHAS_FLOATINGPOINT_H -fno-strict-aliasing -pipe -fstack-protector-strong -I/usr/local/include'
ccversion=''
gccversion='FreeBSD Clang 13.0.0 (git@github.com:llvm/llvm-project.git llvmorg-13.0.0-0-gd7b669b3a303)'
gccosandvers=''
intsize=4
longsize=8
ptrsize=8
doublesize=8
byteorder=12345678
doublekind=3
d_longlong=define
longlongsize=8
d_longdbl=define
longdblsize=16
longdblkind=3
ivtype='long'
ivsize=8
nvtype='double'
nvsize=8
Off_t='off_t'
lseeksize=8
alignbytes=8
prototype=define
Linker and Libraries:
ld='cc'
ldflags ='-pthread -Wl,-E -fstack-protector-strong -L/usr/local/lib'
libpth=/usr/lib /usr/local/lib /usr/lib/clang/13.0.0/lib
libs=-lpthread -lgdbm -ldl -lm -lcrypt -lutil -lc
perllibs=-lpthread -ldl -lm -lcrypt -lutil -lc
libc=
so=so
useshrplib=false
libperl=libperl.a
gnulibc_version=''
Dynamic Linking:
dlsrc=dl_dlopen.xs
dlext=so
d_dlsymun=undef
ccdlflags=' '
cccdlflags='-DPIC -fPIC'
lddlflags='-shared -L/usr/local/lib -fstack-protector-strong'
Characteristics of this binary (from libperl):
Compile-time options:
HAS_LONG_DOUBLE
HAS_STRTOLD
HAS_TIMES
PERLIO_LAYERS
PERL_COPY_ON_WRITE
PERL_DONT_CREATE_GVSV
PERL_HASH_FUNC_SIPHASH13
PERL_HASH_USE_SBOX32
PERL_OP_PARENT
PERL_PRESERVE_IVUV
PERL_USE_DEVEL
PERL_USE_SAFE_PUTENV
USE_64_BIT_ALL
USE_64_BIT_INT
USE_LARGE_FILES
USE_LOCALE
USE_LOCALE_COLLATE
USE_LOCALE_CTYPE
USE_LOCALE_NUMERIC
USE_LOCALE_TIME
USE_PERLIO
USE_PERL_ATOF
Built under freebsd
Compiled at May 1 2023 18:35:37
%ENV:
PERL5LIB="/home/cpansand/.cpan/build/2023053100/Org-Dump-0.552-0/blib/arch:/home/cpansand/.cpan/build/2023053100/Org-Dump-0.552-0/blib/lib:/home/cpansand/.cpan/build/2023053100/String-Escape-2010.002-0/blib/arch:/home/cpansand/.cpan/build/2023053100/String-Escape-2010.002-0/blib/lib:/home/cpansand/.cpan/build/2023053100/DateTime-Event-Recurrence-0.19-0/blib/arch:/home/cpansand/.cpan/build/2023053100/DateTime-Event-Recurrence-0.19-0/blib/lib:/home/cpansand/.cpan/build/2023053100/Data-Sah-Filter-perl-Str-replace_dashes_with_underscores-0.004-0/blib/arch:/home/cpansand/.cpan/build/2023053100/Data-Sah-Filter-perl-Str-replace_dashes_with_underscores-0.004-0/blib/lib"
PERL5OPT=""
PERL5_CPANPLUS_IS_RUNNING="46673"
PERL5_CPAN_IS_RUNNING="46673"
PERL5_CPAN_IS_RUNNING_IN_RECURSION="46632,46673"
PERL_BATCH="yes"
PERL_CANARY_STABILITY_NOPROMPT="1"
PERL_CPAN_REPORTER_CONFIG="/var/tmp/cpansmoker-1023/2023053100/cpanreporter_000_config.ini"
PERL_EXTUTILS_AUTOINSTALL="--defaultdeps"
PERL_USE_UNSAFE_INC="1"
@INC:
/home/cpansand/.cpan/build/2023053100/Org-Dump-0.552-0/blib/arch
/home/cpansand/.cpan/build/2023053100/Org-Dump-0.552-0/blib/lib
/home/cpansand/.cpan/build/2023053100/String-Escape-2010.002-0/blib/arch
/home/cpansand/.cpan/build/2023053100/String-Escape-2010.002-0/blib/lib
/home/cpansand/.cpan/build/2023053100/DateTime-Event-Recurrence-0.19-0/blib/arch
/home/cpansand/.cpan/build/2023053100/DateTime-Event-Recurrence-0.19-0/blib/lib
/home/cpansand/.cpan/build/2023053100/Data-Sah-Filter-perl-Str-replace_dashes_with_underscores-0.004-0/blib/arch
/home/cpansand/.cpan/build/2023053100/Data-Sah-Filter-perl-Str-replace_dashes_with_underscores-0.004-0/blib/lib
/usr/perl5.37.11p/lib/site_perl/5.37.11/amd64-freebsd
/usr/perl5.37.11p/lib/site_perl/5.37.11
/usr/perl5.37.11p/lib/5.37.11/amd64-freebsd
/usr/perl5.37.11p/lib/5.37.11
.