Yancy v1.084 Perl 5 v5.24.2 amd64-freebsd
- Status
- Pass
- From
- Slaven Rezić
- Dist
-
Yancy v1.084
- Platform
- Perl 5 v5.24.2 amd64-freebsd
- Date
- 2021-11-03 17:33:25
- ID
- 266907ea-3ccc-11ec-87db-32391f24ea8f
This distribution has been tested as part of the CPAN Testers
project, supporting the Perl programming language. See
http://wiki.cpantesters.org/ for more information or email
questions to cpan-testers-discuss@perl.org
--
Dear Doug Bell,
This is a computer-generated report for Yancy-1.084
on perl 5.24.2, created by CPAN-Reporter-1.2018.
Thank you for uploading your work to CPAN. Congratulations!
All tests were successful.
Sections of this report:
* Tester comments
* Program output
* Prerequisites
* Environment and other context
------------------------------
TESTER COMMENTS
------------------------------
Additional comments from tester:
none provided
------------------------------
PROGRAM OUTPUT
------------------------------
Output from '/usr/bin/make test':
Skip blib/lib/auto/share/dist/Yancy/update_resources.sh (unchanged)
PERL_DL_NONLAZY=1 "/usr/perl5.24.2p/bin/perl5.24.2" "-MExtUtils::Command::MM" "-MTest::Harness" "-e" "undef *Test::Harness::Switches; test_harness(0, 'blib/lib', 'blib/arch')" t/*.t t/backend/*.t t/command/backend/*.t t/controller/*.t t/examples/*.t t/plugin/*.t t/plugin/auth/*.t t/plugin/form/*.t
t/00-compile.t ............... ok
#
# Versions for all modules listed in MYMETA.json (including optional ones):
#
# === Configure Requires ===
#
# Module Want Have
# ----------------------- ---- ----
# ExtUtils::MakeMaker any 7.58
# File::ShareDir::Install 0.06 0.13
#
# === Configure Suggests ===
#
# Module Want Have
# -------- ------- ----------
# JSON::PP 2.27300 2.27300_01
#
# === Build Requires ===
#
# Module Want Have
# ------------------- ---- ----
# ExtUtils::MakeMaker any 7.58
#
# === Test Requires ===
#
# Module Want Have
# ------------------- -------- --------
# ExtUtils::MakeMaker any 7.58
# File::Spec any 3.75
# File::Temp 0.2307 0.2311
# IO::Handle any 1.36
# IPC::Open3 any 1.20
# Test::More 1.001005 1.302140
#
# === Test Recommends ===
#
# Module Want Have
# ---------- -------- --------
# CPAN::Meta 2.120900 2.150010
#
# === Runtime Requires ===
#
# Module Want Have
# ---------------------------- -------- --------
# Class::Method::Modifiers any 2.12
# Digest any 1.17_01
# Exporter any 5.72
# File::Spec::Functions any 3.75
# FindBin any 1.51
# JSON::Validator 5.00 5.02
# Mojolicious 9 9.22
# Mojolicious::Plugin::I18N 1.6 1.6
# Mojolicious::Plugin::OpenAPI 5.00 5.00
# Role::Tiny 2.000001 2.000006
# Scalar::Util any 1.50
# Sys::Hostname any 1.20
# Text::Balanced any 2.03
#
t/00-report-prereqs.t ........ ok
x-view is deprecated and will be removed in v2. Use Yancy::Model or your database's CREATE VIEW instead. at /home/cpansand/.cpan/build/2021110318/Yancy-1.084-tt5eCs/blib/lib/Yancy/Model/Schema.pm line 283.
t/api.t ...................... ok
t/app.t ...................... ok
t/backend/dbic.t ............. skipped: DBIx::Class >= 0.082842 required for this test
t/backend/memory.t ........... ok
t/backend/mysql.t ............ skipped: Mojo::mysql >= 1.0 required for this test
t/backend/pg.t ............... skipped: Mojo::Pg >= 3.0 required for this test
t/backend/sqlite.t ........... skipped: DBD::SQLite >= 1.56 required for this test
x-view is deprecated and will be removed in v2. Use Yancy::Model or your database's CREATE VIEW instead. at /home/cpansand/.cpan/build/2021110318/Yancy-1.084-tt5eCs/blib/lib/Yancy/Model/Schema.pm line 283.
t/command/backend/copy.t ..... ok
x-view is deprecated and will be removed in v2. Use Yancy::Model or your database's CREATE VIEW instead. at /home/cpansand/.cpan/build/2021110318/Yancy-1.084-tt5eCs/blib/lib/Yancy/Model/Schema.pm line 283.
t/config.t ................... ok
x-view is deprecated and will be removed in v2. Use Yancy::Model or your database's CREATE VIEW instead. at /home/cpansand/.cpan/build/2021110318/Yancy-1.084-tt5eCs/blib/lib/Yancy/Model/Schema.pm line 283.
t/controller/multi_tenant.t .. ok
x-view is deprecated and will be removed in v2. Use Yancy::Model or your database's CREATE VIEW instead. at /home/cpansand/.cpan/build/2021110318/Yancy-1.084-tt5eCs/blib/lib/Yancy/Model/Schema.pm line 283.
t/controller/yancy.t ......... ok
t/examples/doc-site.t ........ skipped: Set TEST_YANCY_EXAMPLES to run these tests
t/examples/limited-editor.t .. skipped: Set TEST_YANCY_EXAMPLES to run these tests
t/examples/test-app.t ........ skipped: Set TEST_YANCY_EXAMPLES to run these tests
t/examples/todo-app.t ........ skipped: Set TEST_YANCY_EXAMPLES to run these tests
x-view is deprecated and will be removed in v2. Use Yancy::Model or your database's CREATE VIEW instead. at /home/cpansand/.cpan/build/2021110318/Yancy-1.084-tt5eCs/blib/lib/Yancy/Model/Schema.pm line 283.
[2021-11-03 18:31:29.92584] [3285] [fatal] [mVyDsFBkTQY8] Unknown filter: DOES.NOT.EXIST (schema: user, field: email) at /home/cpansand/.cpan/build/2021110318/Yancy-1.084-tt5eCs/blib/lib/Mojolicious/Plugin/Yancy.pm line 876.
t/filter.t ................... ok
x-view is deprecated and will be removed in v2. Use Yancy::Model or your database's CREATE VIEW instead. at /home/cpansand/.cpan/build/2021110318/Yancy-1.084-tt5eCs/blib/lib/Yancy/Model/Schema.pm line 283.
t/helpers.t .................. ok
x-view is deprecated and will be removed in v2. Use Yancy::Model or your database's CREATE VIEW instead. at /home/cpansand/.cpan/build/2021110318/Yancy-1.084-tt5eCs/blib/lib/Yancy/Model/Schema.pm line 283.
t/i18n.t ..................... ok
t/model.t .................... ok
x-view is deprecated and will be removed in v2. Use Yancy::Model or your database's CREATE VIEW instead. at /home/cpansand/.cpan/build/2021110318/Yancy-1.084-tt5eCs/blib/lib/Yancy/Model/Schema.pm line 283.
t/plugin/auth.t .............. ok
x-view is deprecated and will be removed in v2. Use Yancy::Model or your database's CREATE VIEW instead. at /home/cpansand/.cpan/build/2021110318/Yancy-1.084-tt5eCs/blib/lib/Yancy/Model/Schema.pm line 283.
The Auth::Basic plugin is deprecated and will be removed in Yancy v2.000. Please migrate to the Auth::Password module.
at /home/cpansand/.cpan/build/2021110318/Yancy-1.084-tt5eCs/blib/lib/Yancy/Plugin/Auth/Basic.pm line 256.
t/plugin/auth/basic.t ........ ok
x-view is deprecated and will be removed in v2. Use Yancy::Model or your database's CREATE VIEW instead. at /home/cpansand/.cpan/build/2021110318/Yancy-1.084-tt5eCs/blib/lib/Yancy/Model/Schema.pm line 283.
t/plugin/auth/github.t ....... ok
x-view is deprecated and will be removed in v2. Use Yancy::Model or your database's CREATE VIEW instead. at /home/cpansand/.cpan/build/2021110318/Yancy-1.084-tt5eCs/blib/lib/Yancy/Model/Schema.pm line 283.
t/plugin/auth/oauth2.t ....... ok
x-view is deprecated and will be removed in v2. Use Yancy::Model or your database's CREATE VIEW instead. at /home/cpansand/.cpan/build/2021110318/Yancy-1.084-tt5eCs/blib/lib/Yancy/Model/Schema.pm line 283.
t/plugin/auth/password.t ..... ok
x-view is deprecated and will be removed in v2. Use Yancy::Model or your database's CREATE VIEW instead. at /home/cpansand/.cpan/build/2021110318/Yancy-1.084-tt5eCs/blib/lib/Yancy/Model/Schema.pm line 283.
t/plugin/auth/token.t ........ ok
t/plugin/editor.t ............ ok
x-view is deprecated and will be removed in v2. Use Yancy::Model or your database's CREATE VIEW instead. at /home/cpansand/.cpan/build/2021110318/Yancy-1.084-tt5eCs/blib/lib/Yancy/Model/Schema.pm line 283.
[2021-11-03 18:31:40.76022] [3296] [warn] *** Cannot verify that admin editor is behind authentication.
Add a Yancy Auth plugin, add a `route` to the Yancy plugin config,
or set `editor.require_user => undef` to silence this warning
t/plugin/file.t .............. ok
x-view is deprecated and will be removed in v2. Use Yancy::Model or your database's CREATE VIEW instead. at /home/cpansand/.cpan/build/2021110318/Yancy-1.084-tt5eCs/blib/lib/Yancy/Model/Schema.pm line 283.
[2021-11-03 18:31:41.59384] [3297] [warn] [tYXwkJe3FIpf] form_for() called with incomplete request. CSRF token may not validate!
t/plugin/form/bootstrap4.t ... ok
x-view is deprecated and will be removed in v2. Use Yancy::Model or your database's CREATE VIEW instead. at /home/cpansand/.cpan/build/2021110318/Yancy-1.084-tt5eCs/blib/lib/Yancy/Model/Schema.pm line 283.
t/plugin/roles.t ............. ok
# Could not load SQLite backend: DBD::SQLite version 1.56 or higher required
# BEGIN failed--compilation aborted at /home/cpansand/.cpan/build/2021110318/Yancy-1.084-tt5eCs/blib/lib/Yancy/Backend/Sqlite.pm line 116.
# Compilation failed in require at t/register.t line 21.
# Could not load Pg backend: Mojo::Pg version 4.03 or higher required
# BEGIN failed--compilation aborted at /home/cpansand/.cpan/build/2021110318/Yancy-1.084-tt5eCs/blib/lib/Yancy/Backend/Pg.pm line 128.
# Compilation failed in require at t/register.t line 37.
# Could not load Mysql backend: Mojo::mysql version 1.05 or higher required
# BEGIN failed--compilation aborted at /home/cpansand/.cpan/build/2021110318/Yancy-1.084-tt5eCs/blib/lib/Yancy/Backend/Mysql.pm line 119.
# Compilation failed in require at t/register.t line 53.
t/register.t ................. ok
t/util.t ..................... ok
All tests successful.
Files=33, Tests=201, 43 wallclock secs ( 0.01 usr 0.61 sys + 15.39 cusr 21.09 csys = 37.09 CPU)
Result: PASS
------------------------------
PREREQUISITES
------------------------------
Prerequisite modules loaded:
requires:
Module Need Have
---------------------------- -------- --------
Class::Method::Modifiers 0 2.12
Digest 0 1.17_01
Exporter 0 5.72
File::Spec::Functions 0 3.75
FindBin 0 1.51
JSON::Validator 5.00 5.02
Mojolicious 9 9.22
Mojolicious::Plugin::I18N 1.6 1.6
Mojolicious::Plugin::OpenAPI 5.00 5.00
perl 5.016 5.024002
Role::Tiny 2.000001 2.000006
Scalar::Util 0 1.50
Sys::Hostname 0 1.20
Text::Balanced 0 2.03
build_requires:
Module Need Have
---------------------------- -------- --------
ExtUtils::MakeMaker 0 7.58
File::Spec 0 3.75
File::Temp 0.2307 0.2311
IO::Handle 0 1.36
IPC::Open3 0 1.20
Test::More 1.001005 1.302140
configure_requires:
Module Need Have
---------------------------- -------- --------
ExtUtils::MakeMaker 0 7.58
File::ShareDir::Install 0.06 0.13
------------------------------
ENVIRONMENT AND OTHER CONTEXT
------------------------------
Environment variables:
LC_ALL = de_DE.ISO8859-1
PATH = /usr/local/bin:/usr/bin:/bin:/usr/local/sbin:/usr/sbin:/sbin:/home/cpansand/bin/freebsd10.3:/home/cpansand/bin/sh:/home/cpansand/bin:/usr/games:/home/cpansand/devel:/home/eserte/src/srezic-misc/scripts
PERL5LIB = /home/cpansand/.cpan/build/2021110318/Mojolicious-Plugin-I18N-1.6-OnpSTm/blib/arch:/home/cpansand/.cpan/build/2021110318/Mojolicious-Plugin-I18N-1.6-OnpSTm/blib/lib:/home/cpansand/.cpan/build/2021110318/File-Temp-0.2311-LqGvVE/blib/arch:/home/cpansand/.cpan/build/2021110318/File-Temp-0.2311-LqGvVE/blib/lib:/home/cpansand/.cpan/build/2021110318/Mojolicious-Plugin-OpenAPI-5.00-jLxfKv/blib/arch:/home/cpansand/.cpan/build/2021110318/Mojolicious-Plugin-OpenAPI-5.00-jLxfKv/blib/lib:/home/cpansand/.cpan/build/2021110318/JSON-Validator-5.02-LilMnI/blib/arch:/home/cpansand/.cpan/build/2021110318/JSON-Validator-5.02-LilMnI/blib/lib:/home/cpansand/.cpan/build/2021110318/YAML-LibYAML-0.83-yFN3NH/blib/arch:/home/cpansand/.cpan/build/2021110318/YAML-LibYAML-0.83-yFN3NH/blib/lib:/home/cpansand/.cpan/build/2021110318/Mojolicious-9.22-71PjG9/blib/arch:/home/cpansand/.cpan/build/2021110318/Mojolicious-9.22-71PjG9/blib/lib
PERL5OPT =
PERL5_CPANPLUS_IS_RUNNING = 2142
PERL5_CPAN_IS_RUNNING = 2142
PERL5_CPAN_IS_RUNNING_IN_RECURSION = 2096,2142
PERLDOC = -MPod::Perldoc::ToTextOverstrike
PERL_BATCH = yes
PERL_CANARY_STABILITY_NOPROMPT = 1
PERL_CPAN_REPORTER_CONFIG = /var/tmp/cpansmoker-1023/2021110318/cpanreporter_000_config.ini
PERL_EXTUTILS_AUTOINSTALL = --defaultdeps
SHELL = /usr/local/bin/zsh
TERM = screen
TMPDIR = /var/tmp/cpansmoker-1023/2021110318
Perl special variables (and OS-specific diagnostics, for MSWin32):
$^X = /usr/perl5.24.2p/bin/perl5.24.2
$UID/$EUID = 1023 / 1023
$GID = 1023 1023
$EGID = 1023 1023
Perl module toolchain versions installed:
Module Have
------------------- ----------
CPAN 2.11_01
CPAN::Meta 2.150010
Cwd 3.75
ExtUtils::CBuilder 0.280225
ExtUtils::Command 7.58
ExtUtils::Install 2.06
ExtUtils::MakeMaker 7.58
ExtUtils::Manifest 1.71
ExtUtils::ParseXS 3.31
File::Spec 3.75
JSON 2.94
JSON::PP 2.27300_01
Module::Build 0.4224
Module::Signature n/a
Parse::CPAN::Meta 2.150010
Test::Harness 3.36_01
Test::More 1.302140
YAML 1.23
YAML::Syck 1.30
version 0.9924
--
Summary of my perl5 (revision 5 version 24 subversion 2) configuration:
Platform:
osname=freebsd, osvers=10.3-release-p11, archname=amd64-freebsd
uname='freebsd cvrsnica-freebsd-101.herceg.de 10.3-release-p11 freebsd 10.3-release-p11 #0: mon oct 24 18:49:24 utc 2016 root@amd64-builder.daemonology.net:usrobjusrsrcsysgeneric amd64 '
config_args='-ds -e -Dprefix=/usr/perl5.24.2p -Dcf_email=srezic@cpan.org -Doptimize=-O2 -pipe'
hint=recommended, useposix=true, d_sigaction=define
useithreads=undef, usemultiplicity=undef
use64bitint=define, use64bitall=define, uselongdouble=undef
usemymalloc=n, bincompat5005=undef
Compiler:
cc='cc', ccflags ='-DHAS_FPSETMASK -DHAS_FLOATINGPOINT_H -fno-strict-aliasing -pipe -fstack-protector -I/usr/local/include -D_FORTIFY_SOURCE=2',
optimize='-O2 -pipe',
cppflags='-DHAS_FPSETMASK -DHAS_FLOATINGPOINT_H -fno-strict-aliasing -pipe -fstack-protector -I/usr/local/include'
ccversion='', gccversion='4.2.1 Compatible FreeBSD Clang 3.4.1 (tags/RELEASE_34/dot1-final 208032)', gccosandvers=''
intsize=4, longsize=8, ptrsize=8, doublesize=8, byteorder=12345678, doublekind=3
d_longlong=define, longlongsize=8, d_longdbl=define, longdblsize=16, longdblkind=3
ivtype='long', ivsize=8, nvtype='double', nvsize=8, Off_t='off_t', lseeksize=8
alignbytes=8, prototype=define
Linker and Libraries:
ld='cc', ldflags ='-pthread -Wl,-E -fstack-protector -L/usr/local/lib'
libpth=/usr/lib /usr/local/lib /usr/include/clang/3.4.1 /usr/lib
libs=-lpthread -lgdbm -lm -lcrypt -lutil -lc
perllibs=-lpthread -lm -lcrypt -lutil -lc
libc=, so=so, useshrplib=false, libperl=libperl.a
gnulibc_version=''
Dynamic Linking:
dlsrc=dl_dlopen.xs, dlext=so, d_dlsymun=undef, ccdlflags=' '
cccdlflags='-DPIC -fPIC', lddlflags='-shared -L/usr/local/lib -fstack-protector'
Characteristics of this binary (from libperl):
Compile-time options: HAS_TIMES PERLIO_LAYERS PERL_COPY_ON_WRITE
PERL_DONT_CREATE_GVSV
PERL_HASH_FUNC_ONE_AT_A_TIME_HARD PERL_MALLOC_WRAP
PERL_PRESERVE_IVUV USE_64_BIT_ALL USE_64_BIT_INT
USE_LARGE_FILES USE_LOCALE USE_LOCALE_COLLATE
USE_LOCALE_CTYPE USE_LOCALE_NUMERIC USE_LOCALE_TIME
USE_PERLIO USE_PERL_ATOF
Built under freebsd
Compiled at Jul 29 2017 11:20:18
%ENV:
PERL5LIB="/home/cpansand/.cpan/build/2021110318/Mojolicious-Plugin-I18N-1.6-OnpSTm/blib/arch:/home/cpansand/.cpan/build/2021110318/Mojolicious-Plugin-I18N-1.6-OnpSTm/blib/lib:/home/cpansand/.cpan/build/2021110318/File-Temp-0.2311-LqGvVE/blib/arch:/home/cpansand/.cpan/build/2021110318/File-Temp-0.2311-LqGvVE/blib/lib:/home/cpansand/.cpan/build/2021110318/Mojolicious-Plugin-OpenAPI-5.00-jLxfKv/blib/arch:/home/cpansand/.cpan/build/2021110318/Mojolicious-Plugin-OpenAPI-5.00-jLxfKv/blib/lib:/home/cpansand/.cpan/build/2021110318/JSON-Validator-5.02-LilMnI/blib/arch:/home/cpansand/.cpan/build/2021110318/JSON-Validator-5.02-LilMnI/blib/lib:/home/cpansand/.cpan/build/2021110318/YAML-LibYAML-0.83-yFN3NH/blib/arch:/home/cpansand/.cpan/build/2021110318/YAML-LibYAML-0.83-yFN3NH/blib/lib:/home/cpansand/.cpan/build/2021110318/Mojolicious-9.22-71PjG9/blib/arch:/home/cpansand/.cpan/build/2021110318/Mojolicious-9.22-71PjG9/blib/lib"
PERL5OPT=""
PERL5_CPANPLUS_IS_RUNNING="2142"
PERL5_CPAN_IS_RUNNING="2142"
PERL5_CPAN_IS_RUNNING_IN_RECURSION="2096,2142"
PERLDOC="-MPod::Perldoc::ToTextOverstrike"
PERL_BATCH="yes"
PERL_CANARY_STABILITY_NOPROMPT="1"
PERL_CPAN_REPORTER_CONFIG="/var/tmp/cpansmoker-1023/2021110318/cpanreporter_000_config.ini"
PERL_EXTUTILS_AUTOINSTALL="--defaultdeps"
@INC:
/home/cpansand/.cpan/build/2021110318/Mojolicious-Plugin-I18N-1.6-OnpSTm/blib/arch
/home/cpansand/.cpan/build/2021110318/Mojolicious-Plugin-I18N-1.6-OnpSTm/blib/lib
/home/cpansand/.cpan/build/2021110318/File-Temp-0.2311-LqGvVE/blib/arch
/home/cpansand/.cpan/build/2021110318/File-Temp-0.2311-LqGvVE/blib/lib
/home/cpansand/.cpan/build/2021110318/Mojolicious-Plugin-OpenAPI-5.00-jLxfKv/blib/arch
/home/cpansand/.cpan/build/2021110318/Mojolicious-Plugin-OpenAPI-5.00-jLxfKv/blib/lib
/home/cpansand/.cpan/build/2021110318/JSON-Validator-5.02-LilMnI/blib/arch
/home/cpansand/.cpan/build/2021110318/JSON-Validator-5.02-LilMnI/blib/lib
/home/cpansand/.cpan/build/2021110318/YAML-LibYAML-0.83-yFN3NH/blib/arch
/home/cpansand/.cpan/build/2021110318/YAML-LibYAML-0.83-yFN3NH/blib/lib
/home/cpansand/.cpan/build/2021110318/Mojolicious-9.22-71PjG9/blib/arch
/home/cpansand/.cpan/build/2021110318/Mojolicious-9.22-71PjG9/blib/lib
/usr/perl5.24.2p/lib/site_perl/5.24.2/amd64-freebsd
/usr/perl5.24.2p/lib/site_perl/5.24.2
/usr/perl5.24.2p/lib/5.24.2/amd64-freebsd
/usr/perl5.24.2p/lib/5.24.2
.