Perl-Critic v1.152 Perl 5 v5.39.3 cygwin-thread-multi
- Status
- Pass
- From
- Ken Cotterill
- Dist
-
Perl-Critic v1.152
- Platform
- Perl 5 v5.39.3 cygwin-thread-multi
- Date
- 2024-03-20 02:36:01
- ID
- 262604aa-6faa-1014-ae01-eb4748e576eb
This distribution has been tested as part of the CPAN Testers
project, supporting the Perl programming language. See
http://wiki.cpantesters.org/ for more information or email
questions to cpan-testers-discuss@perl.org
--
Dear Andy Lester,
This is a computer-generated report for Perl-Critic-1.152
on perl 5.39.3, created by CPAN-Reporter-1.2019.
Thank you for uploading your work to CPAN. Congratulations!
All tests were successful.
Sections of this report:
* Tester comments
* Program output
* Prerequisites
* Environment and other context
------------------------------
TESTER COMMENTS
------------------------------
Additional comments from tester:
none provided
------------------------------
PROGRAM OUTPUT
------------------------------
Output from './Build test':
# Testing Perl::Critic 1.152 with PPI 1.277 under Perl 5.039003, /home/ken/perl5/perlbrew/perls/perl-5.39.3/bin/perl5.39.3
t/00_modules.t ................................ ok
t/00_versions.t ............................... ok
t/01_config.t ................................. ok
t/01_config_bad_perlcriticrc.t ................ ok
t/01_policy_config.t .......................... ok
t/02_policy.t ................................. ok
t/03_annotations.t ............................ ok
t/03_pragmas.t ................................ ok
t/04_options_processor.t ...................... ok
t/05_utils.t .................................. ok
t/05_utils_perl.t ............................. ok
t/05_utils_pod.t .............................. ok
t/05_utils_ppi.t .............................. ok
t/06_violation.t .............................. ok
t/07_command.t ................................ ok
t/07_perlcritic.t ............................. ok
t/08_document.t ............................... ok
t/09_theme.t .................................. ok
t/10_user_profile.t ........................... ok
t/11_policy_factory.t ......................... ok
t/12_policy_listing.t ......................... ok
t/12_theme_listing.t .......................... ok
t/13_bundled_policies.t ....................... ok
t/14_policy_parameter_behavior_boolean.t ...... ok
t/14_policy_parameter_behavior_enumeration.t .. ok
t/14_policy_parameter_behavior_integer.t ...... ok
t/14_policy_parameter_behavior_list_string.t .. ok
t/14_policy_parameter_behavior_string.t ....... ok
t/14_policy_parameters.t ...................... ok
t/15_statistics.t ............................. ok
t/16_roundtrip_defaults.t ..................... ok
t/20_policies.t ............................... skipped: Test::Perl::Critic required to test Perl::Critic itself
t/20_policy_pod_spelling.t .................... ok
t/20_policy_prohibit_evil_modules.t ........... ok
t/20_policy_prohibit_hard_tabs.t .............. ok
t/20_policy_prohibit_trailing_whitespace.t .... ok
t/20_policy_require_consistent_newlines.t ..... ok
t/20_policy_require_tidy_code.t ............... ok
t/92_memory_leaks.t ........................... skipped: Test::Memory::Cycle required to test memory leaks
t/gh-734.t .................................... ok
All tests successful.
Files=40, Tests=5395, 53 wallclock secs ( 0.25 usr 0.17 sys + 29.30 cusr 21.11 csys = 50.83 CPU)
Result: PASS
------------------------------
PREREQUISITES
------------------------------
Prerequisite modules loaded:
requires:
Module Need Have
------------------------- -------- --------
B::Keywords 1.23 1.26
Carp 0 1.54
charnames 0 1.50
Config::Tiny 2 2.30
English 0 1.11
Exception::Class 1.23 1.45
Exporter 5.63 5.77
File::Basename 0 2.86
File::Find 0 1.43
File::Path 0 2.18
File::Spec 0 3.90
File::Spec::Unix 0 3.91
File::Temp 0 0.2311
File::Which 0 1.27
Getopt::Long 0 2.54
List::SomeUtils 0.55 0.59
List::Util 0 1.63
Module::Pluggable 3.1 5.2
overload 0 1.37
parent 0 0.241
perl 5.010001 5.039003
Perl::Tidy 0 20230912
Pod::PlainText 0 2.07
Pod::Select 0 1.66
Pod::Spell 1 1.26
Pod::Usage 0 2.03
PPI 1.277 1.277
PPI::Document 1.277 1.277
PPI::Document::File 1.277 1.277
PPI::Node 1.277 1.277
PPI::Token::Quote::Single 1.277 1.277
PPI::Token::Whitespace 1.277 1.277
PPIx::QuoteLike 0 0.023
PPIx::Regexp 0.027 0.088
PPIx::Regexp::Util 0.068 0.088
PPIx::Utils::Traversal 0.003 0.003
Readonly 2 2.05
Scalar::Util 0 1.63
strict 0 1.13
String::Format 1.18 1.18
Term::ANSIColor 2.02 5.01
Test::Builder 0.92 1.302195
Text::ParseWords 3 3.31
version 0.77 0.9929
warnings 0 1.67
build_requires:
Module Need Have
------------------------- -------- --------
lib 0 0.65
Test::More 0 1.302195
configure_requires:
Module Need Have
------------------------- -------- --------
B::Keywords 1.23 1.26
base 0 2.27
Carp 0 1.54
English 0 1.11
Exporter 5.63 5.77
lib 0 0.65
List::SomeUtils 0.55 0.59
Module::Build 0.4204 0.4234
------------------------------
ENVIRONMENT AND OTHER CONTEXT
------------------------------
Environment variables:
ACTIVEPERL_CONFIG_SILENT = 1
COMSPEC = C:\WINDOWS\system32\cmd.exe
CPAN_AUTHOR_TEST = 1
CPAN_AUTHOR_TESTS_FOR__IAD_TKX = 1
LANG = en_AU.UTF-8
LC_ALL = en_AU.UTF-8
LC_COLLATE = en_AU.UTF-8
LC_CTYPE = en_AU.UTF-8
LC_MESSAGES = en_AU.UTF-8
LC_MONETARY = en_AU.UTF-8
LC_NUMERIC = en_AU.UTF-8
LC_TIME = en_AU.UTF-8
NUMBER_OF_PROCESSORS = 12
PATH = /home/ken/local/bin:/home/ken/perl5/perlbrew/bin:/home/ken/perl5/perlbrew/perls/perl-5.39.3/bin:/usr/local/bin:/usr/bin:/cygdrive/c/Program Files/NVIDIA GPU Computing Toolkit/CUDA/v11.4/bin:/cygdrive/c/Program Files/NVIDIA GPU Computing Toolkit/CUDA/v11.4/libnvvp:/cygdrive/c/Users/ken/local/opt/strawberry_perl/5_038_000/install/perl/site/bin:/cygdrive/c/Users/ken/local/opt/strawberry_perl/5_038_000/install/perl/bin:/cygdrive/c/Users/ken/local/opt/strawberry_perl/5_038_000/install/c/bin:/cygdrive/c/Program Files (x86)/Common Files/Oracle/Java/javapath:/cygdrive/c/Program Files (x86)/Intel/Intel(R) Management Engine Components/iCLS:/cygdrive/c/Program Files/Intel/Intel(R) Management Engine Components/iCLS:/cygdrive/c/Windows/system32:/cygdrive/c/Windows:/cygdrive/c/Windows/System32/Wbem:/cygdrive/c/Windows/System32/WindowsPowerShell/v1.0:/cygdrive/c/Windows/System32/OpenSSH:/cygdrive/c/Program Files/NVIDIA Corporation/NVIDIA NGX:/cygdrive/c/Program Files (x86)/OpenVPN/bin:/cygdrive/c/Program Files (x86)/Intel/Intel(R) Management Engine Components/DAL:/cygdrive/c/Program Files/Intel/Intel(R) Management Engine Components/DAL:/cygdrive/c/Program Files (x86)/Intel/Intel(R) Management Engine Components/IPT:/cygdrive/c/Program Files/Intel/Intel(R) Management Engine Components/IPT:/cygdrive/c/WINDOWS/system32:/cygdrive/c/WINDOWS:/cygdrive/c/WINDOWS/System32/Wbem:/cygdrive/c/WINDOWS/System32/WindowsPowerShell/v1.0:/cygdrive/c/WINDOWS/System32/OpenSSH:/cygdrive/c/Program Files (x86)/Universal Extractor:/cygdrive/c/Program Files (x86)/Universal Extractor/bin:/cygdrive/c/Program Files/Git/cmd:/cygdrive/c/Program Files (x86)/DArTtoolbox/bin:/cygdrive/c/Program Files/NVIDIA Corporation/Nsight Compute 2021.2.0:/cygdrive/c/Program Files (x86)/NVIDIA Corporation/PhysX/Common:/cygdrive/c/Program Files/NVIDIA Corporation/NVIDIA NvDLISR:/cygdrive/c/Program Files (x86)/Calibre2:/cygdrive/c/Users/ken/local/opt/strawberry_perl/5_038_000/install/c/bin:/cygdrive/c/Users/ken/local/opt/strawberry_perl/5_038_000/install/perl/site/bin:/cygdrive/c/Users/ken/local/opt/strawberry_perl/5_038_000/install/perl/bin:/cygdrive/c/Users/ken/AppData/Local/Microsoft/WindowsApps:/cygdrive/c/Users/ken/local/bin:/cygdrive/c/Program Files (x86)/Graphviz2.38/bin:/cygdrive/c/Users/ken/AppData/Local/Pandoc:/usr/lib/lapack:/home/ken/.rakubrew/bin
PERL5LIB =
PERL5OPT =
PERL5_CPANPLUS_IS_RUNNING = 2206
PERL5_CPAN_IS_RUNNING = 2206
PERLBREW_HOME = /home/ken/.perlbrew
PERLBREW_MANPATH = /home/ken/perl5/perlbrew/perls/perl-5.39.3/man
PERLBREW_PATH = /home/ken/perl5/perlbrew/bin:/home/ken/perl5/perlbrew/perls/perl-5.39.3/bin
PERLBREW_PERL = perl-5.39.3
PERLBREW_ROOT = /home/ken/perl5/perlbrew
PERLBREW_SHELLRC_VERSION = 0.86
PERLBREW_VERSION = 0.86
PERL_READLINE_NOWARN = 1
PERL_USE_UNSAFE_INC = 1
PROCESSOR_IDENTIFIER = Intel64 Family 6 Model 158 Stepping 10, GenuineIntel
SHELL = /bin/bash
TEMP = /tmp
TERM = xterm
Perl special variables (and OS-specific diagnostics, for MSWin32):
$^X = /home/ken/perl5/perlbrew/perls/perl-5.39.3/bin/perl5.39.3
$UID/$EUID = 197610 / 197610
$GID = 197121 197121 559 545 4 66049 11 15 113 4095 66048 262154 401408
$EGID = 197121 197121 559 545 4 66049 11 15 113 4095 66048 262154 401408
Perl module toolchain versions installed:
Module Have
------------------- --------
CPAN 2.36
CPAN::Meta 2.150010
Cwd 3.90
ExtUtils::CBuilder 0.280240
ExtUtils::Command 7.70
ExtUtils::Install 2.22
ExtUtils::MakeMaker 7.70
ExtUtils::Manifest 1.75
ExtUtils::ParseXS 3.51
File::Spec 3.90
JSON 4.10
JSON::PP 4.16
Module::Build 0.4234
Module::Signature n/a
Parse::CPAN::Meta 2.150010
Test2 1.302195
Test::Harness 3.47
Test::More 1.302195
YAML 1.30
YAML::Syck 1.34
version 0.9929
--
Summary of my perl5 (revision 5 version 39 subversion 3) configuration:
Platform:
osname=cygwin
osvers=3.4.9-1.x86_64
archname=cygwin-thread-multi
uname='cygwin_nt-10.0-19045 titan 3.4.9-1.x86_64 2023-09-06 11:19 utc x86_64 cygwin '
config_args='-de -Dprefix=/home/ken/perl5/perlbrew/perls/perl-5.39.3 -Dusedevel -Aeval:scriptdir=/home/ken/perl5/perlbrew/perls/perl-5.39.3/bin'
hint=recommended
useposix=true
d_sigaction=define
useithreads=define
usemultiplicity=define
use64bitint=define
use64bitall=define
uselongdouble=undef
usemymalloc=n
default_inc_excludes_dot=define
Compiler:
cc='gcc'
ccflags ='-U__STRICT_ANSI__ -D_GNU_SOURCE -fwrapv -fno-strict-aliasing -pipe -fstack-protector-strong -D_FORTIFY_SOURCE=2'
optimize='-O3'
cppflags='-U__STRICT_ANSI__ -D_GNU_SOURCE -fwrapv -fno-strict-aliasing -pipe -fstack-protector-strong'
ccversion=''
gccversion='11.4.0'
gccosandvers=''
intsize=4
longsize=8
ptrsize=8
doublesize=8
byteorder=12345678
doublekind=3
d_longlong=define
longlongsize=8
d_longdbl=define
longdblsize=16
longdblkind=3
ivtype='long'
ivsize=8
nvtype='double'
nvsize=8
Off_t='off_t'
lseeksize=8
alignbytes=8
prototype=define
Linker and Libraries:
ld='g++'
ldflags =' -Wl,--enable-auto-import -Wl,--export-all-symbols -Wl,--enable-auto-image-base -fstack-protector-strong -L/usr/local/lib'
libpth=/usr/lib /usr/lib/w32api /usr/local/lib /lib
libs=-lpthread -lgdbm -ldb -ldl -lcrypt -lgdbm_compat
perllibs=-lpthread -ldl -lcrypt
libc=/usr/lib/libcygwin.a
so=dll
useshrplib=true
libperl=cygperl5_39_3.dll
gnulibc_version=''
Dynamic Linking:
dlsrc=dl_dlopen.xs
dlext=dll
d_dlsymun=undef
ccdlflags=' '
cccdlflags=' '
lddlflags=' --shared -Wl,--enable-auto-import -Wl,--export-all-symbols -Wl,--enable-auto-image-base -L/usr/local/lib -fstack-protector-strong'
Characteristics of this binary (from libperl):
Compile-time options:
HAS_LONG_DOUBLE
HAS_STRTOLD
HAS_TIMES
MULTIPLICITY
PERLIO_LAYERS
PERL_COPY_ON_WRITE
PERL_DONT_CREATE_GVSV
PERL_HASH_FUNC_SIPHASH13
PERL_HASH_USE_SBOX32
PERL_MALLOC_WRAP
PERL_OP_PARENT
PERL_PRESERVE_IVUV
PERL_USE_DEVEL
PERL_USE_SAFE_PUTENV
USE_64_BIT_ALL
USE_64_BIT_INT
USE_ITHREADS
USE_LARGE_FILES
USE_LOCALE
USE_LOCALE_COLLATE
USE_LOCALE_CTYPE
USE_LOCALE_NUMERIC
USE_LOCALE_TIME
USE_PERLIO
USE_PERL_ATOF
USE_REENTRANT_API
Built under cygwin
Compiled at Oct 21 2023 07:10:02
%ENV:
PERL5LIB=""
PERL5OPT=""
PERL5_CPANPLUS_IS_RUNNING="2206"
PERL5_CPAN_IS_RUNNING="2206"
PERLBREW_HOME="/home/ken/.perlbrew"
PERLBREW_MANPATH="/home/ken/perl5/perlbrew/perls/perl-5.39.3/man"
PERLBREW_PATH="/home/ken/perl5/perlbrew/bin:/home/ken/perl5/perlbrew/perls/perl-5.39.3/bin"
PERLBREW_PERL="perl-5.39.3"
PERLBREW_ROOT="/home/ken/perl5/perlbrew"
PERLBREW_SHELLRC_VERSION="0.86"
PERLBREW_VERSION="0.86"
PERL_READLINE_NOWARN="1"
PERL_USE_UNSAFE_INC="1"
@INC:
/home/ken/perl5/perlbrew/perls/perl-5.39.3/lib/site_perl/5.39.3/cygwin-thread-multi
/home/ken/perl5/perlbrew/perls/perl-5.39.3/lib/site_perl/5.39.3
/home/ken/perl5/perlbrew/perls/perl-5.39.3/lib/5.39.3/cygwin-thread-multi
/home/ken/perl5/perlbrew/perls/perl-5.39.3/lib/5.39.3
.