Encode v3.17 Perl 5 v5.18.4 x86_64-linux-thread-multi
- Status
- Pass
- From
- Nigel Horne
- Dist
-
Encode v3.17
- Platform
- Perl 5 v5.18.4 x86_64-linux-thread-multi
- Date
- 2022-06-03 17:46:49
- ID
- 2511e354-e365-11ec-93ff-110cdae62c78
This distribution has been tested as part of the CPAN Testers
project, supporting the Perl programming language. See
http://wiki.cpantesters.org/ for more information or email
questions to cpan-testers-discuss@perl.org
--
Dear Dan Kogai,
This is a computer-generated report for Encode-3.17
on perl 5.18.4, created by CPAN-Reporter-1.2018.
Thank you for uploading your work to CPAN. Congratulations!
All tests were successful.
Sections of this report:
* Tester comments
* Program output
* Prerequisites
* Environment and other context
------------------------------
TESTER COMMENTS
------------------------------
Additional comments from tester:
this report is from an automated smoke testing program
and was not reviewed by a human for accuracy
------------------------------
PROGRAM OUTPUT
------------------------------
Output from '/usr/bin/make test':
"/home/njh/perl5/perlbrew/perls/perl-5.18.4-thread/bin/perl5.18.4" -MExtUtils::Command::MM -e 'cp_nonempty' -- Encode.bs blib/arch/auto/Encode/Encode.bs 644
make[1]: Entering directory '/tmp/user/1002/build/Encode-3.17-0/Byte'
"/home/njh/perl5/perlbrew/perls/perl-5.18.4-thread/bin/perl5.18.4" -MExtUtils::Command::MM -e 'cp_nonempty' -- Byte.bs ../blib/arch/auto/Encode/Byte/Byte.bs 644
make[1]: Leaving directory '/tmp/user/1002/build/Encode-3.17-0/Byte'
make[1]: Entering directory '/tmp/user/1002/build/Encode-3.17-0/CN'
"/home/njh/perl5/perlbrew/perls/perl-5.18.4-thread/bin/perl5.18.4" -MExtUtils::Command::MM -e 'cp_nonempty' -- CN.bs ../blib/arch/auto/Encode/CN/CN.bs 644
make[1]: Leaving directory '/tmp/user/1002/build/Encode-3.17-0/CN'
make[1]: Entering directory '/tmp/user/1002/build/Encode-3.17-0/EBCDIC'
"/home/njh/perl5/perlbrew/perls/perl-5.18.4-thread/bin/perl5.18.4" -MExtUtils::Command::MM -e 'cp_nonempty' -- EBCDIC.bs ../blib/arch/auto/Encode/EBCDIC/EBCDIC.bs 644
make[1]: Leaving directory '/tmp/user/1002/build/Encode-3.17-0/EBCDIC'
make[1]: Entering directory '/tmp/user/1002/build/Encode-3.17-0/JP'
"/home/njh/perl5/perlbrew/perls/perl-5.18.4-thread/bin/perl5.18.4" -MExtUtils::Command::MM -e 'cp_nonempty' -- JP.bs ../blib/arch/auto/Encode/JP/JP.bs 644
make[1]: Leaving directory '/tmp/user/1002/build/Encode-3.17-0/JP'
make[1]: Entering directory '/tmp/user/1002/build/Encode-3.17-0/KR'
"/home/njh/perl5/perlbrew/perls/perl-5.18.4-thread/bin/perl5.18.4" -MExtUtils::Command::MM -e 'cp_nonempty' -- KR.bs ../blib/arch/auto/Encode/KR/KR.bs 644
make[1]: Leaving directory '/tmp/user/1002/build/Encode-3.17-0/KR'
make[1]: Entering directory '/tmp/user/1002/build/Encode-3.17-0/Symbol'
"/home/njh/perl5/perlbrew/perls/perl-5.18.4-thread/bin/perl5.18.4" -MExtUtils::Command::MM -e 'cp_nonempty' -- Symbol.bs ../blib/arch/auto/Encode/Symbol/Symbol.bs 644
make[1]: Leaving directory '/tmp/user/1002/build/Encode-3.17-0/Symbol'
make[1]: Entering directory '/tmp/user/1002/build/Encode-3.17-0/TW'
"/home/njh/perl5/perlbrew/perls/perl-5.18.4-thread/bin/perl5.18.4" -MExtUtils::Command::MM -e 'cp_nonempty' -- TW.bs ../blib/arch/auto/Encode/TW/TW.bs 644
make[1]: Leaving directory '/tmp/user/1002/build/Encode-3.17-0/TW'
make[1]: Entering directory '/tmp/user/1002/build/Encode-3.17-0/Unicode'
"/home/njh/perl5/perlbrew/perls/perl-5.18.4-thread/bin/perl5.18.4" -MExtUtils::Command::MM -e 'cp_nonempty' -- Unicode.bs ../blib/arch/auto/Encode/Unicode/Unicode.bs 644
make[1]: Leaving directory '/tmp/user/1002/build/Encode-3.17-0/Unicode'
make[1]: Entering directory '/tmp/user/1002/build/Encode-3.17-0/Byte'
"/home/njh/perl5/perlbrew/perls/perl-5.18.4-thread/bin/perl5.18.4" -MExtUtils::Command::MM -e 'cp_nonempty' -- Byte.bs ../blib/arch/auto/Encode/Byte/Byte.bs 644
No tests defined for Encode::Byte extension.
make[1]: Leaving directory '/tmp/user/1002/build/Encode-3.17-0/Byte'
make[1]: Entering directory '/tmp/user/1002/build/Encode-3.17-0/CN'
"/home/njh/perl5/perlbrew/perls/perl-5.18.4-thread/bin/perl5.18.4" -MExtUtils::Command::MM -e 'cp_nonempty' -- CN.bs ../blib/arch/auto/Encode/CN/CN.bs 644
No tests defined for Encode::CN extension.
make[1]: Leaving directory '/tmp/user/1002/build/Encode-3.17-0/CN'
make[1]: Entering directory '/tmp/user/1002/build/Encode-3.17-0/EBCDIC'
"/home/njh/perl5/perlbrew/perls/perl-5.18.4-thread/bin/perl5.18.4" -MExtUtils::Command::MM -e 'cp_nonempty' -- EBCDIC.bs ../blib/arch/auto/Encode/EBCDIC/EBCDIC.bs 644
No tests defined for Encode::EBCDIC extension.
make[1]: Leaving directory '/tmp/user/1002/build/Encode-3.17-0/EBCDIC'
make[1]: Entering directory '/tmp/user/1002/build/Encode-3.17-0/JP'
"/home/njh/perl5/perlbrew/perls/perl-5.18.4-thread/bin/perl5.18.4" -MExtUtils::Command::MM -e 'cp_nonempty' -- JP.bs ../blib/arch/auto/Encode/JP/JP.bs 644
No tests defined for Encode::JP extension.
make[1]: Leaving directory '/tmp/user/1002/build/Encode-3.17-0/JP'
make[1]: Entering directory '/tmp/user/1002/build/Encode-3.17-0/KR'
"/home/njh/perl5/perlbrew/perls/perl-5.18.4-thread/bin/perl5.18.4" -MExtUtils::Command::MM -e 'cp_nonempty' -- KR.bs ../blib/arch/auto/Encode/KR/KR.bs 644
No tests defined for Encode::KR extension.
make[1]: Leaving directory '/tmp/user/1002/build/Encode-3.17-0/KR'
make[1]: Entering directory '/tmp/user/1002/build/Encode-3.17-0/Symbol'
"/home/njh/perl5/perlbrew/perls/perl-5.18.4-thread/bin/perl5.18.4" -MExtUtils::Command::MM -e 'cp_nonempty' -- Symbol.bs ../blib/arch/auto/Encode/Symbol/Symbol.bs 644
No tests defined for Encode::Symbol extension.
make[1]: Leaving directory '/tmp/user/1002/build/Encode-3.17-0/Symbol'
make[1]: Entering directory '/tmp/user/1002/build/Encode-3.17-0/TW'
"/home/njh/perl5/perlbrew/perls/perl-5.18.4-thread/bin/perl5.18.4" -MExtUtils::Command::MM -e 'cp_nonempty' -- TW.bs ../blib/arch/auto/Encode/TW/TW.bs 644
No tests defined for Encode::TW extension.
make[1]: Leaving directory '/tmp/user/1002/build/Encode-3.17-0/TW'
make[1]: Entering directory '/tmp/user/1002/build/Encode-3.17-0/Unicode'
"/home/njh/perl5/perlbrew/perls/perl-5.18.4-thread/bin/perl5.18.4" -MExtUtils::Command::MM -e 'cp_nonempty' -- Unicode.bs ../blib/arch/auto/Encode/Unicode/Unicode.bs 644
No tests defined for Encode::Unicode extension.
make[1]: Leaving directory '/tmp/user/1002/build/Encode-3.17-0/Unicode'
PERL_DL_NONLAZY=1 "/home/njh/perl5/perlbrew/perls/perl-5.18.4-thread/bin/perl5.18.4" "-MExtUtils::Command::MM" "-MTest::Harness" "-e" "undef *Test::Harness::Switches; test_harness(0, 'blib/lib', 'blib/arch')" t/*.t
t/Aliases.t ................ ok
t/at-cn.t .................. ok
t/at-tw.t .................. ok
t/CJKT.t ................... ok
t/cow.t .................... ok
t/decode.t ................. ok
t/enc_data.t ............... ok
t/enc_eucjp.t .............. ok
t/enc_module.t ............. ok
t/enc_utf8.t ............... ok
t/Encode.t ................. ok
t/Encoder.t ................ ok
t/encoding-locale.t ........ ok
t/encoding.t ............... ok
t/fallback.t ............... ok
t/from_to.t ................ ok
t/grow.t ................... ok
t/gsm0338.t ................ ok
t/guess.t .................. ok
t/isa.t .................... ok
t/jis7-fallback.t .......... ok
t/jperl.t .................. ok
t/magic.t .................. ok
t/mime-header.t ............ ok
t/mime-name.t .............. ok
t/mime_header_iso2022jp.t .. ok
t/perlio.t ................. ok
t/piconv.t ................. ok
t/rt113164.t ............... ok
t/rt65541.t ................ ok
t/rt76824.t ................ ok
t/rt85489.t ................ ok
t/rt86327.t ................ ok
t/taint.t .................. ok
t/truncated_utf8.t ......... ok
t/undef.t .................. ok
t/Unicode.t ................ ok
t/Unicode_trailing_nul.t ... ok
t/use-Encode-Alias.t ....... ok
t/utf32warnings.t .......... ok
t/utf8ref.t ................ ok
t/utf8strict.t ............. ok
t/utf8warnings.t ........... ok
t/whatwg-aliases.t ......... skipped: For maintainers only
t/xml.t .................... ok
All tests successful.
Test Summary Report
-------------------
t/truncated_utf8.t (Wstat: 0 Tests: 9 Failed: 0)
TODO passed: 9
Files=45, Tests=7816, 19 wallclock secs ( 1.93 usr 0.21 sys + 17.26 cusr 1.38 csys = 20.78 CPU)
Result: PASS
------------------------------
PREREQUISITES
------------------------------
Prerequisite modules loaded:
requires:
Module Need Have
------------------- ----- --------
Exporter 5.57 5.68
parent 0.221 0.225
Storable 0 3.25
build_requires:
Module Need Have
------------------- ----- --------
ExtUtils::MakeMaker 0 7.38
Test::More 0.92 1.302186
configure_requires:
Module Need Have
------------------- ----- --------
ExtUtils::MakeMaker 0 7.38
------------------------------
ENVIRONMENT AND OTHER CONTEXT
------------------------------
Environment variables:
AUTOMATED_TESTING = 1
LANG = C.UTF-8
LC_TERMINAL = iTerm2
LC_TERMINAL_VERSION = 3.4.15
NONINTERACTIVE_TESTING = 1
PATH = /home/njh/perl5/perlbrew/bin:/home/njh/perl5/perlbrew/perls/perl-5.18.4-thread/bin:/usr/local/sbin:/usr/local/bin:/usr/sbin:/usr/bin:/sbin:/bin:/usr/games:/usr/local/games:/snap/bin
PERL5LIB =
PERL5OPT =
PERL5_CPANPLUS_IS_RUNNING = 12952
PERL5_CPAN_IS_RUNNING = 12952
PERLBREW_LIB =
PERLBREW_MANPATH = /home/njh/perl5/perlbrew/perls/perl-5.18.4-thread/man
PERLBREW_PATH = /home/njh/perl5/perlbrew/bin:/home/njh/perl5/perlbrew/perls/perl-5.18.4-thread/bin
PERLBREW_PERL = perl-5.18.4-thread
PERLBREW_ROOT = /home/njh/perl5/perlbrew
PERLBREW_VERSION = 0.92
PERL_LOCAL_LIB_ROOT =
PERL_MM_USE_DEFAULT = 1
PERL_USE_UNSAFE_INC = 1
SHELL = /bin/bash
TEMP = /tmp/user/1002
TERM = xterm-256color
TMPDIR = /tmp/user/1002
Perl special variables (and OS-specific diagnostics, for MSWin32):
$^X = /home/njh/perl5/perlbrew/perls/perl-5.18.4-thread/bin/perl5.18.4
$UID/$EUID = 1002 / 1002
$GID = 1002 120 1002
$EGID = 1002 120 1002
Perl module toolchain versions installed:
Module Have
------------------- --------
CPAN 2.28
CPAN::Meta 2.143240
Cwd 3.40
ExtUtils::CBuilder 0.280236
ExtUtils::Command 7.38
ExtUtils::Install 2.20
ExtUtils::MakeMaker 7.38
ExtUtils::Manifest 1.70
ExtUtils::ParseXS 3.44
File::Spec 3.40
JSON 4.02
JSON::PP 4.04
Module::Build 0.4231
Module::Signature n/a
Parse::CPAN::Meta 1.4414
Test::Harness 3.42
Test::More 1.302186
YAML 1.30
YAML::Syck 1.32
version 0.9929
--
Summary of my perl5 (revision 5 version 18 subversion 4) configuration:
Platform:
osname=linux, osvers=4.15.0-1025-oracle, archname=x86_64-linux-thread-multi
uname='linux oracle1 4.15.0-1025-oracle #28-ubuntu smp mon sep 16 12:54:27 utc 2019 x86_64 x86_64 x86_64 gnulinux '
config_args='-de -Dprefix=/home/njh/perl5/perlbrew/perls/perl-5.18.4-thread -Dusedevel -Dusethreads -Accflags=-O2 -W -Wformat=2 -Wswitch -Wshadow -Wwrite-strings -Wuninitialized -Wall -pipe -fomit-frame-pointer -pedantic -D_FORTIFY_SOURCE=2 -Wpointer-arith -Wstrict-prototypes -fstack-protector -Wstack-protector -Wextra -Wbad-function-cast -Wcast-align -Wcast-qual -Wdisabled-optimization -Wendif-labels -Wfloat-equal -Wformat-nonliteral -Winline -Wmissing-declarations -Wmissing-prototypes -Wnested-externs -Wpointer-arith -Wundef -Wformat-security -ftree-vectorize -msse -mfpmath=sse -msse2 -mssse3 -msse4.1 -msse4.2 -maes -fdiagnostics-color=auto -mtune=native -march=native -Aeval:scriptdir=/home/njh/perl5/perlbrew/perls/perl-5.18.4-thread/bin'
hint=recommended, useposix=true, d_sigaction=define
useithreads=define, usemultiplicity=define
useperlio=define, d_sfio=undef, uselargefiles=define, usesocks=undef
use64bitint=define, use64bitall=define, uselongdouble=undef
usemymalloc=n, bincompat5005=undef
Compiler:
cc='cc', ccflags ='-D_REENTRANT -D_GNU_SOURCE -O2 -W -Wformat=2 -Wswitch -Wshadow -Wwrite-strings -Wuninitialized -Wall -pipe -fomit-frame-pointer -pedantic -D_FORTIFY_SOURCE=2 -Wpointer-arith -Wstrict-prototypes -fstack-protector -Wstack-protector -Wextra -Wbad-function-cast -Wcast-align -Wcast-qual -Wdisabled-optimization -Wendif-labels -Wfloat-equal -Wformat-nonliteral -Winline -Wmissing-declarations -Wmissing-prototypes -Wnested-externs -Wpointer-arith -Wundef -Wformat-security -ftree-vectorize -msse -mfpmath=sse -msse2 -mssse3 -msse4.1 -msse4.2 -maes -fdiagnostics-color=auto -mtune=native -march=native -fwrapv -fno-strict-aliasing -I/usr/local/include -D_LARGEFILE_SOURCE -D_FILE_OFFSET_BITS=64',
optimize='-O2',
cppflags='-D_REENTRANT -D_GNU_SOURCE -O2 -W -Wformat=2 -Wswitch -Wshadow -Wwrite-strings -Wuninitialized -Wall -pipe -fomit-frame-pointer -pedantic -D_FORTIFY_SOURCE=2 -Wpointer-arith -Wstrict-prototypes -fstack-protector -Wstack-protector -Wextra -Wbad-function-cast -Wcast-align -Wcast-qual -Wdisabled-optimization -Wendif-labels -Wfloat-equal -Wformat-nonliteral -Winline -Wmissing-declarations -Wmissing-prototypes -Wnested-externs -Wpointer-arith -Wundef -Wformat-security -ftree-vectorize -msse -mfpmath=sse -msse2 -mssse3 -msse4.1 -msse4.2 -maes -fdiagnostics-color=auto -mtune=native -march=native -fwrapv -fno-strict-aliasing -I/usr/local/include'
ccversion='', gccversion='7.4.0', gccosandvers=''
intsize=4, longsize=8, ptrsize=8, doublesize=8, byteorder=12345678
d_longlong=define, longlongsize=8, d_longdbl=define, longdblsize=16
ivtype='long', ivsize=8, nvtype='double', nvsize=8, Off_t='off_t', lseeksize=8
alignbytes=8, prototype=define
Linker and Libraries:
ld='cc', ldflags =' -fstack-protector -L/usr/local/lib'
libpth=/usr/local/lib /lib/x86_64-linux-gnu /lib/../lib /usr/lib/x86_64-linux-gnu /usr/lib/../lib /lib /usr/lib
libs=-lnsl -lgdbm -ldb -ldl -lm -lcrypt -lutil -lpthread -lc
perllibs=-lnsl -ldl -lm -lcrypt -lutil -lpthread -lc
libc=libc-2.27.so, so=so, useshrplib=false, libperl=libperl.a
gnulibc_version='2.27'
Dynamic Linking:
dlsrc=dl_dlopen.xs, dlext=so, d_dlsymun=undef, ccdlflags='-Wl,-E'
cccdlflags='-fPIC', lddlflags='-shared -O2 -L/usr/local/lib -fstack-protector'
Characteristics of this binary (from libperl):
Compile-time options: HAS_TIMES MULTIPLICITY PERLIO_LAYERS
PERL_DONT_CREATE_GVSV
PERL_HASH_FUNC_ONE_AT_A_TIME_HARD
PERL_IMPLICIT_CONTEXT PERL_MALLOC_WRAP
PERL_PRESERVE_IVUV PERL_SAWAMPERSAND PERL_USE_DEVEL
USE_64_BIT_ALL USE_64_BIT_INT USE_ITHREADS
USE_LARGE_FILES USE_LOCALE USE_LOCALE_COLLATE
USE_LOCALE_CTYPE USE_LOCALE_NUMERIC USE_PERLIO
USE_PERL_ATOF USE_REENTRANT_API
Locally applied patches:
Devel::PatchPerl 1.64
Built under linux
Compiled at Sep 22 2019 21:12:41
%ENV:
PERL5LIB=""
PERL5OPT=""
PERL5_CPANPLUS_IS_RUNNING="12952"
PERL5_CPAN_IS_RUNNING="12952"
PERLBREW_LIB=""
PERLBREW_MANPATH="/home/njh/perl5/perlbrew/perls/perl-5.18.4-thread/man"
PERLBREW_PATH="/home/njh/perl5/perlbrew/bin:/home/njh/perl5/perlbrew/perls/perl-5.18.4-thread/bin"
PERLBREW_PERL="perl-5.18.4-thread"
PERLBREW_ROOT="/home/njh/perl5/perlbrew"
PERLBREW_VERSION="0.92"
PERL_LOCAL_LIB_ROOT=""
PERL_MM_USE_DEFAULT="1"
PERL_USE_UNSAFE_INC="1"
@INC:
/home/njh/perl5/perlbrew/perls/perl-5.18.4-thread/lib/site_perl/5.18.4/x86_64-linux-thread-multi
/home/njh/perl5/perlbrew/perls/perl-5.18.4-thread/lib/site_perl/5.18.4
/home/njh/perl5/perlbrew/perls/perl-5.18.4-thread/lib/5.18.4/x86_64-linux-thread-multi
/home/njh/perl5/perlbrew/perls/perl-5.18.4-thread/lib/5.18.4
.