Task-BeLike-GEEKRUTH v1.0100 Perl 5 v5.10.0 x86_64-linux
- Status
- Pass
- From
- Andreas J. König (ANDK)
- Dist
-
Task-BeLike-GEEKRUTH v1.0100
- Platform
- Perl 5 v5.10.0 x86_64-linux
- Date
- 2022-06-17 09:23:26
- ID
- 243b4a64-ee1f-11ec-9ab6-92831e145687
This distribution has been tested as part of the CPAN Testers
project, supporting the Perl programming language. See
http://wiki.cpantesters.org/ for more information or email
questions to cpan-testers-discuss@perl.org
--
Dear D Ruth Holloway,
This is a computer-generated report for Task-BeLike-GEEKRUTH-1.0100
on perl 5.10.0, created by CPAN-Reporter-1.2018.
Thank you for uploading your work to CPAN. Congratulations!
All tests were successful.
Sections of this report:
* Tester comments
* Program output
* Prerequisites
* Environment and other context
------------------------------
TESTER COMMENTS
------------------------------
Additional comments from tester:
this report is from an automated smoke testing program
and was not reviewed by a human for accuracy
------------------------------
PROGRAM OUTPUT
------------------------------
Output from '/usr/bin/make test':
PERL_DL_NONLAZY=1 "/home/sand/src/perl/repoperls/installed-perls/host/k93msid/perl-5.10.0/da1c/bin/perl" "-MExtUtils::Command::MM" "-MTest::Harness" "-e" "undef *Test::Harness::Switches; test_harness(0, 'blib/lib', 'blib/arch')" t/*.t
t/00-compile.t ......... ok
t/00-placeholder.t ..... ok
#
# Versions for all modules listed in MYMETA.json (including optional ones):
#
# === Configure Requires ===
#
# Module Want Have
# ------------------- ---- ----
# ExtUtils::MakeMaker any 7.62
#
# === Build Requires ===
#
# Module Want Have
# ------------------- ---- ----
# ExtUtils::MakeMaker any 7.62
#
# === Test Requires ===
#
# Module Want Have
# ------------------- ---- --------
# ExtUtils::MakeMaker any 7.62
# File::Spec any 3.75
# IO::Handle any 1.48
# IPC::Open3 any 1.02
# Test2::V0 any 0.000145
# Test::More any 1.302190
# strict any 1.04
# warnings any 1.06
#
# === Test Recommends ===
#
# Module Want Have
# ---------- -------- --------
# CPAN::Meta 2.120900 2.150010
#
# === Runtime Requires ===
#
# Module Want Have
# ------------------------------------------------------ ---- ----------
# App::cpanminus any 1.7045
# App::perlbrew any 0.95
# Carp any 1.50
# Code::TidyAll any 0.82
# Code::TidyAll::Plugin::Test::Vars any 0.04
# Cpanel::JSON::XS any 4.26
# DBIx::Class any 0.082843
# DBIx::Class::Helpers any 2.036000
# DBIx::Class::Schema::ResultSetNames any missing
# DBIx::Class::TemporalRelations any missing
# Dancer2 any missing
# Dancer2::Plugin::Ajax any missing
# Dancer2::Plugin::Auth::Extensible any missing
# Dancer2::Plugin::Auth::Extensible::Provider::DBIxClass any missing
# Dancer2::Plugin::Cache::CHI any missing
# Dancer2::Plugin::DBIx::Class any missing
# Dancer2::Plugin::Growler any missing
# Dancer2::Plugin::Minify any missing
# Dancer2::Plugin::REST any missing
# Dancer2::Template::Handlebars any missing
# Devel::Local any 0.22
# Dist::Zilla any 5.046
# Dist::Zilla::App::Command::cover any 1.101001
# Dist::Zilla::App::Command::critic any 0.001011
# Dist::Zilla::App::Command::dumpphases any 1.000009
# Dist::Zilla::App::Command::lsplugins any 0.003001
# Dist::Zilla::PluginBundle::Author::GEEKRUTH any 1.0201
# File::Path any 2.16
# Modern::Perl any 1.20220515
# Moo any 2.005004
# OrePAN2 any 0.48
# Perl::Critic any 1.138
# Perl::Critic::Bangs any 1.12
# Perl::Critic::Community any missing
# Perl::Critic::Dancer2 any missing
# Perl::Critic::StricterSubs any 0.06
# Perl::Critic::TooMuchCode any 0.16
# Perl::Tidy any 20220217
# Pod::Coverage::TrustPod any 0.100005
# Try::Tiny any 0.30
# YAML::Tiny any 1.73
# autodie any 2.29
#
#
# *** WARNING WARNING WARNING WARNING WARNING WARNING WARNING WARNING ***
#
# The following REQUIRED prerequisites were not satisfied:
#
# DBIx::Class::Schema::ResultSetNames is not installed (any version required)
# DBIx::Class::TemporalRelations is not installed (any version required)
# Dancer2 is not installed (any version required)
# Dancer2::Plugin::Ajax is not installed (any version required)
# Dancer2::Plugin::Auth::Extensible is not installed (any version required)
# Dancer2::Plugin::Auth::Extensible::Provider::DBIxClass is not installed (any version required)
# Dancer2::Plugin::Cache::CHI is not installed (any version required)
# Dancer2::Plugin::DBIx::Class is not installed (any version required)
# Dancer2::Plugin::Growler is not installed (any version required)
# Dancer2::Plugin::Minify is not installed (any version required)
# Dancer2::Plugin::REST is not installed (any version required)
# Dancer2::Template::Handlebars is not installed (any version required)
# Perl::Critic::Community is not installed (any version required)
# Perl::Critic::Dancer2 is not installed (any version required)
#
t/00-report-prereqs.t .. ok
t/placeholder.t ........ ok
All tests successful.
Files=4, Tests=4, 1 wallclock secs ( 0.01 usr 0.01 sys + 0.32 cusr 0.11 csys = 0.45 CPU)
Result: PASS
------------------------------
PREREQUISITES
------------------------------
Prerequisite modules loaded:
requires:
Module Need Have
------------------------------------------------------ ----- ----------
App::cpanminus 0 1.7045
App::perlbrew 0 0.95
autodie 0 2.29
Carp 0 1.50
Code::TidyAll 0 0.82
Code::TidyAll::Plugin::Test::Vars 0 0.04
Cpanel::JSON::XS 0 4.26
! Dancer2 0 n/a
! Dancer2::Plugin::Ajax 0 n/a
! Dancer2::Plugin::Auth::Extensible 0 n/a
! Dancer2::Plugin::Auth::Extensible::Provider::DBIxClass 0 n/a
! Dancer2::Plugin::Cache::CHI 0 n/a
! Dancer2::Plugin::DBIx::Class 0 n/a
! Dancer2::Plugin::Growler 0 n/a
! Dancer2::Plugin::Minify 0 n/a
! Dancer2::Plugin::REST 0 n/a
! Dancer2::Template::Handlebars 0 n/a
DBIx::Class 0 0.082843
DBIx::Class::Helpers 0 2.036000
! DBIx::Class::Schema::ResultSetNames 0 n/a
! DBIx::Class::TemporalRelations 0 n/a
Devel::Local 0 0.22
Dist::Zilla 0 5.046
Dist::Zilla::App::Command::cover 0 1.101001
Dist::Zilla::App::Command::critic 0 0.001011
Dist::Zilla::App::Command::dumpphases 0 1.000009
Dist::Zilla::App::Command::lsplugins 0 0.003001
Dist::Zilla::PluginBundle::Author::GEEKRUTH 0 1.0201
File::Path 0 2.16
Modern::Perl 0 1.20220515
Moo 0 2.005004
OrePAN2 0 0.48
perl 5.006 5.010000
Perl::Critic 0 1.138
Perl::Critic::Bangs 0 1.12
! Perl::Critic::Community 0 n/a
! Perl::Critic::Dancer2 0 n/a
Perl::Critic::StricterSubs 0 0.06
Perl::Critic::TooMuchCode 0 0.16
Perl::Tidy 0 20220217
Pod::Coverage::TrustPod 0 0.100005
Try::Tiny 0 0.30
YAML::Tiny 0 1.73
build_requires:
Module Need Have
------------------------------------------------------ ----- ----------
ExtUtils::MakeMaker 0 7.62
File::Spec 0 3.75
IO::Handle 0 1.48
IPC::Open3 0 1.02
strict 0 1.04
Test2::V0 0 0.000145
Test::More 0 1.302190
warnings 0 1.06
configure_requires:
Module Need Have
------------------------------------------------------ ----- ----------
ExtUtils::MakeMaker 0 7.62
perl 5.006 5.010000
------------------------------
ENVIRONMENT AND OTHER CONTEXT
------------------------------
Environment variables:
AUTOMATED_TESTING = 1
LANG = en_US.UTF-8
LANGUAGE = en_US:en
PATH = /home/sand/bin:/usr/local/bin:/usr/bin:/bin:/usr/games:/usr/local/perl/bin:/usr/X11/bin:/sbin:/usr/sbin
PERL5LIB =
PERL5OPT =
PERL5_CPANPLUS_IS_RUNNING = 1012285
PERL5_CPAN_IS_RUNNING = 1012285
PERL_CANARY_STABILITY_NOPROMPT = 1
PERL_MM_USE_DEFAULT = 1
PERL_USE_UNSAFE_INC = 1
SHELL = /usr/bin/zsh
TERM = screen
Perl special variables (and OS-specific diagnostics, for MSWin32):
$^X = /home/sand/src/perl/repoperls/installed-perls/host/k93msid/perl-5.10.0/da1c/bin/perl
$UID/$EUID = 1005 / 1005
$GID = 1005 1005
$EGID = 1005 1005
Perl module toolchain versions installed:
Module Have
------------------- --------
CPAN 2.34
CPAN::Meta 2.150010
Cwd 3.75
ExtUtils::CBuilder 0.280231
ExtUtils::Command 7.62
ExtUtils::Install 2.06
ExtUtils::MakeMaker 7.62
ExtUtils::Manifest 1.70
ExtUtils::ParseXS 3.35
File::Spec 3.75
JSON 4.05
JSON::PP 4.09
Module::Build 0.4229
Module::Signature 0.83
Parse::CPAN::Meta 2.150010
Test::Harness 3.43_06
Test::More 1.302190
YAML 1.29
YAML::Syck 1.31
version 0.9924
--
Summary of my perl5 (revision 5 version 10 subversion 0) configuration:
Platform:
osname=linux, osvers=5.3.0-2-amd64, archname=x86_64-linux
uname='linux k93msid 5.3.0-2-amd64 #1 smp debian 5.3.9-3 (2019-11-19) x86_64 gnulinux '
config_args='-Dprefix=/home/sand/src/perl/repoperls/installed-perls/host/k93msid/perl-5.10.0/da1c -Dmyhostname=k93msid -Dinstallusrbinperl=n -Uversiononly -Dusedevel -des -Ui_db -Dlibswanted=cl pthread socket inet nsl gdbm dbm malloc dl ld sun m crypt sec util c cposix posix ucb BSD gdbm_compat -Uuseithreads -Uuselongdouble -DEBUGGING=-g'
hint=recommended, useposix=true, d_sigaction=define
useithreads=undef, usemultiplicity=undef
useperlio=define, d_sfio=undef, uselargefiles=define, usesocks=undef
use64bitint=define, use64bitall=define, uselongdouble=undef
usemymalloc=n, bincompat5005=undef
Compiler:
cc='cc', ccflags ='-fwrapv -fno-strict-aliasing -pipe -I/usr/local/include -D_LARGEFILE_SOURCE -D_FILE_OFFSET_BITS=64',
optimize='-O2 -g',
cppflags='-fwrapv -fno-strict-aliasing -pipe -I/usr/local/include'
ccversion='', gccversion='9.2.1 20191109', gccosandvers=''
intsize=4, longsize=8, ptrsize=8, doublesize=8, byteorder=12345678
d_longlong=define, longlongsize=8, d_longdbl=define, longdblsize=16
ivtype='long', ivsize=8, nvtype='double', nvsize=8, Off_t='off_t', lseeksize=8
alignbytes=8, prototype=define
Linker and Libraries:
ld='cc', ldflags =' -L/usr/local/lib'
libpth=/usr/local/lib /lib/x86_64-linux-gnu /lib/../lib /usr/lib/x86_64-linux-gnu /usr/lib/../lib /lib /usr/lib
libs=-lpthread -lnsl -ldl -lm -lcrypt -lutil -lc
perllibs=-lpthread -lnsl -ldl -lm -lcrypt -lutil -lc
libc=libc-2.29.so, so=so, useshrplib=false, libperl=libperl.a
gnulibc_version='2.29'
Dynamic Linking:
dlsrc=dl_dlopen.xs, dlext=so, d_dlsymun=undef, ccdlflags='-Wl,-E'
cccdlflags='-fPIC', lddlflags='-shared -O2 -g -L/usr/local/lib'
Characteristics of this binary (from libperl):
Compile-time options: PERL_DONT_CREATE_GVSV PERL_MALLOC_WRAP USE_64_BIT_ALL
USE_64_BIT_INT USE_LARGE_FILES USE_PERLIO
Built under linux
Compiled at Nov 28 2019 05:57:17
%ENV:
PERL5LIB=""
PERL5OPT=""
PERL5_CPANPLUS_IS_RUNNING="1012285"
PERL5_CPAN_IS_RUNNING="1012285"
PERL_CANARY_STABILITY_NOPROMPT="1"
PERL_MM_USE_DEFAULT="1"
PERL_USE_UNSAFE_INC="1"
@INC:
/home/sand/src/perl/repoperls/installed-perls/host/k93msid/perl-5.10.0/da1c/lib/5.10.0/x86_64-linux
/home/sand/src/perl/repoperls/installed-perls/host/k93msid/perl-5.10.0/da1c/lib/5.10.0
/home/sand/src/perl/repoperls/installed-perls/host/k93msid/perl-5.10.0/da1c/lib/site_perl/5.10.0/x86_64-linux
/home/sand/src/perl/repoperls/installed-perls/host/k93msid/perl-5.10.0/da1c/lib/site_perl/5.10.0
.