CHI v0.61 Perl 5 v5.38.0 darwin-thread-multi-2level

Status
Pass
From
Stanislaw Pusep
Dist
CHI v0.61
Platform
Perl 5 v5.38.0 darwin-thread-multi-2level
Date
2023-10-02 12:20:55
ID
22ea78a6-611e-11ee-93a7-b5571858a4d3
This distribution has been tested as part of the CPAN Testers
project, supporting the Perl programming language.  See
http://wiki.cpantesters.org/ for more information or email
questions to cpan-testers-discuss@perl.org


--
Dear ASB,

This is a computer-generated report for CHI-0.61
on perl 5.38.0, created by App::cpanminus::reporter 0.21 (1.7047).

Thank you for uploading your work to CPAN.  Congratulations!
All tests were successful.

Sections of this report:

    * Tester comments
    * Program output
    * Prerequisites
    * Environment and other context

------------------------------
TESTER COMMENTS
------------------------------

Additional comments from tester:

none provided

------------------------------
PROGRAM OUTPUT
------------------------------

Output from '':

Building and testing CHI-0.61
cp lib/CHI/Driver/CacheCache.pm blib/lib/CHI/Driver/CacheCache.pm
cp lib/CHI/t/Subclass.pm blib/lib/CHI/t/Subclass.pm
cp lib/CHI/t/Driver/NonMoose.pm blib/lib/CHI/t/Driver/NonMoose.pm
cp lib/CHI/Driver/RawMemory.pm blib/lib/CHI/Driver/RawMemory.pm
cp lib/CHI/Driver.pm blib/lib/CHI/Driver.pm
cp lib/CHI/Types.pm blib/lib/CHI/Types.pm
cp lib/CHI/t/Driver/Memory.pm blib/lib/CHI/t/Driver/Memory.pm
cp lib/CHI/t/Bugs.pm blib/lib/CHI/t/Bugs.pm
cp lib/CHI/t/Driver/Subcache.pm blib/lib/CHI/t/Driver/Subcache.pm
cp lib/CHI/Test/Driver/Writeonly.pm blib/lib/CHI/Test/Driver/Writeonly.pm
cp lib/CHI/Constants.pm blib/lib/CHI/Constants.pm
cp lib/CHI/t/RequiredModules.pm blib/lib/CHI/t/RequiredModules.pm
cp lib/CHI.pm blib/lib/CHI.pm
cp lib/CHI/t/Null.pm blib/lib/CHI/t/Null.pm
cp lib/CHI/t/Driver/File.pm blib/lib/CHI/t/Driver/File.pm
cp lib/CHI/Driver/Role/IsSubcache.pm blib/lib/CHI/Driver/Role/IsSubcache.pm
cp lib/CHI/t/Driver/FastMmap.pm blib/lib/CHI/t/Driver/FastMmap.pm
cp lib/CHI/Driver/Role/HasSubcaches.pm blib/lib/CHI/Driver/Role/HasSubcaches.pm
cp lib/CHI/Stats.pm blib/lib/CHI/Stats.pm
cp lib/CHI/Driver/Metacache.pm blib/lib/CHI/Driver/Metacache.pm
cp lib/CHI/t/Sanity.pm blib/lib/CHI/t/Sanity.pm
cp lib/CHI/t/Driver/File/DepthZero.pm blib/lib/CHI/t/Driver/File/DepthZero.pm
cp lib/CHI/Test/Class.pm blib/lib/CHI/Test/Class.pm
cp lib/CHI/Benchmarks.pod blib/lib/CHI/Benchmarks.pod
cp lib/CHI/t/Driver/CacheCache.pm blib/lib/CHI/t/Driver/CacheCache.pm
cp lib/CHI/t/Driver/Subcache/l1_cache.pm blib/lib/CHI/t/Driver/Subcache/l1_cache.pm
cp lib/CHI/Util.pm blib/lib/CHI/Util.pm
cp lib/CHI/Driver/Development.pod blib/lib/CHI/Driver/Development.pod
cp lib/CHI/t/Driver/RawMemory.pm blib/lib/CHI/t/Driver/RawMemory.pm
cp lib/CHI/t/Initialize.pm blib/lib/CHI/t/Initialize.pm
cp lib/CHI/t/Constants.pm blib/lib/CHI/t/Constants.pm
cp lib/CHI/Test/Driver/Role/CheckKeyValidity.pm blib/lib/CHI/Test/Driver/Role/CheckKeyValidity.pm
cp lib/CHI/Serializer/Storable.pm blib/lib/CHI/Serializer/Storable.pm
cp lib/CHI/t/Driver/Subcache/mirror_cache.pm blib/lib/CHI/t/Driver/Subcache/mirror_cache.pm
cp lib/CHI/Driver/Role/Universal.pm blib/lib/CHI/Driver/Role/Universal.pm
cp lib/CHI/t/Config.pm blib/lib/CHI/t/Config.pm
cp lib/CHI/t/Subcache.pm blib/lib/CHI/t/Subcache.pm
cp lib/CHI/Serializer/JSON.pm blib/lib/CHI/Serializer/JSON.pm
cp lib/CHI/Driver/FastMmap.pm blib/lib/CHI/Driver/FastMmap.pm
cp lib/CHI/t/Util.pm blib/lib/CHI/t/Util.pm
cp lib/CHI/Driver/Base/CacheContainer.pm blib/lib/CHI/Driver/Base/CacheContainer.pm
cp lib/CHI/Test.pm blib/lib/CHI/Test.pm
cp lib/CHI/Driver/File.pm blib/lib/CHI/Driver/File.pm
cp lib/CHI/Driver/Null.pm blib/lib/CHI/Driver/Null.pm
cp lib/CHI/Test/Driver/NonMoose.pm blib/lib/CHI/Test/Driver/NonMoose.pm
cp lib/CHI/t/SetError.pm blib/lib/CHI/t/SetError.pm
cp lib/CHI/Driver/Memory.pm blib/lib/CHI/Driver/Memory.pm
cp lib/CHI/CacheObject.pm blib/lib/CHI/CacheObject.pm
cp lib/CHI/t/GetError.pm blib/lib/CHI/t/GetError.pm
cp lib/CHI/Test/Util.pm blib/lib/CHI/Test/Util.pm
cp lib/CHI/t/Driver.pm blib/lib/CHI/t/Driver.pm
cp lib/CHI/Driver/Role/IsSizeAware.pm blib/lib/CHI/Driver/Role/IsSizeAware.pm
cp lib/CHI/Test/Driver/Readonly.pm blib/lib/CHI/Test/Driver/Readonly.pm
Manifying 15 pod documents
PERL_DL_NONLAZY=1 "/opt/homebrew/Cellar/perl/5.38.0/bin/perl" "-MExtUtils::Command::MM" "-MTest::Harness" "-e" "undef *Test::Harness::Switches; test_harness(0, 'blib/lib', 'blib/arch')" t/*.t
# Testing CHI 0.61, Perl 5.038000, /opt/homebrew/Cellar/perl/5.38.0/bin/perl
t/00-load.t ............................. ok
t/author-03-pod.t ....................... skipped: these tests are for testing by the author
t/author-file-driver.t .................. skipped: these tests are for testing by the author
t/author-no-data-serializer.t ........... skipped: these tests are for testing by the author
t/author-RequiredModules.t .............. skipped: these tests are for testing by the author
t/Bugs.t ................................ ok
t/Config.t .............................. ok
t/Constants.t ........................... ok
t/Driver-Memory.t ....................... ok
t/Driver-RawMemory.t .................... ok
t/GetError.t ............................ ok
t/Initialize.t .......................... ok
t/release-dependent.t ................... skipped: these tests are for release candidate testing
t/Sanity.t .............................. ok
t/SetError.t ............................ ok
t/smoke-Driver-CacheCache.t ............. skipped: these tests are for "smoke bot" testing
t/smoke-Driver-FastMmap.t ............... skipped: these tests are for "smoke bot" testing
t/smoke-Driver-File-DepthZero.t ......... skipped: these tests are for "smoke bot" testing
t/smoke-Driver-File.t ................... skipped: these tests are for "smoke bot" testing
t/smoke-Driver-NonMoose.t ............... skipped: these tests are for "smoke bot" testing
t/smoke-Driver-Subcache-l1_cache.t ...... skipped: these tests are for "smoke bot" testing
t/smoke-Driver-Subcache-mirror_cache.t .. skipped: these tests are for "smoke bot" testing
t/smoke-Null.t .......................... skipped: these tests are for "smoke bot" testing
t/Subcache.t ............................ ok
t/Subclass.t ............................ ok
t/Util.t ................................ ok
All tests successful.
Files=26, Tests=1787,  2 wallclock secs ( 0.05 usr  0.02 sys +  1.02 cusr  0.20 csys =  1.29 CPU)
Result: PASS

------------------------------
PREREQUISITES
------------------------------

Prerequisite modules loaded:

runtime:

    Module                          Need     Have    
    ------------------------------- -------- --------
    Carp::Assert                    0.20     0.22    
    Class::Load                     0        0.25    
    Data::UUID                      0        1.226   
    Digest::JHash                   0        0.10    
    Digest::MD5                     0        2.58_01 
    File::Spec                      0.80     3.88    
    Hash::MoreUtils                 0        0.06    
    JSON::MaybeXS                   1.003003 1.004005
    List::MoreUtils                 0.13     0.430   
    Log::Any                        0.08     1.717   
    Moo                             1.003    2.005005
    MooX::Types::MooseLike          0.23     0.29    
    MooX::Types::MooseLike::Base    0        0.29    
    MooX::Types::MooseLike::Numeric 0        1.03    
    Storable                        0        3.32    
    String::RewritePrefix           0        0.009   
    Task::Weaken                    0        1.06    
    Time::Duration                  1.06     1.21    
    Time::Duration::Parse           0.03     0.16    
    Time::HiRes                     1.30     1.9775  
    Try::Tiny                       0.05     0.31    

build:

    Module                          Need     Have    
    ------------------------------- -------- --------
    ExtUtils::MakeMaker             0        7.70    

configure:

    Module                          Need     Have    
    ------------------------------- -------- --------
    ExtUtils::MakeMaker             0        7.70    


------------------------------
ENVIRONMENT AND OTHER CONTEXT
------------------------------

Environment variables:

    LANG = en_US.UTF-8
    LC_ALL = en_US.UTF-8
    LDFLAGS = -L/opt/homebrew/opt/curl/lib
    PATH = /opt/homebrew/opt/node@18/bin:/opt/homebrew/Cellar/perl/5.36.1/bin:/Users/stanislawpusep/perl5/bin:/opt/homebrew/opt/curl/bin:/opt/homebrew/bin:/opt/homebrew/sbin:/usr/local/bin:/System/Cryptexes/App/usr/bin:/usr/bin:/bin:/usr/sbin:/sbin:/Applications/Little Snitch.app/Contents/Components:/var/run/com.apple.security.cryptexd/codex.system/bootstrap/usr/local/bin:/var/run/com.apple.security.cryptexd/codex.system/bootstrap/usr/bin:/var/run/com.apple.security.cryptexd/codex.system/bootstrap/usr/appleinternal/bin:/Users/stanislawpusep/.vim/bin:/Users/stanislawpusep/bin:/Users/stanislawpusep/node_modules/.bin:/usr/local/sbin:/opt/homebrew/opt/node@18/bin:/opt/homebrew/Cellar/perl/5.36.1/bin:/opt/homebrew/opt/curl/bin:/opt/homebrew/bin:/opt/homebrew/sbin:/Applications/kitty.app/Contents/MacOS
    PERL5LIB = /Users/stanislawpusep/perl5/lib/perl5
    PERL_LOCAL_LIB_ROOT = /Users/stanislawpusep/perl5
    PERL_MB_OPT = --install_base "/Users/stanislawpusep/perl5"
    PERL_MM_OPT = INSTALL_BASE=/Users/stanislawpusep/perl5
    PERL_MM_USE_DEFAULT = 1
    SHELL = /bin/zsh
    TERM = screen-256color
    TMPDIR = /var/folders/w1/125w8syj3fx4505hrl72wjjm0000gp/T/

Perl special variables (and OS-specific diagnostics, for MSWin32):

    EGID = 20 20 12 61 79 80 81 98 701 33 100 204 250 395 398 399 400
    EUID = 502
    EXECUTABLE_NAME = /opt/homebrew/Cellar/perl/5.38.0/bin/perl
    GID = 20 20 12 61 79 80 81 98 701 33 100 204 250 395 398 399 400
    UID = 502

Perl module toolchain versions installed:

    Module              Have    
    ------------------- --------
    CPAN                2.36    
    CPAN::Meta          2.150010
    Cwd                 3.89    
    ExtUtils::CBuilder  0.280238
    ExtUtils::Command   7.70    
    ExtUtils::Install   2.22    
    ExtUtils::MakeMaker 7.70    
    ExtUtils::Manifest  1.75    
    ExtUtils::ParseXS   3.51    
    File::Spec          3.88    
    JSON                4.10    
    JSON::PP            4.16    
    Module::Build       0.4234  
    Module::Signature   n/a     
    Parse::CPAN::Meta   2.150010
    Test::Harness       3.47    
    Test::More          1.302195
    YAML                1.30    
    YAML::Syck          n/a     
    version             0.9929  


--

Summary of my perl5 (revision 5 version 38 subversion 0) configuration:
   
  Platform:
    osname=darwin
    osvers=22.6.0
    archname=darwin-thread-multi-2level
    uname='darwin ventura-arm64.local 22.6.0 darwin kernel version 22.6.0: wed jul 5 22:22:19 pdt 2023; root:xnu-8796.141.3~6release_arm64_vmapple arm64 '
    config_args='-des -Dinstallstyle=lib/perl5 -Dinstallprefix=/opt/homebrew/Cellar/perl/5.38.0 -Dprefix=/opt/homebrew/opt/perl -Dprivlib=/opt/homebrew/opt/perl/lib/perl5/5.38 -Dsitelib=/opt/homebrew/opt/perl/lib/perl5/site_perl/5.38 -Dotherlibdirs=/opt/homebrew/lib/perl5/site_perl/5.38 -Dperlpath=/opt/homebrew/opt/perl/bin/perl -Dstartperl=#!/opt/homebrew/opt/perl/bin/perl -Dman1dir=/opt/homebrew/opt/perl/share/man/man1 -Dman3dir=/opt/homebrew/opt/perl/share/man/man3 -Duseshrplib -Duselargefiles -Dusethreads'
    hint=recommended
    useposix=true
    d_sigaction=define
    useithreads=define
    usemultiplicity=define
    use64bitint=define
    use64bitall=define
    uselongdouble=undef
    usemymalloc=n
    default_inc_excludes_dot=define
  Compiler:
    cc='cc'
    ccflags ='-fno-common -DPERL_DARWIN -mmacosx-version-min=13.5 -DNO_POSIX_2008_LOCALE -fno-strict-aliasing -pipe -fstack-protector-strong'
    optimize='-O3'
    cppflags='-fno-common -DPERL_DARWIN -mmacosx-version-min=13.5 -DNO_POSIX_2008_LOCALE -fno-strict-aliasing -pipe -fstack-protector-strong'
    ccversion=''
    gccversion='Apple LLVM 14.0.3 (clang-1403.0.22.14.1)'
    gccosandvers=''
    intsize=4
    longsize=8
    ptrsize=8
    doublesize=8
    byteorder=12345678
    doublekind=3
    d_longlong=define
    longlongsize=8
    d_longdbl=define
    longdblsize=8
    longdblkind=0
    ivtype='long'
    ivsize=8
    nvtype='double'
    nvsize=8
    Off_t='off_t'
    lseeksize=8
    alignbytes=8
    prototype=define
  Linker and Libraries:
    ld='cc'
    ldflags =' -mmacosx-version-min=13.5 -fstack-protector-strong'
    libpth=/opt/homebrew/Cellar/berkeley-db/18.1.40_2/lib /opt/homebrew/lib /Applications/Xcode.app/Contents/Developer/Toolchains/XcodeDefault.xctoolchain/usr/lib/clang/14.0.3/lib /Library/Developer/CommandLineTools/SDKs/MacOSX13.3.sdk/usr/lib /Applications/Xcode.app/Contents/Developer/Toolchains/XcodeDefault.xctoolchain/usr/lib /usr/lib
    libs=-lgdbm -ldb
    perllibs=
    libc=
    so=dylib
    useshrplib=true
    libperl=libperl.dylib
    gnulibc_version=''
  Dynamic Linking:
    dlsrc=dl_dlopen.xs
    dlext=bundle
    d_dlsymun=undef
    ccdlflags=' '
    cccdlflags=' '
    lddlflags=' -mmacosx-version-min=13.5 -bundle -undefined dynamic_lookup -fstack-protector-strong'


Characteristics of this binary (from libperl): 
  Compile-time options:
    HAS_LONG_DOUBLE
    HAS_STRTOLD
    HAS_TIMES
    MULTIPLICITY
    PERLIO_LAYERS
    PERL_COPY_ON_WRITE
    PERL_DONT_CREATE_GVSV
    PERL_HASH_FUNC_SIPHASH13
    PERL_HASH_USE_SBOX32
    PERL_MALLOC_WRAP
    PERL_OP_PARENT
    PERL_PRESERVE_IVUV
    PERL_USE_SAFE_PUTENV
    USE_64_BIT_ALL
    USE_64_BIT_INT
    USE_ITHREADS
    USE_LARGE_FILES
    USE_LOCALE
    USE_LOCALE_COLLATE
    USE_LOCALE_CTYPE
    USE_LOCALE_NUMERIC
    USE_LOCALE_TIME
    USE_PERLIO
    USE_PERL_ATOF
    USE_REENTRANT_API
  Built under darwin
  Compiled at Sep 27 2023 01:32:50
  %ENV:
    PERL5LIB="/Users/stanislawpusep/perl5/lib/perl5"
    PERL_LOCAL_LIB_ROOT="/Users/stanislawpusep/perl5"
    PERL_MB_OPT="--install_base "/Users/stanislawpusep/perl5""
    PERL_MM_OPT="INSTALL_BASE=/Users/stanislawpusep/perl5"
    PERL_MM_USE_DEFAULT="1"
  @INC:
    /Users/stanislawpusep/perl5/lib/perl5/5.38.0/darwin-thread-multi-2level
    /Users/stanislawpusep/perl5/lib/perl5/5.38.0
    /Users/stanislawpusep/perl5/lib/perl5/darwin-thread-multi-2level
    /Users/stanislawpusep/perl5/lib/perl5
    /opt/homebrew/opt/perl/lib/perl5/site_perl/5.38/darwin-thread-multi-2level
    /opt/homebrew/opt/perl/lib/perl5/site_perl/5.38
    /opt/homebrew/opt/perl/lib/perl5/5.38/darwin-thread-multi-2level
    /opt/homebrew/opt/perl/lib/perl5/5.38
    /opt/homebrew/lib/perl5/site_perl/5.38