App-Greple v9.18 Perl 5 v5.30.2 armv7l-linux-thread-multi

Status
Pass
From
Nigel Horne
Dist
App-Greple v9.18
Platform
Perl 5 v5.30.2 armv7l-linux-thread-multi
Date
2025-01-01 03:47:34
ID
22c60452-c7f3-11ef-8cfb-956cfee3dd2f
This distribution has been tested as part of the CPAN Testers
project, supporting the Perl programming language.  See
http://wiki.cpantesters.org/ for more information or email
questions to cpan-testers-discuss@perl.org


--
Dear Kaz Utashiro,

This is a computer-generated report for App-Greple-9.18
on perl 5.30.2, created by CPAN-Reporter-1.2018.

Thank you for uploading your work to CPAN.  Congratulations!
All tests were successful.

Sections of this report:

    * Tester comments
    * Program output
    * Prerequisites
    * Environment and other context

------------------------------
TESTER COMMENTS
------------------------------

Additional comments from tester:

this report is from an automated smoke testing program
and was not reviewed by a human for accuracy

------------------------------
PROGRAM OUTPUT
------------------------------

Output from './Build test':

# Testing App::Greple 9.18, Perl 5.030002, /home/smoker/perl5/perlbrew/perls/perl-5.30.2-thread/bin/perl5.30.2
t/00_load.t ............. ok
t/05_reverse_regions.t .. ok
t/01_run.t .............. ok
t/06_matchcount.t ....... ok
t/09_filter.t ........... ok
t/03_ja.t ............... ok
t/08_region.t ........... ok
utf8 "\xFE" does not map to Unicode at t/runner/Runner.pm line 53.
t/10_select.t ........... ok
utf8 "\xFE" does not map to Unicode at t/runner/Runner.pm line 53.
utf8 "\xFE" does not map to Unicode at t/runner/Runner.pm line 53.
t/11_block.t ............ ok
t/12_error.t ............ ok
t/14_no_color.t ......... ok
t/15_encoding.t ......... ok
t/16_callback.t ......... ok
t/13_max.t .............. ok
t/line/00_load.t ........ ok
t/select/00_load.t ...... ok
t/select/01_select.t .... ok
t/02_search.t ........... ok
t/17_style.t ............ ok
t/line/02_search.t ...... ok
All tests successful.

Test Summary Report
-------------------
t/09_filter.t         (Wstat: 0 Tests: 3 Failed: 0)
  TODO passed:   1
Files=20, Tests=158, 33 wallclock secs ( 0.23 usr  0.08 sys + 48.15 cusr 13.27 csys = 61.73 CPU)
Result: PASS

------------------------------
PREREQUISITES
------------------------------

Prerequisite modules loaded:

requires:

    Module                   Need    Have    
    ------------------------ ------- --------
    Getopt::EX               v2.2.1  2.2.1   
    Hash::Util               0       0.22    
    List::BinarySearch       0       0.25    
    List::Util               1.45    1.50    
    perl                     v5.18.2 5.030002
    Term::ANSIColor::Concise 2.08    2.08    

build_requires:

    Module                   Need    Have    
    ------------------------ ------- --------
    Test::More               0.98    1.302162

configure_requires:

    Module                   Need    Have    
    ------------------------ ------- --------
    Module::Build::Tiny      0.035   0.039   


------------------------------
ENVIRONMENT AND OTHER CONTEXT
------------------------------

Environment variables:

    AUTOMATED_TESTING = 1
    HARNESS_OPTIONS = j4
    NONINTERACTIVE_TESTING = 1
    PATH = /home/smoker/perl5/perlbrew/bin:/home/smoker/perl5/perlbrew/perls/perl-5.30.2-thread/bin:/usr/local/sbin:/usr/local/bin:/usr/sbin:/usr/bin:/sbin:/bin
    PERL5LIB = /tmp/build/List-BinarySearch-0.25-0/blib/arch:/tmp/build/List-BinarySearch-0.25-0/blib/lib:/tmp/build/List-BinarySearch-XS-0.09-0/blib/arch:/tmp/build/List-BinarySearch-XS-0.09-0/blib/lib:/tmp/build/Getopt-EX-2.2.1-0/blib/arch:/tmp/build/Getopt-EX-2.2.1-0/blib/lib:/tmp/build/Term-ANSIColor-Concise-2.08-0/blib/arch:/tmp/build/Term-ANSIColor-Concise-2.08-0/blib/lib:/tmp/build/Graphics-ColorNames-v3.5.0-0/blib/arch:/tmp/build/Graphics-ColorNames-v3.5.0-0/blib/lib:/tmp/build/Test-Most-0.38-0/blib/arch:/tmp/build/Test-Most-0.38-0/blib/lib:/tmp/build/Test-Warn-0.37-0/blib/arch:/tmp/build/Test-Warn-0.37-0/blib/lib:/tmp/build/Test-Differences-0.71-0/blib/arch:/tmp/build/Test-Differences-0.71-0/blib/lib:/tmp/build/Exception-Class-1.45-0/blib/arch:/tmp/build/Exception-Class-1.45-0/blib/lib:/tmp/build/Devel-StackTrace-2.05-0/blib/arch:/tmp/build/Devel-StackTrace-2.05-0/blib/lib:/tmp/build/Class-Data-Inheritable-0.10-0/blib/arch:/tmp/build/Class-Data-Inheritable-0.10-0/blib/lib
    PERL5OPT = 
    PERL5_CPANPLUS_IS_RUNNING = 12618
    PERL5_CPAN_IS_RUNNING = 12618
    PERLBREW_HOME = /home/smoker/.perlbrew
    PERLBREW_MANPATH = /home/smoker/perl5/perlbrew/perls/perl-5.30.2-thread/man
    PERLBREW_PATH = /home/smoker/perl5/perlbrew/bin:/home/smoker/perl5/perlbrew/perls/perl-5.30.2-thread/bin
    PERLBREW_PERL = perl-5.30.2-thread
    PERLBREW_ROOT = /home/smoker/perl5/perlbrew
    PERLBREW_SHELLRC_VERSION = 0.88
    PERLBREW_VERSION = 0.88
    PERL_MM_USE_DEFAULT = 1
    PERL_USE_UNSAFE_INC = 1
    SHELL = /bin/bash
    TERM = xterm
    TMPDIR = /tmp/testwrapper.12607

Perl special variables (and OS-specific diagnostics, for MSWin32):

    $^X = /home/smoker/perl5/perlbrew/perls/perl-5.30.2-thread/bin/perl5.30.2
    $UID/$EUID = 1000 / 1000
    $GID = 1000 1000
    $EGID = 1000 1000

Perl module toolchain versions installed:

    Module              Have    
    ------------------- --------
    CPAN                2.27    
    CPAN::Meta          2.150010
    Cwd                 3.78    
    ExtUtils::CBuilder  0.280231
    ExtUtils::Command   7.44    
    ExtUtils::Install   2.14    
    ExtUtils::MakeMaker 7.44    
    ExtUtils::Manifest  1.72    
    ExtUtils::ParseXS   3.40    
    File::Spec          3.78    
    JSON                4.02    
    JSON::PP            4.02    
    Module::Build       0.4231  
    Module::Signature   n/a     
    Parse::CPAN::Meta   2.150010
    Test::Harness       3.42    
    Test::More          1.302162
    YAML                1.30    
    YAML::Syck          1.32    
    version             0.9924  


--

Summary of my perl5 (revision 5 version 30 subversion 2) configuration:
   
  Platform:
    osname=linux
    osvers=4.19.97-v7l+
    archname=armv7l-linux-thread-multi
    uname='linux b9a8560151d5 4.19.97-v7l+ #1294 smp thu jan 30 13:21:14 gmt 2020 armv7l gnulinux '
    config_args='-de -Dprefix=/home/smoker/perl5/perlbrew/perls/perl-5.30.2-thread -Dusedevel -Dusethreads -Accflags=-O2 -pipe -Wall -Wextra -mtune=native -march=native -Aeval:scriptdir=/home/smoker/perl5/perlbrew/perls/perl-5.30.2-thread/bin'
    hint=recommended
    useposix=true
    d_sigaction=define
    useithreads=define
    usemultiplicity=define
    use64bitint=undef
    use64bitall=undef
    uselongdouble=undef
    usemymalloc=n
    default_inc_excludes_dot=define
    bincompat5005=undef
  Compiler:
    cc='cc'
    ccflags ='-D_REENTRANT -D_GNU_SOURCE -O2 -pipe -Wall -Wextra -mtune=native -march=native -fwrapv -fno-strict-aliasing -fstack-protector-strong -I/usr/local/include -D_LARGEFILE_SOURCE -D_FILE_OFFSET_BITS=64 -D_FORTIFY_SOURCE=2'
    optimize='-O2'
    cppflags='-D_REENTRANT -D_GNU_SOURCE -O2 -pipe -Wall -Wextra -mtune=native -march=native -fwrapv -fno-strict-aliasing -fstack-protector-strong -I/usr/local/include'
    ccversion=''
    gccversion='8.3.0'
    gccosandvers=''
    intsize=4
    longsize=4
    ptrsize=4
    doublesize=8
    byteorder=1234
    doublekind=3
    d_longlong=define
    longlongsize=8
    d_longdbl=define
    longdblsize=8
    longdblkind=0
    ivtype='long'
    ivsize=4
    nvtype='double'
    nvsize=8
    Off_t='off_t'
    lseeksize=8
    alignbytes=8
    prototype=define
  Linker and Libraries:
    ld='cc'
    ldflags =' -fstack-protector-strong -L/usr/local/lib'
    libpth=/usr/local/lib /usr/lib/gcc/arm-linux-gnueabihf/8/include-fixed /usr/include/arm-linux-gnueabihf /usr/lib /lib/arm-linux-gnueabihf /lib /usr/lib/arm-linux-gnueabihf
    libs=-lpthread -lnsl -ldl -lm -lcrypt -lutil -lc
    perllibs=-lpthread -lnsl -ldl -lm -lcrypt -lutil -lc
    libc=libc-2.28.so
    so=so
    useshrplib=false
    libperl=libperl.a
    gnulibc_version='2.28'
  Dynamic Linking:
    dlsrc=dl_dlopen.xs
    dlext=so
    d_dlsymun=undef
    ccdlflags='-Wl,-E'
    cccdlflags='-fPIC'
    lddlflags='-shared -O2 -L/usr/local/lib -fstack-protector-strong'


Characteristics of this binary (from libperl): 
  Compile-time options:
    HAS_TIMES
    MULTIPLICITY
    PERLIO_LAYERS
    PERL_COPY_ON_WRITE
    PERL_DONT_CREATE_GVSV
    PERL_IMPLICIT_CONTEXT
    PERL_MALLOC_WRAP
    PERL_OP_PARENT
    PERL_PRESERVE_IVUV
    PERL_USE_DEVEL
    USE_ITHREADS
    USE_LARGE_FILES
    USE_LOCALE
    USE_LOCALE_COLLATE
    USE_LOCALE_CTYPE
    USE_LOCALE_NUMERIC
    USE_LOCALE_TIME
    USE_PERLIO
    USE_PERL_ATOF
    USE_REENTRANT_API
    USE_THREAD_SAFE_LOCALE
  Locally applied patches:
    Devel::PatchPerl 1.90
  Built under linux
  Compiled at Apr 16 2020 02:34:30
  %ENV:
    PERL5LIB="/tmp/build/List-BinarySearch-0.25-0/blib/arch:/tmp/build/List-BinarySearch-0.25-0/blib/lib:/tmp/build/List-BinarySearch-XS-0.09-0/blib/arch:/tmp/build/List-BinarySearch-XS-0.09-0/blib/lib:/tmp/build/Getopt-EX-2.2.1-0/blib/arch:/tmp/build/Getopt-EX-2.2.1-0/blib/lib:/tmp/build/Term-ANSIColor-Concise-2.08-0/blib/arch:/tmp/build/Term-ANSIColor-Concise-2.08-0/blib/lib:/tmp/build/Graphics-ColorNames-v3.5.0-0/blib/arch:/tmp/build/Graphics-ColorNames-v3.5.0-0/blib/lib:/tmp/build/Test-Most-0.38-0/blib/arch:/tmp/build/Test-Most-0.38-0/blib/lib:/tmp/build/Test-Warn-0.37-0/blib/arch:/tmp/build/Test-Warn-0.37-0/blib/lib:/tmp/build/Test-Differences-0.71-0/blib/arch:/tmp/build/Test-Differences-0.71-0/blib/lib:/tmp/build/Exception-Class-1.45-0/blib/arch:/tmp/build/Exception-Class-1.45-0/blib/lib:/tmp/build/Devel-StackTrace-2.05-0/blib/arch:/tmp/build/Devel-StackTrace-2.05-0/blib/lib:/tmp/build/Class-Data-Inheritable-0.10-0/blib/arch:/tmp/build/Class-Data-Inheritable-0.10-0/blib/lib"
    PERL5OPT=""
    PERL5_CPANPLUS_IS_RUNNING="12618"
    PERL5_CPAN_IS_RUNNING="12618"
    PERLBREW_HOME="/home/smoker/.perlbrew"
    PERLBREW_MANPATH="/home/smoker/perl5/perlbrew/perls/perl-5.30.2-thread/man"
    PERLBREW_PATH="/home/smoker/perl5/perlbrew/bin:/home/smoker/perl5/perlbrew/perls/perl-5.30.2-thread/bin"
    PERLBREW_PERL="perl-5.30.2-thread"
    PERLBREW_ROOT="/home/smoker/perl5/perlbrew"
    PERLBREW_SHELLRC_VERSION="0.88"
    PERLBREW_VERSION="0.88"
    PERL_MM_USE_DEFAULT="1"
    PERL_USE_UNSAFE_INC="1"
  @INC:
    /tmp/build/List-BinarySearch-0.25-0/blib/arch
    /tmp/build/List-BinarySearch-0.25-0/blib/lib
    /tmp/build/List-BinarySearch-XS-0.09-0/blib/arch
    /tmp/build/List-BinarySearch-XS-0.09-0/blib/lib
    /tmp/build/Getopt-EX-2.2.1-0/blib/arch
    /tmp/build/Getopt-EX-2.2.1-0/blib/lib
    /tmp/build/Term-ANSIColor-Concise-2.08-0/blib/arch
    /tmp/build/Term-ANSIColor-Concise-2.08-0/blib/lib
    /tmp/build/Graphics-ColorNames-v3.5.0-0/blib/arch
    /tmp/build/Graphics-ColorNames-v3.5.0-0/blib/lib
    /tmp/build/Test-Most-0.38-0/blib/arch
    /tmp/build/Test-Most-0.38-0/blib/lib
    /tmp/build/Test-Warn-0.37-0/blib/arch
    /tmp/build/Test-Warn-0.37-0/blib/lib
    /tmp/build/Test-Differences-0.71-0/blib/arch
    /tmp/build/Test-Differences-0.71-0/blib/lib
    /tmp/build/Exception-Class-1.45-0/blib/arch
    /tmp/build/Exception-Class-1.45-0/blib/lib
    /tmp/build/Devel-StackTrace-2.05-0/blib/arch
    /tmp/build/Devel-StackTrace-2.05-0/blib/lib
    /tmp/build/Class-Data-Inheritable-0.10-0/blib/arch
    /tmp/build/Class-Data-Inheritable-0.10-0/blib/lib
    /home/smoker/perl5/perlbrew/perls/perl-5.30.2-thread/lib/site_perl/5.30.2/armv7l-linux-thread-multi
    /home/smoker/perl5/perlbrew/perls/perl-5.30.2-thread/lib/site_perl/5.30.2
    /home/smoker/perl5/perlbrew/perls/perl-5.30.2-thread/lib/5.30.2/armv7l-linux-thread-multi
    /home/smoker/perl5/perlbrew/perls/perl-5.30.2-thread/lib/5.30.2
    .