Yancy v1.084 Perl 5 v5.20.1 amd64-freebsd-ld

Status
Pass
From
Slaven Rezić
Dist
Yancy v1.084
Platform
Perl 5 v5.20.1 amd64-freebsd-ld
Date
2021-11-03 18:09:06
ID
22269b48-3cd1-11ec-85fc-ac841f24ea8f
This distribution has been tested as part of the CPAN Testers
project, supporting the Perl programming language.  See
http://wiki.cpantesters.org/ for more information or email
questions to cpan-testers-discuss@perl.org


--
Dear Doug Bell,

This is a computer-generated report for Yancy-1.084
on perl 5.20.1, created by CPAN-Reporter-1.2018.

Thank you for uploading your work to CPAN.  Congratulations!
All tests were successful.

Sections of this report:

    * Tester comments
    * Program output
    * Prerequisites
    * Environment and other context

------------------------------
TESTER COMMENTS
------------------------------

Additional comments from tester:

none provided

------------------------------
PROGRAM OUTPUT
------------------------------

Output from '/usr/bin/make test':

Skip blib/lib/auto/share/dist/Yancy/update_resources.sh (unchanged)
PERL_DL_NONLAZY=1 "/usr/perl5.20.1Dp/bin/perl5.20.1" "-MExtUtils::Command::MM" "-MTest::Harness" "-e" "undef *Test::Harness::Switches; test_harness(0, 'blib/lib', 'blib/arch')" t/*.t t/backend/*.t t/command/backend/*.t t/controller/*.t t/examples/*.t t/plugin/*.t t/plugin/auth/*.t t/plugin/form/*.t
t/00-compile.t ............... ok
# 
# Versions for all modules listed in MYMETA.json (including optional ones):
# 
# === Configure Requires ===
# 
#     Module                  Want Have
#     ----------------------- ---- ----
#     ExtUtils::MakeMaker      any 7.58
#     File::ShareDir::Install 0.06 0.10
# 
# === Configure Suggests ===
# 
#     Module      Want    Have
#     -------- ------- -------
#     JSON::PP 2.27300 2.27400
# 
# === Build Requires ===
# 
#     Module              Want Have
#     ------------------- ---- ----
#     ExtUtils::MakeMaker  any 7.58
# 
# === Test Requires ===
# 
#     Module                  Want     Have
#     ------------------- -------- --------
#     ExtUtils::MakeMaker      any     7.58
#     File::Spec               any     3.48
#     File::Temp            0.2307   0.2311
#     IO::Handle               any     1.35
#     IPC::Open3               any     1.16
#     Test::More          1.001005 1.302183
# 
# === Test Recommends ===
# 
#     Module         Want     Have
#     ---------- -------- --------
#     CPAN::Meta 2.120900 2.143240
# 
# === Runtime Requires ===
# 
#     Module                           Want     Have
#     ---------------------------- -------- --------
#     Class::Method::Modifiers          any     2.11
#     Digest                            any     1.17
#     Exporter                          any     5.71
#     File::Spec::Functions             any     3.48
#     FindBin                           any     1.51
#     JSON::Validator                  5.00     5.02
#     Mojolicious                         9     9.22
#     Mojolicious::Plugin::I18N         1.6      1.6
#     Mojolicious::Plugin::OpenAPI     5.00     5.00
#     Role::Tiny                   2.000001 2.002004
#     Scalar::Util                      any     1.60
#     Sys::Hostname                     any     1.18
#     Text::Balanced                    any     2.02
# 
t/00-report-prereqs.t ........ ok
x-view is deprecated and will be removed in v2. Use Yancy::Model or your database's CREATE VIEW instead. at /home/cpansand/.cpan/build/2021110318/Yancy-1.084-T7BmWu/blib/lib/Yancy/Model/Schema.pm line 281.
t/api.t ...................... ok
t/app.t ...................... ok
t/backend/dbic.t ............. skipped: DBIx::Class >= 0.082842 required for this test
t/backend/memory.t ........... ok
t/backend/mysql.t ............ skipped: Mojo::mysql >= 1.0 required for this test
t/backend/pg.t ............... skipped: Mojo::Pg >= 3.0 required for this test
t/backend/sqlite.t ........... skipped: DBD::SQLite >= 1.56 required for this test
x-view is deprecated and will be removed in v2. Use Yancy::Model or your database's CREATE VIEW instead. at /home/cpansand/.cpan/build/2021110318/Yancy-1.084-T7BmWu/blib/lib/Yancy/Model/Schema.pm line 281.
t/command/backend/copy.t ..... ok
x-view is deprecated and will be removed in v2. Use Yancy::Model or your database's CREATE VIEW instead. at /home/cpansand/.cpan/build/2021110318/Yancy-1.084-T7BmWu/blib/lib/Yancy/Model/Schema.pm line 281.
t/config.t ................... ok
x-view is deprecated and will be removed in v2. Use Yancy::Model or your database's CREATE VIEW instead. at /home/cpansand/.cpan/build/2021110318/Yancy-1.084-T7BmWu/blib/lib/Yancy/Model/Schema.pm line 281.
t/controller/multi_tenant.t .. ok
x-view is deprecated and will be removed in v2. Use Yancy::Model or your database's CREATE VIEW instead. at /home/cpansand/.cpan/build/2021110318/Yancy-1.084-T7BmWu/blib/lib/Yancy/Model/Schema.pm line 281.
t/controller/yancy.t ......... ok
t/examples/doc-site.t ........ skipped: Set TEST_YANCY_EXAMPLES to run these tests
t/examples/limited-editor.t .. skipped: Set TEST_YANCY_EXAMPLES to run these tests
t/examples/test-app.t ........ skipped: Set TEST_YANCY_EXAMPLES to run these tests
t/examples/todo-app.t ........ skipped: Set TEST_YANCY_EXAMPLES to run these tests
x-view is deprecated and will be removed in v2. Use Yancy::Model or your database's CREATE VIEW instead. at /home/cpansand/.cpan/build/2021110318/Yancy-1.084-T7BmWu/blib/lib/Yancy/Model/Schema.pm line 281.
[2021-11-03 18:38:29.67343] [5870] [fatal] [f5LvwuKxB0Y1] Unknown filter: DOES.NOT.EXIST (schema: user, field: email) at /home/cpansand/.cpan/build/2021110318/Yancy-1.084-T7BmWu/blib/lib/Mojolicious/Plugin/Yancy.pm line 876.

t/filter.t ................... ok
x-view is deprecated and will be removed in v2. Use Yancy::Model or your database's CREATE VIEW instead. at /home/cpansand/.cpan/build/2021110318/Yancy-1.084-T7BmWu/blib/lib/Yancy/Model/Schema.pm line 281.
t/helpers.t .................. ok
x-view is deprecated and will be removed in v2. Use Yancy::Model or your database's CREATE VIEW instead. at /home/cpansand/.cpan/build/2021110318/Yancy-1.084-T7BmWu/blib/lib/Yancy/Model/Schema.pm line 281.
t/i18n.t ..................... ok
t/model.t .................... ok
x-view is deprecated and will be removed in v2. Use Yancy::Model or your database's CREATE VIEW instead. at /home/cpansand/.cpan/build/2021110318/Yancy-1.084-T7BmWu/blib/lib/Yancy/Model/Schema.pm line 281.
t/plugin/auth.t .............. ok
x-view is deprecated and will be removed in v2. Use Yancy::Model or your database's CREATE VIEW instead. at /home/cpansand/.cpan/build/2021110318/Yancy-1.084-T7BmWu/blib/lib/Yancy/Model/Schema.pm line 281.
The Auth::Basic plugin is deprecated and will be removed in Yancy v2.000. Please migrate to the Auth::Password module.
 at /home/cpansand/.cpan/build/2021110318/Yancy-1.084-T7BmWu/blib/lib/Yancy/Plugin/Auth/Basic.pm line 256.
t/plugin/auth/basic.t ........ ok
x-view is deprecated and will be removed in v2. Use Yancy::Model or your database's CREATE VIEW instead. at /home/cpansand/.cpan/build/2021110318/Yancy-1.084-T7BmWu/blib/lib/Yancy/Model/Schema.pm line 281.
t/plugin/auth/github.t ....... ok
x-view is deprecated and will be removed in v2. Use Yancy::Model or your database's CREATE VIEW instead. at /home/cpansand/.cpan/build/2021110318/Yancy-1.084-T7BmWu/blib/lib/Yancy/Model/Schema.pm line 281.
t/plugin/auth/oauth2.t ....... ok
x-view is deprecated and will be removed in v2. Use Yancy::Model or your database's CREATE VIEW instead. at /home/cpansand/.cpan/build/2021110318/Yancy-1.084-T7BmWu/blib/lib/Yancy/Model/Schema.pm line 281.
t/plugin/auth/password.t ..... ok
x-view is deprecated and will be removed in v2. Use Yancy::Model or your database's CREATE VIEW instead. at /home/cpansand/.cpan/build/2021110318/Yancy-1.084-T7BmWu/blib/lib/Yancy/Model/Schema.pm line 281.
t/plugin/auth/token.t ........ ok
t/plugin/editor.t ............ ok
x-view is deprecated and will be removed in v2. Use Yancy::Model or your database's CREATE VIEW instead. at /home/cpansand/.cpan/build/2021110318/Yancy-1.084-T7BmWu/blib/lib/Yancy/Model/Schema.pm line 281.
[2021-11-03 18:38:42.10768] [5881] [warn] *** Cannot verify that admin editor is behind authentication.
Add a Yancy Auth plugin, add a `route` to the Yancy plugin config,
or set `editor.require_user => undef` to silence this warning

t/plugin/file.t .............. ok
x-view is deprecated and will be removed in v2. Use Yancy::Model or your database's CREATE VIEW instead. at /home/cpansand/.cpan/build/2021110318/Yancy-1.084-T7BmWu/blib/lib/Yancy/Model/Schema.pm line 281.
[2021-11-03 18:38:43.13034] [5890] [warn] [eSOlRjfZ_2HR] form_for() called with incomplete request. CSRF token may not validate!
t/plugin/form/bootstrap4.t ... ok
x-view is deprecated and will be removed in v2. Use Yancy::Model or your database's CREATE VIEW instead. at /home/cpansand/.cpan/build/2021110318/Yancy-1.084-T7BmWu/blib/lib/Yancy/Model/Schema.pm line 281.
t/plugin/roles.t ............. ok
    # Could not load SQLite backend: DBD::SQLite version 1.56 or higher required
    # BEGIN failed--compilation aborted at /home/cpansand/.cpan/build/2021110318/Yancy-1.084-T7BmWu/blib/lib/Yancy/Backend/Sqlite.pm line 116.
    # Compilation failed in require at t/register.t line 21.
    # Could not load Pg backend: Mojo::Pg version 4.03 or higher required
    # BEGIN failed--compilation aborted at /home/cpansand/.cpan/build/2021110318/Yancy-1.084-T7BmWu/blib/lib/Yancy/Backend/Pg.pm line 128.
    # Compilation failed in require at t/register.t line 37.
    # Could not load Mysql backend: Mojo::mysql version 1.05 or higher required
    # BEGIN failed--compilation aborted at /home/cpansand/.cpan/build/2021110318/Yancy-1.084-T7BmWu/blib/lib/Yancy/Backend/Mysql.pm line 119.
    # Compilation failed in require at t/register.t line 53.
t/register.t ................. ok
t/util.t ..................... ok
All tests successful.
Files=33, Tests=201, 42 wallclock secs ( 0.06 usr  0.46 sys + 17.44 cusr 18.88 csys = 36.84 CPU)
Result: PASS

------------------------------
PREREQUISITES
------------------------------

Prerequisite modules loaded:

requires:

    Module                       Need     Have    
    ---------------------------- -------- --------
    Class::Method::Modifiers     0        2.11    
    Digest                       0        1.17    
    Exporter                     0        5.71    
    File::Spec::Functions        0        3.48    
    FindBin                      0        1.51    
    JSON::Validator              5.00     5.02    
    Mojolicious                  9        9.22    
    Mojolicious::Plugin::I18N    1.6      1.6     
    Mojolicious::Plugin::OpenAPI 5.00     5.00    
    perl                         5.016    5.020001
    Role::Tiny                   2.000001 2.002004
    Scalar::Util                 0        1.60    
    Sys::Hostname                0        1.18    
    Text::Balanced               0        2.02    

build_requires:

    Module                       Need     Have    
    ---------------------------- -------- --------
    ExtUtils::MakeMaker          0        7.58    
    File::Spec                   0        3.48    
    File::Temp                   0.2307   0.2311  
    IO::Handle                   0        1.35    
    IPC::Open3                   0        1.16    
    Test::More                   1.001005 1.302183

configure_requires:

    Module                       Need     Have    
    ---------------------------- -------- --------
    ExtUtils::MakeMaker          0        7.58    
    File::ShareDir::Install      0.06     0.10    


------------------------------
ENVIRONMENT AND OTHER CONTEXT
------------------------------

Environment variables:

    LC_ALL = de_DE.ISO8859-1
    PATH = /usr/local/bin:/usr/bin:/bin:/usr/local/sbin:/usr/sbin:/sbin:/home/cpansand/bin/freebsd10.3:/home/cpansand/bin/sh:/home/cpansand/bin:/usr/games:/home/cpansand/devel:/home/eserte/src/srezic-misc/scripts
    PERL5LIB = /home/cpansand/.cpan/build/2021110318/Mojolicious-Plugin-OpenAPI-5.00-uVbn2y/blib/arch:/home/cpansand/.cpan/build/2021110318/Mojolicious-Plugin-OpenAPI-5.00-uVbn2y/blib/lib:/home/cpansand/.cpan/build/2021110318/File-Temp-0.2311-FRFrCJ/blib/arch:/home/cpansand/.cpan/build/2021110318/File-Temp-0.2311-FRFrCJ/blib/lib:/home/cpansand/.cpan/build/2021110318/Mojolicious-Plugin-I18N-1.6-5rvGlh/blib/arch:/home/cpansand/.cpan/build/2021110318/Mojolicious-Plugin-I18N-1.6-5rvGlh/blib/lib:/home/cpansand/.cpan/build/2021110318/JSON-Validator-5.02-yDoS9c/blib/arch:/home/cpansand/.cpan/build/2021110318/JSON-Validator-5.02-yDoS9c/blib/lib:/home/cpansand/.cpan/build/2021110318/YAML-LibYAML-0.83-V1jSe3/blib/arch:/home/cpansand/.cpan/build/2021110318/YAML-LibYAML-0.83-V1jSe3/blib/lib:/home/cpansand/.cpan/build/2021110318/Role-Tiny-2.002004-7NUm5W/blib/arch:/home/cpansand/.cpan/build/2021110318/Role-Tiny-2.002004-7NUm5W/blib/lib:/home/cpansand/.cpan/build/2021110318/Mojolicious-9.22-nPMqpz/blib/arch:/home/cpansand/.cpan/build/2021110318/Mojolicious-9.22-nPMqpz/blib/lib:/home/cpansand/.cpan/build/2021110318/IO-Socket-IP-0.41-ZdRDaR/blib/arch:/home/cpansand/.cpan/build/2021110318/IO-Socket-IP-0.41-ZdRDaR/blib/lib:/home/cpansand/.cpan/build/2021110318/Scalar-List-Utils-1.60-1qjCyr/blib/arch:/home/cpansand/.cpan/build/2021110318/Scalar-List-Utils-1.60-1qjCyr/blib/lib
    PERL5OPT = 
    PERL5_CPANPLUS_IS_RUNNING = 4610
    PERL5_CPAN_IS_RUNNING = 4610
    PERL5_CPAN_IS_RUNNING_IN_RECURSION = 4389,4610
    PERLDOC = -MPod::Perldoc::ToTextOverstrike
    PERL_BATCH = yes
    PERL_CANARY_STABILITY_NOPROMPT = 1
    PERL_CPAN_REPORTER_CONFIG = /var/tmp/cpansmoker-1023/2021110318/cpanreporter_000_config.ini
    PERL_EXTUTILS_AUTOINSTALL = --defaultdeps
    SHELL = /usr/local/bin/zsh
    TERM = screen
    TMPDIR = /var/tmp/cpansmoker-1023/2021110318

Perl special variables (and OS-specific diagnostics, for MSWin32):

    $^X = /usr/perl5.20.1Dp/bin/perl5.20.1
    $UID/$EUID = 1023 / 1023
    $GID = 1023 1023
    $EGID = 1023 1023

Perl module toolchain versions installed:

    Module              Have    
    ------------------- --------
    CPAN                2.05    
    CPAN::Meta          2.143240
    Cwd                 3.48    
    ExtUtils::CBuilder  0.280217
    ExtUtils::Command   7.58    
    ExtUtils::Install   2.06    
    ExtUtils::MakeMaker 7.58    
    ExtUtils::Manifest  1.70    
    ExtUtils::ParseXS   3.35    
    File::Spec          3.48    
    JSON                2.90    
    JSON::PP            2.27400 
    Module::Build       0.4211  
    Module::Signature   n/a     
    Parse::CPAN::Meta   1.4422  
    Test::Harness       3.30    
    Test::More          1.302183
    YAML                1.14    
    YAML::Syck          1.29    
    version             0.9909  


--

Summary of my perl5 (revision 5 version 20 subversion 1) configuration:
   
  Platform:
    osname=freebsd, osvers=10.1-release, archname=amd64-freebsd-ld
    uname='freebsd cvrsnica-freebsd-101.herceg.de 10.1-release freebsd 10.1-release #0 r274401: tue nov 11 21:02:49 utc 2014 root@releng1.nyi.freebsd.org:usrobjusrsrcsysgeneric amd64 '
    config_args='-ds -e -Dprefix=/usr/perl5.20.1Dp -Duselongdouble'
    hint=recommended, useposix=true, d_sigaction=define
    useithreads=undef, usemultiplicity=undef
    use64bitint=define, use64bitall=define, uselongdouble=define
    usemymalloc=n, bincompat5005=undef
  Compiler:
    cc='cc', ccflags ='-DHAS_FPSETMASK -DHAS_FLOATINGPOINT_H -fno-strict-aliasing -pipe -fstack-protector -I/usr/local/include',
    optimize='-O',
    cppflags='-DHAS_FPSETMASK -DHAS_FLOATINGPOINT_H -fno-strict-aliasing -pipe -fstack-protector -I/usr/local/include'
    ccversion='', gccversion='4.2.1 Compatible FreeBSD Clang 3.4.1 (tags/RELEASE_34/dot1-final 208032)', gccosandvers=''
    intsize=4, longsize=8, ptrsize=8, doublesize=8, byteorder=12345678
    d_longlong=define, longlongsize=8, d_longdbl=define, longdblsize=16
    ivtype='long', ivsize=8, nvtype='long double', nvsize=16, Off_t='off_t', lseeksize=8
    alignbytes=16, prototype=define
  Linker and Libraries:
    ld='cc', ldflags ='-pthread -Wl,-E  -fstack-protector -L/usr/local/lib'
    libpth=/usr/lib /usr/local/lib /usr/include/clang/3.4.1 /usr/lib
    libs=-lgdbm -lm -lcrypt -lutil -lc
    perllibs=-lm -lcrypt -lutil -lc
    libc=, so=so, useshrplib=false, libperl=libperl.a
    gnulibc_version=''
  Dynamic Linking:
    dlsrc=dl_dlopen.xs, dlext=so, d_dlsymun=undef, ccdlflags=' '
    cccdlflags='-DPIC -fPIC', lddlflags='-shared  -L/usr/local/lib -fstack-protector'


Characteristics of this binary (from libperl): 
  Compile-time options: HAS_TIMES PERLIO_LAYERS PERL_DONT_CREATE_GVSV
                        PERL_HASH_FUNC_ONE_AT_A_TIME_HARD PERL_MALLOC_WRAP
                        PERL_NEW_COPY_ON_WRITE PERL_PRESERVE_IVUV
                        USE_64_BIT_ALL USE_64_BIT_INT USE_LARGE_FILES
                        USE_LOCALE USE_LOCALE_COLLATE USE_LOCALE_CTYPE
                        USE_LOCALE_NUMERIC USE_LONG_DOUBLE USE_PERLIO
                        USE_PERL_ATOF
  Built under freebsd
  Compiled at Feb 13 2015 08:17:27
  %ENV:
    PERL5LIB="/home/cpansand/.cpan/build/2021110318/Mojolicious-Plugin-OpenAPI-5.00-uVbn2y/blib/arch:/home/cpansand/.cpan/build/2021110318/Mojolicious-Plugin-OpenAPI-5.00-uVbn2y/blib/lib:/home/cpansand/.cpan/build/2021110318/File-Temp-0.2311-FRFrCJ/blib/arch:/home/cpansand/.cpan/build/2021110318/File-Temp-0.2311-FRFrCJ/blib/lib:/home/cpansand/.cpan/build/2021110318/Mojolicious-Plugin-I18N-1.6-5rvGlh/blib/arch:/home/cpansand/.cpan/build/2021110318/Mojolicious-Plugin-I18N-1.6-5rvGlh/blib/lib:/home/cpansand/.cpan/build/2021110318/JSON-Validator-5.02-yDoS9c/blib/arch:/home/cpansand/.cpan/build/2021110318/JSON-Validator-5.02-yDoS9c/blib/lib:/home/cpansand/.cpan/build/2021110318/YAML-LibYAML-0.83-V1jSe3/blib/arch:/home/cpansand/.cpan/build/2021110318/YAML-LibYAML-0.83-V1jSe3/blib/lib:/home/cpansand/.cpan/build/2021110318/Role-Tiny-2.002004-7NUm5W/blib/arch:/home/cpansand/.cpan/build/2021110318/Role-Tiny-2.002004-7NUm5W/blib/lib:/home/cpansand/.cpan/build/2021110318/Mojolicious-9.22-nPMqpz/blib/arch:/home/cpansand/.cpan/build/2021110318/Mojolicious-9.22-nPMqpz/blib/lib:/home/cpansand/.cpan/build/2021110318/IO-Socket-IP-0.41-ZdRDaR/blib/arch:/home/cpansand/.cpan/build/2021110318/IO-Socket-IP-0.41-ZdRDaR/blib/lib:/home/cpansand/.cpan/build/2021110318/Scalar-List-Utils-1.60-1qjCyr/blib/arch:/home/cpansand/.cpan/build/2021110318/Scalar-List-Utils-1.60-1qjCyr/blib/lib"
    PERL5OPT=""
    PERL5_CPANPLUS_IS_RUNNING="4610"
    PERL5_CPAN_IS_RUNNING="4610"
    PERL5_CPAN_IS_RUNNING_IN_RECURSION="4389,4610"
    PERLDOC="-MPod::Perldoc::ToTextOverstrike"
    PERL_BATCH="yes"
    PERL_CANARY_STABILITY_NOPROMPT="1"
    PERL_CPAN_REPORTER_CONFIG="/var/tmp/cpansmoker-1023/2021110318/cpanreporter_000_config.ini"
    PERL_EXTUTILS_AUTOINSTALL="--defaultdeps"
  @INC:
    /home/cpansand/.cpan/build/2021110318/Mojolicious-Plugin-OpenAPI-5.00-uVbn2y/blib/arch
    /home/cpansand/.cpan/build/2021110318/Mojolicious-Plugin-OpenAPI-5.00-uVbn2y/blib/lib
    /home/cpansand/.cpan/build/2021110318/File-Temp-0.2311-FRFrCJ/blib/arch
    /home/cpansand/.cpan/build/2021110318/File-Temp-0.2311-FRFrCJ/blib/lib
    /home/cpansand/.cpan/build/2021110318/Mojolicious-Plugin-I18N-1.6-5rvGlh/blib/arch
    /home/cpansand/.cpan/build/2021110318/Mojolicious-Plugin-I18N-1.6-5rvGlh/blib/lib
    /home/cpansand/.cpan/build/2021110318/JSON-Validator-5.02-yDoS9c/blib/arch
    /home/cpansand/.cpan/build/2021110318/JSON-Validator-5.02-yDoS9c/blib/lib
    /home/cpansand/.cpan/build/2021110318/YAML-LibYAML-0.83-V1jSe3/blib/arch
    /home/cpansand/.cpan/build/2021110318/YAML-LibYAML-0.83-V1jSe3/blib/lib
    /home/cpansand/.cpan/build/2021110318/Role-Tiny-2.002004-7NUm5W/blib/arch
    /home/cpansand/.cpan/build/2021110318/Role-Tiny-2.002004-7NUm5W/blib/lib
    /home/cpansand/.cpan/build/2021110318/Mojolicious-9.22-nPMqpz/blib/arch
    /home/cpansand/.cpan/build/2021110318/Mojolicious-9.22-nPMqpz/blib/lib
    /home/cpansand/.cpan/build/2021110318/IO-Socket-IP-0.41-ZdRDaR/blib/arch
    /home/cpansand/.cpan/build/2021110318/IO-Socket-IP-0.41-ZdRDaR/blib/lib
    /home/cpansand/.cpan/build/2021110318/Scalar-List-Utils-1.60-1qjCyr/blib/arch
    /home/cpansand/.cpan/build/2021110318/Scalar-List-Utils-1.60-1qjCyr/blib/lib
    /usr/perl5.20.1Dp/lib/site_perl/5.20.1/amd64-freebsd-ld
    /usr/perl5.20.1Dp/lib/site_perl/5.20.1
    /usr/perl5.20.1Dp/lib/5.20.1/amd64-freebsd-ld
    /usr/perl5.20.1Dp/lib/5.20.1
    .