Encode v3.16 Perl 5 v5.12.3 i686-linux
- Status
- Pass
- From
- NONAME
- Dist
-
Encode v3.16
- Platform
- Perl 5 v5.12.3 i686-linux
- Date
- 2022-03-02 16:59:28
- ID
- 1f7dfe32-9a4a-11ec-ba66-0d7c2fbc8eb1
This distribution has been tested as part of the CPAN Testers
project, supporting the Perl programming language. See
http://wiki.cpantesters.org/ for more information or email
questions to cpan-testers-discuss@perl.org
--
Dear Dan Kogai,
This is a computer-generated report for Encode-3.16
on perl 5.12.3, created by CPAN-Reporter-1.2014.
Thank you for uploading your work to CPAN. Congratulations!
All tests were successful.
Sections of this report:
* Tester comments
* Program output
* Prerequisites
* Environment and other context
------------------------------
TESTER COMMENTS
------------------------------
Additional comments from tester:
none provided
------------------------------
PROGRAM OUTPUT
------------------------------
Output from '/usr/bin/make test':
make[1]: Entering directory `/root/.cpan/build/Encode-3.16-0/Byte'
Running Mkbootstrap for Encode::Byte ()
chmod 644 "Byte.bs"
make[1]: Leaving directory `/root/.cpan/build/Encode-3.16-0/Byte'
make[1]: Entering directory `/root/.cpan/build/Encode-3.16-0/CN'
Running Mkbootstrap for Encode::CN ()
chmod 644 "CN.bs"
make[1]: Leaving directory `/root/.cpan/build/Encode-3.16-0/CN'
make[1]: Entering directory `/root/.cpan/build/Encode-3.16-0/EBCDIC'
Running Mkbootstrap for Encode::EBCDIC ()
chmod 644 "EBCDIC.bs"
make[1]: Leaving directory `/root/.cpan/build/Encode-3.16-0/EBCDIC'
make[1]: Entering directory `/root/.cpan/build/Encode-3.16-0/JP'
Running Mkbootstrap for Encode::JP ()
chmod 644 "JP.bs"
make[1]: Leaving directory `/root/.cpan/build/Encode-3.16-0/JP'
make[1]: Entering directory `/root/.cpan/build/Encode-3.16-0/KR'
Running Mkbootstrap for Encode::KR ()
chmod 644 "KR.bs"
make[1]: Leaving directory `/root/.cpan/build/Encode-3.16-0/KR'
make[1]: Entering directory `/root/.cpan/build/Encode-3.16-0/Symbol'
Running Mkbootstrap for Encode::Symbol ()
chmod 644 "Symbol.bs"
make[1]: Leaving directory `/root/.cpan/build/Encode-3.16-0/Symbol'
make[1]: Entering directory `/root/.cpan/build/Encode-3.16-0/TW'
Running Mkbootstrap for Encode::TW ()
chmod 644 "TW.bs"
make[1]: Leaving directory `/root/.cpan/build/Encode-3.16-0/TW'
make[1]: Entering directory `/root/.cpan/build/Encode-3.16-0/Unicode'
Running Mkbootstrap for Encode::Unicode ()
chmod 644 "Unicode.bs"
make[1]: Leaving directory `/root/.cpan/build/Encode-3.16-0/Unicode'
Running Mkbootstrap for Encode ()
chmod 644 "Encode.bs"
PERL_DL_NONLAZY=1 "/usr/local/bin/perl" "-MExtUtils::Command::MM" "-MTest::Harness" "-e" "undef *Test::Harness::Switches; test_harness(0, 'blib/lib', 'blib/arch')" t/*.t
t/Aliases.t ................ ok
t/at-cn.t .................. ok
t/at-tw.t .................. ok
t/CJKT.t ................... ok
t/cow.t .................... ok
t/decode.t ................. ok
t/enc_data.t ............... ok
t/enc_eucjp.t .............. ok
t/enc_module.t ............. ok
t/enc_utf8.t ............... ok
t/Encode.t ................. ok
t/Encoder.t ................ ok
t/encoding-locale.t ........ ok
t/encoding.t ............... ok
t/fallback.t ............... ok
t/from_to.t ................ ok
t/grow.t ................... ok
t/gsm0338.t ................ ok
t/guess.t .................. ok
t/isa.t .................... ok
t/jis7-fallback.t .......... ok
t/jperl.t .................. ok
t/magic.t .................. ok
t/mime-header.t ............ ok
t/mime-name.t .............. ok
t/mime_header_iso2022jp.t .. ok
t/perlio.t ................. ok
t/piconv.t ................. ok
t/rt113164.t ............... ok
t/rt65541.t ................ ok
t/rt76824.t ................ ok
t/rt85489.t ................ ok
t/rt86327.t ................ ok
t/taint.t .................. ok
t/truncated_utf8.t ......... ok
t/undef.t .................. ok
t/Unicode.t ................ ok
# temp file: /tmp/aa7xR6GrXR
t/Unicode_trailing_nul.t ... ok
t/use-Encode-Alias.t ....... ok
t/utf8ref.t ................ ok
t/utf8strict.t ............. ok
t/utf8warnings.t ........... ok
t/whatwg-aliases.t ......... skipped: For maintainers only
t/xml.t .................... ok
All tests successful.
Test Summary Report
-------------------
t/truncated_utf8.t (Wstat: 0 Tests: 9 Failed: 0)
TODO passed: 9
Files=44, Tests=7778, 11 wallclock secs ( 0.82 usr 0.08 sys + 8.95 cusr 0.28 csys = 10.13 CPU)
Result: PASS
make[1]: Entering directory `/root/.cpan/build/Encode-3.16-0/Byte'
No tests defined for Encode::Byte extension.
make[1]: Leaving directory `/root/.cpan/build/Encode-3.16-0/Byte'
make[1]: Entering directory `/root/.cpan/build/Encode-3.16-0/CN'
No tests defined for Encode::CN extension.
make[1]: Leaving directory `/root/.cpan/build/Encode-3.16-0/CN'
make[1]: Entering directory `/root/.cpan/build/Encode-3.16-0/EBCDIC'
No tests defined for Encode::EBCDIC extension.
make[1]: Leaving directory `/root/.cpan/build/Encode-3.16-0/EBCDIC'
make[1]: Entering directory `/root/.cpan/build/Encode-3.16-0/JP'
No tests defined for Encode::JP extension.
make[1]: Leaving directory `/root/.cpan/build/Encode-3.16-0/JP'
make[1]: Entering directory `/root/.cpan/build/Encode-3.16-0/KR'
No tests defined for Encode::KR extension.
make[1]: Leaving directory `/root/.cpan/build/Encode-3.16-0/KR'
make[1]: Entering directory `/root/.cpan/build/Encode-3.16-0/Symbol'
No tests defined for Encode::Symbol extension.
make[1]: Leaving directory `/root/.cpan/build/Encode-3.16-0/Symbol'
make[1]: Entering directory `/root/.cpan/build/Encode-3.16-0/TW'
No tests defined for Encode::TW extension.
make[1]: Leaving directory `/root/.cpan/build/Encode-3.16-0/TW'
make[1]: Entering directory `/root/.cpan/build/Encode-3.16-0/Unicode'
No tests defined for Encode::Unicode extension.
make[1]: Leaving directory `/root/.cpan/build/Encode-3.16-0/Unicode'
------------------------------
PREREQUISITES
------------------------------
Prerequisite modules loaded:
requires:
Module Need Have
------------------- ----- --------
Exporter 5.57 5.64_01
parent 0.221 0.234
Storable 0 2.22
build_requires:
Module Need Have
------------------- ----- --------
ExtUtils::MakeMaker 0 7.04
Test::More 0.92 1.302168
configure_requires:
Module Need Have
------------------- ----- --------
ExtUtils::MakeMaker 0 7.04
------------------------------
ENVIRONMENT AND OTHER CONTEXT
------------------------------
Environment variables:
PATH = /usr/local/apache/bin:/usr/local/bin:/usr/local/sbin:/usr/local/bin:/sbin:/bin:/usr/sbin:/usr/bin:/root/bin
PERL5LIB =
PERL5OPT =
PERL5_CPANPLUS_IS_RUNNING = 10362
PERL5_CPAN_IS_RUNNING = 10362
SHELL = /bin/bash
TERM = xterm
Perl special variables (and OS-specific diagnostics, for MSWin32):
$^X = /usr/local/bin/perl
$UID/$EUID = 0 / 0
$GID = 0 0 1 2 3 4 6 10
$EGID = 0 0 1 2 3 4 6 10
Perl module toolchain versions installed:
Module Have
------------------- --------
CPAN 2.14
CPAN::Meta 2.150005
Cwd 3.47
ExtUtils::CBuilder 0.280216
ExtUtils::Command 1.16
ExtUtils::Install 1.55
ExtUtils::MakeMaker 7.04
ExtUtils::Manifest 1.65
ExtUtils::ParseXS 3.24
File::Spec 3.47
JSON 2.90
JSON::PP 4.04
Module::Build 0.4214
Module::Signature n/a
Parse::CPAN::Meta 1.4417
Test::Harness 3.30
Test::More 1.302168
YAML 0.90
YAML::Syck 1.19
version 0.95
--
Summary of my perl5 (revision 5 version 12 subversion 3) configuration:
Platform:
osname=linux, osvers=2.6.32.36-kvm-i386-20110329-dirty, archname=i686-linux
uname='linux cogendo.vm.bytemark.co.uk 2.6.32.36-kvm-i386-20110329-dirty #1 smp tue mar 29 11:47:34 bst 2011 i686 athlon i386 gnulinux '
config_args=''
hint=recommended, useposix=true, d_sigaction=define
useithreads=undef, usemultiplicity=undef
useperlio=define, d_sfio=undef, uselargefiles=define, usesocks=undef
use64bitint=undef, use64bitall=undef, uselongdouble=undef
usemymalloc=n, bincompat5005=undef
Compiler:
cc='cc', ccflags ='-fno-strict-aliasing -pipe -fstack-protector -I/usr/local/include -D_LARGEFILE_SOURCE -D_FILE_OFFSET_BITS=64',
optimize='-O2',
cppflags='-fno-strict-aliasing -pipe -fstack-protector -I/usr/local/include'
ccversion='', gccversion='4.1.2 20080704 (Red Hat 4.1.2-48)', gccosandvers=''
intsize=4, longsize=4, ptrsize=4, doublesize=8, byteorder=1234
d_longlong=define, longlongsize=8, d_longdbl=define, longdblsize=12
ivtype='long', ivsize=4, nvtype='double', nvsize=8, Off_t='off_t', lseeksize=8
alignbytes=4, prototype=define
Linker and Libraries:
ld='cc', ldflags =' -fstack-protector -L/usr/local/lib'
libpth=/usr/local/lib /lib /usr/lib
libs=-lnsl -ldl -lm -lcrypt -lutil -lc
perllibs=-lnsl -ldl -lm -lcrypt -lutil -lc
libc=/lib/libc-2.5.so, so=so, useshrplib=false, libperl=libperl.a
gnulibc_version='2.5'
Dynamic Linking:
dlsrc=dl_dlopen.xs, dlext=so, d_dlsymun=undef, ccdlflags='-Wl,-E'
cccdlflags='-fPIC', lddlflags='-shared -O2 -L/usr/local/lib -fstack-protector'
Characteristics of this binary (from libperl):
Compile-time options: PERL_DONT_CREATE_GVSV PERL_MALLOC_WRAP
USE_LARGE_FILES USE_PERLIO USE_PERL_ATOF
Built under linux
Compiled at Apr 7 2011 16:20:22
%ENV:
PERL5LIB=""
PERL5OPT=""
PERL5_CPANPLUS_IS_RUNNING="10362"
PERL5_CPAN_IS_RUNNING="10362"
@INC:
/usr/local/lib/perl5/site_perl/5.12.3/i686-linux
/usr/local/lib/perl5/site_perl/5.12.3
/usr/local/lib/perl5/5.12.3/i686-linux
/usr/local/lib/perl5/5.12.3
.