PPI v1.278 Perl 5 v5.10.1 MSWin32-x86-multi-thread
- Status
- Pass
- From
- NONAME
- Dist
-
PPI v1.278
- Platform
- Perl 5 v5.10.1 MSWin32-x86-multi-thread
- Date
- 2024-03-21 13:11:38
- ID
- 1eb1603e-6cac-1014-83ce-2a9fb03d33c9
This distribution has been tested as part of the CPAN Testers
project, supporting the Perl programming language. See
http://wiki.cpantesters.org/ for more information or email
questions to cpan-testers-discuss@perl.org
--
Dear OALDERS,
This is a computer-generated report for PPI-1.278
on perl 5.10.1, created by App::cpanminus::reporter 0.17 (1.7045).
Thank you for uploading your work to CPAN. Congratulations!
All tests were successful.
Sections of this report:
* Tester comments
* Program output
* Prerequisites
* Environment and other context
------------------------------
TESTER COMMENTS
------------------------------
Additional comments from tester:
none provided
------------------------------
PROGRAM OUTPUT
------------------------------
Output from '':
Building and testing PPI-1.278
cp lib/PPI/Exception/ParserRejection.pm blib\lib\PPI\Exception\ParserRejection.pm
cp lib/PPI.pm blib\lib\PPI.pm
cp lib/PPI/Find.pm blib\lib\PPI\Find.pm
cp lib/PPI/Normal/Standard.pm blib\lib\PPI\Normal\Standard.pm
cp lib/PPI/Node.pm blib\lib\PPI\Node.pm
cp lib/PPI/Singletons.pm blib\lib\PPI\Singletons.pm
cp lib/PPI/Document/Fragment.pm blib\lib\PPI\Document\Fragment.pm
cp lib/PPI/Statement.pm blib\lib\PPI\Statement.pm
cp lib/PPI/Document/File.pm blib\lib\PPI\Document\File.pm
cp lib/PPI/Document.pm blib\lib\PPI\Document.pm
cp lib/PPI/Dumper.pm blib\lib\PPI\Dumper.pm
cp lib/PPI/Statement/Given.pm blib\lib\PPI\Statement\Given.pm
cp lib/PPI/Document/Normalized.pm blib\lib\PPI\Document\Normalized.pm
cp lib/PPI/Lexer.pm blib\lib\PPI\Lexer.pm
cp lib/PPI/Statement/Expression.pm blib\lib\PPI\Statement\Expression.pm
cp lib/PPI/Statement/Data.pm blib\lib\PPI\Statement\Data.pm
cp lib/PPI/Statement/End.pm blib\lib\PPI\Statement\End.pm
cp lib/PPI/Normal.pm blib\lib\PPI\Normal.pm
cp lib/PPI/Cache.pm blib\lib\PPI\Cache.pm
cp lib/PPI/Element.pm blib\lib\PPI\Element.pm
cp lib/PPI/Statement/Break.pm blib\lib\PPI\Statement\Break.pm
cp lib/PPI/Exception.pm blib\lib\PPI\Exception.pm
cp lib/PPI/Statement/Compound.pm blib\lib\PPI\Statement\Compound.pm
cp lib/PPI/Statement/Variable.pm blib\lib\PPI\Statement\Variable.pm
cp lib/PPI/Structure/For.pm blib\lib\PPI\Structure\For.pm
cp lib/PPI/Structure/Given.pm blib\lib\PPI\Structure\Given.pm
cp lib/PPI/Structure/Constructor.pm blib\lib\PPI\Structure\Constructor.pm
cp lib/PPI/Statement/Null.pm blib\lib\PPI\Statement\Null.pm
cp lib/PPI/Statement/Scheduled.pm blib\lib\PPI\Statement\Scheduled.pm
cp lib/PPI/Structure/Condition.pm blib\lib\PPI\Structure\Condition.pm
cp lib/PPI/Statement/Sub.pm blib\lib\PPI\Statement\Sub.pm
cp lib/PPI/Structure/Block.pm blib\lib\PPI\Structure\Block.pm
cp lib/PPI/Statement/When.pm blib\lib\PPI\Statement\When.pm
cp lib/PPI/Statement/Include/Perl6.pm blib\lib\PPI\Statement\Include\Perl6.pm
cp lib/PPI/Structure.pm blib\lib\PPI\Structure.pm
cp lib/PPI/Statement/Package.pm blib\lib\PPI\Statement\Package.pm
cp lib/PPI/Structure/List.pm blib\lib\PPI\Structure\List.pm
cp lib/PPI/Statement/Include.pm blib\lib\PPI\Statement\Include.pm
cp lib/PPI/Structure/Subscript.pm blib\lib\PPI\Structure\Subscript.pm
cp lib/PPI/Statement/Unknown.pm blib\lib\PPI\Statement\Unknown.pm
cp lib/PPI/Statement/UnmatchedBrace.pm blib\lib\PPI\Statement\UnmatchedBrace.pm
cp lib/PPI/Structure/Unknown.pm blib\lib\PPI\Structure\Unknown.pm
cp lib/PPI/Token/Magic.pm blib\lib\PPI\Token\Magic.pm
cp lib/PPI/Token/Number/Hex.pm blib\lib\PPI\Token\Number\Hex.pm
cp lib/PPI/Token/Number.pm blib\lib\PPI\Token\Number.pm
cp lib/PPI/Token/Data.pm blib\lib\PPI\Token\Data.pm
cp lib/PPI/Token/Number/Float.pm blib\lib\PPI\Token\Number\Float.pm
cp lib/PPI/Token/BOM.pm blib\lib\PPI\Token\BOM.pm
cp lib/PPI/Token/HereDoc.pm blib\lib\PPI\Token\HereDoc.pm
cp lib/PPI/Structure/When.pm blib\lib\PPI\Structure\When.pm
cp lib/PPI/Token/Cast.pm blib\lib\PPI\Token\Cast.pm
cp lib/PPI/Token/Comment.pm blib\lib\PPI\Token\Comment.pm
cp lib/PPI/Token/End.pm blib\lib\PPI\Token\End.pm
cp lib/PPI/Token/ArrayIndex.pm blib\lib\PPI\Token\ArrayIndex.pm
cp lib/PPI/Token/Number/Octal.pm blib\lib\PPI\Token\Number\Octal.pm
cp lib/PPI/Token/Number/Binary.pm blib\lib\PPI\Token\Number\Binary.pm
cp lib/PPI/Token/Number/Version.pm blib\lib\PPI\Token\Number\Version.pm
cp lib/PPI/Token/DashedWord.pm blib\lib\PPI\Token\DashedWord.pm
cp lib/PPI/Token/Pod.pm blib\lib\PPI\Token\Pod.pm
cp lib/PPI/Token/Operator.pm blib\lib\PPI\Token\Operator.pm
cp lib/PPI/Token.pm blib\lib\PPI\Token.pm
cp lib/PPI/Token/Label.pm blib\lib\PPI\Token\Label.pm
cp lib/PPI/Token/Attribute.pm blib\lib\PPI\Token\Attribute.pm
cp lib/PPI/Token/Number/Exp.pm blib\lib\PPI\Token\Number\Exp.pm
cp lib/PPI/Token/QuoteLike/Words.pm blib\lib\PPI\Token\QuoteLike\Words.pm
cp lib/PPI/Token/Regexp.pm blib\lib\PPI\Token\Regexp.pm
cp lib/PPI/Token/Quote/Literal.pm blib\lib\PPI\Token\Quote\Literal.pm
cp lib/PPI/Token/Prototype.pm blib\lib\PPI\Token\Prototype.pm
cp lib/PPI/Token/Quote/Double.pm blib\lib\PPI\Token\Quote\Double.pm
cp lib/PPI/Token/QuoteLike/Readline.pm blib\lib\PPI\Token\QuoteLike\Readline.pm
cp lib/PPI/Token/Separator.pm blib\lib\PPI\Token\Separator.pm
cp lib/PPI/Token/QuoteLike/Backtick.pm blib\lib\PPI\Token\QuoteLike\Backtick.pm
cp lib/PPI/Token/Regexp/Transliterate.pm blib\lib\PPI\Token\Regexp\Transliterate.pm
cp lib/PPI/Token/Quote.pm blib\lib\PPI\Token\Quote.pm
cp lib/PPI/Token/QuoteLike.pm blib\lib\PPI\Token\QuoteLike.pm
cp lib/PPI/Token/QuoteLike/Command.pm blib\lib\PPI\Token\QuoteLike\Command.pm
cp lib/PPI/Token/QuoteLike/Regexp.pm blib\lib\PPI\Token\QuoteLike\Regexp.pm
cp lib/PPI/Token/Structure.pm blib\lib\PPI\Token\Structure.pm
cp lib/PPI/Token/Regexp/Substitute.pm blib\lib\PPI\Token\Regexp\Substitute.pm
cp lib/PPI/Token/Regexp/Match.pm blib\lib\PPI\Token\Regexp\Match.pm
cp lib/PPI/Token/Quote/Single.pm blib\lib\PPI\Token\Quote\Single.pm
cp lib/PPI/Token/Quote/Interpolate.pm blib\lib\PPI\Token\Quote\Interpolate.pm
cp lib/PPI/Token/Symbol.pm blib\lib\PPI\Token\Symbol.pm
cp lib/PPI/Token/_QuoteEngine/Full.pm blib\lib\PPI\Token\_QuoteEngine\Full.pm
cp lib/PPI/Token/Word.pm blib\lib\PPI\Token\Word.pm
cp lib/PPI/Token/_QuoteEngine.pm blib\lib\PPI\Token\_QuoteEngine.pm
cp lib/PPI/Token/Whitespace.pm blib\lib\PPI\Token\Whitespace.pm
cp lib/PPI/Token/Unknown.pm blib\lib\PPI\Token\Unknown.pm
cp lib/PPI/Token/_QuoteEngine/Simple.pm blib\lib\PPI\Token\_QuoteEngine\Simple.pm
cp lib/PPI/Util.pm blib\lib\PPI\Util.pm
cp lib/PPI/XSAccessor.pm blib\lib\PPI\XSAccessor.pm
cp lib/PPI/Transform/UpdateCopyright.pm blib\lib\PPI\Transform\UpdateCopyright.pm
cp lib/PPI/Transform.pm blib\lib\PPI\Transform.pm
cp lib/PPI/Tokenizer.pm blib\lib\PPI\Tokenizer.pm
C:\"Strawberry\perl\bin\perl.exe" "-MExtUtils::Command::MM" "-MTest::Harness" "-e" "undef *Test::Harness::Switches; test_harness(0, 'blib\lib', 'blib\arch')" t/*.t
#
# Versions for all modules listed in MYMETA.json (including optional ones):
#
# === Configure Requires ===
#
# Module Want Have
# ------------------- ---- ----
# ExtUtils::MakeMaker any 7.70
#
# === Build Requires ===
#
# Module Want Have
# ------------------- ---- ----
# ExtUtils::MakeMaker any 7.70
#
# === Test Requires ===
#
# Module Want Have
# --------------------- ---- --------
# B any 1.22
# Class::Inspector 1.22 1.36
# Encode any 3.21
# ExtUtils::MakeMaker any 7.70
# File::Copy any 2.14
# File::Spec any 3.62
# File::Spec::Functions any 3.62
# File::Temp any 0.2311
# Test::More 0.96 1.302198
# Test::NoWarnings any 1.04
# Test::Object 0.07 0.08
# Test::SubCalls 1.07 1.10
# lib any 0.62
# parent any 0.241
# utf8 any 1.07
# warnings any 1.06
#
# === Test Recommends ===
#
# Module Want Have
# ---------- -------- --------
# CPAN::Meta 2.120900 2.150010
#
# === Runtime Requires ===
#
# Module Want Have
# ------------ ------ --------
# Carp any 1.50
# Clone 0.30 0.46
# Digest::MD5 2.35 2.59
# Exporter any 5.78
# File::Path any 2.14
# File::Spec 3.2701 3.62
# List::Util 1.33 1.63
# Params::Util 1.00 1.04
# Scalar::Util any 1.63
# Storable 2.17 3.25
# Task::Weaken any 1.04
# constant any 1.33
# if any 0.0601
# overload any 1.07
# perl 5.006 5.010001
# strict any 1.04
#
t/00-report-prereqs.t ............ ok
t/01_compile.t ................... ok
t/03_document.t .................. ok
t/04_element.t ................... ok
t/05_lexer.t ..................... ok
t/06_round_trip.t ................ ok
t/07_token.t ..................... ok
t/08_regression.t ................ ok
t/09_normal.t .................... ok
t/10_statement.t ................. ok
t/11_util.t ...................... ok
t/12_location.t .................. ok
t/13_data.t ...................... ok
t/14_charsets.t .................. ok
t/15_transform.t ................. ok
t/16_xml.t ....................... ok
t/17_storable.t .................. ok
t/18_cache.t ..................... ok
t/19_selftesting.t ............... ok
t/21_exhaustive.t ................ ok
t/22_readonly.t .................. ok
t/23_file.t ...................... ok
t/24_v6.t ........................ ok
t/25_increment.t ................. ok
t/26_bom.t ....................... ok
t/27_complete.t .................. ok
t/28_foreach_qw.t ................ ok
t/29_logical_filename.t .......... ok
t/interactive.t .................. ok
t/marpa.t ........................ ok
t/ppi_element.t .................. ok
t/ppi_element_replace.t .......... ok
t/ppi_lexer.t .................... ok
t/ppi_node.t ..................... ok
t/ppi_normal.t ................... ok
t/ppi_statement.t ................ ok
t/ppi_statement_compound.t ....... ok
t/ppi_statement_include.t ........ ok
t/ppi_statement_package.t ........ ok
t/ppi_statement_scheduled.t ...... ok
t/ppi_statement_sub.t ............ ok
t/ppi_statement_variable.t ....... ok
t/ppi_token.t .................... ok
t/ppi_token__quoteengine_full.t .. ok
t/ppi_token_attribute.t .......... ok
t/ppi_token_dashedword.t ......... ok
t/ppi_token_heredoc.t ............ ok
t/ppi_token_magic.t .............. ok
t/ppi_token_number_version.t ..... ok
t/ppi_token_operator.t ........... ok
t/ppi_token_pod.t ................ ok
t/ppi_token_prototype.t .......... ok
t/ppi_token_quote.t .............. ok
t/ppi_token_quote_double.t ....... ok
t/ppi_token_quote_interpolate.t .. ok
t/ppi_token_quote_literal.t ...... ok
t/ppi_token_quote_single.t ....... ok
t/ppi_token_quotelike_regexp.t ... ok
t/ppi_token_quotelike_words.t .... ok
t/ppi_token_regexp.t ............. ok
t/ppi_token_structure.t .......... ok
t/ppi_token_symbol.t ............. ok
t/ppi_token_unknown.t ............ ok
t/ppi_token_whitespace.t ......... ok
t/ppi_token_word.t ............... ok
t/signatures.t ................... ok
All tests successful.
Files=66, Tests=52775, 121 wallclock secs (13.67 usr + 1.36 sys = 15.02 CPU)
Result: PASS
------------------------------
PREREQUISITES
------------------------------
Prerequisite modules loaded:
No requirements found
------------------------------
ENVIRONMENT AND OTHER CONTEXT
------------------------------
Environment variables:
COMSPEC = C:\windows\system32\cmd.exe
NUMBER_OF_PROCESSORS = 4
PATH = C:\home\tennis\perl5\bin;C:\windows\system32;C:\windows;C:\windows\System32\Wbem;C:\windows\System32\WindowsPowerShell\v1.0\;C:\Strawberry\c\bin;C:\Strawberry\perl\site\bin;C:\Strawberry\perl\bin;C:\cmake-3.27.7\bin
PERL5LIB = C:\home\tennis\perl5\lib\perl5
PERL_LOCAL_LIB_ROOT = C:\home\tennis\perl5
PERL_MB_OPT = --install_base "C:\\home\\tennis\\perl5"
PERL_MM_OPT = INSTALL_BASE=C:\\home\\tennis\\perl5
PROCESSOR_IDENTIFIER = x86 Family 6 Model 37 Stepping 5, GenuineIntel
TEMP = C:\Users\user\AppData\Local\Temp
TERM = dumb
TUGI_PERLVER = 5.010001
Perl special variables (and OS-specific diagnostics, for MSWin32):
EGID = 0
EUID = 0
EXECUTABLE_NAME = C:\Strawberry\perl\bin\perl.exe
GID = 0
UID = 0
Win32::FsType = NTFS
Win32::GetOSName = Win7
Win32::GetOSVersion = Service Pack 1, 6, 1, 7601, 2, 1, 0, 256, 1
Win32::IsAdminUser = 0
Perl module toolchain versions installed:
Module Have
------------------- --------
CPAN 2.28
CPAN::Meta 2.150010
Cwd 3.62
ExtUtils::CBuilder 0.280236
ExtUtils::Command 7.70
ExtUtils::Install 2.22
ExtUtils::MakeMaker 7.70
ExtUtils::Manifest 1.75
ExtUtils::ParseXS 3.51
File::Spec 3.62
JSON 4.10
JSON::PP 4.17_01
Module::Build 0.4234
Module::Signature 0.88
Parse::CPAN::Meta 2.150010
Test::Harness 3.47
Test::More 1.302198
YAML 1.31
YAML::Syck n/a
version 0.9930
--
Summary of my perl5 (revision 5 version 10 subversion 1) configuration:
Platform:
osname=MSWin32, osvers=5.1, archname=MSWin32-x86-multi-thread
uname='Win32 strawberryperl 5.10.1.5 #1 Sun May 15 09:44:53 2011 i386'
config_args='undef'
hint=recommended, useposix=true, d_sigaction=undef
useithreads=define, usemultiplicity=define
useperlio=define, d_sfio=undef, uselargefiles=define, usesocks=undef
use64bitint=undef, use64bitall=undef, uselongdouble=undef
usemymalloc=n, bincompat5005=undef
Compiler:
cc='gcc', ccflags =' -s -O2 -DWIN32 -DHAVE_DES_FCRYPT -DUSE_SITECUSTOMIZE -DPERL_IMPLICIT_CONTEXT -DPERL_IMPLICIT_SYS -fno-strict-aliasing -DPERL_MSVCRT_READFIX',
optimize='-s -O2',
cppflags='-DWIN32'
ccversion='', gccversion='3.4.5', gccosandvers=''
intsize=4, longsize=4, ptrsize=4, doublesize=8, byteorder=1234
d_longlong=undef, longlongsize=8, d_longdbl=define, longdblsize=12
ivtype='long', ivsize=4, nvtype='double', nvsize=8, Off_t='long long', lseeksize=8
alignbytes=8, prototype=define
Linker and Libraries:
ld='g++', ldflags ='-s -L"C:\strawberry\perl\lib\CORE" -L"C:\strawberry\c\lib"'
libpth=C:\strawberry\c\lib
libs= -lmoldname -lkernel32 -luser32 -lgdi32 -lwinspool -lcomdlg32 -ladvapi32 -lshell32 -lole32 -loleaut32 -lnetapi32 -luuid -lws2_32 -lmpr -lwinmm -lversion -lodbc32 -lodbccp32
perllibs= -lmoldname -lkernel32 -luser32 -lgdi32 -lwinspool -lcomdlg32 -ladvapi32 -lshell32 -lole32 -loleaut32 -lnetapi32 -luuid -lws2_32 -lmpr -lwinmm -lversion -lodbc32 -lodbccp32
libc=, so=dll, useshrplib=true, libperl=libperl510.a
gnulibc_version=''
Dynamic Linking:
dlsrc=dl_win32.xs, dlext=dll, d_dlsymun=undef, ccdlflags=' '
cccdlflags=' ', lddlflags='-mdll -s -L"C:\strawberry\perl\lib\CORE" -L"C:\strawberry\c\lib"'
Characteristics of this binary (from libperl):
Compile-time options: MULTIPLICITY PERL_DONT_CREATE_GVSV
PERL_IMPLICIT_CONTEXT PERL_IMPLICIT_SYS
PERL_MALLOC_WRAP PL_OP_SLAB_ALLOC USE_ITHREADS
USE_LARGE_FILES USE_PERLIO USE_SITECUSTOMIZE
Built under MSWin32
Compiled at May 15 2011 09:50:23
%ENV:
PERL5LIB="C:\home\tennis\perl5\lib\perl5"
PERL_LOCAL_LIB_ROOT="C:\home\tennis\perl5"
PERL_MB_OPT="--install_base "C:\\home\\tennis\\perl5""
PERL_MM_OPT="INSTALL_BASE=C:\\home\\tennis\\perl5"
@INC:
C:\home\tennis\perl5\lib\perl5/MSWin32-x86-multi-thread
C:\home\tennis\perl5\lib\perl5
C:/Strawberry/perl/lib
C:/Strawberry/perl/site/lib
C:\strawberry\perl\vendor\lib
.