Firefox-Marionette v0.37 Perl 5 v5.20.0 x86_64-linux

Status
Pass
From
Slaven Rezić (SREZIC)
Dist
Firefox-Marionette v0.37
Platform
Perl 5 v5.20.0 x86_64-linux
Date
2018-02-10 08:40:59
ID
1e9a3fb8-0e3e-11e8-a22c-d782d1279126
This distribution has been tested as part of the CPAN Testers
project, supporting the Perl programming language.  See
http://wiki.cpantesters.org/ for more information or email
questions to cpan-testers-discuss@perl.org


--
Dear David Dick,

This is a computer-generated report for Firefox-Marionette-0.37
on perl 5.20.0, created by CPAN-Reporter-1.2017.

Thank you for uploading your work to CPAN.  Congratulations!
All tests were successful.

Sections of this report:

    * Tester comments
    * Program output
    * Prerequisites
    * Environment and other context

------------------------------
TESTER COMMENTS
------------------------------

Additional comments from tester:

none provided

------------------------------
PROGRAM OUTPUT
------------------------------

Output from 'make test':

PERL_DL_NONLAZY=1 /opt/perl-5.20.0/bin/perl "-MExtUtils::Command::MM" "-MTest::Harness" "-e" "undef *Test::Harness::Switches; test_harness(0, 'blib/lib', 'blib/arch')" t/*.t
# Testing Firefox::Marionette 0.37
t/00.load.t ........ ok
# Version is Mozilla Firefox 58.0.2
# XAUTHORITY is /var/run/gdm3/auth-for-eserte-4neTlr/database
# DISPLAY is :45
# D-Bus is working
# Xvfb deb version is 2:1.16.4-1+deb8u2
# grep -r Mem /proc/meminfo
# MemTotal:       32888924 kB
# MemFree:          744836 kB
# MemAvailable:    2233008 kB
# ulimit -a | grep -i mem
# memory(kbytes)       unlimited
# locked memory(kbytes) 64
# vmemory(kbytes)      3145728
# This firefox installation has 2 existing profiles
*** You are running in headless mode.
<< {"applicationType":"gecko","marionetteProtocol":3}
>> 31:[0,1,"WebDriver:NewSession",{}]
<< [1,1,null,{"sessionId":"09141934-b2a4-4bb9-a13c-afb1823d8d35","capabilities":{"browserName":"firefox","browserVersion":"58.0.2","platformName":"linux","platformVersion":"3.16.0-4-amd64","pageLoadStrategy":"normal","acceptInsecureCerts":false,"timeouts":{"implicit":0,"pageLoad":300000,"script":30000},"rotatable":false,"moz:accessibilityChecks":false,"moz:headless":true,"moz:processID":31733,"moz:profile":"/var/tmp/cpansmoker-1000/2018021009/firefox_marionette_profile_wMZPPgywbKP","moz:webdriverClick":true}}]
>> 33:[0,2,"WebDriver:GetCapabilities"]
<< [1,2,null,{"capabilities":{"browserName":"firefox","browserVersion":"58.0.2","platformName":"linux","platformVersion":"3.16.0-4-amd64","pageLoadStrategy":"normal","acceptInsecureCerts":false,"timeouts":{"implicit":0,"pageLoad":300000,"script":30000},"rotatable":false,"moz:accessibilityChecks":false,"moz:headless":true,"moz:processID":31733,"moz:profile":"/var/tmp/cpansmoker-1000/2018021009/firefox_marionette_profile_wMZPPgywbKP","moz:webdriverClick":true}}]
# Browser version is 58.0.2
# Operating System is linux 3.16.0-4-amd64
# Profile Directory is /var/tmp/cpansmoker-1000/2018021009/firefox_marionette_profile_wMZPPgywbKP
# Mozilla PID is 31733
>> 31:[0,3,"WebDriver:GetWindowType"]
<< [1,3,null,{"value":"navigator:browser"}]
>> 31:[0,4,"WebDriver:GetWindowType"]
<< [1,4,null,{"value":"navigator:browser"}]
>> 31:[0,5,"WebDriver:GetWindowRect"]
<< [1,5,null,{"x":0,"y":0,"width":1366,"height":768,"state":"maximized"}]
>> 70:[0,6,"WebDriver:SetWindowRect",{"x":3,"y":9,"height":452,"width":326}]
<< [1,6,null,{"x":3,"y":9,"width":326,"height":452,"state":"normal"}]
>> 31:[0,7,"WebDriver:GetWindowRect"]
<< [1,7,null,{"x":3,"y":9,"width":326,"height":452,"state":"normal"}]
>> 29:[0,8,"WebDriver:GetTimeouts"]
<< [1,8,null,{"implicit":0,"pageLoad":300000,"script":30000}]
>> 80:[0,9,"WebDriver:SetTimeouts",{"implicit":41001,"script":48021,"pageLoad":45043}]
<< [1,9,null,{}]
>> 30:[0,10,"WebDriver:GetTimeouts"]
<< [1,10,null,{"implicit":41001,"pageLoad":45043,"script":48021}]
>> 81:[0,11,"WebDriver:SetTimeouts",{"implicit":41001,"pageLoad":45043,"script":48021}]
<< [1,11,null,{}]
>> 108:[0,12,"WebDriver:ExecuteScript",{"args":[],"script":"window.open(\"https://duckduckgo.com\", \"_blank\");"}]
<< [1,12,null,{"value":null}]
>> 30:[0,13,"WebDriver:CloseWindow"]
<< [1,13,null,["2147483652"]]
>> 32:[0,14,"WebDriver:DeleteSession"]
<< [1,14,null,{}]
>> 32:[0,15,"WebDriver:NewSession",{}]
<< [1,15,null,{"sessionId":"a79b044c-90cf-4f35-814a-8f2c7171b416","capabilities":{"browserName":"firefox","browserVersion":"58.0.2","platformName":"linux","platformVersion":"3.16.0-4-amd64","pageLoadStrategy":"normal","acceptInsecureCerts":false,"timeouts":{"implicit":0,"pageLoad":300000,"script":30000},"rotatable":false,"moz:accessibilityChecks":false,"moz:headless":true,"moz:processID":31733,"moz:profile":"/var/tmp/cpansmoker-1000/2018021009/firefox_marionette_profile_wMZPPgywbKP","moz:webdriverClick":true}}]
>> 51:[0,16,"Marionette:Quit",{"flags":["eAttemptQuit"]}]
<< [1,16,null,{"cause":"shutdown"}]
*** You are running in headless mode.
<< {"applicationType":"gecko","marionetteProtocol":3}
>> 294:[0,1,"WebDriver:NewSession",{"moz:accessibilityChecks":true,"pageLoadStrategy":"eager","acceptInsecureCerts":true,"capabilities":{"requiredCapabilities":{"pageLoadStrategy":"eager","moz:accessibilityChecks":true,"moz:webdriverClick":true,"acceptInsecureCerts":true}},"moz:webdriverClick":true}]
<< [1,1,null,{"sessionId":"fed38cdc-cd5a-4e44-b713-2c1c64fc0d78","capabilities":{"browserName":"firefox","browserVersion":"58.0.2","platformName":"linux","platformVersion":"3.16.0-4-amd64","pageLoadStrategy":"eager","acceptInsecureCerts":true,"timeouts":{"implicit":0,"pageLoad":300000,"script":30000},"rotatable":false,"moz:accessibilityChecks":true,"moz:headless":true,"moz:processID":31912,"moz:profile":"/var/tmp/cpansmoker-1000/2018021009/firefox_marionette_profile_W0SPjXCJEwZ","moz:webdriverClick":true}}]
>> 33:[0,2,"WebDriver:GetCapabilities"]
<< [1,2,null,{"capabilities":{"browserName":"firefox","browserVersion":"58.0.2","platformName":"linux","platformVersion":"3.16.0-4-amd64","pageLoadStrategy":"eager","acceptInsecureCerts":true,"timeouts":{"implicit":0,"pageLoad":300000,"script":30000},"rotatable":false,"moz:accessibilityChecks":true,"moz:headless":true,"moz:processID":31912,"moz:profile":"/var/tmp/cpansmoker-1000/2018021009/firefox_marionette_profile_W0SPjXCJEwZ","moz:webdriverClick":true}}]
>> 50:[0,3,"Marionette:Quit",{"flags":["eAttemptQuit"]}]
<< [1,3,null,{"cause":"shutdown"}]
**** DEPRECATED METHOD - page_source HAS BEEN REPLACED BY html **** at t/01-marionette.t line 410.
**** DEPRECATED METHOD - find_element HAS BEEN REPLACED BY find **** at t/01-marionette.t line 418.
**** DEPRECATED METHOD - send_keys HAS BEEN REPLACED BY type **** at t/01-marionette.t line 440.
**** DEPRECATED METHOD - find_elements HAS BEEN REPLACED BY list **** at t/01-marionette.t line 442.
**** DEPRECATED METHOD - send_keys HAS BEEN REPLACED BY type **** at t/01-marionette.t line 443.
# Installing extension from /home/eserte/.cpan/build/2018021009/Firefox-Marionette-0.37-gH4XKs/t/addons/test.xpi

(firefox:415): GLib-GObject-CRITICAL **: g_object_ref: assertion 'object->ref_count > 0' failed

(firefox:415): GLib-GObject-CRITICAL **: g_object_unref: assertion 'object->ref_count > 0' failed

(firefox:415): GLib-GObject-CRITICAL **: g_object_ref: assertion 'object->ref_count > 0' failed

(firefox:415): GLib-GObject-CRITICAL **: g_object_unref: assertion 'object->ref_count > 0' failed

(firefox:415): GLib-GObject-CRITICAL **: g_object_ref: assertion 'object->ref_count > 0' failed

(firefox:415): GLib-GObject-CRITICAL **: g_object_unref: assertion 'object->ref_count > 0' failed

(/home/eserte/Downloads/firefox/firefox:471): GLib-GObject-CRITICAL **: g_object_ref: assertion 'object->ref_count > 0' failed

(/home/eserte/Downloads/firefox/firefox:471): GLib-GObject-CRITICAL **: g_object_unref: assertion 'object->ref_count > 0' failed

(/home/eserte/Downloads/firefox/firefox:471): GLib-GObject-CRITICAL **: g_object_ref: assertion 'object->ref_count > 0' failed

(/home/eserte/Downloads/firefox/firefox:471): GLib-GObject-CRITICAL **: g_object_unref: assertion 'object->ref_count > 0' failed

(/home/eserte/Downloads/firefox/firefox:471): GLib-GObject-CRITICAL **: g_object_ref: assertion 'object->ref_count > 0' failed

(/home/eserte/Downloads/firefox/firefox:471): GLib-GObject-CRITICAL **: g_object_unref: assertion 'object->ref_count > 0' failed
<< {"applicationType":"gecko","marionetteProtocol":3}
>> 298:[0,1,"WebDriver:NewSession",{"moz:webdriverClick":false,"capabilities":{"requiredCapabilities":{"acceptInsecureCerts":false,"moz:webdriverClick":false,"moz:accessibilityChecks":false,"pageLoadStrategy":"none"}},"acceptInsecureCerts":false,"pageLoadStrategy":"none","moz:accessibilityChecks":false}]
<< [1,1,null,{"sessionId":"966488ea-cf90-4155-a152-b58d8139de1c","capabilities":{"browserName":"firefox","browserVersion":"58.0.2","platformName":"linux","platformVersion":"3.16.0-4-amd64","pageLoadStrategy":"none","acceptInsecureCerts":false,"timeouts":{"implicit":0,"pageLoad":300000,"script":30000},"rotatable":false,"moz:accessibilityChecks":false,"moz:headless":false,"moz:processID":415,"moz:profile":"/var/tmp/cpansmoker-1000/2018021009/firefox_marionette_profile_yvvG11Csuip","moz:webdriverClick":false}}]
>> 33:[0,2,"WebDriver:GetCapabilities"]
<< [1,2,null,{"capabilities":{"browserName":"firefox","browserVersion":"58.0.2","platformName":"linux","platformVersion":"3.16.0-4-amd64","pageLoadStrategy":"none","acceptInsecureCerts":false,"timeouts":{"implicit":0,"pageLoad":300000,"script":30000},"rotatable":false,"moz:accessibilityChecks":false,"moz:headless":false,"moz:processID":415,"moz:profile":"/var/tmp/cpansmoker-1000/2018021009/firefox_marionette_profile_yvvG11Csuip","moz:webdriverClick":false}}]
>> 50:[0,3,"Marionette:Quit",{"flags":["eAttemptQuit"]}]
<< [1,3,null,{"cause":"shutdown"}]

(firefox:415): GLib-GObject-CRITICAL **: g_object_ref: assertion 'object->ref_count > 0' failed

(firefox:415): GLib-GObject-CRITICAL **: g_object_unref: assertion 'object->ref_count > 0' failed

(firefox:415): GLib-GObject-CRITICAL **: g_object_ref: assertion 'object->ref_count > 0' failed

(firefox:415): GLib-GObject-CRITICAL **: g_object_unref: assertion 'object->ref_count > 0' failed

(firefox:415): GLib-GObject-CRITICAL **: g_object_ref: assertion 'object->ref_count > 0' failed

(firefox:415): GLib-GObject-CRITICAL **: g_object_unref: assertion 'object->ref_count > 0' failed

(firefox:415): GLib-GObject-CRITICAL **: g_object_ref: assertion 'object->ref_count > 0' failed

(firefox:415): GLib-GObject-CRITICAL **: g_object_unref: assertion 'object->ref_count > 0' failed

(firefox:415): GLib-GObject-CRITICAL **: g_object_ref: assertion 'object->ref_count > 0' failed

(firefox:415): GLib-GObject-CRITICAL **: g_object_unref: assertion 'object->ref_count > 0' failed

(firefox:415): GLib-GObject-CRITICAL **: g_object_ref: assertion 'object->ref_count > 0' failed

(firefox:415): GLib-GObject-CRITICAL **: g_object_unref: assertion 'object->ref_count > 0' failed

(firefox:415): GLib-GObject-CRITICAL **: g_object_ref: assertion 'object->ref_count > 0' failed

(firefox:415): GLib-GObject-CRITICAL **: g_object_unref: assertion 'object->ref_count > 0' failed

(firefox:415): GLib-GObject-CRITICAL **: g_object_ref: assertion 'object->ref_count > 0' failed

(firefox:415): GLib-GObject-CRITICAL **: g_object_unref: assertion 'object->ref_count > 0' failed
# Killing PID 613 with a signal 15
# Error Message was Firefox killed by a TERM signal (15)
t/01-marionette.t .. ok
t/pod-coverage.t ... ok
t/pod.t ............ ok
All tests successful.

Test Summary Report
-------------------
t/01-marionette.t (Wstat: 0 Tests: 190 Failed: 0)
  TODO passed:   121, 146-147, 166, 186-188
Files=4, Tests=211, 51 wallclock secs ( 0.05 usr  0.00 sys + 33.64 cusr  5.69 csys = 39.38 CPU)
Result: PASS

------------------------------
PREREQUISITES
------------------------------

Prerequisite modules loaded:

requires:

    Module              Need  Have    
    ------------------- ----- --------
    base                0     2.22    
    Config              0     5.020000
    Config::INI::Reader 0     0.025   
    Crypt::URandom      0     0.36    
    English             0     1.09    
    Exporter            0     5.70    
    Fcntl               0     1.11    
    File::Spec          0     3.47    
    File::Temp          0     0.2304  
    FileHandle          0     2.02    
    IPC::Run            0     0.96    
    JSON                0     2.97001 
    MIME::Base64        0     3.14    
    overload            0     1.22    
    perl                5.006 5.020000
    POSIX               0     1.38_03 
    Socket              0     2.013   
    URI                 0     1.73    

build_requires:

    Module              Need  Have    
    ------------------- ----- --------
    Cwd                 0     3.47    
    Digest::SHA         0     5.88    
    Test::More          0     1.302019

configure_requires:

    Module              Need  Have    
    ------------------- ----- --------
    ExtUtils::MakeMaker 0     6.98    


------------------------------
ENVIRONMENT AND OTHER CONTEXT
------------------------------

Environment variables:

    LANG = en_US.UTF-8
    PATH = /usr/local/bin:/usr/bin:/bin:/usr/local/sbin:/usr/sbin:/sbin:/home/eserte/bin/linux-gnu:/home/eserte/bin/sh:/home/eserte/bin:/home/eserte/bin/pistachio-perl/bin:/usr/games:/home/eserte/devel:/home/eserte/src/srezic-misc/scripts
    PERL5LIB = /home/eserte/.cpan/build/2018021009/IPC-Run-0.96-bAvFzT/blib/arch:/home/eserte/.cpan/build/2018021009/IPC-Run-0.96-bAvFzT/blib/lib:/home/eserte/.cpan/build/2018021009/Config-INI-0.025-HsHzZ_/blib/arch:/home/eserte/.cpan/build/2018021009/Config-INI-0.025-HsHzZ_/blib/lib:/home/eserte/.cpan/build/2018021009/Mixin-Linewise-0.108-aTfXqK/blib/arch:/home/eserte/.cpan/build/2018021009/Mixin-Linewise-0.108-aTfXqK/blib/lib:/home/eserte/.cpan/build/2018021009/PerlIO-utf8_strict-0.007-26wNxa/blib/arch:/home/eserte/.cpan/build/2018021009/PerlIO-utf8_strict-0.007-26wNxa/blib/lib:/home/eserte/.cpan/build/2018021009/Test-Exception-0.43-Aj5VUz/blib/arch:/home/eserte/.cpan/build/2018021009/Test-Exception-0.43-Aj5VUz/blib/lib:/home/eserte/.cpan/build/2018021009/Sub-Uplevel-0.2800-WfVC1O/blib/arch:/home/eserte/.cpan/build/2018021009/Sub-Uplevel-0.2800-WfVC1O/blib/lib:/home/eserte/.cpan/build/2018021009/Crypt-URandom-0.36-wuUurg/blib/arch:/home/eserte/.cpan/build/2018021009/Crypt-URandom-0.36-wuUurg/blib/lib:/home/eserte/.cpan/build/2018021009/JSON-2.97001-UZEDYa/blib/arch:/home/eserte/.cpan/build/2018021009/JSON-2.97001-UZEDYa/blib/lib:/home/eserte/.cpan/build/2018021009/URI-1.73-OL977H/blib/arch:/home/eserte/.cpan/build/2018021009/URI-1.73-OL977H/blib/lib:/home/eserte/.cpan/build/2018021009/Test-Needs-0.002005-RoBRS9/blib/arch:/home/eserte/.cpan/build/2018021009/Test-Needs-0.002005-RoBRS9/blib/lib
    PERL5OPT = 
    PERL5_CPANPLUS_IS_RUNNING = 30055
    PERL5_CPAN_IS_RUNNING = 30055
    PERL5_CPAN_IS_RUNNING_IN_RECURSION = 6810,30055
    PERLDOC = -MPod::Perldoc::ToTextOverstrike
    PERL_BATCH = yes
    PERL_CANARY_STABILITY_NOPROMPT = 1
    PERL_CPAN_REPORTER_CONFIG = /var/tmp/cpansmoker-1000/2018021009/cpanreporter_001_config.ini
    PERL_EXTUTILS_AUTOINSTALL = --defaultdeps
    SHELL = /bin/zsh
    STDPERL = perl
    TERM = xterm
    TMPDIR = /var/tmp/cpansmoker-1000/2018021009

Perl special variables (and OS-specific diagnostics, for MSWin32):

    $^X = /opt/perl-5.20.0/bin/perl
    $UID/$EUID = 1000 / 1000
    $GID = 1000 4 24 25 27 29 30 44 46 108 111 115 128 134 1000 1024
    $EGID = 1000 4 24 25 27 29 30 44 46 108 111 115 128 134 1000 1024

Perl module toolchain versions installed:

    Module              Have    
    ------------------- --------
    CPAN                2.05    
    CPAN::Meta          2.150005
    Cwd                 3.47    
    ExtUtils::CBuilder  0.280216
    ExtUtils::Command   1.18    
    ExtUtils::Install   1.67    
    ExtUtils::MakeMaker 6.98    
    ExtUtils::Manifest  1.63    
    ExtUtils::ParseXS   3.24    
    File::Spec          3.47    
    JSON                2.97001 
    JSON::PP            2.27203 
    Module::Build       0.4218  
    Module::Signature   n/a     
    Parse::CPAN::Meta   1.4414  
    Test::Harness       3.30    
    Test::More          1.302019
    YAML                1.15    
    YAML::Syck          1.29    
    version             0.9908  


--

Summary of my perl5 (revision 5 version 20 subversion 0) configuration:
   
  Platform:
    osname=linux, osvers=3.16.0-4-amd64, archname=x86_64-linux
    uname='linux cabulja 3.16.0-4-amd64 #1 smp debian 3.16.7-ckt25-2 (2016-04-08) x86_64 gnulinux '
    config_args='-ds -e -Dprefix=/opt/perl-5.20.0 -Dcf_email=srezic@cpan.org'
    hint=recommended, useposix=true, d_sigaction=define
    useithreads=undef, usemultiplicity=undef
    use64bitint=define, use64bitall=define, uselongdouble=undef
    usemymalloc=n, bincompat5005=undef
  Compiler:
    cc='cc', ccflags ='-fwrapv -fno-strict-aliasing -pipe -fstack-protector -I/usr/local/include -D_LARGEFILE_SOURCE -D_FILE_OFFSET_BITS=64',
    optimize='-O2',
    cppflags='-fwrapv -fno-strict-aliasing -pipe -fstack-protector -I/usr/local/include'
    ccversion='', gccversion='4.9.2', gccosandvers=''
    intsize=4, longsize=8, ptrsize=8, doublesize=8, byteorder=12345678
    d_longlong=define, longlongsize=8, d_longdbl=define, longdblsize=16
    ivtype='long', ivsize=8, nvtype='double', nvsize=8, Off_t='off_t', lseeksize=8
    alignbytes=8, prototype=define
  Linker and Libraries:
    ld='cc', ldflags =' -fstack-protector -L/usr/local/lib'
    libpth=/usr/local/lib /usr/lib/gcc/x86_64-linux-gnu/4.9/include-fixed /usr/include/x86_64-linux-gnu /usr/lib /lib/x86_64-linux-gnu /lib/../lib /usr/lib/x86_64-linux-gnu /usr/lib/../lib /lib
    libs=-lnsl -lgdbm -ldb -ldl -lm -lcrypt -lutil -lc -lgdbm_compat
    perllibs=-lnsl -ldl -lm -lcrypt -lutil -lc
    libc=libc-2.19.so, so=so, useshrplib=false, libperl=libperl.a
    gnulibc_version='2.19'
  Dynamic Linking:
    dlsrc=dl_dlopen.xs, dlext=so, d_dlsymun=undef, ccdlflags='-Wl,-E'
    cccdlflags='-fPIC', lddlflags='-shared -O2 -L/usr/local/lib -fstack-protector'


Characteristics of this binary (from libperl): 
  Compile-time options: HAS_TIMES PERLIO_LAYERS PERL_DONT_CREATE_GVSV
                        PERL_HASH_FUNC_ONE_AT_A_TIME_HARD PERL_MALLOC_WRAP
                        PERL_NEW_COPY_ON_WRITE PERL_PRESERVE_IVUV
                        USE_64_BIT_ALL USE_64_BIT_INT USE_LARGE_FILES
                        USE_LOCALE USE_LOCALE_COLLATE USE_LOCALE_CTYPE
                        USE_LOCALE_NUMERIC USE_PERLIO USE_PERL_ATOF
  Built under linux
  Compiled at May 28 2016 10:10:09
  %ENV:
    PERL5LIB="/home/eserte/.cpan/build/2018021009/IPC-Run-0.96-bAvFzT/blib/arch:/home/eserte/.cpan/build/2018021009/IPC-Run-0.96-bAvFzT/blib/lib:/home/eserte/.cpan/build/2018021009/Config-INI-0.025-HsHzZ_/blib/arch:/home/eserte/.cpan/build/2018021009/Config-INI-0.025-HsHzZ_/blib/lib:/home/eserte/.cpan/build/2018021009/Mixin-Linewise-0.108-aTfXqK/blib/arch:/home/eserte/.cpan/build/2018021009/Mixin-Linewise-0.108-aTfXqK/blib/lib:/home/eserte/.cpan/build/2018021009/PerlIO-utf8_strict-0.007-26wNxa/blib/arch:/home/eserte/.cpan/build/2018021009/PerlIO-utf8_strict-0.007-26wNxa/blib/lib:/home/eserte/.cpan/build/2018021009/Test-Exception-0.43-Aj5VUz/blib/arch:/home/eserte/.cpan/build/2018021009/Test-Exception-0.43-Aj5VUz/blib/lib:/home/eserte/.cpan/build/2018021009/Sub-Uplevel-0.2800-WfVC1O/blib/arch:/home/eserte/.cpan/build/2018021009/Sub-Uplevel-0.2800-WfVC1O/blib/lib:/home/eserte/.cpan/build/2018021009/Crypt-URandom-0.36-wuUurg/blib/arch:/home/eserte/.cpan/build/2018021009/Crypt-URandom-0.36-wuUurg/blib/lib:/home/eserte/.cpan/build/2018021009/JSON-2.97001-UZEDYa/blib/arch:/home/eserte/.cpan/build/2018021009/JSON-2.97001-UZEDYa/blib/lib:/home/eserte/.cpan/build/2018021009/URI-1.73-OL977H/blib/arch:/home/eserte/.cpan/build/2018021009/URI-1.73-OL977H/blib/lib:/home/eserte/.cpan/build/2018021009/Test-Needs-0.002005-RoBRS9/blib/arch:/home/eserte/.cpan/build/2018021009/Test-Needs-0.002005-RoBRS9/blib/lib"
    PERL5OPT=""
    PERL5_CPANPLUS_IS_RUNNING="30055"
    PERL5_CPAN_IS_RUNNING="30055"
    PERL5_CPAN_IS_RUNNING_IN_RECURSION="6810,30055"
    PERLDOC="-MPod::Perldoc::ToTextOverstrike"
    PERL_BATCH="yes"
    PERL_CANARY_STABILITY_NOPROMPT="1"
    PERL_CPAN_REPORTER_CONFIG="/var/tmp/cpansmoker-1000/2018021009/cpanreporter_001_config.ini"
    PERL_EXTUTILS_AUTOINSTALL="--defaultdeps"
  @INC:
    /home/eserte/.cpan/build/2018021009/IPC-Run-0.96-bAvFzT/blib/arch
    /home/eserte/.cpan/build/2018021009/IPC-Run-0.96-bAvFzT/blib/lib
    /home/eserte/.cpan/build/2018021009/Config-INI-0.025-HsHzZ_/blib/arch
    /home/eserte/.cpan/build/2018021009/Config-INI-0.025-HsHzZ_/blib/lib
    /home/eserte/.cpan/build/2018021009/Mixin-Linewise-0.108-aTfXqK/blib/arch
    /home/eserte/.cpan/build/2018021009/Mixin-Linewise-0.108-aTfXqK/blib/lib
    /home/eserte/.cpan/build/2018021009/PerlIO-utf8_strict-0.007-26wNxa/blib/arch
    /home/eserte/.cpan/build/2018021009/PerlIO-utf8_strict-0.007-26wNxa/blib/lib
    /home/eserte/.cpan/build/2018021009/Test-Exception-0.43-Aj5VUz/blib/arch
    /home/eserte/.cpan/build/2018021009/Test-Exception-0.43-Aj5VUz/blib/lib
    /home/eserte/.cpan/build/2018021009/Sub-Uplevel-0.2800-WfVC1O/blib/arch
    /home/eserte/.cpan/build/2018021009/Sub-Uplevel-0.2800-WfVC1O/blib/lib
    /home/eserte/.cpan/build/2018021009/Crypt-URandom-0.36-wuUurg/blib/arch
    /home/eserte/.cpan/build/2018021009/Crypt-URandom-0.36-wuUurg/blib/lib
    /home/eserte/.cpan/build/2018021009/JSON-2.97001-UZEDYa/blib/arch
    /home/eserte/.cpan/build/2018021009/JSON-2.97001-UZEDYa/blib/lib
    /home/eserte/.cpan/build/2018021009/URI-1.73-OL977H/blib/arch
    /home/eserte/.cpan/build/2018021009/URI-1.73-OL977H/blib/lib
    /home/eserte/.cpan/build/2018021009/Test-Needs-0.002005-RoBRS9/blib/arch
    /home/eserte/.cpan/build/2018021009/Test-Needs-0.002005-RoBRS9/blib/lib
    /opt/perl-5.20.0/lib/site_perl/5.20.0/x86_64-linux
    /opt/perl-5.20.0/lib/site_perl/5.20.0
    /opt/perl-5.20.0/lib/5.20.0/x86_64-linux
    /opt/perl-5.20.0/lib/5.20.0
    .