FFI-Platypus v1.10 Perl 5 v5.18.4 x86_64-linux

Status
Pass
From
Nigel Horne
Dist
FFI-Platypus v1.10
Platform
Perl 5 v5.18.4 x86_64-linux
Date
2020-04-11 21:55:12
ID
1e7e4b02-7c3f-11ea-adbd-255b451fef07
This distribution has been tested as part of the CPAN Testers
project, supporting the Perl programming language.  See
http://wiki.cpantesters.org/ for more information or email
questions to cpan-testers-discuss@perl.org


--
Dear Graham Ollis,

This is a computer-generated report for FFI-Platypus-1.10
on perl 5.18.4, created by CPAN-Reporter-1.2018.

Thank you for uploading your work to CPAN.  Congratulations!
All tests were successful.

Sections of this report:

    * Tester comments
    * Program output
    * Prerequisites
    * Environment and other context

------------------------------
TESTER COMMENTS
------------------------------

Additional comments from tester:

this report is from an automated smoke testing program
and was not reviewed by a human for accuracy

------------------------------
PROGRAM OUTPUT
------------------------------

Output from '/usr/bin/make test':

"/home/njh/perl5/perlbrew/perls/perl-5.18.4/bin/perl" -MExtUtils::Command::MM -e 'cp_nonempty' -- lib/FFI/Platypus.bs blib/arch/auto/FFI/Platypus/Platypus.bs 644
CC t/ffi/align.c
CC t/ffi/align_array.c
CC t/ffi/align_fixed.c
CC t/ffi/align_string.c
CC t/ffi/basic.c
CC t/ffi/closure.c
CC t/ffi/color.c
CC t/ffi/complex_double.c
CC t/ffi/complex_float.c
CC t/ffi/double.c
CC t/ffi/float.c
CC t/ffi/gh117.c
CC t/ffi/gh174.c
CC t/ffi/longdouble.c
CC t/ffi/memcmp4.c
CC t/ffi/meta.c
CC t/ffi/pointer.c
CC t/ffi/record.c
CC t/ffi/sint16.c
CC t/ffi/sint32.c
CC t/ffi/sint64.c
CC t/ffi/sint8.c
CC t/ffi/string.c
CC t/ffi/string_array.c
CC t/ffi/uint16.c
CC t/ffi/uint32.c
CC t/ffi/uint64.c
CC t/ffi/uint8.c
CC t/ffi/variadic.c
LD t/ffi/libtest.so
PERL_DL_NONLAZY=1 "/home/njh/perl5/perlbrew/perls/perl-5.18.4/bin/perl" "-MExtUtils::Command::MM" "-MTest::Harness" "-e" "undef *Test::Harness::Switches; test_harness(0, 'blib/lib', 'blib/arch')" t/*.t
# 
# 
# 
# HARNESS_ACTIVE=1
# HARNESS_OPTIONS=
# HARNESS_VERSION=3.42
# LANG=en_US.UTF-8
# PERL5LIB=/home/njh/.cpan/build/FFI-Platypus-1.10-0/blib/lib:/home/njh/.cpan/build/FFI-Platypus-1.10-0/blib/arch:/home/njh/.cpan/build/constant-1.33-0/blib/arch:/home/njh/.cpan/build/constant-1.33-0/blib/lib:/home/njh/.cpan/build/Alien-FFI-0.25-0/blib/arch:/home/njh/.cpan/build/Alien-FFI-0.25-0/blib/lib:/home/njh/.cpan/build/FFI-CheckLib-0.26-0/blib/arch:/home/njh/.cpan/build/FFI-CheckLib-0.26-0/blib/lib:/home/njh/.cpan/build/Alien-Editline-0.10-0/blib/arch:/home/njh/.cpan/build/Alien-Editline-0.10-0/blib/lib:/home/njh/.cpan/build/Alien-Build-2.21-0/blib/arch:/home/njh/.cpan/build/Alien-Build-2.21-0/blib/lib:/home/njh/.cpan/build/constant-1.33-0/blib/arch:/home/njh/.cpan/build/constant-1.33-0/blib/lib:/home/njh/.cpan/build/Alien-FFI-0.25-0/blib/arch:/home/njh/.cpan/build/Alien-FFI-0.25-0/blib/lib:/home/njh/.cpan/build/FFI-CheckLib-0.26-0/blib/arch:/home/njh/.cpan/build/FFI-CheckLib-0.26-0/blib/lib:/home/njh/.cpan/build/Alien-Editline-0.10-0/blib/arch:/home/njh/.cpan/build/Alien-Editline-0.10-0/blib/lib:/home/njh/.cpan/build/Alien-Build-2.21-0/blib/arch:/home/njh/.cpan/build/Alien-Build-2.21-0/blib/lib
# PERL5OPT=
# PERL5_CPANPLUS_IS_RUNNING=3027
# PERL5_CPAN_IS_RUNNING=3027
# PERL5_CPAN_IS_RUNNING_IN_RECURSION=3010,3027
# PERLBREW_HOME=/home/njh/.perlbrew
# PERLBREW_MANPATH=/home/njh/perl5/perlbrew/perls/perl-5.18.4/man
# PERLBREW_PATH=/home/njh/perl5/perlbrew/bin:/home/njh/perl5/perlbrew/perls/perl-5.18.4/bin
# PERLBREW_PERL=perl-5.18.4
# PERLBREW_ROOT=/home/njh/perl5/perlbrew
# PERLBREW_SHELLRC_VERSION=0.88
# PERLBREW_VERSION=0.88
# PERL_DL_NONLAZY=1
# PERL_USE_UNSAFE_INC=1
# SHELL=/usr/bin/bash
# 
# 
# 
# PERL5LIB path
# /home/njh/.cpan/build/FFI-Platypus-1.10-0/blib/lib
# /home/njh/.cpan/build/FFI-Platypus-1.10-0/blib/arch
# /home/njh/.cpan/build/constant-1.33-0/blib/arch
# /home/njh/.cpan/build/constant-1.33-0/blib/lib
# /home/njh/.cpan/build/Alien-FFI-0.25-0/blib/arch
# /home/njh/.cpan/build/Alien-FFI-0.25-0/blib/lib
# /home/njh/.cpan/build/FFI-CheckLib-0.26-0/blib/arch
# /home/njh/.cpan/build/FFI-CheckLib-0.26-0/blib/lib
# /home/njh/.cpan/build/Alien-Editline-0.10-0/blib/arch
# /home/njh/.cpan/build/Alien-Editline-0.10-0/blib/lib
# /home/njh/.cpan/build/Alien-Build-2.21-0/blib/arch
# /home/njh/.cpan/build/Alien-Build-2.21-0/blib/lib
# /home/njh/.cpan/build/constant-1.33-0/blib/arch
# /home/njh/.cpan/build/constant-1.33-0/blib/lib
# /home/njh/.cpan/build/Alien-FFI-0.25-0/blib/arch
# /home/njh/.cpan/build/Alien-FFI-0.25-0/blib/lib
# /home/njh/.cpan/build/FFI-CheckLib-0.26-0/blib/arch
# /home/njh/.cpan/build/FFI-CheckLib-0.26-0/blib/lib
# /home/njh/.cpan/build/Alien-Editline-0.10-0/blib/arch
# /home/njh/.cpan/build/Alien-Editline-0.10-0/blib/lib
# /home/njh/.cpan/build/Alien-Build-2.21-0/blib/arch
# /home/njh/.cpan/build/Alien-Build-2.21-0/blib/lib
# 
# 
# 
# perl                5.018004
# Alien::Base         2.21
# Capture::Tiny       0.48
# Devel::Hide         0.0010
# ExtUtils::CBuilder  0.280234
# ExtUtils::MakeMaker 7.44
# ExtUtils::ParseXS   3.35
# FFI::CheckLib       0.26
# IPC::Cmd            1.04
# JSON::PP            4.04
# List::Util          1.54
# Math::LongDouble    -
# PkgConfig           -
# Test::More          1.302170
# constant            1.33
# forks               -
# 
# 
# 
# mode : fallback
# Alien::FFI->VERSION      = 0.25
# Alien::FFI->install_type = share
# Alien::FFI->cflags       = -I/home/njh/.cpan/build/Alien-FFI-0.25-0/blib/lib/auto/share/dist/Alien-FFI/include
# Alien::FFI->libs         = -L/home/njh/.cpan/build/Alien-FFI-0.25-0/blib/lib/auto/share/dist/Alien-FFI/lib/../lib64 -lffi
# Alien::FFI->version      = 3.3
# my_configure             = %{configure} --disable-shared --enable-static --disable-builddir
# 
# 
# 
# ffi.platypus.memory.strdup_impl =libc
# ffi.platypus.memory.strndup_impl=libc
# 
# 
# 
# Types:
#   double   : double, float complex
#   float    : float
#   longdouble : double complex, long double, long double complex
#   sint16   : int16_t, short, signed short
#   sint32   : int, int32_t, senum, signed int, wchar_t
#   sint64   : blkcnt_t, blksize_t, int64_t, intptr_t, long, long long, off_t, ptrdiff_t, signed long, signed long long, ssize_t, time_t
#   sint8    : char, int8_t, signed char
#   uint16   : uint16_t, unsigned short, ushort
#   uint32   : enum, gid_t, mode_t, uid_t, uint, uint32_t, unsigned int, wint_t
#   uint64   : dev_t, ino_t, nlink_t, size_t, uint64_t, uintptr_t, ulong, unsigned long, unsigned long long
#   uint8    : bool, uchar, uint8_t, unsigned char
# 
# 
# 
# ABIs:
#   default_abi          2
#   efi64                3
#   gnuw64               4
#   unix64               2
#   win64                3
# 
# 
# 
# Probes:
#   abi                  1
#   alloca               1
#   bigendian            0
#   recordvalue          1
#   longdouble           1
#   bigendian64          0
#   variadic             1
#   complex              1
# 
# 
# 
# CPU Info:
#   model name	: Intel(R) Xeon(R) CPU E5-2620 v4 @ 2.10GHz
#   flags		: fpu vme de pse tsc msr pae mce cx8 apic sep mtrr pge mca cmov pat pse36 clflush mmx fxsr sse sse2 ss syscall nx pdpe1gb rdtscp lm constant_tsc arch_perfmon rep_good nopl xtopology cpuid tsc_known_freq pni pclmulqdq ssse3 fma cx16 pcid sse4_1 sse4_2 x2apic movbe popcnt tsc_deadline_timer aes xsave avx f16c rdrand hypervisor lahf_lm abm 3dnowprefetch invpcid_single pti fsgsbase tsc_adjust bmi1 hle avx2 smep bmi2 erms invpcid rtm rdseed adx smap xsaveopt arat
#   address sizes	: 46 bits physical, 48 bits virtual
# 
# 
# 
# [PLATFORM]
# osname            : linux
# cc                : cc
# cxx               : c++
# for               : ---
# ld                : cc
# ccflags           : -fPIC -fwrapv -fno-strict-aliasing -pipe -fstack-protector -I/usr/local/include -D_LARGEFILE_SOURCE -D_FILE_OFFSET_BITS=64 -O2 -I/home/njh/.cpan/build/FFI-Platypus-1.10-0/blib/lib/auto/share/dist/FFI-Platypus/include
# ldflags           : -shared -O2 -L/usr/local/lib -fstack-protector
# object suffix     : .o
# library prefix    : lib
# library suffix    : .so
# cc mm works       : -MM
# 
# 
# 
t/00_diag.t .............................. ok
t/01_use.t ............................... ok
t/ffi_build_file_base.t .................. ok
t/ffi_build_file_c.t ..................... ok
t/ffi_build_file_library.t ............... ok
t/ffi_build_file_cxx.t ................... ok
t/ffi_build_file_object.t ................ ok
t/ffi_build_platform.t ................... ok
t/ffi_build.t ............................ ok
t/ffi_platypus_api.t ..................... ok
t/ffi_build_mm.t ......................... ok
t/ffi_platypus_buffer.t .................. ok
t/ffi_platypus_closure.t ................. ok
t/ffi_platypus_constant.t ................ ok
t/ffi_platypus.t ......................... ok
t/ffi_platypus_bundle.t .................. ok
t/ffi_platypus_dl.t ...................... ok
t/ffi_platypus_declare.t ................. ok
t/ffi_platypus_internal.t ................ ok
t/ffi_platypus_function_wrapper.t ........ ok
t/ffi_platypus_function.t ................ ok
t/ffi_platypus_lang.t .................... ok
t/ffi_platypus_lang_asm.t ................ ok
t/ffi_platypus_lang_c.t .................. ok
t/ffi_platypus_lang_win32.t .............. ok
t/ffi_platypus_legacy.t .................. ok
t/ffi_platypus_memory.t .................. ok
t/ffi_platypus_record_meta.t ............. ok
t/ffi_platypus_record_tiearray.t ......... ok
t/ffi_platypus_shareconfig.t ............. ok
t/ffi_platypus_type.t .................... ok
t/ffi_platypus_record.t .................. ok
t/ffi_platypus_type_pointersizebuffer.t .. ok
t/ffi_platypus_type_stringarray.t ........ ok
t/ffi_platypus_typeparser.t .............. ok
t/ffi_platypus_type_stringpointer.t ...... ok
t/ffi_platypus_typeparser_version0.t ..... ok
t/ffi_platypus_typeparser_version1.t ..... ok
t/ffi_probe_runner.t ..................... ok
t/ffi_probe_runner_result.t .............. ok
t/ffi_probe_runner_builder.t ............. ok
t/ffi_temp.t ............................. ok
t/forks.t ................................ skipped: Test requires forks
t/ffi_probe.t ............................ ok
t/gh117.t ................................ ok
t/gh129.t ................................ ok
t/memory.t ............................... skipped: tested only in CI
t/threads.t .............................. skipped: Test requires a threading Perl
t/type_custom.t .......................... ok
t/type_complex_double.t .................. ok
t/type_complex_float.t ................... ok
t/type_double.t .......................... ok
t/type_float.t ........................... ok
t/type_longdouble.t ...................... ok
t/type_longdouble__array.t ............... ok
t/type_longdouble__hide.t ................ ok
t/type_longdouble__ptr.t ................. ok
t/type_opaque.t .......................... ok
t/type_record.t .......................... ok
t/type_record_value.t .................... ok
t/type_sint16.t .......................... ok
t/type_sint32.t .......................... ok
t/type_sint64.t .......................... ok
t/type_sint8.t ........................... ok
t/type_string.t .......................... ok
t/type_uint16.t .......................... ok
t/type_uint32.t .......................... ok
t/type_uint64.t .......................... ok
t/type_uint8.t ........................... ok
All tests successful.
Files=69, Tests=344,  5 wallclock secs ( 0.45 usr  0.09 sys +  9.50 cusr  2.53 csys = 12.57 CPU)
Result: PASS

------------------------------
PREREQUISITES
------------------------------

Prerequisite modules loaded:

requires:

    Module              Need     Have    
    ------------------- -------- --------
    Capture::Tiny       0        0.48    
    constant            1.32     1.33    
    ExtUtils::MakeMaker 7.12     7.44    
    FFI::CheckLib       0.05     0.26    
    IPC::Cmd            0        1.04    
    JSON::PP            0        4.04    
    List::Util          1.45     1.54    
    perl                5.008001 5.018004

build_requires:

    Module              Need     Have    
    ------------------- -------- --------
    Alien::FFI          0.20     0.25    
    Capture::Tiny       0        0.48    
    ExtUtils::CBuilder  0        0.280234
    Test::More          0.98     1.302170

configure_requires:

    Module              Need     Have    
    ------------------- -------- --------
    Capture::Tiny       0        0.48    
    ExtUtils::MakeMaker 7.12     7.44    
    ExtUtils::ParseXS   3.30     3.35    
    IPC::Cmd            0        1.04    
    perl                5.006    5.018004


------------------------------
ENVIRONMENT AND OTHER CONTEXT
------------------------------

Environment variables:

    AUTOMATED_TESTING = 1
    HARNESS_OPTIONS = j3
    LANG = en_US.UTF-8
    PATH = /home/njh/perl5/perlbrew/bin:/home/njh/perl5/perlbrew/perls/perl-5.18.4/bin:/home/njh/src/njh/smoker/bin:/usr/bin:/bin
    PERL5LIB = /home/njh/.cpan/build/constant-1.33-0/blib/arch:/home/njh/.cpan/build/constant-1.33-0/blib/lib:/home/njh/.cpan/build/Alien-FFI-0.25-0/blib/arch:/home/njh/.cpan/build/Alien-FFI-0.25-0/blib/lib:/home/njh/.cpan/build/FFI-CheckLib-0.26-0/blib/arch:/home/njh/.cpan/build/FFI-CheckLib-0.26-0/blib/lib:/home/njh/.cpan/build/Alien-Editline-0.10-0/blib/arch:/home/njh/.cpan/build/Alien-Editline-0.10-0/blib/lib:/home/njh/.cpan/build/Alien-Build-2.21-0/blib/arch:/home/njh/.cpan/build/Alien-Build-2.21-0/blib/lib
    PERL5OPT = 
    PERL5_CPANPLUS_IS_RUNNING = 3027
    PERL5_CPAN_IS_RUNNING = 3027
    PERL5_CPAN_IS_RUNNING_IN_RECURSION = 3010,3027
    PERLBREW_HOME = /home/njh/.perlbrew
    PERLBREW_MANPATH = /home/njh/perl5/perlbrew/perls/perl-5.18.4/man
    PERLBREW_PATH = /home/njh/perl5/perlbrew/bin:/home/njh/perl5/perlbrew/perls/perl-5.18.4/bin
    PERLBREW_PERL = perl-5.18.4
    PERLBREW_ROOT = /home/njh/perl5/perlbrew
    PERLBREW_SHELLRC_VERSION = 0.88
    PERLBREW_VERSION = 0.88
    PERL_USE_UNSAFE_INC = 1
    SHELL = /usr/bin/bash
    TMPDIR = /tmp/testwrapper.3012

Perl special variables (and OS-specific diagnostics, for MSWin32):

    $^X = /home/njh/perl5/perlbrew/perls/perl-5.18.4/bin/perl
    $UID/$EUID = 1000 / 1000
    $GID = 1000 1000
    $EGID = 1000 1000

Perl module toolchain versions installed:

    Module              Have    
    ------------------- --------
    CPAN                2.27    
    CPAN::Meta          2.150010
    Cwd                 3.75    
    ExtUtils::CBuilder  0.280234
    ExtUtils::Command   7.44    
    ExtUtils::Install   2.06    
    ExtUtils::MakeMaker 7.44    
    ExtUtils::Manifest  1.70    
    ExtUtils::ParseXS   3.35    
    File::Spec          3.75    
    JSON                4.02    
    JSON::PP            4.04    
    Module::Build       0.4231  
    Module::Signature   0.83    
    Parse::CPAN::Meta   2.150010
    Test::Harness       3.42    
    Test::More          1.302170
    YAML                1.30    
    YAML::Syck          1.31    
    version             0.9902  


--

Summary of my perl5 (revision 5 version 18 subversion 4) configuration:
   
  Platform:
    osname=linux, osvers=4.18.0-80.el8.x86_64, archname=x86_64-linux
    uname='linux smoker01 4.18.0-80.el8.x86_64 #1 smp tue jun 4 09:19:46 utc 2019 x86_64 x86_64 x86_64 gnulinux '
    config_args='-de -Dprefix=/home/njh/perl5/perlbrew/perls/perl-5.18.4 -Aeval:scriptdir=/home/njh/perl5/perlbrew/perls/perl-5.18.4/bin'
    hint=recommended, useposix=true, d_sigaction=define
    useithreads=undef, usemultiplicity=undef
    useperlio=define, d_sfio=undef, uselargefiles=define, usesocks=undef
    use64bitint=define, use64bitall=define, uselongdouble=undef
    usemymalloc=n, bincompat5005=undef
  Compiler:
    cc='cc', ccflags ='-fwrapv -fno-strict-aliasing -pipe -fstack-protector -I/usr/local/include -D_LARGEFILE_SOURCE -D_FILE_OFFSET_BITS=64',
    optimize='-O2',
    cppflags='-fwrapv -fno-strict-aliasing -pipe -fstack-protector -I/usr/local/include'
    ccversion='', gccversion='8.2.1 20180905 (Red Hat 8.2.1-3)', gccosandvers=''
    intsize=4, longsize=8, ptrsize=8, doublesize=8, byteorder=12345678
    d_longlong=define, longlongsize=8, d_longdbl=define, longdblsize=16
    ivtype='long', ivsize=8, nvtype='double', nvsize=8, Off_t='off_t', lseeksize=8
    alignbytes=8, prototype=define
  Linker and Libraries:
    ld='cc', ldflags =' -fstack-protector -L/usr/local/lib'
    libpth=/usr/local/lib /lib/../lib64 /usr/lib/../lib64 /lib /usr/lib /lib64 /usr/lib64 /usr/local/lib64
    libs=-ldl -lm -lcrypt -lutil -lc
    perllibs=-ldl -lm -lcrypt -lutil -lc
    libc=libc-2.28.so, so=so, useshrplib=false, libperl=libperl.a
    gnulibc_version='2.28'
  Dynamic Linking:
    dlsrc=dl_dlopen.xs, dlext=so, d_dlsymun=undef, ccdlflags='-Wl,-E'
    cccdlflags='-fPIC', lddlflags='-shared -O2 -L/usr/local/lib -fstack-protector'


Characteristics of this binary (from libperl): 
  Compile-time options: HAS_TIMES PERLIO_LAYERS PERL_DONT_CREATE_GVSV
                        PERL_HASH_FUNC_ONE_AT_A_TIME_HARD PERL_MALLOC_WRAP
                        PERL_PRESERVE_IVUV PERL_SAWAMPERSAND USE_64_BIT_ALL
                        USE_64_BIT_INT USE_LARGE_FILES USE_LOCALE
                        USE_LOCALE_COLLATE USE_LOCALE_CTYPE
                        USE_LOCALE_NUMERIC USE_PERLIO USE_PERL_ATOF
  Locally applied patches:
	Devel::PatchPerl 1.80
  Built under linux
  Compiled at Dec  7 2019 10:18:48
  %ENV:
    PERL5LIB="/home/njh/.cpan/build/constant-1.33-0/blib/arch:/home/njh/.cpan/build/constant-1.33-0/blib/lib:/home/njh/.cpan/build/Alien-FFI-0.25-0/blib/arch:/home/njh/.cpan/build/Alien-FFI-0.25-0/blib/lib:/home/njh/.cpan/build/FFI-CheckLib-0.26-0/blib/arch:/home/njh/.cpan/build/FFI-CheckLib-0.26-0/blib/lib:/home/njh/.cpan/build/Alien-Editline-0.10-0/blib/arch:/home/njh/.cpan/build/Alien-Editline-0.10-0/blib/lib:/home/njh/.cpan/build/Alien-Build-2.21-0/blib/arch:/home/njh/.cpan/build/Alien-Build-2.21-0/blib/lib"
    PERL5OPT=""
    PERL5_CPANPLUS_IS_RUNNING="3027"
    PERL5_CPAN_IS_RUNNING="3027"
    PERL5_CPAN_IS_RUNNING_IN_RECURSION="3010,3027"
    PERLBREW_HOME="/home/njh/.perlbrew"
    PERLBREW_MANPATH="/home/njh/perl5/perlbrew/perls/perl-5.18.4/man"
    PERLBREW_PATH="/home/njh/perl5/perlbrew/bin:/home/njh/perl5/perlbrew/perls/perl-5.18.4/bin"
    PERLBREW_PERL="perl-5.18.4"
    PERLBREW_ROOT="/home/njh/perl5/perlbrew"
    PERLBREW_SHELLRC_VERSION="0.88"
    PERLBREW_VERSION="0.88"
    PERL_USE_UNSAFE_INC="1"
  @INC:
    /home/njh/.cpan/build/constant-1.33-0/blib/arch
    /home/njh/.cpan/build/constant-1.33-0/blib/lib
    /home/njh/.cpan/build/Alien-FFI-0.25-0/blib/arch
    /home/njh/.cpan/build/Alien-FFI-0.25-0/blib/lib
    /home/njh/.cpan/build/FFI-CheckLib-0.26-0/blib/arch
    /home/njh/.cpan/build/FFI-CheckLib-0.26-0/blib/lib
    /home/njh/.cpan/build/Alien-Editline-0.10-0/blib/arch
    /home/njh/.cpan/build/Alien-Editline-0.10-0/blib/lib
    /home/njh/.cpan/build/Alien-Build-2.21-0/blib/arch
    /home/njh/.cpan/build/Alien-Build-2.21-0/blib/lib
    /home/njh/perl5/perlbrew/perls/perl-5.18.4/lib/site_perl/5.18.4/x86_64-linux
    /home/njh/perl5/perlbrew/perls/perl-5.18.4/lib/site_perl/5.18.4
    /home/njh/perl5/perlbrew/perls/perl-5.18.4/lib/5.18.4/x86_64-linux
    /home/njh/perl5/perlbrew/perls/perl-5.18.4/lib/5.18.4
    .