Math-Symbolic v0.612 Perl 5 v5.18.0 x86_64-linux

Status
Pass
From
Nigel Horne
Dist
Math-Symbolic v0.612
Platform
Perl 5 v5.18.0 x86_64-linux
Date
2020-03-30 10:13:34
ID
1d1a6be4-726f-11ea-a16e-c9e7297ba711
This distribution has been tested as part of the CPAN Testers
project, supporting the Perl programming language.  See
http://wiki.cpantesters.org/ for more information or email
questions to cpan-testers-discuss@perl.org


--
Dear Steffen Mueller,

This is a computer-generated report for Math-Symbolic-0.612
on perl 5.18.0, created by CPAN-Reporter-1.2018.

Thank you for uploading your work to CPAN.  Congratulations!
All tests were successful.

Sections of this report:

    * Tester comments
    * Program output
    * Prerequisites
    * Environment and other context

------------------------------
TESTER COMMENTS
------------------------------

Additional comments from tester:

this report is from an automated smoke testing program
and was not reviewed by a human for accuracy

------------------------------
PROGRAM OUTPUT
------------------------------

Output from './Build test':

t/01basic.t .............. ok
t/03exp.t ................ ok
t/02basic.t .............. ok
t/05unary_minus.t ........ ok
t/04deep_derivatives.t ... ok
t/06parser.t ............. ok
t/08parse_hyperbolic.t ... ok
t/07simple_trig.t ........ ok
t/09hyperbolic.t ......... ok
t/10hyperbolic.t ......... ok
t/11trigonometric.t ...... ok
t/12overload.t ........... ok
t/13parse_more.t ......... ok
t/14compile.t ............ ok
t/15total_derivatives.t .. ok
t/17modifications.t ...... ok
t/16tests.t .............. ok
t/20miscalgebra.t ........ ok
t/19misccalc.t ........... ok
t/21more_derivatives.t ... ok
t/22dumpers.t ............ ok
t/90regression.t ......... ok
t/18vectorcalc.t ......... ok
All tests successful.
Files=23, Tests=435,  2 wallclock secs ( 0.12 usr  0.04 sys +  4.63 cusr  0.76 csys =  5.55 CPU)
Result: PASS

------------------------------
PREREQUISITES
------------------------------

Prerequisite modules loaded:

requires:

    Module            Need Have    
    ----------------- ---- --------
    Data::Dumper      0    2.173   
    Memoize           1.01 1.03    
    Parse::RecDescent 0    1.967015

build_requires:

    Module            Need Have    
    ----------------- ---- --------
    Test::More        0    1.302170

configure_requires:

    Module            Need Have    
    ----------------- ---- --------
    Module::Build     0.40 0.4231  


------------------------------
ENVIRONMENT AND OTHER CONTEXT
------------------------------

Environment variables:

    AUTOMATED_TESTING = 1
    HARNESS_OPTIONS = j3
    LANG = en_US.UTF-8
    PATH = /home/njh/perl5/perlbrew/bin:/home/njh/perl5/perlbrew/perls/perl-5.18.0/bin:/home/njh/src/njh/smoker/bin:/usr/bin:/bin
    PERL5LIB = /home/njh/.cpan/build/Parse-RecDescent-1.967015-0/blib/arch:/home/njh/.cpan/build/Parse-RecDescent-1.967015-0/blib/lib:/home/njh/.cpan/build/Math-MatrixReal-2.13-0/blib/arch:/home/njh/.cpan/build/Math-MatrixReal-2.13-0/blib/lib:/home/njh/.cpan/build/ore-0.04-0/blib/arch:/home/njh/.cpan/build/ore-0.04-0/blib/lib:/home/njh/.cpan/build/Data-Object-Space-2.01-0/blib/arch:/home/njh/.cpan/build/Data-Object-Space-2.01-0/blib/lib:/home/njh/.cpan/build/Data-Object-Name-2.01-0/blib/arch:/home/njh/.cpan/build/Data-Object-Name-2.01-0/blib/lib:/home/njh/.cpan/build/routines-0.02-0/blib/arch:/home/njh/.cpan/build/routines-0.02-0/blib/lib:/home/njh/.cpan/build/Function-Parameters-2.001003-0/blib/arch:/home/njh/.cpan/build/Function-Parameters-2.001003-0/blib/lib:/home/njh/.cpan/build/Dir-Self-0.11-0/blib/arch:/home/njh/.cpan/build/Dir-Self-0.11-0/blib/lib:/home/njh/.cpan/build/Test-Auto-0.10-0/blib/arch:/home/njh/.cpan/build/Test-Auto-0.10-0/blib/lib:/home/njh/.cpan/build/Type-Tiny-1.010001-0/blib/arch:/home/njh/.cpan/build/Type-Tiny-1.010001-0/blib/lib
    PERL5OPT = 
    PERL5_CPANPLUS_IS_RUNNING = 6642
    PERL5_CPAN_IS_RUNNING = 6642
    PERL5_CPAN_IS_RUNNING_IN_RECURSION = 6617,6642
    PERLBREW_HOME = /home/njh/.perlbrew
    PERLBREW_MANPATH = /home/njh/perl5/perlbrew/perls/perl-5.18.0/man
    PERLBREW_PATH = /home/njh/perl5/perlbrew/bin:/home/njh/perl5/perlbrew/perls/perl-5.18.0/bin
    PERLBREW_PERL = perl-5.18.0
    PERLBREW_ROOT = /home/njh/perl5/perlbrew
    PERLBREW_SHELLRC_VERSION = 0.88
    PERLBREW_VERSION = 0.88
    PERL_USE_UNSAFE_INC = 1
    SHELL = /usr/bin/bash
    TMPDIR = /tmp/testwrapper.6627

Perl special variables (and OS-specific diagnostics, for MSWin32):

    $^X = /home/njh/perl5/perlbrew/perls/perl-5.18.0/bin/perl
    $UID/$EUID = 1000 / 1000
    $GID = 1000 1000
    $EGID = 1000 1000

Perl module toolchain versions installed:

    Module              Have    
    ------------------- --------
    CPAN                2.27    
    CPAN::Meta          2.150010
    Cwd                 3.75    
    ExtUtils::CBuilder  0.280234
    ExtUtils::Command   7.44    
    ExtUtils::Install   2.06    
    ExtUtils::MakeMaker 7.44    
    ExtUtils::Manifest  1.70    
    ExtUtils::ParseXS   3.35    
    File::Spec          3.75    
    JSON                4.02    
    JSON::PP            4.04    
    Module::Build       0.4231  
    Module::Signature   0.83    
    Parse::CPAN::Meta   2.150010
    Test::Harness       3.42    
    Test::More          1.302170
    YAML                1.30    
    YAML::Syck          1.31    
    version             0.9902  


--

Summary of my perl5 (revision 5 version 18 subversion 0) configuration:
   
  Platform:
    osname=linux, osvers=4.18.0-80.el8.x86_64, archname=x86_64-linux
    uname='linux smoker01 4.18.0-80.el8.x86_64 #1 smp tue jun 4 09:19:46 utc 2019 x86_64 x86_64 x86_64 gnulinux '
    config_args='-de -Dprefix=/home/njh/perl5/perlbrew/perls/perl-5.18.0 -Aeval:scriptdir=/home/njh/perl5/perlbrew/perls/perl-5.18.0/bin'
    hint=recommended, useposix=true, d_sigaction=define
    useithreads=undef, usemultiplicity=undef
    useperlio=define, d_sfio=undef, uselargefiles=define, usesocks=undef
    use64bitint=define, use64bitall=define, uselongdouble=undef
    usemymalloc=n, bincompat5005=undef
  Compiler:
    cc='cc', ccflags ='-fwrapv -fno-strict-aliasing -pipe -fstack-protector -I/usr/local/include -D_LARGEFILE_SOURCE -D_FILE_OFFSET_BITS=64',
    optimize='-O2',
    cppflags='-fwrapv -fno-strict-aliasing -pipe -fstack-protector -I/usr/local/include'
    ccversion='', gccversion='8.2.1 20180905 (Red Hat 8.2.1-3)', gccosandvers=''
    intsize=4, longsize=8, ptrsize=8, doublesize=8, byteorder=12345678
    d_longlong=define, longlongsize=8, d_longdbl=define, longdblsize=16
    ivtype='long', ivsize=8, nvtype='double', nvsize=8, Off_t='off_t', lseeksize=8
    alignbytes=8, prototype=define
  Linker and Libraries:
    ld='cc', ldflags =' -fstack-protector -L/usr/local/lib'
    libpth=/usr/local/lib /lib/../lib64 /usr/lib/../lib64 /lib /usr/lib /lib64 /usr/lib64 /usr/local/lib64
    libs=-ldl -lm -lcrypt -lutil -lc
    perllibs=-ldl -lm -lcrypt -lutil -lc
    libc=libc-2.28.so, so=so, useshrplib=false, libperl=libperl.a
    gnulibc_version='2.28'
  Dynamic Linking:
    dlsrc=dl_dlopen.xs, dlext=so, d_dlsymun=undef, ccdlflags='-Wl,-E'
    cccdlflags='-fPIC', lddlflags='-shared -O2 -L/usr/local/lib -fstack-protector'


Characteristics of this binary (from libperl): 
  Compile-time options: HAS_TIMES PERLIO_LAYERS PERL_DONT_CREATE_GVSV
                        PERL_HASH_FUNC_ONE_AT_A_TIME_HARD PERL_MALLOC_WRAP
                        PERL_PRESERVE_IVUV PERL_SAWAMPERSAND USE_64_BIT_ALL
                        USE_64_BIT_INT USE_LARGE_FILES USE_LOCALE
                        USE_LOCALE_COLLATE USE_LOCALE_CTYPE
                        USE_LOCALE_NUMERIC USE_PERLIO USE_PERL_ATOF
  Locally applied patches:
	Devel::PatchPerl 1.80
  Built under linux
  Compiled at Dec  7 2019 17:11:34
  %ENV:
    PERL5LIB="/home/njh/.cpan/build/Parse-RecDescent-1.967015-0/blib/arch:/home/njh/.cpan/build/Parse-RecDescent-1.967015-0/blib/lib:/home/njh/.cpan/build/Math-MatrixReal-2.13-0/blib/arch:/home/njh/.cpan/build/Math-MatrixReal-2.13-0/blib/lib:/home/njh/.cpan/build/ore-0.04-0/blib/arch:/home/njh/.cpan/build/ore-0.04-0/blib/lib:/home/njh/.cpan/build/Data-Object-Space-2.01-0/blib/arch:/home/njh/.cpan/build/Data-Object-Space-2.01-0/blib/lib:/home/njh/.cpan/build/Data-Object-Name-2.01-0/blib/arch:/home/njh/.cpan/build/Data-Object-Name-2.01-0/blib/lib:/home/njh/.cpan/build/routines-0.02-0/blib/arch:/home/njh/.cpan/build/routines-0.02-0/blib/lib:/home/njh/.cpan/build/Function-Parameters-2.001003-0/blib/arch:/home/njh/.cpan/build/Function-Parameters-2.001003-0/blib/lib:/home/njh/.cpan/build/Dir-Self-0.11-0/blib/arch:/home/njh/.cpan/build/Dir-Self-0.11-0/blib/lib:/home/njh/.cpan/build/Test-Auto-0.10-0/blib/arch:/home/njh/.cpan/build/Test-Auto-0.10-0/blib/lib:/home/njh/.cpan/build/Type-Tiny-1.010001-0/blib/arch:/home/njh/.cpan/build/Type-Tiny-1.010001-0/blib/lib"
    PERL5OPT=""
    PERL5_CPANPLUS_IS_RUNNING="6642"
    PERL5_CPAN_IS_RUNNING="6642"
    PERL5_CPAN_IS_RUNNING_IN_RECURSION="6617,6642"
    PERLBREW_HOME="/home/njh/.perlbrew"
    PERLBREW_MANPATH="/home/njh/perl5/perlbrew/perls/perl-5.18.0/man"
    PERLBREW_PATH="/home/njh/perl5/perlbrew/bin:/home/njh/perl5/perlbrew/perls/perl-5.18.0/bin"
    PERLBREW_PERL="perl-5.18.0"
    PERLBREW_ROOT="/home/njh/perl5/perlbrew"
    PERLBREW_SHELLRC_VERSION="0.88"
    PERLBREW_VERSION="0.88"
    PERL_USE_UNSAFE_INC="1"
  @INC:
    /home/njh/.cpan/build/Parse-RecDescent-1.967015-0/blib/arch
    /home/njh/.cpan/build/Parse-RecDescent-1.967015-0/blib/lib
    /home/njh/.cpan/build/Math-MatrixReal-2.13-0/blib/arch
    /home/njh/.cpan/build/Math-MatrixReal-2.13-0/blib/lib
    /home/njh/.cpan/build/ore-0.04-0/blib/arch
    /home/njh/.cpan/build/ore-0.04-0/blib/lib
    /home/njh/.cpan/build/Data-Object-Space-2.01-0/blib/arch
    /home/njh/.cpan/build/Data-Object-Space-2.01-0/blib/lib
    /home/njh/.cpan/build/Data-Object-Name-2.01-0/blib/arch
    /home/njh/.cpan/build/Data-Object-Name-2.01-0/blib/lib
    /home/njh/.cpan/build/routines-0.02-0/blib/arch
    /home/njh/.cpan/build/routines-0.02-0/blib/lib
    /home/njh/.cpan/build/Function-Parameters-2.001003-0/blib/arch
    /home/njh/.cpan/build/Function-Parameters-2.001003-0/blib/lib
    /home/njh/.cpan/build/Dir-Self-0.11-0/blib/arch
    /home/njh/.cpan/build/Dir-Self-0.11-0/blib/lib
    /home/njh/.cpan/build/Test-Auto-0.10-0/blib/arch
    /home/njh/.cpan/build/Test-Auto-0.10-0/blib/lib
    /home/njh/.cpan/build/Type-Tiny-1.010001-0/blib/arch
    /home/njh/.cpan/build/Type-Tiny-1.010001-0/blib/lib
    /home/njh/perl5/perlbrew/perls/perl-5.18.0/lib/site_perl/5.18.0/x86_64-linux
    /home/njh/perl5/perlbrew/perls/perl-5.18.0/lib/site_perl/5.18.0
    /home/njh/perl5/perlbrew/perls/perl-5.18.0/lib/5.18.0/x86_64-linux
    /home/njh/perl5/perlbrew/perls/perl-5.18.0/lib/5.18.0
    .