Firefox-Marionette v0.37 Perl 5 v5.27.8 amd64-freebsd

Status
Pass
From
Slaven Rezić (SREZIC)
Dist
Firefox-Marionette v0.37
Platform
Perl 5 v5.27.8 amd64-freebsd
Date
2018-02-10 08:40:57
ID
1cf0f6d4-0e3e-11e8-a22c-d782d1279126
This distribution has been tested as part of the CPAN Testers
project, supporting the Perl programming language.  See
http://wiki.cpantesters.org/ for more information or email
questions to cpan-testers-discuss@perl.org


--
Dear David Dick,

This is a computer-generated report for Firefox-Marionette-0.37
on perl 5.27.8, created by CPAN-Reporter-1.2018.

Thank you for uploading your work to CPAN.  Congratulations!
All tests were successful.

Sections of this report:

    * Tester comments
    * Program output
    * Prerequisites
    * Environment and other context

------------------------------
TESTER COMMENTS
------------------------------

Additional comments from tester:

none provided

------------------------------
PROGRAM OUTPUT
------------------------------

Output from '/usr/bin/make test':

PERL_DL_NONLAZY=1 "/usr/perl5.27.8p/bin/perl5.27.8" "-MExtUtils::Command::MM" "-MTest::Harness" "-e" "undef *Test::Harness::Switches; test_harness(0, 'blib/lib', 'blib/arch')" t/*.t
# Testing Firefox::Marionette 0.37
t/00.load.t ........ ok
# Version is Mozilla Firefox 58.0
# DISPLAY is :2
# D-Bus is working
pkg: No package(s) matching xorg-vfbserver
# xorg-vfbserver version is 
# xauth version is 1.0.10
# /etc/machine-id has not been created.  Please run 'sudo dbus-uuidgen --ensure=/etc/machine-id'
# It looks like 'sudo mount -t fdescfs fdesc /dev/fd' needs to be executed
# sysctl hw | egrep 'hw.(phys|user|real)'
# hw.physmem: 1039851520
# hw.usermem: 749228032
# hw.realmem: 1073741824
# ulimit -a | grep -i mem
# max memory size         (kbytes, -m)  unlimited
# locked memory           (kbytes, -l)  64
# virtual mem size        (kbytes, -v)  unlimited
# This firefox installation has 0 existing profiles
*** You are running in headless mode.
JavaScript error: jar:file:///usr/local/lib/firefox/omni.ja!/components/nsUrlClassifierListManager.js, line 69: NS_ERROR_XPC_GS_RETURNED_FAILURE: Component returned failure code: 0x80570016 (NS_ERROR_XPC_GS_RETURNED_FAILURE) [nsIJSCID.getService]
JavaScript error: jar:file:///usr/local/lib/firefox/omni.ja!/components/nsUrlClassifierListManager.js, line 69: NS_ERROR_XPC_GS_RETURNED_FAILURE: Component returned failure code: 0x80570016 (NS_ERROR_XPC_GS_RETURNED_FAILURE) [nsIJSCID.getService]
JavaScript error: jar:file:///usr/local/lib/firefox/omni.ja!/components/nsUrlClassifierListManager.js, line 69: NS_ERROR_XPC_GS_RETURNED_FAILURE: Component returned failure code: 0x80570016 (NS_ERROR_XPC_GS_RETURNED_FAILURE) [nsIJSCID.getService]
JavaScript error: jar:file:///usr/local/lib/firefox/omni.ja!/components/nsUrlClassifierListManager.js, line 69: NS_ERROR_XPC_GS_RETURNED_FAILURE: Component returned failure code: 0x80570016 (NS_ERROR_XPC_GS_RETURNED_FAILURE) [nsIJSCID.getService]
JavaScript error: jar:file:///usr/local/lib/firefox/omni.ja!/components/nsUrlClassifierListManager.js, line 69: NS_ERROR_XPC_GS_RETURNED_FAILURE: Component returned failure code: 0x80570016 (NS_ERROR_XPC_GS_RETURNED_FAILURE) [nsIJSCID.getService]
JavaScript error: jar:file:///usr/local/lib/firefox/omni.ja!/components/nsUrlClassifierListManager.js, line 69: NS_ERROR_XPC_GS_RETURNED_FAILURE: Component returned failure code: 0x80570016 (NS_ERROR_XPC_GS_RETURNED_FAILURE) [nsIJSCID.getService]
JavaScript error: jar:file:///usr/local/lib/firefox/omni.ja!/components/nsUrlClassifierListManager.js, line 69: NS_ERROR_XPC_GS_RETURNED_FAILURE: Component returned failure code: 0x80570016 (NS_ERROR_XPC_GS_RETURNED_FAILURE) [nsIJSCID.getService]
JavaScript error: jar:file:///usr/local/lib/firefox/omni.ja!/components/nsUrlClassifierListManager.js, line 69: NS_ERROR_XPC_GS_RETURNED_FAILURE: Component returned failure code: 0x80570016 (NS_ERROR_XPC_GS_RETURNED_FAILURE) [nsIJSCID.getService]
<< {"applicationType":"gecko","marionetteProtocol":3}
>> 31:[0,1,"WebDriver:NewSession",{}]
<< [1,1,null,{"sessionId":"baef309e-9e7b-45e4-9f0d-3214930d6160","capabilities":{"browserName":"firefox","browserVersion":"58.0","platformName":"freebsd","platformVersion":"11.1-RELEASE-p4","pageLoadStrategy":"normal","acceptInsecureCerts":false,"timeouts":{"implicit":0,"pageLoad":300000,"script":30000},"rotatable":false,"moz:accessibilityChecks":false,"moz:headless":true,"moz:processID":43447,"moz:profile":"/var/tmp/cpansmoker-1023/2018021015/firefox_marionette_profile_aRkNe81p1Pe","moz:webdriverClick":true}}]
>> 33:[0,2,"WebDriver:GetCapabilities"]
<< [1,2,null,{"capabilities":{"browserName":"firefox","browserVersion":"58.0","platformName":"freebsd","platformVersion":"11.1-RELEASE-p4","pageLoadStrategy":"normal","acceptInsecureCerts":false,"timeouts":{"implicit":0,"pageLoad":300000,"script":30000},"rotatable":false,"moz:accessibilityChecks":false,"moz:headless":true,"moz:processID":43447,"moz:profile":"/var/tmp/cpansmoker-1023/2018021015/firefox_marionette_profile_aRkNe81p1Pe","moz:webdriverClick":true}}]
# Browser version is 58.0
# Operating System is freebsd 11.1-RELEASE-p4
# Profile Directory is /var/tmp/cpansmoker-1023/2018021015/firefox_marionette_profile_aRkNe81p1Pe
# Mozilla PID is 43447
>> 31:[0,3,"WebDriver:GetWindowType"]
<< [1,3,null,{"value":"navigator:browser"}]
>> 31:[0,4,"WebDriver:GetWindowType"]
<< [1,4,null,{"value":"navigator:browser"}]
>> 31:[0,5,"WebDriver:GetWindowRect"]
<< [1,5,null,{"x":0,"y":0,"width":1366,"height":768,"state":"maximized"}]
>> 70:[0,6,"WebDriver:SetWindowRect",{"height":452,"x":3,"width":326,"y":9}]
<< [1,6,null,{"x":3,"y":9,"width":326,"height":452,"state":"normal"}]
>> 31:[0,7,"WebDriver:GetWindowRect"]
<< [1,7,null,{"x":3,"y":9,"width":326,"height":452,"state":"normal"}]
>> 29:[0,8,"WebDriver:GetTimeouts"]
<< [1,8,null,{"implicit":0,"pageLoad":300000,"script":30000}]
>> 80:[0,9,"WebDriver:SetTimeouts",{"implicit":41001,"script":48021,"pageLoad":45043}]
<< [1,9,null,{}]
>> 30:[0,10,"WebDriver:GetTimeouts"]
<< [1,10,null,{"implicit":41001,"pageLoad":45043,"script":48021}]
>> 81:[0,11,"WebDriver:SetTimeouts",{"implicit":41001,"script":48021,"pageLoad":45043}]
<< [1,11,null,{}]
>> 108:[0,12,"WebDriver:ExecuteScript",{"script":"window.open(\"https://duckduckgo.com\", \"_blank\");","args":[]}]
<< [1,12,null,{"value":null}]
>> 30:[0,13,"WebDriver:CloseWindow"]
<< [1,13,null,["2147483652"]]
>> 32:[0,14,"WebDriver:DeleteSession"]
<< [1,14,null,{}]
>> 32:[0,15,"WebDriver:NewSession",{}]
<< [1,15,null,{"sessionId":"2062d7f7-e606-44a5-b66f-25d4aa31271a","capabilities":{"browserName":"firefox","browserVersion":"58.0","platformName":"freebsd","platformVersion":"11.1-RELEASE-p4","pageLoadStrategy":"normal","acceptInsecureCerts":false,"timeouts":{"implicit":0,"pageLoad":300000,"script":30000},"rotatable":false,"moz:accessibilityChecks":false,"moz:headless":true,"moz:processID":43447,"moz:profile":"/var/tmp/cpansmoker-1023/2018021015/firefox_marionette_profile_aRkNe81p1Pe","moz:webdriverClick":true}}]
>> 51:[0,16,"Marionette:Quit",{"flags":["eAttemptQuit"]}]
<< [1,16,null,{"cause":"shutdown"}]
JavaScript error: jar:file:///usr/local/lib/firefox/omni.ja!/components/nsUrlClassifierListManager.js, line 69: NS_ERROR_XPC_GS_RETURNED_FAILURE: Component returned failure code: 0x80570016 (NS_ERROR_XPC_GS_RETURNED_FAILURE) [nsIJSCID.getService]
JavaScript error: jar:file:///usr/local/lib/firefox/omni.ja!/components/nsUrlClassifierListManager.js, line 69: NS_ERROR_XPC_GS_RETURNED_FAILURE: Component returned failure code: 0x80570016 (NS_ERROR_XPC_GS_RETURNED_FAILURE) [nsIJSCID.getService]
JavaScript error: jar:file:///usr/local/lib/firefox/omni.ja!/components/nsUrlClassifierListManager.js, line 69: NS_ERROR_XPC_GS_RETURNED_FAILURE: Component returned failure code: 0x80570016 (NS_ERROR_XPC_GS_RETURNED_FAILURE) [nsIJSCID.getService]
JavaScript error: jar:file:///usr/local/lib/firefox/omni.ja!/components/nsUrlClassifierListManager.js, line 69: NS_ERROR_XPC_GS_RETURNED_FAILURE: Component returned failure code: 0x80570016 (NS_ERROR_XPC_GS_RETURNED_FAILURE) [nsIJSCID.getService]
JavaScript error: jar:file:///usr/local/lib/firefox/omni.ja!/components/nsUrlClassifierListManager.js, line 69: NS_ERROR_XPC_GS_RETURNED_FAILURE: Component returned failure code: 0x80570016 (NS_ERROR_XPC_GS_RETURNED_FAILURE) [nsIJSCID.getService]
JavaScript error: jar:file:///usr/local/lib/firefox/omni.ja!/components/nsUrlClassifierListManager.js, line 69: NS_ERROR_XPC_GS_RETURNED_FAILURE: Component returned failure code: 0x80570016 (NS_ERROR_XPC_GS_RETURNED_FAILURE) [nsIJSCID.getService]
*** You are running in headless mode.
JavaScript error: jar:file:///usr/local/lib/firefox/omni.ja!/components/nsUrlClassifierListManager.js, line 69: NS_ERROR_XPC_GS_RETURNED_FAILURE: Component returned failure code: 0x80570016 (NS_ERROR_XPC_GS_RETURNED_FAILURE) [nsIJSCID.getService]
JavaScript error: jar:file:///usr/local/lib/firefox/omni.ja!/components/nsUrlClassifierListManager.js, line 69: NS_ERROR_XPC_GS_RETURNED_FAILURE: Component returned failure code: 0x80570016 (NS_ERROR_XPC_GS_RETURNED_FAILURE) [nsIJSCID.getService]
<< {"applicationType":"gecko","marionetteProtocol":3}
>> 294:[0,1,"WebDriver:NewSession",{"moz:accessibilityChecks":true,"acceptInsecureCerts":true,"pageLoadStrategy":"eager","moz:webdriverClick":true,"capabilities":{"requiredCapabilities":{"moz:accessibilityChecks":true,"pageLoadStrategy":"eager","moz:webdriverClick":true,"acceptInsecureCerts":true}}}]
<< [1,1,null,{"sessionId":"ab9eb485-b995-4f78-aa12-a756ba0e30c1","capabilities":{"browserName":"firefox","browserVersion":"58.0","platformName":"freebsd","platformVersion":"11.1-RELEASE-p4","pageLoadStrategy":"eager","acceptInsecureCerts":true,"timeouts":{"implicit":0,"pageLoad":300000,"script":30000},"rotatable":false,"moz:accessibilityChecks":true,"moz:headless":true,"moz:processID":44079,"moz:profile":"/var/tmp/cpansmoker-1023/2018021015/firefox_marionette_profile_nur97xQ7Znj","moz:webdriverClick":true}}]
>> 33:[0,2,"WebDriver:GetCapabilities"]
<< [1,2,null,{"capabilities":{"browserName":"firefox","browserVersion":"58.0","platformName":"freebsd","platformVersion":"11.1-RELEASE-p4","pageLoadStrategy":"eager","acceptInsecureCerts":true,"timeouts":{"implicit":0,"pageLoad":300000,"script":30000},"rotatable":false,"moz:accessibilityChecks":true,"moz:headless":true,"moz:processID":44079,"moz:profile":"/var/tmp/cpansmoker-1023/2018021015/firefox_marionette_profile_nur97xQ7Znj","moz:webdriverClick":true}}]
>> 50:[0,3,"Marionette:Quit",{"flags":["eAttemptQuit"]}]
<< [1,3,null,{"cause":"shutdown"}]
JavaScript error: jar:file:///usr/local/lib/firefox/omni.ja!/components/nsUrlClassifierListManager.js, line 69: NS_ERROR_XPC_GS_RETURNED_FAILURE: Component returned failure code: 0x80570016 (NS_ERROR_XPC_GS_RETURNED_FAILURE) [nsIJSCID.getService]
JavaScript error: jar:file:///usr/local/lib/firefox/omni.ja!/components/nsUrlClassifierListManager.js, line 69: NS_ERROR_XPC_GS_RETURNED_FAILURE: Component returned failure code: 0x80570016 (NS_ERROR_XPC_GS_RETURNED_FAILURE) [nsIJSCID.getService]
JavaScript error: jar:file:///usr/local/lib/firefox/omni.ja!/components/nsUrlClassifierListManager.js, line 69: NS_ERROR_XPC_GS_RETURNED_FAILURE: Component returned failure code: 0x80570016 (NS_ERROR_XPC_GS_RETURNED_FAILURE) [nsIJSCID.getService]
JavaScript error: jar:file:///usr/local/lib/firefox/omni.ja!/components/nsUrlClassifierListManager.js, line 69: NS_ERROR_XPC_GS_RETURNED_FAILURE: Component returned failure code: 0x80570016 (NS_ERROR_XPC_GS_RETURNED_FAILURE) [nsIJSCID.getService]
JavaScript error: jar:file:///usr/local/lib/firefox/omni.ja!/components/nsUrlClassifierListManager.js, line 69: NS_ERROR_XPC_GS_RETURNED_FAILURE: Component returned failure code: 0x80570016 (NS_ERROR_XPC_GS_RETURNED_FAILURE) [nsIJSCID.getService]
JavaScript error: jar:file:///usr/local/lib/firefox/omni.ja!/components/nsUrlClassifierListManager.js, line 69: NS_ERROR_XPC_GS_RETURNED_FAILURE: Component returned failure code: 0x80570016 (NS_ERROR_XPC_GS_RETURNED_FAILURE) [nsIJSCID.getService]
**** DEPRECATED METHOD - page_source HAS BEEN REPLACED BY html **** at t/01-marionette.t line 410.
**** DEPRECATED METHOD - find_element HAS BEEN REPLACED BY find **** at t/01-marionette.t line 418.
**** DEPRECATED METHOD - send_keys HAS BEEN REPLACED BY type **** at t/01-marionette.t line 440.
**** DEPRECATED METHOD - find_elements HAS BEEN REPLACED BY list **** at t/01-marionette.t line 442.
**** DEPRECATED METHOD - send_keys HAS BEEN REPLACED BY type **** at t/01-marionette.t line 443.
# Installing extension from /home/cpansand/.cpan/build/2018021015/Firefox-Marionette-0.37-2/t/addons/test.xpi
JavaScript error: jar:file:///usr/local/lib/firefox/omni.ja!/components/nsUrlClassifierListManager.js, line 69: NS_ERROR_XPC_GS_RETURNED_FAILURE: Component returned failure code: 0x80570016 (NS_ERROR_XPC_GS_RETURNED_FAILURE) [nsIJSCID.getService]
JavaScript error: jar:file:///usr/local/lib/firefox/omni.ja!/components/nsUrlClassifierListManager.js, line 69: NS_ERROR_XPC_GS_RETURNED_FAILURE: Component returned failure code: 0x80570016 (NS_ERROR_XPC_GS_RETURNED_FAILURE) [nsIJSCID.getService]
<< {"applicationType":"gecko","marionetteProtocol":3}
>> 298:[0,1,"WebDriver:NewSession",{"pageLoadStrategy":"none","capabilities":{"requiredCapabilities":{"moz:accessibilityChecks":false,"pageLoadStrategy":"none","moz:webdriverClick":false,"acceptInsecureCerts":false}},"moz:webdriverClick":false,"acceptInsecureCerts":false,"moz:accessibilityChecks":false}]
<< [1,1,null,{"sessionId":"7829f32f-648d-4183-bc70-2378583598fa","capabilities":{"browserName":"firefox","browserVersion":"58.0","platformName":"freebsd","platformVersion":"11.1-RELEASE-p4","pageLoadStrategy":"none","acceptInsecureCerts":false,"timeouts":{"implicit":0,"pageLoad":300000,"script":30000},"rotatable":false,"moz:accessibilityChecks":false,"moz:headless":false,"moz:processID":44222,"moz:profile":"/var/tmp/cpansmoker-1023/2018021015/firefox_marionette_profile_FkkBh4jP8Yn","moz:webdriverClick":false}}]
>> 33:[0,2,"WebDriver:GetCapabilities"]
<< [1,2,null,{"capabilities":{"browserName":"firefox","browserVersion":"58.0","platformName":"freebsd","platformVersion":"11.1-RELEASE-p4","pageLoadStrategy":"none","acceptInsecureCerts":false,"timeouts":{"implicit":0,"pageLoad":300000,"script":30000},"rotatable":false,"moz:accessibilityChecks":false,"moz:headless":false,"moz:processID":44222,"moz:profile":"/var/tmp/cpansmoker-1023/2018021015/firefox_marionette_profile_FkkBh4jP8Yn","moz:webdriverClick":false}}]
>> 50:[0,3,"Marionette:Quit",{"flags":["eAttemptQuit"]}]
Xlib:  extension "XInputExtension" missing on display ":2".
Xlib:  extension "XInputExtension" missing on display ":2".
<< [1,3,null,{"cause":"shutdown"}]
JavaScript error: jar:file:///usr/local/lib/firefox/omni.ja!/components/nsUrlClassifierListManager.js, line 69: NS_ERROR_XPC_GS_RETURNED_FAILURE: Component returned failure code: 0x80570016 (NS_ERROR_XPC_GS_RETURNED_FAILURE) [nsIJSCID.getService]
JavaScript error: jar:file:///usr/local/lib/firefox/omni.ja!/components/nsUrlClassifierListManager.js, line 69: NS_ERROR_XPC_GS_RETURNED_FAILURE: Component returned failure code: 0x80570016 (NS_ERROR_XPC_GS_RETURNED_FAILURE) [nsIJSCID.getService]
JavaScript error: jar:file:///usr/local/lib/firefox/omni.ja!/components/nsUrlClassifierListManager.js, line 69: NS_ERROR_XPC_GS_RETURNED_FAILURE: Component returned failure code: 0x80570016 (NS_ERROR_XPC_GS_RETURNED_FAILURE) [nsIJSCID.getService]
JavaScript error: jar:file:///usr/local/lib/firefox/omni.ja!/components/nsUrlClassifierListManager.js, line 69: NS_ERROR_XPC_GS_RETURNED_FAILURE: Component returned failure code: 0x80570016 (NS_ERROR_XPC_GS_RETURNED_FAILURE) [nsIJSCID.getService]
JavaScript error: jar:file:///usr/local/lib/firefox/omni.ja!/components/nsUrlClassifierListManager.js, line 69: NS_ERROR_XPC_GS_RETURNED_FAILURE: Component returned failure code: 0x80570016 (NS_ERROR_XPC_GS_RETURNED_FAILURE) [nsIJSCID.getService]
JavaScript error: jar:file:///usr/local/lib/firefox/omni.ja!/components/nsUrlClassifierListManager.js, line 69: NS_ERROR_XPC_GS_RETURNED_FAILURE: Component returned failure code: 0x80570016 (NS_ERROR_XPC_GS_RETURNED_FAILURE) [nsIJSCID.getService]
# Killing PID 44239 with a signal 15
# Error Message was Firefox killed by a TERM signal (15)
t/01-marionette.t .. ok
t/pod-coverage.t ... ok
t/pod.t ............ ok
All tests successful.

Test Summary Report
-------------------
t/01-marionette.t (Wstat: 0 Tests: 190 Failed: 0)
  TODO passed:   121, 146-147, 166
Files=4, Tests=211, 265 wallclock secs ( 0.05 usr  0.05 sys + 78.36 cusr 39.20 csys = 117.66 CPU)
Result: PASS

------------------------------
PREREQUISITES
------------------------------

Prerequisite modules loaded:

requires:

    Module              Need  Have    
    ------------------- ----- --------
    base                0     2.27    
    Config              0     5.027008
    Config::INI::Reader 0     0.025   
    Crypt::URandom      0     0.36    
    English             0     1.10    
    Exporter            0     5.72    
    Fcntl               0     1.13    
    File::Spec          0     3.72    
    File::Temp          0     0.2304  
    FileHandle          0     2.03    
    IPC::Run            0     0.96    
    JSON                0     2.97001 
    MIME::Base64        0     3.15    
    overload            0     1.30    
    perl                5.006 5.027008
    POSIX               0     1.81    
    Socket              0     2.027   
    URI                 0     1.73    

build_requires:

    Module              Need  Have    
    ------------------- ----- --------
    Cwd                 0     3.72    
    Digest::SHA         0     6.01    
    Test::More          0     1.302120

configure_requires:

    Module              Need  Have    
    ------------------- ----- --------
    ExtUtils::MakeMaker 0     7.30    


------------------------------
ENVIRONMENT AND OTHER CONTEXT
------------------------------

Environment variables:

    PATH = /usr/local/bin:/usr/bin:/bin:/usr/local/sbin:/usr/sbin:/sbin:/home/cpansand/bin/freebsd11.1:/home/cpansand/bin/sh:/home/cpansand/bin:/usr/games:/home/cpansand/devel:/home/eserte/src/srezic-misc/scripts
    PERL5LIB = /home/cpansand/.cpan/build/2018021015/Crypt-URandom-0.36-0/blib/arch:/home/cpansand/.cpan/build/2018021015/Crypt-URandom-0.36-0/blib/lib
    PERL5OPT = 
    PERL5_CPANPLUS_IS_RUNNING = 43251
    PERL5_CPAN_IS_RUNNING = 43251
    PERL5_CPAN_IS_RUNNING_IN_RECURSION = 37745,43251
    PERLDOC = -MPod::Perldoc::ToTextOverstrike
    PERL_BATCH = yes
    PERL_CANARY_STABILITY_NOPROMPT = 1
    PERL_CPAN_REPORTER_CONFIG = /var/tmp/cpansmoker-1023/2018021015/cpanreporter_001_config.ini
    PERL_EXTUTILS_AUTOINSTALL = --defaultdeps
    PERL_USE_UNSAFE_INC = 1
    SHELL = /usr/local/bin/zsh
    TERM = screen
    TMPDIR = /var/tmp/cpansmoker-1023/2018021015

Perl special variables (and OS-specific diagnostics, for MSWin32):

    $^X = /usr/perl5.27.8p/bin/perl5.27.8
    $UID/$EUID = 1023 / 1023
    $GID = 1023 1023
    $EGID = 1023 1023

Perl module toolchain versions installed:

    Module              Have    
    ------------------- --------
    CPAN                2.20    
    CPAN::Meta          2.150010
    Cwd                 3.72    
    ExtUtils::CBuilder  0.280230
    ExtUtils::Command   7.30    
    ExtUtils::Install   2.14    
    ExtUtils::MakeMaker 7.30    
    ExtUtils::Manifest  1.70    
    ExtUtils::ParseXS   3.36    
    File::Spec          3.72    
    JSON                2.97001 
    JSON::PP            2.97001 
    Module::Build       0.4224  
    Module::Signature   n/a     
    Parse::CPAN::Meta   2.150010
    Test::Harness       3.39    
    Test::More          1.302120
    YAML                1.24    
    YAML::Syck          1.30    
    version             0.9918  


--

Summary of my perl5 (revision 5 version 27 subversion 8) configuration:
   
  Platform:
    osname=freebsd
    osvers=11.1-release-p4
    archname=amd64-freebsd
    uname='freebsd ali2.bbbike.org 11.1-release-p4 freebsd 11.1-release-p4 #0: tue nov 14 06:12:40 utc 2017 root@amd64-builder.daemonology.net:usrobjusrsrcsysgeneric amd64 '
    config_args='-ds -e -Dprefix=/usr/perl5.27.8p -Dusedevel -Dusemallocwrap=no -Dcf_email=srezic@cpan.org -Doptimize=-O2 -pipe'
    hint=recommended
    useposix=true
    d_sigaction=define
    useithreads=undef
    usemultiplicity=undef
    use64bitint=define
    use64bitall=define
    uselongdouble=undef
    usemymalloc=n
    default_inc_excludes_dot=define
    bincompat5005=undef
  Compiler:
    cc='cc'
    ccflags ='-DHAS_FPSETMASK -DHAS_FLOATINGPOINT_H -fno-strict-aliasing -pipe -fstack-protector-strong -I/usr/local/include -D_FORTIFY_SOURCE=2'
    optimize='-O2 -pipe'
    cppflags='-DHAS_FPSETMASK -DHAS_FLOATINGPOINT_H -fno-strict-aliasing -pipe -fstack-protector-strong -I/usr/local/include'
    ccversion=''
    gccversion='4.2.1 Compatible FreeBSD Clang 4.0.0 (tags/RELEASE_400/final 297347)'
    gccosandvers=''
    intsize=4
    longsize=8
    ptrsize=8
    doublesize=8
    byteorder=12345678
    doublekind=3
    d_longlong=define
    longlongsize=8
    d_longdbl=define
    longdblsize=16
    longdblkind=3
    ivtype='long'
    ivsize=8
    nvtype='double'
    nvsize=8
    Off_t='off_t'
    lseeksize=8
    alignbytes=8
    prototype=define
  Linker and Libraries:
    ld='cc'
    ldflags ='-pthread -Wl,-E  -fstack-protector-strong -L/usr/local/lib'
    libpth=/usr/lib /usr/local/lib /usr/bin/../lib/clang/4.0.0/lib /usr/lib
    libs=-lpthread -lgdbm -lm -lcrypt -lutil -lc
    perllibs=-lpthread -lm -lcrypt -lutil -lc
    libc=
    so=so
    useshrplib=false
    libperl=libperl.a
    gnulibc_version=''
  Dynamic Linking:
    dlsrc=dl_dlopen.xs
    dlext=so
    d_dlsymun=undef
    ccdlflags=' '
    cccdlflags='-DPIC -fPIC'
    lddlflags='-shared  -L/usr/local/lib -fstack-protector-strong'


Characteristics of this binary (from libperl): 
  Compile-time options:
    HAS_TIMES
    PERLIO_LAYERS
    PERL_COPY_ON_WRITE
    PERL_DONT_CREATE_GVSV
    PERL_OP_PARENT
    PERL_PRESERVE_IVUV
    PERL_USE_DEVEL
    USE_64_BIT_ALL
    USE_64_BIT_INT
    USE_LARGE_FILES
    USE_LOCALE
    USE_LOCALE_COLLATE
    USE_LOCALE_CTYPE
    USE_LOCALE_NUMERIC
    USE_LOCALE_TIME
    USE_PERLIO
    USE_PERL_ATOF
  Built under freebsd
  Compiled at Jan 20 2018 16:55:46
  %ENV:
    PERL5LIB="/home/cpansand/.cpan/build/2018021015/Crypt-URandom-0.36-0/blib/arch:/home/cpansand/.cpan/build/2018021015/Crypt-URandom-0.36-0/blib/lib"
    PERL5OPT=""
    PERL5_CPANPLUS_IS_RUNNING="43251"
    PERL5_CPAN_IS_RUNNING="43251"
    PERL5_CPAN_IS_RUNNING_IN_RECURSION="37745,43251"
    PERLDOC="-MPod::Perldoc::ToTextOverstrike"
    PERL_BATCH="yes"
    PERL_CANARY_STABILITY_NOPROMPT="1"
    PERL_CPAN_REPORTER_CONFIG="/var/tmp/cpansmoker-1023/2018021015/cpanreporter_001_config.ini"
    PERL_EXTUTILS_AUTOINSTALL="--defaultdeps"
    PERL_USE_UNSAFE_INC="1"
  @INC:
    /home/cpansand/.cpan/build/2018021015/Crypt-URandom-0.36-0/blib/arch
    /home/cpansand/.cpan/build/2018021015/Crypt-URandom-0.36-0/blib/lib
    /usr/perl5.27.8p/lib/site_perl/5.27.8/amd64-freebsd
    /usr/perl5.27.8p/lib/site_perl/5.27.8
    /usr/perl5.27.8p/lib/5.27.8/amd64-freebsd
    /usr/perl5.27.8p/lib/5.27.8
    .