Beam-Wire v1.021 Perl 5 v5.14.4 x86_64-linux

Status
Pass
From
NONAME
Dist
Beam-Wire v1.021
Platform
Perl 5 v5.14.4 x86_64-linux
Date
2018-04-08 06:14:35
ID
1c6f4b6a-3af4-11e8-b9a2-0f3da7479c91
This distribution has been tested as part of the CPAN Testers
project, supporting the Perl programming language.  See
http://wiki.cpantesters.org/ for more information or email
questions to cpan-testers-discuss@perl.org


--
Dear PREACTION,

This is a computer-generated report for Beam-Wire-1.021
on perl 5.14.4, created by App::cpanminus::reporter 0.17 (1.7022).

Thank you for uploading your work to CPAN.  Congratulations!
All tests were successful.

Sections of this report:

    * Tester comments
    * Program output
    * Prerequisites
    * Environment and other context

------------------------------
TESTER COMMENTS
------------------------------

Additional comments from tester:

none provided

------------------------------
PROGRAM OUTPUT
------------------------------

Output from '':

Building and testing Beam-Wire-1.021
cp lib/Beam/Wire/Help/Config.pod blib/lib/Beam/Wire/Help/Config.pod
cp lib/Beam/Wire.pm blib/lib/Beam/Wire.pm
Manifying 2 pod documents
PERL_DL_NONLAZY=1 "/home/user/perl5/perlbrew/perls/perl-5.14.4/bin/perl" "-MExtUtils::Command::MM" "-MTest::Harness" "-e" "undef *Test::Harness::Switches; test_harness(0, 'blib/lib', 'blib/arch')" t/*.t t/container/*.t t/dependency/*.t t/deprecated/*.t t/method/*.t t/regression/*.t t/service/*.t
# 
# Versions for all modules listed in MYMETA.json (including optional ones):
# 
# === Configure Requires ===
# 
#     Module                       Want     Have
#     ------------------------ -------- --------
#     CPAN::Meta::Requirements 2.120620    2.140
#     ExtUtils::MakeMaker           any     7.34
#     Module::Metadata              any 1.000033
# 
# === Build Requires ===
# 
#     Module              Want Have
#     ------------------- ---- ----
#     ExtUtils::MakeMaker  any 7.34
# 
# === Test Requires ===
# 
#     Module                  Want     Have
#     ------------------- -------- --------
#     ExtUtils::MakeMaker      any     7.34
#     File::Spec               any     3.33
#     IO::Handle               any     1.31
#     IPC::Open3               any   1.0901
#     Test::Deep               any    1.127
#     Test::Differences       0.64     0.64
#     Test::Exception          any     0.43
#     Test::Lib                any    0.002
#     Test::More          1.001005 1.302135
# 
# === Test Recommends ===
# 
#     Module         Want     Have
#     ---------- -------- --------
#     CPAN::Meta 2.120900 2.143240
# 
# === Runtime Requires ===
# 
#     Module           Want     Have
#     --------------- ----- --------
#     Beam::Emitter     any    1.007
#     Beam::Service     any    0.001
#     Config::Any      0.23     0.32
#     Data::DPath      0.51     0.57
#     Module::Runtime   any    0.016
#     Moo               any 2.003004
#     Path::Tiny      0.055    0.104
#     Throwable         any 0.200013
#     Types::Standard   any 1.002001
#     YAML              any     1.24
# 
# === Runtime Recommends ===
# 
#     Module Want    Have
#     ------ ---- -------
#     JSON    any missing
# 
t/00-report-prereqs.t .............. ok
t/00-compile.t ..................... ok
t/container/config.t ............... ok
t/dependency/anonymous.t ........... ok
t/container/override.t ............. ok
t/container/inner.t ................ ok
t/dependency/config.t .............. ok
t/dependency/value.t ............... ok
t/dependency/call.t ................ ok
t/deprecated/event_listeners.t ..... ok
t/deprecated/method_call.t ......... ok
t/exception.t ...................... ok
t/method/create_service.t .......... ok
t/method/is_meta.t ................. ok
t/regression/60_unprefixed_meta.t .. ok
t/service/attributes.t ............. ok
t/service/class_args.t ............. ok
t/service/event_listener.t ......... ok
t/service/config.t ................. ok
t/service/extends.t ................ ok
t/service/value.t .................. ok
t/service/lifecycle.t .............. ok
t/service/method.t ................. ok
t/service/with.t ................... ok
t/service/with_args.t .............. ok
All tests successful.
Files=25, Tests=81,  7 wallclock secs ( 0.23 usr  0.11 sys + 12.63 cusr  1.43 csys = 14.40 CPU)
Result: PASS

------------------------------
PREREQUISITES
------------------------------

Prerequisite modules loaded:

    No requirements found

------------------------------
ENVIRONMENT AND OTHER CONTEXT
------------------------------

Environment variables:

    AUTHOR_TESTING = 1
    HARNESS_OPTIONS = j3
    LANG = en_US.UTF-8
    LC_COLLATE = POSIX
    LD_LIBRARY_PATH = /lib64:/opt/gimp2.8/lib:/opt/gcc482inst/lib64:/usr/lib:/usr/lib64
    PATH = /home/user/perl5/perlbrew/bin:/home/user/perl5/perlbrew/perls/perl-5.14.4/bin:/opt/bin:/opt/gcc482inst/bin:/opt/gimp2.8/bin:/usr/lib64/qt-3.3/bin:/usr/local/bin:/bin:/usr/bin:/usr/local/sbin:/usr/sbin:/sbin:/home/user/bin
    PERLBREW_BASHRC_VERSION = 0.72
    PERLBREW_HOME = /home/user/.perlbrew
    PERLBREW_MANPATH = /home/user/perl5/perlbrew/perls/perl-5.14.4/man
    PERLBREW_PATH = /home/user/perl5/perlbrew/bin:/home/user/perl5/perlbrew/perls/perl-5.14.4/bin
    PERLBREW_PERL = perl-5.14.4
    PERLBREW_ROOT = /home/user/perl5/perlbrew
    PERLBREW_VERSION = 0.82
    RELEASE_TESTING = 1
    SHELL = /bin/bash
    TERM = xterm

Perl special variables (and OS-specific diagnostics, for MSWin32):

    EGID = 500 500
    EUID = 500
    EXECUTABLE_NAME = /home/user/perl5/perlbrew/perls/perl-5.14.4/bin/perl
    GID = 500 500
    UID = 500

Perl module toolchain versions installed:

    Module              Have     
    ------------------- ---------
    CPAN                1.9600_01
    CPAN::Meta          2.143240 
    Cwd                 3.36     
    ExtUtils::CBuilder  0.280203 
    ExtUtils::Command   7.34     
    ExtUtils::Install   2.06     
    ExtUtils::MakeMaker 7.34     
    ExtUtils::Manifest  1.70     
    ExtUtils::ParseXS   2.2210   
    File::Spec          3.33     
    JSON                n/a      
    JSON::PP            2.97001  
    Module::Build       0.4224   
    Module::Signature   n/a      
    Parse::CPAN::Meta   1.4414   
    Test::Harness       3.42     
    Test::More          1.302135 
    YAML                1.24     
    YAML::Syck          n/a      
    version             0.88     


--

Summary of my perl5 (revision 5 version 14 subversion 4) configuration:
   
  Platform:
    osname=linux, osvers=2.6.32-504.3.3.el6.x86_64, archname=x86_64-linux
    uname='linux localhost.localdomain 2.6.32-504.3.3.el6.x86_64 #1 smp wed dec 17 01:55:02 utc 2014 x86_64 x86_64 x86_64 gnulinux '
    config_args='-de -Dprefix=/home/user/perl5/perlbrew/perls/perl-5.14.4 -Aeval:scriptdir=/home/user/perl5/perlbrew/perls/perl-5.14.4/bin'
    hint=recommended, useposix=true, d_sigaction=define
    useithreads=undef, usemultiplicity=undef
    useperlio=define, d_sfio=undef, uselargefiles=define, usesocks=undef
    use64bitint=define, use64bitall=define, uselongdouble=undef
    usemymalloc=n, bincompat5005=undef
  Compiler:
    cc='cc', ccflags ='-fno-strict-aliasing -pipe -fstack-protector -I/usr/local/include -D_LARGEFILE_SOURCE -D_FILE_OFFSET_BITS=64',
    optimize='-O2',
    cppflags='-fno-strict-aliasing -pipe -fstack-protector -I/usr/local/include'
    ccversion='', gccversion='4.8.2', gccosandvers=''
    intsize=4, longsize=8, ptrsize=8, doublesize=8, byteorder=12345678
    d_longlong=define, longlongsize=8, d_longdbl=define, longdblsize=16
    ivtype='long', ivsize=8, nvtype='double', nvsize=8, Off_t='off_t', lseeksize=8
    alignbytes=8, prototype=define
  Linker and Libraries:
    ld='cc', ldflags =' -fstack-protector -L/usr/local/lib'
    libpth=/usr/local/lib /lib/../lib64 /usr/lib/../lib64 /lib /usr/lib /lib64 /usr/lib64 /usr/local/lib64
    libs=-lnsl -lgdbm -ldb -ldl -lm -lcrypt -lutil -lc
    perllibs=-lnsl -ldl -lm -lcrypt -lutil -lc
    libc=libc-2.12.so, so=so, useshrplib=false, libperl=libperl.a
    gnulibc_version='2.12'
  Dynamic Linking:
    dlsrc=dl_dlopen.xs, dlext=so, d_dlsymun=undef, ccdlflags='-Wl,-E'
    cccdlflags='-fPIC', lddlflags='-shared -O2 -L/usr/local/lib -fstack-protector'


Characteristics of this binary (from libperl): 
  Compile-time options: PERL_DONT_CREATE_GVSV PERL_MALLOC_WRAP
                        PERL_PRESERVE_IVUV USE_64_BIT_ALL USE_64_BIT_INT
                        USE_LARGE_FILES USE_PERLIO USE_PERL_ATOF
  Locally applied patches:
	Devel::PatchPerl 1.30
  Built under linux
  Compiled at May 26 2017 01:17:18
  %ENV:
    PERLBREW_BASHRC_VERSION="0.72"
    PERLBREW_HOME="/home/user/.perlbrew"
    PERLBREW_MANPATH="/home/user/perl5/perlbrew/perls/perl-5.14.4/man"
    PERLBREW_PATH="/home/user/perl5/perlbrew/bin:/home/user/perl5/perlbrew/perls/perl-5.14.4/bin"
    PERLBREW_PERL="perl-5.14.4"
    PERLBREW_ROOT="/home/user/perl5/perlbrew"
    PERLBREW_VERSION="0.82"
  @INC:
    /home/user/perl5/perlbrew/perls/perl-5.14.4/lib/site_perl/5.14.4/x86_64-linux
    /home/user/perl5/perlbrew/perls/perl-5.14.4/lib/site_perl/5.14.4
    /home/user/perl5/perlbrew/perls/perl-5.14.4/lib/5.14.4/x86_64-linux
    /home/user/perl5/perlbrew/perls/perl-5.14.4/lib/5.14.4
    .