Net-Stomp v0.57 Perl 5 v5.30.0 darwin-2level
- Status
- Pass
- From
- Slaven Rezić (SREZIC)
- Dist
-
Net-Stomp v0.57
- Platform
- Perl 5 v5.30.0 darwin-2level
- Date
- 2019-06-11 14:42:16
- ID
- 1ba6a664-8c57-11e9-83d2-4a3d1f24ea8f
This distribution has been tested as part of the CPAN Testers
project, supporting the Perl programming language. See
http://wiki.cpantesters.org/ for more information or email
questions to cpan-testers-discuss@perl.org
--
Dear Gianni Ceccarelli,
This is a computer-generated report for Net-Stomp-0.57
on perl 5.30.0, created by CPAN-Reporter-1.2018.
Thank you for uploading your work to CPAN. Congratulations!
All tests were successful.
Sections of this report:
* Tester comments
* Program output
* Prerequisites
* Environment and other context
------------------------------
TESTER COMMENTS
------------------------------
Additional comments from tester:
none provided
------------------------------
PROGRAM OUTPUT
------------------------------
Output from './Build test':
t/connect-disconnect.t .. ok
t/constructor.t ......... ok
t/failover.t ............ ok
t/frame-accessors.t ..... ok
t/initial-connect.t ..... ok
t/pod.t ................. ok
t/pod_coverage.t ........ ok
t/read-timeout.t ........ ok
t/receiving-frames.t .... ok
t/reconnect.t ........... ok
t/send-transactional.t .. ok
t/send-with-receipt.t ... ok
t/sending-frames.t ...... ok
All tests successful.
Files=13, Tests=88, 2 wallclock secs ( 0.06 usr 0.03 sys + 1.08 cusr 0.22 csys = 1.39 CPU)
Result: PASS
------------------------------
PREREQUISITES
------------------------------
Prerequisite modules loaded:
requires:
Module Need Have
--------------------- ---- --------
Class::Accessor::Fast 0 0.51
IO::Select 0 1.40
IO::Socket::INET 0 1.40
build_requires:
Module Need Have
--------------------- ---- --------
Test::Deep 0 1.128
Test::Fatal 0 0.014
Test::More 0 1.302164
configure_requires:
Module Need Have
--------------------- ---- --------
Module::Build 0.42 0.4229
------------------------------
ENVIRONMENT AND OTHER CONTEXT
------------------------------
Environment variables:
LANG = de_DE.UTF-8
PATH = /usr/local/bin:/usr/bin:/bin:/usr/local/sbin:/usr/sbin:/sbin:/Users/slaven.rezic/bin/darwin17.0:/Users/slaven.rezic/bin/sh:/Users/slaven.rezic/bin:/Users/slaven.rezic/bin/pistachio-perl/bin:/usr/games:/Users/slaven.rezic/devel:/Users/slaven.rezic/work/drafts-slaven.rezic/misc:/Users/slaven.rezic/src/srezic-misc/scripts
PERL = /opt/perl-5.30.0/bin/perl
PERL5LIB =
PERL5OPT =
PERL5_CPANPLUS_IS_RUNNING = 50624
PERL5_CPAN_IS_RUNNING = 50624
PERL5_CPAN_IS_RUNNING_IN_RECURSION = 50614,50624
PERLDOC = -MPod::Perldoc::ToTextOverstrike
PERL_BATCH = yes
PERL_CANARY_STABILITY_NOPROMPT = 1
PERL_CPAN_REPORTER_CONFIG = /var/tmp/cpansmoker-501/2019061116/cpanreporter_000_config.ini
PERL_EXTUTILS_AUTOINSTALL = --defaultdeps
PERL_MM_USE_DEFAULT = 1
PERL_USE_UNSAFE_INC = 1
SHELL = /bin/zsh
TERM = screen
TMPDIR = /var/tmp/cpansmoker-501/2019061116
Perl special variables (and OS-specific diagnostics, for MSWin32):
$^X = /opt/perl-5.30.0/bin/perl
$UID/$EUID = 501 / 501
$GID = 20 20 701 12 61 80 702 33 98 100 204 250 395 398 703
$EGID = 20 20 701 12 61 80 702 33 98 100 204 250 395 398 703
Perl module toolchain versions installed:
Module Have
------------------- --------
CPAN 2.26
CPAN::Meta 2.150010
Cwd 3.78
ExtUtils::CBuilder 0.280231
ExtUtils::Command 7.36
ExtUtils::Install 2.14
ExtUtils::MakeMaker 7.36
ExtUtils::Manifest 1.72
ExtUtils::ParseXS 3.40
File::Spec 3.78
JSON 4.02
JSON::PP 4.02
Module::Build 0.4229
Module::Signature n/a
Parse::CPAN::Meta 2.150010
Test::Harness 3.42
Test::More 1.302164
YAML 1.29
YAML::Syck 1.31
version 0.9924
--
Summary of my perl5 (revision 5 version 30 subversion 0) configuration:
Platform:
osname=darwin
osvers=17.7.0
archname=darwin-2level
uname='darwin w3tk 17.7.0 darwin kernel version 17.7.0: thu jun 21 22:53:14 pdt 2018; root:xnu-4570.71.2~1release_x86_64 x86_64 '
config_args='-ds -e -Dprefix=/opt/perl-5.30.0 -Dcf_email=srezic@cpan.org'
hint=recommended
useposix=true
d_sigaction=define
useithreads=undef
usemultiplicity=undef
use64bitint=define
use64bitall=define
uselongdouble=undef
usemymalloc=n
default_inc_excludes_dot=define
bincompat5005=undef
Compiler:
cc='cc'
ccflags ='-fno-common -DPERL_DARWIN -mmacosx-version-min=10.13 -fno-strict-aliasing -pipe -fstack-protector-strong -I/usr/local/include -DPERL_USE_SAFE_PUTENV'
optimize='-O3'
cppflags='-fno-common -DPERL_DARWIN -mmacosx-version-min=10.13 -fno-strict-aliasing -pipe -fstack-protector-strong -I/usr/local/include'
ccversion=''
gccversion='4.2.1 Compatible Apple LLVM 10.0.0 (clang-1000.10.44.2)'
gccosandvers=''
intsize=4
longsize=8
ptrsize=8
doublesize=8
byteorder=12345678
doublekind=3
d_longlong=define
longlongsize=8
d_longdbl=define
longdblsize=16
longdblkind=3
ivtype='long'
ivsize=8
nvtype='double'
nvsize=8
Off_t='off_t'
lseeksize=8
alignbytes=8
prototype=define
Linker and Libraries:
ld='cc'
ldflags =' -mmacosx-version-min=10.13 -fstack-protector-strong -L/usr/local/lib'
libpth=/usr/local/lib /Library/Developer/CommandLineTools/usr/lib/clang/10.0.0/lib /Library/Developer/CommandLineTools/usr/lib /usr/lib
libs=-lpthread -lgdbm -ldbm -ldb -ldl -lm -lutil -lc
perllibs=-lpthread -ldl -lm -lutil -lc
libc=
so=dylib
useshrplib=false
libperl=libperl.a
gnulibc_version=''
Dynamic Linking:
dlsrc=dl_dlopen.xs
dlext=bundle
d_dlsymun=undef
ccdlflags=' '
cccdlflags=' '
lddlflags=' -mmacosx-version-min=10.13 -bundle -undefined dynamic_lookup -L/usr/local/lib -fstack-protector-strong'
Characteristics of this binary (from libperl):
Compile-time options:
HAS_TIMES
PERLIO_LAYERS
PERL_COPY_ON_WRITE
PERL_DONT_CREATE_GVSV
PERL_MALLOC_WRAP
PERL_OP_PARENT
PERL_PRESERVE_IVUV
PERL_USE_SAFE_PUTENV
USE_64_BIT_ALL
USE_64_BIT_INT
USE_LARGE_FILES
USE_LOCALE
USE_LOCALE_COLLATE
USE_LOCALE_CTYPE
USE_LOCALE_NUMERIC
USE_LOCALE_TIME
USE_PERLIO
USE_PERL_ATOF
Built under darwin
Compiled at May 23 2019 10:24:33
%ENV:
PERL="/opt/perl-5.30.0/bin/perl"
PERL5LIB=""
PERL5OPT=""
PERL5_CPANPLUS_IS_RUNNING="50624"
PERL5_CPAN_IS_RUNNING="50624"
PERL5_CPAN_IS_RUNNING_IN_RECURSION="50614,50624"
PERLDOC="-MPod::Perldoc::ToTextOverstrike"
PERL_BATCH="yes"
PERL_CANARY_STABILITY_NOPROMPT="1"
PERL_CPAN_REPORTER_CONFIG="/var/tmp/cpansmoker-501/2019061116/cpanreporter_000_config.ini"
PERL_EXTUTILS_AUTOINSTALL="--defaultdeps"
PERL_MM_USE_DEFAULT="1"
PERL_USE_UNSAFE_INC="1"
@INC:
/opt/perl-5.30.0/lib/site_perl/5.30.0/darwin-2level
/opt/perl-5.30.0/lib/site_perl/5.30.0
/opt/perl-5.30.0/lib/5.30.0/darwin-2level
/opt/perl-5.30.0/lib/5.30.0
.